Workbook

Sheet 공사기간산정표
A1: 공 사 기 간 산 정 표
A2: 구 분 | C2: 2026년 | O2: 비 고
C3: 1 | D3: 2 | E3: 3 | F3: 4 | G3: 5 | H3: 6 | I3: 7 | J3: 8 | K3: 9 | L3: 10 | M3: 11 | N3: 12월
A4: 달력일수 | C4: 31 | D4: 28 | E4: 31 | F4: 30 | G4: 31 | H4: 30 | I4: 31 | J4: 31 | K4: 30 | L4: 31 | M4: 30 | N4: 31
A5: 비작업일수 A + B - C | B5: 기후여건(A) | C5: =ROUND(혹서기!C3+동절기!C3+비!C3+바람!C3,0) -> 10 | D5: =ROUND(혹서기!D3+동절기!D3+비!D3+바람!D3,0) -> 7 | E5: =ROUND(혹서기!E3+동절기!E3+비!E3+바람!E3,0) -> 4 | F5: =ROUND(혹서기!F3+동절기!F3+비!F3+바람!F3,0) -> 5 | G5: =ROUND(혹서기!G3+동절기!G3+비!G3+바람!G3,0) -> 5 | H5: =ROUND(혹서기!H3+동절기!H3+비!H3+바람!H3,0) -> 4 | I5: =ROUND(혹서기!I3+동절기!I3+비!I3+바람!I3,0) -> 8 | J5: =ROUND(혹서기!J3+동절기!J3+비!J3+바람!J3,0) -> 9 | ... N5: =ROUND(혹서기!N3+동절기!N3+비!N3+바람!N3,0) -> 11 | O5: - 혹서기(33˚C이상) - 동절기(일최고0˚C이하이거나 신적설5cm이상) - 강수량(일강수량5mm이상) - 바람(일최대풍속 15m/s이상)
B6: 법정공휴일(B) | C6: 5 | D6: 7 | E6: 6 | F6: 4 | G6: 7 | H6: 5 | I6: 4 | J6: 7 | K6: 7 | L6: 7 | M6: 5 | N6: 5 | O6: 2026년 기준
B7: 중복일수(C) | C7: =C5*C6/C4 -> 1.6129032 | D7: =D5*D6/D4 -> 1.75 | E7: =E5*E6/E4 -> 0.77419355 | F7: =F5*F6/F4 -> 0.66666667 | G7: =G5*G6/G4 -> 1.1290323 | H7: =H5*H6/H4 -> 0.66666667 | I7: =I5*I6/I4 -> 1.0322581 | J7: =J5*J6/J4 -> 2.0322581 | ... N7: =N5*N6/N4 -> 1.7741935 | O7: 기후여건 * 법정공휴일 / 달력일수
B8: 소계 | C8: =ROUND(C5+C6-C7,0) -> 13 | D8: =ROUND(D5+D6-D7,0) -> 12 | E8: =ROUND(E5+E6-E7,0) -> 9 | F8: =ROUND(F5+F6-F7,0) -> 8 | G8: =ROUND(G5+G6-G7,0) -> 11 | H8: =ROUND(H5+H6-H7,0) -> 8 | I8: =ROUND(I5+I6-I7,0) -> 11 | J8: =ROUND(J5+J6-J7,0) -> 14 | ... N8: =ROUND(N5+N6-N7,0) -> 14
A9: 주 40시간 근무제에 따른 비작업일수 | C9: 8 | D9: 8 | E9: 8 | F9: 8 | G9: 8 | H9: 8 | I9: 8 | J9: 8 | K9: 8 | L9: 8 | M9: 8 | N9: 8 | O9: 주 40시간 근무제에 따른 월간 비작업일수 = 8일
A10: 비작업일수 | B10: 적용 | C10: =MAX(C8:C9) -> 13 | D10: =MAX(D8:D9) -> 12 | E10: =MAX(E8:E9) -> 9 | F10: =MAX(F8:F9) -> 8 | G10: =MAX(G8:G9) -> 11 | H10: =MAX(H8:H9) -> 8 | I10: =MAX(I8:I9) -> 11 | J10: =MAX(J8:J9) -> 14 | K10: 14 | L10: =MAX(L8:L9) -> 10 | M10: =MAX(M8:M9) -> 9 | N10: =MAX(N8:N9) -> 14 | O10: 월간 비작업일수가 주 40시간 근무제의 비작업일수보다 적을경우 주 40시간 근무제에에 따른 비작업일수 적용
A11: 월별작업가능일수 | C11: =C4-C10 -> 18 | D11: =D4-D10 -> 16 | E11: =E4-E10 -> 22 | F11: =F4-F10 -> 22 | G11: =G4-G10 -> 20 | H11: =H4-H10 -> 22 | I11: =I4-I10 -> 20 | J11: =J4-J10 -> 17 | ... N11: =N4-N10 -> 17 | O11: 달력일수 - 비작업일수
A12: 공사기간 | O12: 준비기간+작업일수+정리기간 | Q12: 1+2+3 | R12: 합계 | S12: 산출일수
A13: 1)준비기간 | K13: =공사기간산출!H3 -> 12 | O13: 포장공사(수선)의 15%적용 | Q13: =SUM(C13:N13) -> 12 | R13: =Q13+Q14+Q15 -> 76 | S13: =공사기간산출!H48 -> 76
A14: 2)작업일수 | K14: =공사기간산출!H4 -> 49 | O14: =SUM(C14:N14) -> 49 | Q14: =SUM(C14:N14) -> 49
A15: 3)정리기간 | K15: =공사기간산출!H47 -> 15 | O15: 10억미만 최소 15일 | Q15: =SUM(C15:N15) -> 15
A16: 작업일수(준비,정리가간포함) | C16: =SUM(C13:C15) -> 0 | D16: =SUM(D13:D15) -> 0 | E16: =SUM(E13:E15) -> 0 | K16: =SUM(K12:K15) -> 76 | N16: =SUM(N12:N15) -> 0 | O16: =SUM(C16:N16) -> 76 | P16: =O16+O17 -> 90
A17: 비작업일수 | C17: =C10/C11*C16 -> 0 | D17: =D10/D11*D16 -> 0 | E17: =E10/E11*E16 -> 0 | K17: =K10 -> 14 | N17: =N10/N11*N16 -> 0 | O17: =SUM(C17:N17) -> 14
A18: ※ 공사기간 = 준비기간 + 작업일수 + 비작업일수 + 정리기간 | O18: =P16 -> 90
O19: ※ 3월 착공 기준시 ≒ 1개월 소요

Sheet 공사기간산출
A1: 공 사 기 간 산 출
A2: 구 분 | C2: 규격 | D2: 시공량 | F2: 일작업량 | H2: 작업일수 | I2: 비 고
A3: 1. 준비기간 | H3: =준비기간!B5*0.15+3 -> 12 | I3: 포장공사(수선)의 15%적용+추석연휴
A4: 2. 공종별 작업일수 | H4: =H46 -> 49 | I4: 일 8시간 기준
A5: 2) 포장공
A6: 중산동 | B6: 아스팔트 포장 절삭후 아스팔트 덧씌우기 | C6: A-Type (1회절삭,1회포장) | D6: 10765 | E6: ㎡ | F6: 1800 | G6: ㎡ | H6: =ROUNDUP(D6/F6,1) -> 6
B7: 아스팔트 포장 절삭후 아스팔트 덧씌우기 | C7: B-Type (1회절삭,1회포장) | D7: 1804 | E7: ㎡ | F7: 1800 | G7: ㎡ | H7: =ROUNDUP(D7/F7,1) -> 1.1
B8: 아스팔트 표층 포설 및 다짐(과속방지턱) | C8: 소규모포설,t=7.5cm이하 | D8: 281 | E8: ㎡ | F8: 320 | G8: ㎡ | H8: =ROUNDUP(D8/F8,1) -> 0.9
B9: 미끄럼방지포장 | C9: 수동식,횡단보도.주차장,백색 | D9: 894 | E9: ㎡ | F9: 190 | G9: ㎡ | H9: =ROUNDUP(D9/F9,1) -> 4.8
B10: 택코팅(인력식) | C10: 아스팔트스프레이어400ℓ | D10: 281 | E10: ㎡ | F10: 8000 | G10: ㎡ | H10: =ROUNDUP(D10/F10,1) -> 0.1
A11: 운북동 | B11: 아스팔트 포장 절삭후 아스팔트 덧씌우기 | C11: A-Type (1회절삭,1회포장) | D11: 5327 | E11: ㎡ | F11: 1800 | G11: ㎡ | H11: =ROUNDUP(D11/F11,1) -> 3
B12: 아스팔트 포장 절삭후 아스팔트 덧씌우기 | C12: B-Type (1회절삭,1회포장) | D12: 208 | E12: ㎡ | F12: 1800 | G12: ㎡ | H12: =ROUNDUP(D12/F12,1) -> 0.2
B13: 아스팔트 표층 포설 및 다짐(과속방지턱) | C13: 소규모포설,t=7.5cm이하 | D13: 211 | E13: ㎡ | F13: 320 | G13: ㎡ | H13: =ROUNDUP(D13/F13,1) -> 0.7
B14: 택코팅(인력식) | C14: 아스팔트스프레이어400ℓ | D14: 211 | E14: ㎡ | F14: 8000 | G14: ㎡ | H14: =ROUNDUP(D14/F14,1) -> 0.1
A15: 운남동 | B15: 아스팔트 포장 절삭후 아스팔트 덧씌우기 | C15: A-Type (1회절삭,1회포장) | D15: 3347 | E15: ㎡ | F15: 1800 | G15: ㎡ | H15: =ROUNDUP(D15/F15,1) -> 1.9
B16: 아스팔트 포장 절삭후 아스팔트 덧씌우기 | C16: B-Type (1회절삭,1회포장) | D16: 1132 | E16: ㎡ | F16: 1800 | G16: ㎡ | H16: =ROUNDUP(D16/F16,1) -> 0.7
B17: 아스팔트 표층 포설 및 다짐(과속방지턱) | C17: 소규모포설,t=7.5cm이하 | D17: 228 | E17: ㎡ | F17: 320 | G17: ㎡ | H17: =ROUNDUP(D17/F17,1) -> 0.8
B18: 미끄럼방지포장 | C18: 수동식,횡단보도.주차장,백색 | D18: 317 | E18: ㎡ | F18: 190 | G18: ㎡ | H18: =ROUNDUP(D18/F18,1) -> 1.7
B19: 택코팅(인력식) | C19: 아스팔트스프레이어400ℓ | D19: 228 | E19: ㎡ | F19: 8000 | G19: ㎡ | H19: =ROUNDUP(D19/F19,1) -> 0.1
A20: 3) 부대공
A21: 중산동 | B21: 차선도색(융착식,일반형)-운행도로,차량부분통제 | C21: 수동식,문자.기호 | D21: 18 | E21: ㎡ | F21: 126 | G21: ㎡ | H21: =ROUNDUP(D21/F21,1) -> 0.2
B22: 차선도색(융착식,일반형)-운행도로,차량부분통제 | C22: 수동식,과속방지턱,정지선,백색 | D22: 117 | E22: ㎡ | F22: 266 | G22: ㎡ | H22: =ROUNDUP(D22/F22,1) -> 0.5
B23: 차선도색(융착식,일반형)-운행도로,차량부분통제 | C23: 수동식,과속방지턱,정지선,황색 | D23: 94 | E23: ㎡ | F23: 266 | G23: ㎡ | H23: =ROUNDUP(D23/F23,1) -> 0.4
B24: 차선도색(융착식,일반형)-운행도로,차량부분통제 | C24: 수동식,황색실선 | D24: 665 | E24: ㎡ | F24: 700 | G24: ㎡ | H24: =ROUNDUP(D24/F24,1) -> 1
B25: 차선도색(융착식,일반형)-운행도로,차량부분통제 | C25: 수동식,황색파선 | D25: 9 | E25: ㎡ | F25: 350 | G25: ㎡ | H25: =ROUNDUP(D25/F25,1) -> 0.1
B26: 차선밑그림-운행도로,차량부분통제 | C26: 문자,기호 | D26: 18 | E26: ㎡ | F26: 162 | G26: ㎡ | H26: =ROUNDUP(D26/F26,1) -> 0.2
B27: 차선밑그림-운행도로,차량부분통제 | C27: 횡단보도,주차장 | D27: 211 | E27: ㎡ | F27: 342 | G27: ㎡ | H27: =ROUNDUP(D27/F27,1) -> 0.7
A28: 운북동 | B28: 차선도색(융착식,일반형)-운행도로,차량부분통제 | C28: 수동식,문자.기호 | D28: 55 | E28: ㎡ | F28: 126 | G28: ㎡ | H28: =ROUNDUP(D28/F28,1) -> 0.5
B29: 차선도색(융착식,일반형)-운행도로,차량부분통제 | C29: 수동식,과속방지턱,정지선,백색 | D29: 131 | E29: ㎡ | F29: 266 | G29: ㎡ | H29: =ROUNDUP(D29/F29,1) -> 0.5
B30: 차선도색(융착식,일반형)-운행도로,차량부분통제 | C30: 수동식,과속방지턱,정지선,황색 | D30: 82 | E30: ㎡ | F30: 266 | G30: ㎡ | H30: =ROUNDUP(D30/F30,1) -> 0.4
B31: 차선도색(융착식,일반형)-운행도로,차량부분통제 | C31: 수동식,황색실선 | D31: 358 | E31: ㎡ | F31: 700 | G31: ㎡ | H31: =ROUNDUP(D31/F31,1) -> 0.6
B32: 차선도색(융착식,일반형)-운행도로,차량부분통제 | C32: 수동식,황색파선 | D32: 2 | E32: ㎡ | F32: 350 | G32: ㎡ | H32: =ROUNDUP(D32/F32,1) -> 0.1
B33: 차선도색(융착식,일반형)-운행도로,차량부분통제 | C33: 수동식,백색파선 | D33: 2 | E33: ㎡ | F33: 350 | G33: ㎡ | H33: =ROUNDUP(D33/F33,1) -> 0.1
B34: 차선밑그림-운행도로,차량부분통제 | C34: 문자,기호 | D34: 55 | E34: ㎡ | F34: 162 | G34: ㎡ | H34: =ROUNDUP(D34/F34,1) -> 0.4
B35: 차선밑그림-운행도로,차량부분통제 | C35: 횡단보도,주차장 | D35: 213 | E35: ㎡ | F35: 342 | G35: ㎡ | H35: =ROUNDUP(D35/F35,1) -> 0.7
A36: 운남동 | B36: 차선도색(융착식,일반형)-운행도로,차량부분통제 | C36: 수동식,문자.기호 | D36: 104 | E36: ㎡ | F36: 126 | G36: ㎡ | H36: =ROUNDUP(D36/F36,1) -> 0.9
B37: 차선도색(융착식,일반형)-운행도로,차량부분통제 | C37: 수동식,과속방지턱,정지선,백색 | D37: 368 | E37: ㎡ | F37: 266 | G37: ㎡ | H37: =ROUNDUP(D37/F37,1) -> 1.4
B38: 차선도색(융착식,일반형)-운행도로,차량부분통제 | C38: 수동식,과속방지턱,정지선,황색 | D38: 41 | E38: ㎡ | F38: 266 | G38: ㎡ | H38: =ROUNDUP(D38/F38,1) -> 0.2
B39: 차선도색(융착식,일반형)-운행도로,차량부분통제 | C39: 수동식,황색실선 | D39: 149 | E39: ㎡ | F39: 700 | G39: ㎡ | H39: =ROUNDUP(D39/F39,1) -> 0.3
B40: 차선도색(융착식,일반형)-운행도로,차량부분통제 | C40: 수동식,황색파선 | D40: 1 | E40: ㎡ | F40: 350 | G40: ㎡ | H40: =ROUNDUP(D40/F40,1) -> 0.1
B41: 차선도색(융착식,일반형)-운행도로,차량부분통제 | C41: 수동식,백색실선 | D41: 47 | E41: ㎡ | F41: 700 | G41: ㎡ | H41: =ROUNDUP(D41/F41,1) -> 0.1
B42: 차선도색(융착식,일반형)-운행도로,차량부분통제 | C42: 수동식,백색파선 | D42: 10 | E42: ㎡ | F42: 350 | G42: ㎡ | H42: =ROUNDUP(D42/F42,1) -> 0.1
B43: 차선밑그림-운행도로,차량부분통제 | C43: 문자,기호 | D43: 104 | E43: ㎡ | F43: 162 | G43: ㎡ | H43: =ROUNDUP(D43/F43,1) -> 0.7
B44: 차선밑그림-운행도로,차량부분통제 | C44: 횡단보도,주차장 | D44: 409 | E44: ㎡ | F44: 342 | G44: ㎡ | H44: =ROUNDUP(D44/F44,1) -> 1.2
B45: 기타 | C45: 맨홀인상, 교통통제 등 | H45: 15 | I45: 현장여건 감안
A46: 3) 소계 | H46: =ROUND(SUM(H5:H45),0) -> 49
A47: 3. 정리기간 | H47: 15
A48: 총작업일수 | H48: =H3+H4+H47 -> 76

Sheet 준비기간
A1: 공종 | B1: 준비기간 | D1: 공종 | F1: 준비기간
A2: 공동주택 | B2: 45 | D2: 강교가설공사 | F2: 90
A3: 도로개량공사 | B3: 40 | D3: PC교량 공사 | F3: 70
A4: 포장공사(신설) | B4: 50 | D4: 교량보수공사 | F4: 60
A5: 포장공사(수선) | B5: 60 | D5: 하천공사 | F5: 40
A6: 공동구공사 | B6: 80 | D6: 항만공사 | F6: 40

Sheet 혹서기
A1: 혹서기 체감온도 (33˚C이상) | B1: 지점명 | C1: 월평균 기상데이터 | O1: 소계
C2: 1월 | D2: 2월 | E2: 3월 | F2: 4월 | G2: 5월 | H2: 6월 | I2: 7월 | J2: 8월 | K2: 9월 | L2: 10월 | M2: 11월 | N2: 12월
B3: 인천 | C3: 0 | D3: 0 | E3: 0 | F3: 0 | G3: 0 | H3: 0 | I3: 0.4 | J3: 0.7 | K3: 0 | L3: 0 | M3: 0 | N3: 0 | O3: =SUM(C3:N3) -> 1.1

Sheet 동절기
A1: 동절기 (최저기온 0˚C이하이거나 신적설5cm이상) | B1: 지점명 | C1: 월평균 기상데이터 | O1: 소계
C2: 1월 | D2: 2월 | E2: 3월 | F2: 4월 | G2: 5월 | H2: 6월 | I2: 7월 | J2: 8월 | K2: 9월 | L2: 10월 | M2: 11월 | N2: 12월
B3: 인천 | C3: 8.1 | D3: 4.2 | E3: 0 | F3: 0 | G3: 0 | H3: 0 | I3: 0 | J3: 0 | K3: 0 | L3: 0 | M3: 0.2 | N3: 7.1 | O3: =SUM(C3:N3) -> 19.6

Sheet 비
A1: 비 (일강수량 5mm이상) | B1: 지점명 | C1: 월평균 기상데이터 | O1: 소계
C2: 1월 | D2: 2월 | E2: 3월 | F2: 4월 | G2: 5월 | H2: 6월 | I2: 7월 | J2: 8월 | K2: 9월 | L2: 10월 | M2: 11월 | N2: 12월
B3: 인천 | C3: 0.4 | D3: 1.2 | E3: 1.7 | F3: 3.5 | G3: 3.9 | H3: 3.5 | I3: 6.6 | J3: 6.9 | K3: 3.5 | L3: 2.8 | M3: 3 | N3: 1.6 | O3: =SUM(C3:N3) -> 38.6

Sheet 바람
A1: 바람 (최대순간풍속 15m/s이상) | B1: 지점명 | C1: 월평균 기상데이터 | O1: 소계
C2: 1월 | D2: 2월 | E2: 3월 | F2: 4월 | G2: 5월 | H2: 6월 | I2: 7월 | J2: 8월 | K2: 9월 | L2: 10월 | M2: 11월 | N2: 12월
B3: 인천 | C3: 1.6 | D3: 1.2 | E3: 2.4 | F3: 1.2 | G3: 1 | H3: 0.9 | I3: 1 | J3: 1.6 | K3: 0.7 | L3: 1.2 | M3: 1.7 | N3: 2.1 | O3: =SUM(C3:N3) -> 16.6
