Workbook

Sheet 05년12월
A1: 주민등록인구 및 세대현황
A5: 2005년 12월말 현재 | I5: 단위 : 명/세대
A6: 군구명 | B6: 인 구 수 | E6: 세대수 | F6: 19세이상 | I6: 증감현황(전월대비)
B7: 계 | C7: 남 | D7: 여 | F7: 계 | G7: 남 | H7: 여 | I7: 인구 | J7: 세대
A8: 계 | B8: =SUM(C8:D8) -> 92300 | C8: =SUM(C9:C20) -> 47447 | D8: =SUM(D9:D20) -> 44853 | E8: =SUM(E9:E20) -> 38707 | F8: 72796 | G8: =SUM(G9:G20) -> 37327 | H8: =SUM(H9:H20) -> 35469 | I8: =SUM(I9:I20) -> #REF! | J8: =SUM(J9:J20) -> #REF!
A9: 신포동 | B9: =SUM(C9:D9) -> 6584 | C9: 3308 | D9: 3276 | E9: 2834 | F9: =SUM(G9:H9) -> 5412 | G9: 2688 | H9: 2724 | I9: =B9-#REF! -> #REF! | J9: =E9-#REF! -> #REF!
A10: 연안동 | B10: =SUM(C10:D10) -> 9275 | C10: 4816 | D10: 4459 | E10: 3708 | F10: =SUM(G10:H10) -> 7410 | G10: 3856 | H10: 3554 | I10: =B10-#REF! -> #REF! | J10: =E10-#REF! -> #REF!
A11: 신흥동 | B11: =SUM(C11:D11) -> 17013 | C11: 8561 | D11: 8452 | E11: 6703 | F11: =SUM(G11:H11) -> 13344 | G11: 6658 | H11: 6686 | I11: =B11-#REF! -> #REF! | J11: =E11-#REF! -> #REF!
A12: 도원동 | B12: =SUM(C12:D12) -> 5961 | C12: 3023 | D12: 2938 | E12: 2342 | F12: =SUM(G12:H12) -> 4774 | G12: 2397 | H12: 2377 | I12: =B12-#REF! -> #REF! | J12: =E12-#REF! -> #REF!
A13: 율목동 | B13: =SUM(C13:D13) -> 5327 | C13: 2730 | D13: 2597 | E13: 2198 | F13: =SUM(G13:H13) -> 4276 | G13: 2167 | H13: 2109 | I13: =B13-#REF! -> #REF! | J13: =E13-#REF! -> #REF!
A14: 동인천동 | B14: =SUM(C14:D14) -> 7063 | C14: 3543 | D14: 3520 | E14: 3058 | F14: =SUM(G14:H14) -> 5829 | G14: 2909 | H14: 2920 | I14: =B14-#REF! -> #REF! | J14: =E14-#REF! -> #REF!
A15: 북성동 | B15: =SUM(C15:D15) -> 4611 | C15: 2351 | D15: 2260 | E15: 1972 | F15: =SUM(G15:H15) -> 3801 | G15: 1938 | H15: 1863 | I15: =B15-#REF! -> #REF! | J15: =E15-#REF! -> #REF!
A16: 송월동 | B16: =SUM(C16:D16) -> 6355 | C16: 3161 | D16: 3194 | E16: 2467 | F16: =SUM(G16:H16) -> 5017 | G16: 2495 | H16: 2522 | I16: =B16-#REF! -> #REF! | J16: =E16-#REF! -> #REF!
A17: 영종동 | B17: =SUM(C17:D17) -> 9786 | C17: 5301 | D17: 4485 | E17: 4966 | F17: =SUM(G17:H17) -> 8336 | G17: 4543 | H17: 3793 | I17: =B17-#REF! -> #REF! | J17: =E17-#REF! -> #REF!
A18: 운서지소 | B18: =SUM(C18:D18) -> 16766 | C18: 8755 | D18: 8011 | E18: 6730 | F18: =SUM(G18:H18) -> 11475 | G18: 6013 | H18: 5462 | I18: =B18-#REF! -> #REF! | J18: =E18-#REF! -> #REF!
A19: 용유동 | B19: =SUM(C19:D19) -> 2882 | C19: 1531 | D19: 1351 | E19: 1402 | F19: =SUM(G19:H19) -> 2504 | G19: 1330 | H19: 1174 | I19: =B19-#REF! -> #REF! | J19: =E19-#REF! -> #REF!
A20: 무의지소 | B20: =SUM(C20:D20) -> 677 | C20: 367 | D20: 310 | E20: 327 | F20: =SUM(G20:H20) -> 618 | G20: 333 | H20: 285 | I20: =B20-#REF! -> #REF! | J20: =E20-#REF! -> #REF!
C21: =E9-#REF! -> #REF!

Sheet 06년1월
A1: 주민등록인구 및 세대현황
A5: 2006년 1월말 현재 | I5: 단위 : 명/세대
A6: 군구명 | B6: 인 구 수 | E6: 세대수 | F6: 19세이상 | I6: 증감현황(전월대비)
B7: 계 | C7: 남 | D7: 여 | F7: 계 | G7: 남 | H7: 여 | I7: 인구 | J7: 세대
A8: 계 | B8: =SUM(C8:D8) -> 92268 | C8: =SUM(C9:C20) -> 47447 | D8: =SUM(D9:D20) -> 44821 | E8: =SUM(E9:E20) -> 38773 | F8: =SUM(G8:H8) -> 72830 | G8: =SUM(G9:G20) -> 37361 | H8: =SUM(H9:H20) -> 35469 | I8: =SUM(I9:I20) -> -32 | J8: =SUM(J9:J20) -> 66
A9: 신포동 | B9: =SUM(C9:D9) -> 6597 | C9: 3324 | D9: 3273 | E9: 2852 | F9: =SUM(G9:H9) -> 5418 | G9: 2702 | H9: 2716 | I9: =B9-'05년12월'!B9 -> 13 | J9: =E9-'05년12월'!E9 -> 18
A10: 연안동 | B10: =SUM(C10:D10) -> 9286 | C10: 4824 | D10: 4462 | E10: 3718 | F10: =SUM(G10:H10) -> 7415 | G10: 3856 | H10: 3559 | I10: 11 | J10: =E10-'05년12월'!E10 -> 10
A11: 신흥동 | B11: =SUM(C11:D11) -> 17054 | C11: 8591 | D11: 8463 | E11: 6741 | F11: =SUM(G11:H11) -> 13397 | G11: 6700 | H11: 6697 | I11: 41 | J11: =E11-'05년12월'!E11 -> 38
A12: 도원동 | B12: =SUM(C12:D12) -> 5935 | C12: 3019 | D12: 2916 | E12: 2335 | F12: =SUM(G12:H12) -> 4762 | G12: 2397 | H12: 2365 | I12: -26 | J12: =E12-'05년12월'!E12 -> -7
A13: 율목동 | B13: =SUM(C13:D13) -> 5328 | C13: 2730 | D13: 2598 | E13: 2194 | F13: =SUM(G13:H13) -> 4287 | G13: 2174 | H13: 2113 | I13: 1 | J13: =E13-'05년12월'!E13 -> -4
A14: 동인천동 | B14: =SUM(C14:D14) -> 7043 | C14: 3518 | D14: 3525 | E14: 3053 | F14: =SUM(G14:H14) -> 5820 | G14: 2889 | H14: 2931 | I14: -20 | J14: =E14-'05년12월'!E14 -> -5
A15: 북성동 | B15: =SUM(C15:D15) -> 4604 | C15: 2350 | D15: 2254 | E15: 1974 | F15: =SUM(G15:H15) -> 3803 | G15: 1940 | H15: 1863 | I15: -7 | J15: =E15-'05년12월'!E15 -> 2
A16: 송월동 | B16: =SUM(C16:D16) -> 6347 | C16: 3160 | D16: 3187 | E16: 2459 | F16: =SUM(G16:H16) -> 5012 | G16: 2498 | H16: 2514 | I16: -8 | J16: =E16-'05년12월'!E16 -> -8
A17: 영종동 | B17: =SUM(C17:D17) -> 9787 | C17: 5301 | D17: 4486 | E17: 4976 | F17: =SUM(G17:H17) -> 8345 | G17: 4546 | H17: 3799 | I17: 1 | J17: =E17-'05년12월'!E17 -> 10
A18: 운서지소 | B18: =SUM(C18:D18) -> 16723 | C18: 8732 | D18: 7991 | E18: 6730 | F18: =SUM(G18:H18) -> 11439 | G18: 5994 | H18: 5445 | I18: -43 | J18: =E18-'05년12월'!E18 -> 0
A19: 용유동 | B19: =SUM(C19:D19) -> 2887 | C19: 1530 | D19: 1357 | E19: 1416 | F19: =SUM(G19:H19) -> 2513 | G19: 1330 | H19: 1183 | I19: 5 | J19: =E19-'05년12월'!E19 -> 14
A20: 무의지소 | B20: =SUM(C20:D20) -> 677 | C20: 368 | D20: 309 | E20: 325 | F20: =SUM(G20:H20) -> 619 | G20: 335 | H20: 284 | I20: =B21-'05년12월'!B21 -> 0 | J20: =E20-'05년12월'!E20 -> -2
C21: =E9-#REF! -> #REF!

Sheet 06년2월
A1: 주민등록인구 및 세대현황
A5: 2006년 2월말 현재 | I5: 단위 : 명/세대
A6: 동 명 | B6: 인 구 수 | E6: 세대수 | F6: 19세이상 | I6: 증감현황(전월대비)
B7: 계 | C7: 남 | D7: 여 | F7: 계 | G7: 남 | H7: 여 | I7: 인구 | J7: 세대
A8: 계 | B8: =SUM(C8:D8) -> 92117 | C8: =SUM(C9:C20) -> 47398 | D8: =SUM(D9:D20) -> 44719 | E8: =SUM(E9:E20) -> 38787 | F8: =SUM(G8:H8) -> 72814 | G8: =SUM(G9:G20) -> 37372 | H8: =SUM(H9:H20) -> 35442 | I8: =SUM(I9:I20) -> -151 | J8: =SUM(J9:J20) -> 14
A9: 신포동 | B9: =SUM(C9:D9) -> 6568 | C9: 3294 | D9: 3274 | E9: 2847 | F9: =SUM(G9:H9) -> 5409 | G9: 2691 | H9: 2718 | I9: =B9-'06년1월'!B9 -> -29 | J9: =E9-'06년1월'!E9 -> -5
A10: 연안동 | B10: =SUM(C10:D10) -> 9262 | C10: 4802 | D10: 4460 | E10: 3729 | F10: =SUM(G10:H10) -> 7417 | G10: 3856 | H10: 3561 | I10: =B10-'06년1월'!B10 -> -24 | J10: =E10-'06년1월'!E10 -> 11
A11: 신흥동 | B11: =SUM(C11:D11) -> 17077 | C11: 8615 | D11: 8462 | E11: 6760 | F11: =SUM(G11:H11) -> 13404 | G11: 6708 | H11: 6696 | I11: =B11-'06년1월'!B11 -> 23 | J11: =E11-'06년1월'!E11 -> 19
A12: 도원동 | B12: =SUM(C12:D12) -> 5931 | C12: 3021 | D12: 2910 | E12: 2341 | F12: =SUM(G12:H12) -> 4765 | G12: 2400 | H12: 2365 | I12: =B12-'06년1월'!B12 -> -4 | J12: =E12-'06년1월'!E12 -> 6
A13: 율목동 | B13: =SUM(C13:D13) -> 5326 | C13: 2729 | D13: 2597 | E13: 2188 | F13: =SUM(G13:H13) -> 4290 | G13: 2181 | H13: 2109 | I13: =B13-'06년1월'!B13 -> -2 | J13: =E13-'06년1월'!E13 -> -6
A14: 동인천동 | B14: =SUM(C14:D14) -> 7049 | C14: 3531 | D14: 3518 | E14: 3059 | F14: =SUM(G14:H14) -> 5837 | G14: 2904 | H14: 2933 | I14: =B14-'06년1월'!B14 -> 6 | J14: =E14-'06년1월'!E14 -> 6
A15: 북성동 | B15: =SUM(C15:D15) -> 4578 | C15: 2345 | D15: 2233 | E15: 1978 | F15: =SUM(G15:H15) -> 3792 | G15: 1939 | H15: 1853 | I15: =B15-'06년1월'!B15 -> -26 | J15: =E15-'06년1월'!E15 -> 4
A16: 송월동 | B16: =SUM(C16:D16) -> 6319 | C16: 3141 | D16: 3178 | E16: 2451 | F16: =SUM(G16:H16) -> 5006 | G16: 2486 | H16: 2520 | I16: =B16-'06년1월'!B16 -> -28 | J16: =E16-'06년1월'!E16 -> -8
A17: 영종동 | B17: =SUM(C17:D17) -> 9766 | C17: 5304 | D17: 4462 | E17: 4967 | F17: =SUM(G17:H17) -> 8341 | G17: 4555 | H17: 3786 | I17: =B17-'06년1월'!B17 -> -21 | J17: =E17-'06년1월'!E17 -> -9
A18: 운서지소 | B18: =SUM(C18:D18) -> 16694 | C18: 8718 | D18: 7976 | E18: 6729 | F18: =SUM(G18:H18) -> 11427 | G18: 5980 | H18: 5447 | I18: =B18-'06년1월'!B18 -> -29 | J18: =E18-'06년1월'!E18 -> -1
A19: 용유동 | B19: =SUM(C19:D19) -> 2878 | C19: 1536 | D19: 1342 | E19: 1421 | F19: =SUM(G19:H19) -> 2516 | G19: 1342 | H19: 1174 | I19: =B19-'06년1월'!B19 -> -9 | J19: =E19-'06년1월'!E19 -> 5
A20: 무의지소 | B20: =SUM(C20:D20) -> 669 | C20: 362 | D20: 307 | E20: 317 | F20: =SUM(G20:H20) -> 610 | G20: 330 | H20: 280 | I20: =B20-'06년1월'!B20 -> -8 | J20: =E20-'06년1월'!E20 -> -8

Sheet 06년3월
A1: 주민등록인구 및 세대현황
A5: 2006년 3월말 현재 | I5: 단위 : 명/세대
A6: 동 명 | B6: 인 구 수 | E6: 세대수 | F6: 19세이상 | I6: 증감현황(전월대비)
B7: 계 | C7: 남 | D7: 여 | F7: 계 | G7: 남 | H7: 여 | I7: 인구 | J7: 세대
A8: 계 | B8: 91988 | C8: 47359 | D8: 44629 | E8: 38704 | F8: 72719 | G8: 37331 | H8: 35388 | I8: -129 | J8: -83
A9: 신포동 | B9: 6574 | C9: 3301 | D9: 3273 | E9: 2864 | F9: 5421 | G9: 2699 | H9: 2722 | I9: 6 | J9: 17
A10: 연안동 | B10: 9270 | C10: 4810 | D10: 4460 | E10: 3747 | F10: 7432 | G10: 3862 | H10: 3570 | I10: 8 | J10: 18
A11: 신흥동 | B11: 17048 | C11: 8608 | D11: 8440 | E11: 6753 | F11: 13394 | G11: 6704 | H11: 6690 | I11: -29 | J11: -7
A12: 도원동 | B12: 5912 | C12: 3010 | D12: 2902 | E12: 2322 | F12: 4744 | G12: 2391 | H12: 2353 | I12: -19 | J12: -19
A13: 율목동 | B13: 5294 | C13: 2701 | D13: 2593 | E13: 2184 | F13: 4272 | G13: 2160 | H13: 2112 | I13: -32 | J13: -4
A14: 동인천동 | B14: 7071 | C14: 3552 | D14: 3519 | E14: 3065 | F14: 5848 | G14: 2912 | H14: 2936 | I14: 22 | J14: 6
A15: 북성동 | B15: 4580 | C15: 2346 | D15: 2234 | E15: 1986 | F15: =SUM(G15:H15) -> 3792 | G15: 1935 | H15: 1857 | I15: 2 | J15: 8
A16: 송월동 | B16: 6332 | C16: 3142 | D16: 3190 | E16: 2438 | F16: 5015 | G16: 2486 | H16: 2529 | I16: 13 | J16: -13
A17: 영종동 | B17: 9707 | C17: 5294 | D17: 4413 | E17: 4901 | F17: 8274 | G17: 4544 | H17: 3730 | I17: -59 | J17: -66
A18: 운서지소 | B18: 16685 | C18: 8715 | D18: 7970 | E18: 6738 | F18: 11425 | G18: 5982 | H18: 5443 | I18: -9 | J18: 9
A19: 용유동 | B19: 2856 | C19: 1526 | D19: 1330 | E19: 1396 | F19: 2498 | G19: 1331 | H19: 1167 | I19: -22 | J19: -25
A20: 무의지소 | B20: 659 | C20: 354 | D20: 305 | E20: 310 | F20: 604 | G20: 325 | H20: 279 | I20: -10 | J20: -7

Sheet 06년4월 (2)
A1: 주민등록인구 및 세대현황
A5: 2006년 4월말 현재 | I5: 단위 : 명/세대
A6: 동 명 | B6: 인 구 수 | E6: 세대수 | F6: 19세이상 | I6: 증감현황(전월대비)
B7: 계 | C7: 남 | D7: 여 | F7: 계 | G7: 남 | H7: 여 | I7: 인구 | J7: 세대
A8: 계 | B8: 91950 | C8: 47313 | D8: 44637 | E8: 38676 | F8: 72694 | G8: 37309 | H8: 35385 | I8: -38 | J8: -28
A9: 신포동 | B9: 6553 | C9: 3288 | D9: 3265 | E9: 2855 | F9: 5407 | G9: 2692 | H9: 2715 | I9: -21 | J9: -9
A10: 연안동 | B10: 9207 | C10: 4769 | D10: 4438 | E10: 3728 | F10: 7374 | G10: 3829 | H10: 3545 | I10: -63 | J10: -19
A11: 신흥동 | B11: 17051 | C11: 8594 | D11: 8457 | E11: 6769 | F11: 13403 | G11: 6691 | H11: 6712 | I11: 3 | J11: 16
A12: 도원동 | B12: 5882 | C12: 2996 | D12: 2886 | E12: 2315 | F12: 4729 | G12: 2385 | H12: 2344 | I12: -30 | J12: -7
A13: 율목동 | B13: 5275 | C13: 2692 | D13: 2583 | E13: 2172 | F13: 4249 | G13: 2152 | H13: 2097 | I13: -19 | J13: -12
A14: 동인천동 | B14: 7047 | C14: 3541 | D14: 3506 | E14: 3055 | F14: 5827 | G14: 2906 | H14: 2921 | I14: -24 | J14: -10
A15: 북성동 | B15: 4581 | C15: 2350 | D15: 2231 | E15: 1988 | F15: 3796 | G15: 1937 | H15: 1859 | I15: 1 | J15: 2
A16: 송월동 | B16: 6330 | C16: 3146 | D16: 3184 | E16: 2424 | F16: 5012 | G16: 2488 | H16: 2524 | I16: -2 | J16: -14
A17: 영종동 | B17: 9732 | C17: 5296 | D17: 4436 | E17: 4888 | F17: 8286 | G17: 4543 | H17: 3743 | I17: 25 | J17: -13
A18: 운서지소 | B18: 16739 | C18: 8750 | D18: 7989 | E18: 6753 | F18: 11475 | G18: 6023 | H18: 5452 | I18: 54 | J18: 15
A19: 용유동 | B19: 2896 | C19: 1537 | D19: 1359 | E19: 1420 | F19: 2534 | G19: 1339 | H19: 1195 | I19: 40 | J19: 24
A20: 무의지소 | B20: 657 | C20: 354 | D20: 303 | E20: 309 | F20: 602 | G20: 324 | H20: 278 | I20: -2 | J20: -1

Sheet 12년 7월
A1: 주민등록인구 및 세대현황
A5: 2012년 8월 말 현재 | I5: 단위 : 명/세대
A6: 동 명 | B6: 인 구 수 | E6: 세대수 | F6: 19세 이상 | I6: 증감현황(전월대비)
B7: 계 | C7: 남 | D7: 여 | F7: 계 | G7: 남 | H7: 여 | I7: 인구 | J7: 세대
A8: 계 | B8: =SUM(B9:B20) -> 94513 | C8: =SUM(C9:C20) -> 49214 | D8: =SUM(D9:D20) -> 45299 | E8: =SUM(E9:E20) -> 42675 | F8: =SUM(F9:F20) -> 76746 | G8: =SUM(G9:G20) -> 39939 | H8: =SUM(H9:H20) -> 36807 | I8: =SUM(I9:I20) -> 629 | J8: =SUM(J9:J20) -> 289
A9: 신포동 | B9: =SUM(C9:D9) -> 6290 | C9: 3184 | D9: 3106 | E9: 3037 | F9: =SUM(G9:H9) -> 5337 | G9: 2695 | H9: 2642 | I9: -9 | J9: -12
A10: 연안동 | B10: =SUM(C10:D10) -> 8216 | C10: 4366 | D10: 3850 | E10: 3791 | F10: =SUM(G10:H10) -> 7020 | G10: 3750 | H10: 3270 | I10: 39 | J10: 13
A11: 신흥동 | B11: =SUM(C11:D11) -> 15750 | C11: 8030 | D11: 7720 | E11: 6706 | F11: =SUM(G11:H11) -> 12913 | G11: 6540 | H11: 6373 | I11: -29 | J11: -13
A12: 도원동 | B12: =SUM(C12:D12) -> 5182 | C12: 2671 | D12: 2511 | E12: 2250 | F12: =SUM(G12:H12) -> 4294 | G12: 2196 | H12: 2098 | I12: -19 | J12: -8
A13: 율목동 | B13: =SUM(C13:D13) -> 4692 | C13: 2413 | D13: 2279 | E13: 2194 | F13: =SUM(G13:H13) -> 3921 | G13: 2023 | H13: 1898 | I13: -35 | J13: -14
A14: 동인천동 | B14: =SUM(C14:D14) -> 6770 | C14: 3524 | D14: 3246 | E14: 3464 | F14: =SUM(G14:H14) -> 5935 | G14: 3095 | H14: 2840 | I14: -3 | J14: -5
A15: 북성동 | B15: =SUM(C15:D15) -> 4071 | C15: 2054 | D15: 2017 | E15: 2026 | F15: =SUM(G15:H15) -> 3517 | G15: 1769 | H15: 1748 | I15: -7 | J15: 5
A16: 송월동 | B16: =SUM(C16:D16) -> 5984 | C16: 2992 | D16: 2992 | E16: 2553 | F16: =SUM(G16:H16) -> 4953 | G16: 2488 | H16: 2465 | I16: -19 | J16: -14
A17: 영종동 | B17: =SUM(C17:D17) -> 11425 | C17: 6161 | D17: 5264 | E17: 5392 | F17: =SUM(G17:H17) -> 9308 | G17: 5053 | H17: 4255 | I17: 758 | J17: 368
A18: 운서동 | B18: =SUM(C18:D18) -> 20874 | C18: 10967 | D18: 9907 | E18: 8356 | F18: =SUM(G18:H18) -> 14827 | G18: 7784 | H18: 7043 | I18: -30 | J18: -20
A19: 용유동 | B19: =SUM(C19:D19) -> 4408 | C19: 2399 | D19: 2009 | E19: 2453 | F19: =SUM(G19:H19) -> 3932 | G19: 2122 | H19: 1810 | I19: -10 | J19: -9
A20: 무의지소 | B20: =SUM(C20:D20) -> 851 | C20: 453 | D20: 398 | E20: 453 | F20: =SUM(G20:H20) -> 789 | G20: 424 | H20: 365 | I20: -7 | J20: -2
