Workbook
Name HTML_Control: {"'공사부문'!$A$6:$A$32"}
Name HTML_Control: {"'공사부문'!$A$6:$A$32"}
Name HTML_Control: {"'공사부문'!$A$6:$A$32"}
Name HTML_Control: {"'공사부문'!$A$6:$A$32"}
Name HTML_Control: {"'공사부문'!$A$6:$A$32"}
Name HTML_Control: {"'공사부문'!$A$6:$A$32"}
Name HTML_Control: {"'공사부문'!$A$6:$A$32"}
Name HTML_Control: {"'공사부문'!$A$6:$A$32"}
Name HTML_Control: {"'공사부문'!$A$6:$A$32"}
Name HTML_Control: {"'공사부문'!$A$6:$A$32"}
Name HTML_Control: {"'공사부문'!$A$6:$A$32"}
Name XXXXXX: {"'공사부문'!$A$6:$A$32"}
Name XXXXXX: {"'공사부문'!$A$6:$A$32"}
Name XXXXXX: {"'공사부문'!$A$6:$A$32"}
Name XXXXXX: {"'공사부문'!$A$6:$A$32"}
Name XXXXXX: {"'공사부문'!$A$6:$A$32"}
Name XXXXXX: {"'공사부문'!$A$6:$A$32"}
Name XXXXXX: {"'공사부문'!$A$6:$A$32"}
Name XXXXXX: {"'공사부문'!$A$6:$A$32"}
Name XXXXXX: {"'공사부문'!$A$6:$A$32"}
Name XXXXXX: {"'공사부문'!$A$6:$A$32"}
Name XXXXXX: {"'공사부문'!$A$6:$A$32"}
Name 김1: {"'Firr(선)'!$AS$1:$AY$62","'Firr(사)'!$AS$1:$AY$62","'Firr(회)'!$AS$1:$AY$62","'Firr(선)'!$L$1:$V$62","'Firr(사)'!$L$1:$V$62","'Firr(회)'!$L$1:$V$62"}
Name 김1: {"'Firr(선)'!$AS$1:$AY$62","'Firr(사)'!$AS$1:$AY$62","'Firr(회)'!$AS$1:$AY$62","'Firr(선)'!$L$1:$V$62","'Firr(사)'!$L$1:$V$62","'Firr(회)'!$L$1:$V$62"}
Name 김1: {"'Firr(선)'!$AS$1:$AY$62","'Firr(사)'!$AS$1:$AY$62","'Firr(회)'!$AS$1:$AY$62","'Firr(선)'!$L$1:$V$62","'Firr(사)'!$L$1:$V$62","'Firr(회)'!$L$1:$V$62"}
Name 김1: {"'Firr(선)'!$AS$1:$AY$62","'Firr(사)'!$AS$1:$AY$62","'Firr(회)'!$AS$1:$AY$62","'Firr(선)'!$L$1:$V$62","'Firr(사)'!$L$1:$V$62","'Firr(회)'!$L$1:$V$62"}
Name 김1: {"'Firr(선)'!$AS$1:$AY$62","'Firr(사)'!$AS$1:$AY$62","'Firr(회)'!$AS$1:$AY$62","'Firr(선)'!$L$1:$V$62","'Firr(사)'!$L$1:$V$62","'Firr(회)'!$L$1:$V$62"}
Name 김1: {"'Firr(선)'!$AS$1:$AY$62","'Firr(사)'!$AS$1:$AY$62","'Firr(회)'!$AS$1:$AY$62","'Firr(선)'!$L$1:$V$62","'Firr(사)'!$L$1:$V$62","'Firr(회)'!$L$1:$V$62"}
Name 김1: {"'Firr(선)'!$AS$1:$AY$62","'Firr(사)'!$AS$1:$AY$62","'Firr(회)'!$AS$1:$AY$62","'Firr(선)'!$L$1:$V$62","'Firr(사)'!$L$1:$V$62","'Firr(회)'!$L$1:$V$62"}
Name 김1: {"'Firr(선)'!$AS$1:$AY$62","'Firr(사)'!$AS$1:$AY$62","'Firr(회)'!$AS$1:$AY$62","'Firr(선)'!$L$1:$V$62","'Firr(사)'!$L$1:$V$62","'Firr(회)'!$L$1:$V$62"}
Name 김1: {"'Firr(선)'!$AS$1:$AY$62","'Firr(사)'!$AS$1:$AY$62","'Firr(회)'!$AS$1:$AY$62","'Firr(선)'!$L$1:$V$62","'Firr(사)'!$L$1:$V$62","'Firr(회)'!$L$1:$V$62"}
Name 김1: {"'Firr(선)'!$AS$1:$AY$62","'Firr(사)'!$AS$1:$AY$62","'Firr(회)'!$AS$1:$AY$62","'Firr(선)'!$L$1:$V$62","'Firr(사)'!$L$1:$V$62","'Firr(회)'!$L$1:$V$62"}
Name 김1: {"'Firr(선)'!$AS$1:$AY$62","'Firr(사)'!$AS$1:$AY$62","'Firr(회)'!$AS$1:$AY$62","'Firr(선)'!$L$1:$V$62","'Firr(사)'!$L$1:$V$62","'Firr(회)'!$L$1:$V$62"}
Name 내역서2: {"'단계별시설공사비'!$A$3:$K$51"}
Name 내역서2: {"'단계별시설공사비'!$A$3:$K$51"}
Name 내역서2: {"'단계별시설공사비'!$A$3:$K$51"}
Name 내역서2: {"'단계별시설공사비'!$A$3:$K$51"}
Name 내역서2: {"'단계별시설공사비'!$A$3:$K$51"}
Name 내역서2: {"'단계별시설공사비'!$A$3:$K$51"}
Name 내역서2: {"'단계별시설공사비'!$A$3:$K$51"}
Name 내역서2: {"'단계별시설공사비'!$A$3:$K$51"}
Name 내역서2: {"'단계별시설공사비'!$A$3:$K$51"}
Name 내역서2: {"'단계별시설공사비'!$A$3:$K$51"}
Name 내역서2: {"'단계별시설공사비'!$A$3:$K$51"}
Name 대관공사비: {"'건축내역'!$A$1:$L$413"}
Name 대관공사비: {"'건축내역'!$A$1:$L$413"}
Name 대관공사비: {"'건축내역'!$A$1:$L$413"}
Name 대관공사비: {"'건축내역'!$A$1:$L$413"}
Name 대관공사비: {"'건축내역'!$A$1:$L$413"}
Name 대관공사비: {"'건축내역'!$A$1:$L$413"}
Name 대관공사비: {"'건축내역'!$A$1:$L$413"}
Name 대관공사비: {"'건축내역'!$A$1:$L$413"}
Name 대관공사비: {"'건축내역'!$A$1:$L$413"}
Name 대관공사비: {"'건축내역'!$A$1:$L$413"}
Name 대관공사비: {"'건축내역'!$A$1:$L$413"}
Name 박1: {"'Firr(선)'!$AS$1:$AY$62","'Firr(사)'!$AS$1:$AY$62","'Firr(회)'!$AS$1:$AY$62","'Firr(선)'!$L$1:$V$62","'Firr(사)'!$L$1:$V$62","'Firr(회)'!$L$1:$V$62"}
Name 박1: {"'Firr(선)'!$AS$1:$AY$62","'Firr(사)'!$AS$1:$AY$62","'Firr(회)'!$AS$1:$AY$62","'Firr(선)'!$L$1:$V$62","'Firr(사)'!$L$1:$V$62","'Firr(회)'!$L$1:$V$62"}
Name 박1: {"'Firr(선)'!$AS$1:$AY$62","'Firr(사)'!$AS$1:$AY$62","'Firr(회)'!$AS$1:$AY$62","'Firr(선)'!$L$1:$V$62","'Firr(사)'!$L$1:$V$62","'Firr(회)'!$L$1:$V$62"}
Name 박1: {"'Firr(선)'!$AS$1:$AY$62","'Firr(사)'!$AS$1:$AY$62","'Firr(회)'!$AS$1:$AY$62","'Firr(선)'!$L$1:$V$62","'Firr(사)'!$L$1:$V$62","'Firr(회)'!$L$1:$V$62"}
Name 박1: {"'Firr(선)'!$AS$1:$AY$62","'Firr(사)'!$AS$1:$AY$62","'Firr(회)'!$AS$1:$AY$62","'Firr(선)'!$L$1:$V$62","'Firr(사)'!$L$1:$V$62","'Firr(회)'!$L$1:$V$62"}

Sheet 공사원가계산서
B1: 공 사 원 가 계 산 서
B2: ■공사명 : 그린나래 지하차도 상부 교통사고 잦은 곳 개선 공사(전기)
B3: 구 분 비 목 | E3: 금 액 | F3: 구성비(%) | G3: 적 용 요 율 | H3: 비 고 | I3: ※ 적용시기 : 2026. 01. 01. 기초금액 발표분부터
B4: 순 공 사 원 가 | C4: 재 료 비 | D4: 직접재료비
D5: 간접재료비
D6: 작업부산물(△)
D7: 소 계
C8: 노 무 비 | D8: 직접노무비
D9: 간접노무비 | G9: 19.1 | I9: 6개월 이하 (10억 이상)
D10: 소 계
C11: 제 경 비 | D11: 산출경비 | H11: 안전관리비목포함
D12: 산재보험료 | G12: 3.56
D13: 고용보험료 | G13: 1.01
D14: 건강보험료 | G14: 3.595 | H14: 공사기간 1개월이상
D15: 연금보험료 | G15: 4.75 | H15: 공사기간 1개월이상
D16: 기타경비 | G16: 5.5 | I16: 6개월 이하 (10억 이상)
D17: 산업안전보건관리비 | G17: 3.15 | H17: 2천이상 | I17: 2개 중 작은금액 적용
D18: 산업안전보건관리비 | G18: 3.15 | H18: 2천이상 | I18: 2개 중 작은금액 적용
D19: 안전관리비
D20: 퇴직공제부금비 | G20: 0 | H20: 1억이상
D21: 노인장기요양보험료 | G21: 13.14 | H21: 공사기간 1개월이상
D22: 건설기계대여대금 지급보증액 | G22: 0 | H22: 적용제외(전기)
D23: 석면분담금 | G23: 0.006
D24: 임금채권부담금 | G24: 0.09
D25: 소 계
C26: 계
B27: 일반관리비 | G27: 8
B28: 이윤 | G28: 15 | H28: 단수맞춤 | I28: 4469
B29: 고용개선지원비 ( P S 단가) | H29: 5천만원이상 30일 이상
B30: 고재처리
B31: 공급가액
B32: 손해배상공제료 | G32: <공급가액> x 0.26477% | H32: 단수맞춤 (10원단위 반올림)
B33: 소 계 | G33: <공급가액 + 손해배상공제료>
B34: 부가가치세
B35: 도급비
B36: 관급자재
B37: 이전비
B38: 총공사비
B105: * 안전관리비 미계상 사유 : 건설진흥법 대상 (전기공사 제외)

Sheet 내역서
B1: 내 역 서
B3: No | C3: 품 명 | D3: 규 격 | G3: 단위 | H3: 수량 | I3: 재료비 | K3: 노무비 | M3: 경 비 | O3: 합 계 | P3: 비 고
I4: 단 가 | J4: 금 액 | K4: 단 가 | L4: 금 액 | M4: 단 가 | N4: 금 액
A5: 1 | B5: =VLOOKUP($A5,#REF!,2,FALSE) -> #REF! | C5: =VLOOKUP($A5,#REF!,3,FALSE) -> #REF! | D5: =VLOOKUP($A5,#REF!,4,FALSE) -> #REF! | E5: =VLOOKUP($A5,#REF!,5,FALSE) -> #REF! | F5: =VLOOKUP($A5,#REF!,6,FALSE) -> #REF! | G5: =VLOOKUP($A5,#REF!,7,FALSE) -> #REF! | H5: =VLOOKUP($A5,#REF!,8,FALSE) -> #REF! | I5: =VLOOKUP($A5,#REF!,9,FALSE) -> #REF! | J5: =TRUNC(I5*H5) -> #REF! | K5: =VLOOKUP($A5,#REF!,10,FALSE) -> #REF! | L5: =TRUNC(K5*H5) -> #REF! | M5: =VLOOKUP($A5,#REF!,11,FALSE) -> #REF! | N5: =TRUNC(M5*H5) -> #REF! | O5: =SUM(J5,L5,N5) -> #REF!
A6: 2 | B6: =VLOOKUP($A6,#REF!,2,FALSE) -> #REF! | C6: =VLOOKUP($A6,#REF!,3,FALSE) -> #REF! | D6: =VLOOKUP($A6,#REF!,4,FALSE) -> #REF! | E6: =VLOOKUP($A6,#REF!,5,FALSE) -> #REF! | F6: =VLOOKUP($A6,#REF!,6,FALSE) -> #REF! | G6: =VLOOKUP($A6,#REF!,7,FALSE) -> #REF! | H6: =VLOOKUP($A6,#REF!,8,FALSE) -> #REF! | I6: =VLOOKUP($A6,#REF!,9,FALSE) -> #REF! | J6: =TRUNC(I6*H6) -> #REF! | K6: =VLOOKUP($A6,#REF!,10,FALSE) -> #REF! | L6: =TRUNC(K6*H6) -> #REF! | M6: =VLOOKUP($A6,#REF!,11,FALSE) -> #REF! | N6: =TRUNC(M6*H6) -> #REF! | O6: =SUM(J6,L6,N6) -> #REF!
A7: 3 | B7: =VLOOKUP($A7,#REF!,2,FALSE) -> #REF! | C7: =VLOOKUP($A7,#REF!,3,FALSE) -> #REF! | D7: =VLOOKUP($A7,#REF!,4,FALSE) -> #REF! | E7: =VLOOKUP($A7,#REF!,5,FALSE) -> #REF! | F7: =VLOOKUP($A7,#REF!,6,FALSE) -> #REF! | G7: =VLOOKUP($A7,#REF!,7,FALSE) -> #REF! | H7: =VLOOKUP($A7,#REF!,8,FALSE) -> #REF! | I7: =VLOOKUP($A7,#REF!,9,FALSE) -> #REF! | J7: =TRUNC(I7*H7) -> #REF! | K7: =VLOOKUP($A7,#REF!,10,FALSE) -> #REF! | L7: =TRUNC(K7*H7) -> #REF! | M7: =VLOOKUP($A7,#REF!,11,FALSE) -> #REF! | N7: =TRUNC(M7*H7) -> #REF! | O7: =SUM(J7,L7,N7) -> #REF!
A8: 4 | B8: =VLOOKUP($A8,#REF!,2,FALSE) -> #REF! | C8: =VLOOKUP($A8,#REF!,3,FALSE) -> #REF! | D8: =VLOOKUP($A8,#REF!,4,FALSE) -> #REF! | E8: =VLOOKUP($A8,#REF!,5,FALSE) -> #REF! | F8: =VLOOKUP($A8,#REF!,6,FALSE) -> #REF! | G8: =VLOOKUP($A8,#REF!,7,FALSE) -> #REF! | H8: =VLOOKUP($A8,#REF!,8,FALSE) -> #REF! | I8: =VLOOKUP($A8,#REF!,9,FALSE) -> #REF! | J8: =TRUNC(I8*H8) -> #REF! | K8: =VLOOKUP($A8,#REF!,10,FALSE) -> #REF! | L8: =TRUNC(K8*H8) -> #REF! | M8: =VLOOKUP($A8,#REF!,11,FALSE) -> #REF! | N8: =TRUNC(M8*H8) -> #REF! | O8: =SUM(J8,L8,N8) -> #REF!
A9: 5 | B9: =VLOOKUP($A9,#REF!,2,FALSE) -> #REF! | C9: =VLOOKUP($A9,#REF!,3,FALSE) -> #REF! | D9: =VLOOKUP($A9,#REF!,4,FALSE) -> #REF! | E9: =VLOOKUP($A9,#REF!,5,FALSE) -> #REF! | F9: =VLOOKUP($A9,#REF!,6,FALSE) -> #REF! | G9: =VLOOKUP($A9,#REF!,7,FALSE) -> #REF! | H9: =VLOOKUP($A9,#REF!,8,FALSE) -> #REF! | I9: =VLOOKUP($A9,#REF!,9,FALSE) -> #REF! | J9: =TRUNC(I9*H9) -> #REF! | K9: =VLOOKUP($A9,#REF!,10,FALSE) -> #REF! | L9: =TRUNC(K9*H9) -> #REF! | M9: =VLOOKUP($A9,#REF!,11,FALSE) -> #REF! | N9: =TRUNC(M9*H9) -> #REF! | O9: =SUM(J9,L9,N9) -> #REF!
A10: 6 | B10: =VLOOKUP($A10,#REF!,2,FALSE) -> #REF! | C10: =VLOOKUP($A10,#REF!,3,FALSE) -> #REF! | D10: =VLOOKUP($A10,#REF!,4,FALSE) -> #REF! | E10: =VLOOKUP($A10,#REF!,5,FALSE) -> #REF! | F10: =VLOOKUP($A10,#REF!,6,FALSE) -> #REF! | G10: =VLOOKUP($A10,#REF!,7,FALSE) -> #REF! | H10: =VLOOKUP($A10,#REF!,8,FALSE) -> #REF! | I10: =VLOOKUP($A10,#REF!,9,FALSE) -> #REF! | J10: =TRUNC(I10*H10) -> #REF! | K10: =VLOOKUP($A10,#REF!,10,FALSE) -> #REF! | L10: =TRUNC(K10*H10) -> #REF! | M10: =VLOOKUP($A10,#REF!,11,FALSE) -> #REF! | N10: =TRUNC(M10*H10) -> #REF! | O10: =SUM(J10,L10,N10) -> #REF!
A11: 7 | B11: =VLOOKUP($A11,#REF!,2,FALSE) -> #REF! | C11: =VLOOKUP($A11,#REF!,3,FALSE) -> #REF! | D11: =VLOOKUP($A11,#REF!,4,FALSE) -> #REF! | E11: =VLOOKUP($A11,#REF!,5,FALSE) -> #REF! | F11: =VLOOKUP($A11,#REF!,6,FALSE) -> #REF! | G11: =VLOOKUP($A11,#REF!,7,FALSE) -> #REF! | H11: =VLOOKUP($A11,#REF!,8,FALSE) -> #REF! | I11: =VLOOKUP($A11,#REF!,9,FALSE) -> #REF! | J11: =TRUNC(I11*H11) -> #REF! | K11: =VLOOKUP($A11,#REF!,10,FALSE) -> #REF! | L11: =TRUNC(K11*H11) -> #REF! | M11: =VLOOKUP($A11,#REF!,11,FALSE) -> #REF! | N11: =TRUNC(M11*H11) -> #REF! | O11: =SUM(J11,L11,N11) -> #REF!
A12: 8 | B12: =VLOOKUP($A12,#REF!,2,FALSE) -> #REF! | C12: =VLOOKUP($A12,#REF!,3,FALSE) -> #REF! | D12: =VLOOKUP($A12,#REF!,4,FALSE) -> #REF! | E12: =VLOOKUP($A12,#REF!,5,FALSE) -> #REF! | F12: =VLOOKUP($A12,#REF!,6,FALSE) -> #REF! | G12: =VLOOKUP($A12,#REF!,7,FALSE) -> #REF! | H12: =VLOOKUP($A12,#REF!,8,FALSE) -> #REF! | I12: =VLOOKUP($A12,#REF!,9,FALSE) -> #REF! | J12: =TRUNC(I12*H12) -> #REF! | K12: =VLOOKUP($A12,#REF!,10,FALSE) -> #REF! | L12: =TRUNC(K12*H12) -> #REF! | M12: =VLOOKUP($A12,#REF!,11,FALSE) -> #REF! | N12: =TRUNC(M12*H12) -> #REF! | O12: =SUM(J12,L12,N12) -> #REF!
A13: 9 | B13: =VLOOKUP($A13,#REF!,2,FALSE) -> #REF! | C13: =VLOOKUP($A13,#REF!,3,FALSE) -> #REF! | D13: =VLOOKUP($A13,#REF!,4,FALSE) -> #REF! | E13: =VLOOKUP($A13,#REF!,5,FALSE) -> #REF! | F13: =VLOOKUP($A13,#REF!,6,FALSE) -> #REF! | G13: =VLOOKUP($A13,#REF!,7,FALSE) -> #REF! | H13: =VLOOKUP($A13,#REF!,8,FALSE) -> #REF! | I13: =VLOOKUP($A13,#REF!,9,FALSE) -> #REF! | J13: =TRUNC(I13*H13) -> #REF! | K13: =VLOOKUP($A13,#REF!,10,FALSE) -> #REF! | L13: =TRUNC(K13*H13) -> #REF! | M13: =VLOOKUP($A13,#REF!,11,FALSE) -> #REF! | N13: =TRUNC(M13*H13) -> #REF! | O13: =SUM(J13,L13,N13) -> #REF!
A14: 10 | B14: =VLOOKUP($A14,#REF!,2,FALSE) -> #REF! | C14: =VLOOKUP($A14,#REF!,3,FALSE) -> #REF! | D14: =VLOOKUP($A14,#REF!,4,FALSE) -> #REF! | E14: =VLOOKUP($A14,#REF!,5,FALSE) -> #REF! | F14: =VLOOKUP($A14,#REF!,6,FALSE) -> #REF! | G14: =VLOOKUP($A14,#REF!,7,FALSE) -> #REF! | H14: =VLOOKUP($A14,#REF!,8,FALSE) -> #REF! | I14: =VLOOKUP($A14,#REF!,9,FALSE) -> #REF! | J14: =TRUNC(I14*H14) -> #REF! | K14: =VLOOKUP($A14,#REF!,10,FALSE) -> #REF! | L14: =TRUNC(K14*H14) -> #REF! | M14: =VLOOKUP($A14,#REF!,11,FALSE) -> #REF! | N14: =TRUNC(M14*H14) -> #REF! | O14: =SUM(J14,L14,N14) -> #REF!
A15: 11 | B15: =VLOOKUP($A15,#REF!,2,FALSE) -> #REF! | C15: =VLOOKUP($A15,#REF!,3,FALSE) -> #REF! | D15: =VLOOKUP($A15,#REF!,4,FALSE) -> #REF! | E15: =VLOOKUP($A15,#REF!,5,FALSE) -> #REF! | F15: =VLOOKUP($A15,#REF!,6,FALSE) -> #REF! | G15: =VLOOKUP($A15,#REF!,7,FALSE) -> #REF! | H15: =VLOOKUP($A15,#REF!,8,FALSE) -> #REF! | I15: =VLOOKUP($A15,#REF!,9,FALSE) -> #REF! | J15: =TRUNC(I15*H15) -> #REF! | K15: =VLOOKUP($A15,#REF!,10,FALSE) -> #REF! | L15: =TRUNC(K15*H15) -> #REF! | M15: =VLOOKUP($A15,#REF!,11,FALSE) -> #REF! | N15: =TRUNC(M15*H15) -> #REF! | O15: =SUM(J15,L15,N15) -> #REF!
A16: 12 | B16: =VLOOKUP($A16,#REF!,2,FALSE) -> #REF! | C16: =VLOOKUP($A16,#REF!,3,FALSE) -> #REF! | D16: =VLOOKUP($A16,#REF!,4,FALSE) -> #REF! | E16: =VLOOKUP($A16,#REF!,5,FALSE) -> #REF! | F16: =VLOOKUP($A16,#REF!,6,FALSE) -> #REF! | G16: =VLOOKUP($A16,#REF!,7,FALSE) -> #REF! | H16: =VLOOKUP($A16,#REF!,8,FALSE) -> #REF! | I16: =VLOOKUP($A16,#REF!,9,FALSE) -> #REF! | J16: =TRUNC(I16*H16) -> #REF! | K16: =VLOOKUP($A16,#REF!,10,FALSE) -> #REF! | L16: =TRUNC(K16*H16) -> #REF! | M16: =VLOOKUP($A16,#REF!,11,FALSE) -> #REF! | N16: =TRUNC(M16*H16) -> #REF! | O16: =SUM(J16,L16,N16) -> #REF!
... A18: 14 | B18: =VLOOKUP($A18,#REF!,2,FALSE) -> #REF! | C18: =VLOOKUP($A18,#REF!,3,FALSE) -> #REF! | D18: =VLOOKUP($A18,#REF!,4,FALSE) -> #REF! | E18: =VLOOKUP($A18,#REF!,5,FALSE) -> #REF! | F18: =VLOOKUP($A18,#REF!,6,FALSE) -> #REF! | G18: =VLOOKUP($A18,#REF!,7,FALSE) -> #REF! | H18: =VLOOKUP($A18,#REF!,8,FALSE) -> #REF! | I18: =VLOOKUP($A18,#REF!,9,FALSE) -> #REF! | J18: =TRUNC(I18*H18) -> #REF! | K18: =VLOOKUP($A18,#REF!,10,FALSE) -> #REF! | L18: =TRUNC(K18*H18) -> #REF! | M18: =VLOOKUP($A18,#REF!,11,FALSE) -> #REF! | N18: =TRUNC(M18*H18) -> #REF! | O18: =SUM(J18,L18,N18) -> #REF!
A19: 15 | B19: 01-015 | C19: 신호제어기 종합시험 | D19: 현장과 센터간 시험 | E19: 0 | F19: 신설 | G19: 식 | H19: 1
A20: 16 | B20: =VLOOKUP($A20,#REF!,2,FALSE) -> #REF! | C20: =VLOOKUP($A20,#REF!,3,FALSE) -> #REF! | D20: =VLOOKUP($A20,#REF!,4,FALSE) -> #REF! | E20: =VLOOKUP($A20,#REF!,5,FALSE) -> #REF! | F20: =VLOOKUP($A20,#REF!,6,FALSE) -> #REF! | G20: =VLOOKUP($A20,#REF!,7,FALSE) -> #REF! | H20: =VLOOKUP($A20,#REF!,8,FALSE) -> #REF! | I20: =VLOOKUP($A20,#REF!,9,FALSE) -> #REF! | J20: =TRUNC(I20*H20) -> #REF! | K20: =VLOOKUP($A20,#REF!,10,FALSE) -> #REF! | L20: =TRUNC(K20*H20) -> #REF! | M20: =VLOOKUP($A20,#REF!,11,FALSE) -> #REF! | N20: =TRUNC(M20*H20) -> #REF! | O20: =SUM(J20,L20,N20) -> #REF!
A21: 17 | B21: =VLOOKUP($A21,#REF!,2,FALSE) -> #REF! | C21: =VLOOKUP($A21,#REF!,3,FALSE) -> #REF! | D21: =VLOOKUP($A21,#REF!,4,FALSE) -> #REF! | E21: =VLOOKUP($A21,#REF!,5,FALSE) -> #REF! | F21: =VLOOKUP($A21,#REF!,6,FALSE) -> #REF! | G21: =VLOOKUP($A21,#REF!,7,FALSE) -> #REF! | H21: =VLOOKUP($A21,#REF!,8,FALSE) -> #REF! | I21: =VLOOKUP($A21,#REF!,9,FALSE) -> #REF! | J21: =TRUNC(I21*H21) -> #REF! | K21: =VLOOKUP($A21,#REF!,10,FALSE) -> #REF! | L21: =TRUNC(K21*H21) -> #REF! | M21: =VLOOKUP($A21,#REF!,11,FALSE) -> #REF! | N21: =TRUNC(M21*H21) -> #REF! | O21: =SUM(J21,L21,N21) -> #REF!
A22: 19 | B22: =VLOOKUP($A22,#REF!,2,FALSE) -> #REF! | C22: =VLOOKUP($A22,#REF!,3,FALSE) -> #REF! | D22: =VLOOKUP($A22,#REF!,4,FALSE) -> #REF! | E22: =VLOOKUP($A22,#REF!,5,FALSE) -> #REF! | F22: =VLOOKUP($A22,#REF!,6,FALSE) -> #REF! | G22: =VLOOKUP($A22,#REF!,7,FALSE) -> #REF! | H22: =VLOOKUP($A22,#REF!,8,FALSE) -> #REF! | I22: =VLOOKUP($A22,#REF!,9,FALSE) -> #REF! | J22: =TRUNC(I22*H22) -> #REF! | K22: =VLOOKUP($A22,#REF!,10,FALSE) -> #REF! | L22: =TRUNC(K22*H22) -> #REF! | M22: =VLOOKUP($A22,#REF!,11,FALSE) -> #REF! | N22: =TRUNC(M22*H22) -> #REF! | O22: =SUM(J22,L22,N22) -> #REF!
A23: 20 | B23: =VLOOKUP($A23,#REF!,2,FALSE) -> #REF! | C23: =VLOOKUP($A23,#REF!,3,FALSE) -> #REF! | D23: =VLOOKUP($A23,#REF!,4,FALSE) -> #REF! | E23: =VLOOKUP($A23,#REF!,5,FALSE) -> #REF! | F23: =VLOOKUP($A23,#REF!,6,FALSE) -> #REF! | G23: =VLOOKUP($A23,#REF!,7,FALSE) -> #REF! | H23: =VLOOKUP($A23,#REF!,8,FALSE) -> #REF! | I23: =VLOOKUP($A23,#REF!,9,FALSE) -> #REF! | J23: =TRUNC(I23*H23) -> #REF! | K23: =VLOOKUP($A23,#REF!,10,FALSE) -> #REF! | L23: =TRUNC(K23*H23) -> #REF! | M23: =VLOOKUP($A23,#REF!,11,FALSE) -> #REF! | N23: =TRUNC(M23*H23) -> #REF! | O23: =SUM(J23,L23,N23) -> #REF!
A24: 21 | B24: =VLOOKUP($A24,#REF!,2,FALSE) -> #REF! | C24: =VLOOKUP($A24,#REF!,3,FALSE) -> #REF! | D24: =VLOOKUP($A24,#REF!,4,FALSE) -> #REF! | E24: =VLOOKUP($A24,#REF!,5,FALSE) -> #REF! | F24: =VLOOKUP($A24,#REF!,6,FALSE) -> #REF! | G24: =VLOOKUP($A24,#REF!,7,FALSE) -> #REF! | H24: =VLOOKUP($A24,#REF!,8,FALSE) -> #REF! | I24: =VLOOKUP($A24,#REF!,9,FALSE) -> #REF! | J24: =TRUNC(I24*H24) -> #REF! | K24: =VLOOKUP($A24,#REF!,10,FALSE) -> #REF! | L24: =TRUNC(K24*H24) -> #REF! | M24: =VLOOKUP($A24,#REF!,11,FALSE) -> #REF! | N24: =TRUNC(M24*H24) -> #REF! | O24: =SUM(J24,L24,N24) -> #REF!
A25: 22 | B25: =VLOOKUP($A25,#REF!,2,FALSE) -> #REF! | C25: =VLOOKUP($A25,#REF!,3,FALSE) -> #REF! | D25: =VLOOKUP($A25,#REF!,4,FALSE) -> #REF! | E25: =VLOOKUP($A25,#REF!,5,FALSE) -> #REF! | F25: =VLOOKUP($A25,#REF!,6,FALSE) -> #REF! | G25: =VLOOKUP($A25,#REF!,7,FALSE) -> #REF! | H25: =VLOOKUP($A25,#REF!,8,FALSE) -> #REF! | I25: =VLOOKUP($A25,#REF!,9,FALSE) -> #REF! | J25: =TRUNC(I25*H25) -> #REF! | K25: =VLOOKUP($A25,#REF!,10,FALSE) -> #REF! | L25: =TRUNC(K25*H25) -> #REF! | M25: =VLOOKUP($A25,#REF!,11,FALSE) -> #REF! | N25: =TRUNC(M25*H25) -> #REF! | O25: =SUM(J25,L25,N25) -> #REF!
A26: 23 | B26: =VLOOKUP($A26,#REF!,2,FALSE) -> #REF! | C26: =VLOOKUP($A26,#REF!,3,FALSE) -> #REF! | D26: =VLOOKUP($A26,#REF!,4,FALSE) -> #REF! | E26: =VLOOKUP($A26,#REF!,5,FALSE) -> #REF! | F26: =VLOOKUP($A26,#REF!,6,FALSE) -> #REF! | G26: =VLOOKUP($A26,#REF!,7,FALSE) -> #REF! | H26: =VLOOKUP($A26,#REF!,8,FALSE) -> #REF! | I26: =VLOOKUP($A26,#REF!,9,FALSE) -> #REF! | J26: =TRUNC(I26*H26) -> #REF! | K26: =VLOOKUP($A26,#REF!,10,FALSE) -> #REF! | L26: =TRUNC(K26*H26) -> #REF! | M26: =VLOOKUP($A26,#REF!,11,FALSE) -> #REF! | N26: =TRUNC(M26*H26) -> #REF! | O26: =SUM(J26,L26,N26) -> #REF!
A27: 24 | B27: =VLOOKUP($A27,#REF!,2,FALSE) -> #REF! | C27: =VLOOKUP($A27,#REF!,3,FALSE) -> #REF! | D27: =VLOOKUP($A27,#REF!,4,FALSE) -> #REF! | E27: =VLOOKUP($A27,#REF!,5,FALSE) -> #REF! | F27: =VLOOKUP($A27,#REF!,6,FALSE) -> #REF! | G27: =VLOOKUP($A27,#REF!,7,FALSE) -> #REF! | H27: =VLOOKUP($A27,#REF!,8,FALSE) -> #REF! | I27: =VLOOKUP($A27,#REF!,9,FALSE) -> #REF! | J27: =TRUNC(I27*H27) -> #REF! | K27: =VLOOKUP($A27,#REF!,10,FALSE) -> #REF! | L27: =TRUNC(K27*H27) -> #REF! | M27: =VLOOKUP($A27,#REF!,11,FALSE) -> #REF! | N27: =TRUNC(M27*H27) -> #REF! | O27: =SUM(J27,L27,N27) -> #REF!
A28: 25 | B28: =VLOOKUP($A28,#REF!,2,FALSE) -> #REF! | C28: =VLOOKUP($A28,#REF!,3,FALSE) -> #REF! | D28: =VLOOKUP($A28,#REF!,4,FALSE) -> #REF! | E28: =VLOOKUP($A28,#REF!,5,FALSE) -> #REF! | F28: =VLOOKUP($A28,#REF!,6,FALSE) -> #REF! | G28: =VLOOKUP($A28,#REF!,7,FALSE) -> #REF! | H28: =VLOOKUP($A28,#REF!,8,FALSE) -> #REF! | I28: =VLOOKUP($A28,#REF!,9,FALSE) -> #REF! | J28: =TRUNC(I28*H28) -> #REF! | K28: =VLOOKUP($A28,#REF!,10,FALSE) -> #REF! | L28: =TRUNC(K28*H28) -> #REF! | M28: =VLOOKUP($A28,#REF!,11,FALSE) -> #REF! | N28: =TRUNC(M28*H28) -> #REF! | O28: =SUM(J28,L28,N28) -> #REF!
A29: 26 | B29: =VLOOKUP($A29,#REF!,2,FALSE) -> #REF! | C29: =VLOOKUP($A29,#REF!,3,FALSE) -> #REF! | D29: =VLOOKUP($A29,#REF!,4,FALSE) -> #REF! | E29: =VLOOKUP($A29,#REF!,5,FALSE) -> #REF! | F29: =VLOOKUP($A29,#REF!,6,FALSE) -> #REF! | G29: =VLOOKUP($A29,#REF!,7,FALSE) -> #REF! | H29: =VLOOKUP($A29,#REF!,8,FALSE) -> #REF! | I29: =VLOOKUP($A29,#REF!,9,FALSE) -> #REF! | J29: =TRUNC(I29*H29) -> #REF! | K29: =VLOOKUP($A29,#REF!,10,FALSE) -> #REF! | L29: =TRUNC(K29*H29) -> #REF! | M29: =VLOOKUP($A29,#REF!,11,FALSE) -> #REF! | N29: =TRUNC(M29*H29) -> #REF! | O29: =SUM(J29,L29,N29) -> #REF!
A30: 27 | B30: =VLOOKUP($A30,#REF!,2,FALSE) -> #REF! | C30: =VLOOKUP($A30,#REF!,3,FALSE) -> #REF! | D30: =VLOOKUP($A30,#REF!,4,FALSE) -> #REF! | E30: =VLOOKUP($A30,#REF!,5,FALSE) -> #REF! | F30: =VLOOKUP($A30,#REF!,6,FALSE) -> #REF! | G30: =VLOOKUP($A30,#REF!,7,FALSE) -> #REF! | H30: =VLOOKUP($A30,#REF!,8,FALSE) -> #REF! | I30: =VLOOKUP($A30,#REF!,9,FALSE) -> #REF! | J30: =TRUNC(I30*H30) -> #REF! | K30: =VLOOKUP($A30,#REF!,10,FALSE) -> #REF! | L30: =TRUNC(K30*H30) -> #REF! | M30: =VLOOKUP($A30,#REF!,11,FALSE) -> #REF! | N30: =TRUNC(M30*H30) -> #REF! | O30: =SUM(J30,L30,N30) -> #REF!
A31: 28 | B31: =VLOOKUP($A31,#REF!,2,FALSE) -> #REF! | C31: =VLOOKUP($A31,#REF!,3,FALSE) -> #REF! | D31: =VLOOKUP($A31,#REF!,4,FALSE) -> #REF! | E31: =VLOOKUP($A31,#REF!,5,FALSE) -> #REF! | F31: =VLOOKUP($A31,#REF!,6,FALSE) -> #REF! | G31: =VLOOKUP($A31,#REF!,7,FALSE) -> #REF! | H31: =VLOOKUP($A31,#REF!,8,FALSE) -> #REF! | I31: =VLOOKUP($A31,#REF!,9,FALSE) -> #REF! | J31: =TRUNC(I31*H31) -> #REF! | K31: =VLOOKUP($A31,#REF!,10,FALSE) -> #REF! | L31: =TRUNC(K31*H31) -> #REF! | M31: =VLOOKUP($A31,#REF!,11,FALSE) -> #REF! | N31: =TRUNC(M31*H31) -> #REF! | O31: =SUM(J31,L31,N31) -> #REF!
... A48: 48 | B48: =VLOOKUP($A48,#REF!,2,FALSE) -> #REF! | C48: =VLOOKUP($A48,#REF!,3,FALSE) -> #REF! | D48: =VLOOKUP($A48,#REF!,4,FALSE) -> #REF! | E48: =VLOOKUP($A48,#REF!,5,FALSE) -> #REF! | F48: =VLOOKUP($A48,#REF!,6,FALSE) -> #REF! | G48: =VLOOKUP($A48,#REF!,7,FALSE) -> #REF! | H48: =VLOOKUP($A48,#REF!,8,FALSE) -> #REF! | I48: =VLOOKUP($A48,#REF!,9,FALSE) -> #REF! | J48: =TRUNC(I48*H48) -> #REF! | K48: =VLOOKUP($A48,#REF!,10,FALSE) -> #REF! | L48: =TRUNC(K48*H48) -> #REF! | M48: =VLOOKUP($A48,#REF!,11,FALSE) -> #REF! | N48: =TRUNC(M48*H48) -> #REF! | O48: =SUM(J48,L48,N48) -> #REF!
A49: 49 | B49: 02-026 | C49: 지중방수용 발포지수제 분사처리 | D49: 관로형KIT | E49: 0 | F49: 신설 | G49: EA | H49: 1
A50: 50 | B50: =VLOOKUP($A50,#REF!,2,FALSE) -> #REF! | C50: =VLOOKUP($A50,#REF!,3,FALSE) -> #REF! | D50: =VLOOKUP($A50,#REF!,4,FALSE) -> #REF! | E50: =VLOOKUP($A50,#REF!,5,FALSE) -> #REF! | F50: =VLOOKUP($A50,#REF!,6,FALSE) -> #REF! | G50: =VLOOKUP($A50,#REF!,7,FALSE) -> #REF! | H50: =VLOOKUP($A50,#REF!,8,FALSE) -> #REF! | I50: =VLOOKUP($A50,#REF!,9,FALSE) -> #REF! | J50: =TRUNC(I50*H50) -> #REF! | K50: =VLOOKUP($A50,#REF!,10,FALSE) -> #REF! | L50: =TRUNC(K50*H50) -> #REF! | M50: =VLOOKUP($A50,#REF!,11,FALSE) -> #REF! | N50: =TRUNC(M50*H50) -> #REF! | O50: =SUM(J50,L50,N50) -> #REF!
A51: 51 | B51: =VLOOKUP($A51,#REF!,2,FALSE) -> #REF! | C51: =VLOOKUP($A51,#REF!,3,FALSE) -> #REF! | D51: =VLOOKUP($A51,#REF!,4,FALSE) -> #REF! | E51: =VLOOKUP($A51,#REF!,5,FALSE) -> #REF! | F51: =VLOOKUP($A51,#REF!,6,FALSE) -> #REF! | G51: =VLOOKUP($A51,#REF!,7,FALSE) -> #REF! | H51: =VLOOKUP($A51,#REF!,8,FALSE) -> #REF! | I51: =VLOOKUP($A51,#REF!,9,FALSE) -> #REF! | J51: =TRUNC(I51*H51) -> #REF! | K51: =VLOOKUP($A51,#REF!,10,FALSE) -> #REF! | L51: =TRUNC(K51*H51) -> #REF! | M51: =VLOOKUP($A51,#REF!,11,FALSE) -> #REF! | N51: =TRUNC(M51*H51) -> #REF! | O51: =SUM(J51,L51,N51) -> #REF!
A52: 52 | B52: =VLOOKUP($A52,#REF!,2,FALSE) -> #REF! | C52: =VLOOKUP($A52,#REF!,3,FALSE) -> #REF! | D52: =VLOOKUP($A52,#REF!,4,FALSE) -> #REF! | E52: =VLOOKUP($A52,#REF!,5,FALSE) -> #REF! | F52: =VLOOKUP($A52,#REF!,6,FALSE) -> #REF! | G52: =VLOOKUP($A52,#REF!,7,FALSE) -> #REF! | H52: =VLOOKUP($A52,#REF!,8,FALSE) -> #REF! | I52: =VLOOKUP($A52,#REF!,9,FALSE) -> #REF! | J52: =TRUNC(I52*H52) -> #REF! | K52: =VLOOKUP($A52,#REF!,10,FALSE) -> #REF! | L52: =TRUNC(K52*H52) -> #REF! | M52: =VLOOKUP($A52,#REF!,11,FALSE) -> #REF! | N52: =TRUNC(M52*H52) -> #REF! | O52: =SUM(J52,L52,N52) -> #REF!
A53: 53 | B53: =VLOOKUP($A53,#REF!,2,FALSE) -> #REF! | C53: =VLOOKUP($A53,#REF!,3,FALSE) -> #REF! | D53: =VLOOKUP($A53,#REF!,4,FALSE) -> #REF! | E53: =VLOOKUP($A53,#REF!,5,FALSE) -> #REF! | F53: =VLOOKUP($A53,#REF!,6,FALSE) -> #REF! | G53: =VLOOKUP($A53,#REF!,7,FALSE) -> #REF! | H53: =VLOOKUP($A53,#REF!,8,FALSE) -> #REF! | I53: =VLOOKUP($A53,#REF!,9,FALSE) -> #REF! | J53: =TRUNC(I53*H53) -> #REF! | K53: =VLOOKUP($A53,#REF!,10,FALSE) -> #REF! | L53: =TRUNC(K53*H53) -> #REF! | M53: =VLOOKUP($A53,#REF!,11,FALSE) -> #REF! | N53: =TRUNC(M53*H53) -> #REF! | O53: =SUM(J53,L53,N53) -> #REF!
A54: 54 | B54: =VLOOKUP($A54,#REF!,2,FALSE) -> #REF! | C54: =VLOOKUP($A54,#REF!,3,FALSE) -> #REF! | D54: =VLOOKUP($A54,#REF!,4,FALSE) -> #REF! | E54: =VLOOKUP($A54,#REF!,5,FALSE) -> #REF! | F54: =VLOOKUP($A54,#REF!,6,FALSE) -> #REF! | G54: =VLOOKUP($A54,#REF!,7,FALSE) -> #REF! | H54: =VLOOKUP($A54,#REF!,8,FALSE) -> #REF! | I54: =VLOOKUP($A54,#REF!,9,FALSE) -> #REF! | J54: =TRUNC(I54*H54) -> #REF! | K54: =VLOOKUP($A54,#REF!,10,FALSE) -> #REF! | L54: =TRUNC(K54*H54) -> #REF! | M54: =VLOOKUP($A54,#REF!,11,FALSE) -> #REF! | N54: =TRUNC(M54*H54) -> #REF! | O54: =SUM(J54,L54,N54) -> #REF!
A55: 55 | B55: =VLOOKUP($A55,#REF!,2,FALSE) -> #REF! | C55: =VLOOKUP($A55,#REF!,3,FALSE) -> #REF! | D55: =VLOOKUP($A55,#REF!,4,FALSE) -> #REF! | E55: =VLOOKUP($A55,#REF!,5,FALSE) -> #REF! | F55: =VLOOKUP($A55,#REF!,6,FALSE) -> #REF! | G55: =VLOOKUP($A55,#REF!,7,FALSE) -> #REF! | H55: =VLOOKUP($A55,#REF!,8,FALSE) -> #REF! | I55: =VLOOKUP($A55,#REF!,9,FALSE) -> #REF! | J55: =TRUNC(I55*H55) -> #REF! | K55: =VLOOKUP($A55,#REF!,10,FALSE) -> #REF! | L55: =TRUNC(K55*H55) -> #REF! | M55: =VLOOKUP($A55,#REF!,11,FALSE) -> #REF! | N55: =TRUNC(M55*H55) -> #REF! | O55: =SUM(J55,L55,N55) -> #REF!
A56: 56 | B56: =VLOOKUP($A56,#REF!,2,FALSE) -> #REF! | C56: =VLOOKUP($A56,#REF!,3,FALSE) -> #REF! | D56: =VLOOKUP($A56,#REF!,4,FALSE) -> #REF! | E56: =VLOOKUP($A56,#REF!,5,FALSE) -> #REF! | F56: =VLOOKUP($A56,#REF!,6,FALSE) -> #REF! | G56: =VLOOKUP($A56,#REF!,7,FALSE) -> #REF! | H56: =VLOOKUP($A56,#REF!,8,FALSE) -> #REF! | I56: =VLOOKUP($A56,#REF!,9,FALSE) -> #REF! | J56: =TRUNC(I56*H56) -> #REF! | K56: =VLOOKUP($A56,#REF!,10,FALSE) -> #REF! | L56: =TRUNC(K56*H56) -> #REF! | M56: =VLOOKUP($A56,#REF!,11,FALSE) -> #REF! | N56: =TRUNC(M56*H56) -> #REF! | O56: =SUM(J56,L56,N56) -> #REF!
A57: 57 | B57: =VLOOKUP($A57,#REF!,2,FALSE) -> #REF! | C57: =VLOOKUP($A57,#REF!,3,FALSE) -> #REF! | D57: =VLOOKUP($A57,#REF!,4,FALSE) -> #REF! | E57: =VLOOKUP($A57,#REF!,5,FALSE) -> #REF! | F57: =VLOOKUP($A57,#REF!,6,FALSE) -> #REF! | G57: =VLOOKUP($A57,#REF!,7,FALSE) -> #REF! | H57: =VLOOKUP($A57,#REF!,8,FALSE) -> #REF! | I57: =VLOOKUP($A57,#REF!,9,FALSE) -> #REF! | J57: =TRUNC(I57*H57) -> #REF! | K57: =VLOOKUP($A57,#REF!,10,FALSE) -> #REF! | L57: =TRUNC(K57*H57) -> #REF! | M57: =VLOOKUP($A57,#REF!,11,FALSE) -> #REF! | N57: =TRUNC(M57*H57) -> #REF! | O57: =SUM(J57,L57,N57) -> #REF!
A58: 58 | B58: =VLOOKUP($A58,#REF!,2,FALSE) -> #REF! | C58: =VLOOKUP($A58,#REF!,3,FALSE) -> #REF! | D58: =VLOOKUP($A58,#REF!,4,FALSE) -> #REF! | E58: =VLOOKUP($A58,#REF!,5,FALSE) -> #REF! | F58: =VLOOKUP($A58,#REF!,6,FALSE) -> #REF! | G58: =VLOOKUP($A58,#REF!,7,FALSE) -> #REF! | H58: =VLOOKUP($A58,#REF!,8,FALSE) -> #REF! | I58: =VLOOKUP($A58,#REF!,9,FALSE) -> #REF! | J58: =TRUNC(I58*H58) -> #REF! | K58: =VLOOKUP($A58,#REF!,10,FALSE) -> #REF! | L58: =TRUNC(K58*H58) -> #REF! | M58: =VLOOKUP($A58,#REF!,11,FALSE) -> #REF! | N58: =TRUNC(M58*H58) -> #REF! | O58: =SUM(J58,L58,N58) -> #REF!
A59: 59 | B59: =VLOOKUP($A59,#REF!,2,FALSE) -> #REF! | C59: =VLOOKUP($A59,#REF!,3,FALSE) -> #REF! | D59: =VLOOKUP($A59,#REF!,4,FALSE) -> #REF! | E59: =VLOOKUP($A59,#REF!,5,FALSE) -> #REF! | F59: =VLOOKUP($A59,#REF!,6,FALSE) -> #REF! | G59: =VLOOKUP($A59,#REF!,7,FALSE) -> #REF! | H59: =VLOOKUP($A59,#REF!,8,FALSE) -> #REF! | I59: =VLOOKUP($A59,#REF!,9,FALSE) -> #REF! | J59: =TRUNC(I59*H59) -> #REF! | K59: =VLOOKUP($A59,#REF!,10,FALSE) -> #REF! | L59: =TRUNC(K59*H59) -> #REF! | M59: =VLOOKUP($A59,#REF!,11,FALSE) -> #REF! | N59: =TRUNC(M59*H59) -> #REF! | O59: =SUM(J59,L59,N59) -> #REF!
A60: 60 | B60: =VLOOKUP($A60,#REF!,2,FALSE) -> #REF! | C60: =VLOOKUP($A60,#REF!,3,FALSE) -> #REF! | D60: =VLOOKUP($A60,#REF!,4,FALSE) -> #REF! | E60: =VLOOKUP($A60,#REF!,5,FALSE) -> #REF! | F60: =VLOOKUP($A60,#REF!,6,FALSE) -> #REF! | G60: =VLOOKUP($A60,#REF!,7,FALSE) -> #REF! | H60: =VLOOKUP($A60,#REF!,8,FALSE) -> #REF! | I60: =VLOOKUP($A60,#REF!,9,FALSE) -> #REF! | J60: =TRUNC(I60*H60) -> #REF! | K60: =VLOOKUP($A60,#REF!,10,FALSE) -> #REF! | L60: =TRUNC(K60*H60) -> #REF! | M60: =VLOOKUP($A60,#REF!,11,FALSE) -> #REF! | N60: =TRUNC(M60*H60) -> #REF! | O60: =SUM(J60,L60,N60) -> #REF!
A61: 61 | B61: =VLOOKUP($A61,#REF!,2,FALSE) -> #REF! | C61: =VLOOKUP($A61,#REF!,3,FALSE) -> #REF! | D61: =VLOOKUP($A61,#REF!,4,FALSE) -> #REF! | E61: =VLOOKUP($A61,#REF!,5,FALSE) -> #REF! | F61: =VLOOKUP($A61,#REF!,6,FALSE) -> #REF! | G61: =VLOOKUP($A61,#REF!,7,FALSE) -> #REF! | H61: =VLOOKUP($A61,#REF!,8,FALSE) -> #REF! | I61: =VLOOKUP($A61,#REF!,9,FALSE) -> #REF! | J61: =TRUNC(I61*H61) -> #REF! | K61: =VLOOKUP($A61,#REF!,10,FALSE) -> #REF! | L61: =TRUNC(K61*H61) -> #REF! | M61: =VLOOKUP($A61,#REF!,11,FALSE) -> #REF! | N61: =TRUNC(M61*H61) -> #REF! | O61: =SUM(J61,L61,N61) -> #REF!
... A221: 228 | B221: =VLOOKUP($A221,#REF!,2,FALSE) -> #REF! | C221: =VLOOKUP($A221,#REF!,3,FALSE) -> #REF! | D221: =VLOOKUP($A221,#REF!,4,FALSE) -> #REF! | E221: =VLOOKUP($A221,#REF!,5,FALSE) -> #REF! | F221: =VLOOKUP($A221,#REF!,6,FALSE) -> #REF! | G221: =VLOOKUP($A221,#REF!,7,FALSE) -> #REF! | H221: =VLOOKUP($A221,#REF!,8,FALSE) -> #REF! | I221: =VLOOKUP($A221,#REF!,9,FALSE) -> #REF! | J221: =TRUNC(I221*H221) -> #REF! | K221: =VLOOKUP($A221,#REF!,10,FALSE) -> #REF! | L221: =TRUNC(K221*H221) -> #REF! | M221: =VLOOKUP($A221,#REF!,11,FALSE) -> #REF! | N221: =TRUNC(M221*H221) -> #REF! | O221: =SUM(J221,L221,N221) -> #REF!
A222: 229 | B222: 07-029 | C222: 교통신호등등주 이설 | D222: 용융아연도금, 디자인 | E222: Ø250㎜×8M | F222: 이설 | G222: 본 | H222: 1
A223: 230 | B223: 07-030 | C223: 교통신호등등주 이설 | D223: 용융아연도금, 디자인 | E223: Ø200㎜×8M | F223: 이설 | G223: 본 | H223: 1
A224: 231 | B224: =VLOOKUP($A224,#REF!,2,FALSE) -> #REF! | C224: =VLOOKUP($A224,#REF!,3,FALSE) -> #REF! | D224: =VLOOKUP($A224,#REF!,4,FALSE) -> #REF! | E224: =VLOOKUP($A224,#REF!,5,FALSE) -> #REF! | F224: =VLOOKUP($A224,#REF!,6,FALSE) -> #REF! | G224: =VLOOKUP($A224,#REF!,7,FALSE) -> #REF! | H224: =VLOOKUP($A224,#REF!,8,FALSE) -> #REF! | I224: =VLOOKUP($A224,#REF!,9,FALSE) -> #REF! | J224: =TRUNC(I224*H224) -> #REF! | K224: =VLOOKUP($A224,#REF!,10,FALSE) -> #REF! | L224: =TRUNC(K224*H224) -> #REF! | M224: =VLOOKUP($A224,#REF!,11,FALSE) -> #REF! | N224: =TRUNC(M224*H224) -> #REF! | O224: =SUM(J224,L224,N224) -> #REF!
A225: 232 | B225: 07-032 | C225: 교통신호등등주 이설 | D225: 용융아연도금, 디자인 | E225: Ø125㎜×6M | F225: 이설 | G225: 본 | H225: 1
A226: 233 | B226: =VLOOKUP($A226,#REF!,2,FALSE) -> #REF! | C226: =VLOOKUP($A226,#REF!,3,FALSE) -> #REF! | D226: =VLOOKUP($A226,#REF!,4,FALSE) -> #REF! | E226: =VLOOKUP($A226,#REF!,5,FALSE) -> #REF! | F226: =VLOOKUP($A226,#REF!,6,FALSE) -> #REF! | G226: =VLOOKUP($A226,#REF!,7,FALSE) -> #REF! | H226: =VLOOKUP($A226,#REF!,8,FALSE) -> #REF! | I226: =VLOOKUP($A226,#REF!,9,FALSE) -> #REF! | J226: =TRUNC(I226*H226) -> #REF! | K226: =VLOOKUP($A226,#REF!,10,FALSE) -> #REF! | L226: =TRUNC(K226*H226) -> #REF! | M226: =VLOOKUP($A226,#REF!,11,FALSE) -> #REF! | N226: =TRUNC(M226*H226) -> #REF! | O226: =SUM(J226,L226,N226) -> #REF!
A227: 234 | B227: =VLOOKUP($A227,#REF!,2,FALSE) -> #REF! | C227: =VLOOKUP($A227,#REF!,3,FALSE) -> #REF! | D227: =VLOOKUP($A227,#REF!,4,FALSE) -> #REF! | E227: =VLOOKUP($A227,#REF!,5,FALSE) -> #REF! | F227: =VLOOKUP($A227,#REF!,6,FALSE) -> #REF! | G227: =VLOOKUP($A227,#REF!,7,FALSE) -> #REF! | H227: =VLOOKUP($A227,#REF!,8,FALSE) -> #REF! | I227: =VLOOKUP($A227,#REF!,9,FALSE) -> #REF! | J227: =TRUNC(I227*H227) -> #REF! | K227: =VLOOKUP($A227,#REF!,10,FALSE) -> #REF! | L227: =TRUNC(K227*H227) -> #REF! | M227: =VLOOKUP($A227,#REF!,11,FALSE) -> #REF! | N227: =TRUNC(M227*H227) -> #REF! | O227: =SUM(J227,L227,N227) -> #REF!
A228: 236 | B228: =VLOOKUP($A228,#REF!,2,FALSE) -> #REF! | C228: =VLOOKUP($A228,#REF!,3,FALSE) -> #REF! | D228: =VLOOKUP($A228,#REF!,4,FALSE) -> #REF! | E228: =VLOOKUP($A228,#REF!,5,FALSE) -> #REF! | F228: =VLOOKUP($A228,#REF!,6,FALSE) -> #REF! | G228: =VLOOKUP($A228,#REF!,7,FALSE) -> #REF! | H228: =VLOOKUP($A228,#REF!,8,FALSE) -> #REF! | I228: =VLOOKUP($A228,#REF!,9,FALSE) -> #REF! | J228: =TRUNC(I228*H228) -> #REF! | K228: =VLOOKUP($A228,#REF!,10,FALSE) -> #REF! | L228: =TRUNC(K228*H228) -> #REF! | M228: =VLOOKUP($A228,#REF!,11,FALSE) -> #REF! | N228: =TRUNC(M228*H228) -> #REF! | O228: =SUM(J228,L228,N228) -> #REF!
A229: 238 | B229: =VLOOKUP($A229,#REF!,2,FALSE) -> #REF! | C229: =VLOOKUP($A229,#REF!,3,FALSE) -> #REF! | D229: =VLOOKUP($A229,#REF!,4,FALSE) -> #REF! | E229: =VLOOKUP($A229,#REF!,5,FALSE) -> #REF! | F229: =VLOOKUP($A229,#REF!,6,FALSE) -> #REF! | G229: =VLOOKUP($A229,#REF!,7,FALSE) -> #REF! | H229: =VLOOKUP($A229,#REF!,8,FALSE) -> #REF! | I229: =VLOOKUP($A229,#REF!,9,FALSE) -> #REF! | J229: =TRUNC(I229*H229) -> #REF! | K229: =VLOOKUP($A229,#REF!,10,FALSE) -> #REF! | L229: =TRUNC(K229*H229) -> #REF! | M229: =VLOOKUP($A229,#REF!,11,FALSE) -> #REF! | N229: =TRUNC(M229*H229) -> #REF! | O229: =SUM(J229,L229,N229) -> #REF!
A230: 240 | B230: =VLOOKUP($A230,#REF!,2,FALSE) -> #REF! | C230: =VLOOKUP($A230,#REF!,3,FALSE) -> #REF! | D230: =VLOOKUP($A230,#REF!,4,FALSE) -> #REF! | E230: =VLOOKUP($A230,#REF!,5,FALSE) -> #REF! | F230: =VLOOKUP($A230,#REF!,6,FALSE) -> #REF! | G230: =VLOOKUP($A230,#REF!,7,FALSE) -> #REF! | H230: =VLOOKUP($A230,#REF!,8,FALSE) -> #REF! | I230: =VLOOKUP($A230,#REF!,9,FALSE) -> #REF! | J230: =TRUNC(I230*H230) -> #REF! | K230: =VLOOKUP($A230,#REF!,10,FALSE) -> #REF! | L230: =TRUNC(K230*H230) -> #REF! | M230: =VLOOKUP($A230,#REF!,11,FALSE) -> #REF! | N230: =TRUNC(M230*H230) -> #REF! | O230: =SUM(J230,L230,N230) -> #REF!
A231: 242 | B231: =VLOOKUP($A231,#REF!,2,FALSE) -> #REF! | C231: =VLOOKUP($A231,#REF!,3,FALSE) -> #REF! | D231: =VLOOKUP($A231,#REF!,4,FALSE) -> #REF! | E231: =VLOOKUP($A231,#REF!,5,FALSE) -> #REF! | F231: =VLOOKUP($A231,#REF!,6,FALSE) -> #REF! | G231: =VLOOKUP($A231,#REF!,7,FALSE) -> #REF! | H231: =VLOOKUP($A231,#REF!,8,FALSE) -> #REF! | I231: =VLOOKUP($A231,#REF!,9,FALSE) -> #REF! | J231: =TRUNC(I231*H231) -> #REF! | K231: =VLOOKUP($A231,#REF!,10,FALSE) -> #REF! | L231: =TRUNC(K231*H231) -> #REF! | M231: =VLOOKUP($A231,#REF!,11,FALSE) -> #REF! | N231: =TRUNC(M231*H231) -> #REF! | O231: =SUM(J231,L231,N231) -> #REF!
A232: 244 | B232: =VLOOKUP($A232,#REF!,2,FALSE) -> #REF! | C232: =VLOOKUP($A232,#REF!,3,FALSE) -> #REF! | D232: =VLOOKUP($A232,#REF!,4,FALSE) -> #REF! | E232: =VLOOKUP($A232,#REF!,5,FALSE) -> #REF! | F232: =VLOOKUP($A232,#REF!,6,FALSE) -> #REF! | G232: =VLOOKUP($A232,#REF!,7,FALSE) -> #REF! | H232: =VLOOKUP($A232,#REF!,8,FALSE) -> #REF! | I232: =VLOOKUP($A232,#REF!,9,FALSE) -> #REF! | J232: =TRUNC(I232*H232) -> #REF! | K232: =VLOOKUP($A232,#REF!,10,FALSE) -> #REF! | L232: =TRUNC(K232*H232) -> #REF! | M232: =VLOOKUP($A232,#REF!,11,FALSE) -> #REF! | N232: =TRUNC(M232*H232) -> #REF! | O232: =SUM(J232,L232,N232) -> #REF!
A233: 246 | B233: =VLOOKUP($A233,#REF!,2,FALSE) -> #REF! | C233: =VLOOKUP($A233,#REF!,3,FALSE) -> #REF! | D233: =VLOOKUP($A233,#REF!,4,FALSE) -> #REF! | E233: =VLOOKUP($A233,#REF!,5,FALSE) -> #REF! | F233: =VLOOKUP($A233,#REF!,6,FALSE) -> #REF! | G233: =VLOOKUP($A233,#REF!,7,FALSE) -> #REF! | H233: =VLOOKUP($A233,#REF!,8,FALSE) -> #REF! | I233: =VLOOKUP($A233,#REF!,9,FALSE) -> #REF! | J233: =TRUNC(I233*H233) -> #REF! | K233: =VLOOKUP($A233,#REF!,10,FALSE) -> #REF! | L233: =TRUNC(K233*H233) -> #REF! | M233: =VLOOKUP($A233,#REF!,11,FALSE) -> #REF! | N233: =TRUNC(M233*H233) -> #REF! | O233: =SUM(J233,L233,N233) -> #REF!
A234: 248 | B234: =VLOOKUP($A234,#REF!,2,FALSE) -> #REF! | C234: =VLOOKUP($A234,#REF!,3,FALSE) -> #REF! | D234: =VLOOKUP($A234,#REF!,4,FALSE) -> #REF! | E234: =VLOOKUP($A234,#REF!,5,FALSE) -> #REF! | F234: =VLOOKUP($A234,#REF!,6,FALSE) -> #REF! | G234: =VLOOKUP($A234,#REF!,7,FALSE) -> #REF! | H234: =VLOOKUP($A234,#REF!,8,FALSE) -> #REF! | I234: =VLOOKUP($A234,#REF!,9,FALSE) -> #REF! | J234: =TRUNC(I234*H234) -> #REF! | K234: =VLOOKUP($A234,#REF!,10,FALSE) -> #REF! | L234: =TRUNC(K234*H234) -> #REF! | M234: =VLOOKUP($A234,#REF!,11,FALSE) -> #REF! | N234: =TRUNC(M234*H234) -> #REF! | O234: =SUM(J234,L234,N234) -> #REF!
A235: 249 | B235: =VLOOKUP($A235,#REF!,2,FALSE) -> #REF! | C235: =VLOOKUP($A235,#REF!,3,FALSE) -> #REF! | D235: =VLOOKUP($A235,#REF!,4,FALSE) -> #REF! | E235: =VLOOKUP($A235,#REF!,5,FALSE) -> #REF! | F235: =VLOOKUP($A235,#REF!,6,FALSE) -> #REF! | G235: =VLOOKUP($A235,#REF!,7,FALSE) -> #REF! | H235: =VLOOKUP($A235,#REF!,8,FALSE) -> #REF! | I235: =VLOOKUP($A235,#REF!,9,FALSE) -> #REF! | J235: =TRUNC(I235*H235) -> #REF! | K235: =VLOOKUP($A235,#REF!,10,FALSE) -> #REF! | L235: =TRUNC(K235*H235) -> #REF! | M235: =VLOOKUP($A235,#REF!,11,FALSE) -> #REF! | N235: =TRUNC(M235*H235) -> #REF! | O235: =SUM(J235,L235,N235) -> #REF!
A236: 250 | B236: =VLOOKUP($A236,#REF!,2,FALSE) -> #REF! | C236: =VLOOKUP($A236,#REF!,3,FALSE) -> #REF! | D236: =VLOOKUP($A236,#REF!,4,FALSE) -> #REF! | E236: =VLOOKUP($A236,#REF!,5,FALSE) -> #REF! | F236: =VLOOKUP($A236,#REF!,6,FALSE) -> #REF! | G236: =VLOOKUP($A236,#REF!,7,FALSE) -> #REF! | H236: =VLOOKUP($A236,#REF!,8,FALSE) -> #REF! | I236: =VLOOKUP($A236,#REF!,9,FALSE) -> #REF! | J236: =TRUNC(I236*H236) -> #REF! | K236: =VLOOKUP($A236,#REF!,10,FALSE) -> #REF! | L236: =TRUNC(K236*H236) -> #REF! | M236: =VLOOKUP($A236,#REF!,11,FALSE) -> #REF! | N236: =TRUNC(M236*H236) -> #REF! | O236: =SUM(J236,L236,N236) -> #REF!
A237: 251 | B237: =VLOOKUP($A237,#REF!,2,FALSE) -> #REF! | C237: =VLOOKUP($A237,#REF!,3,FALSE) -> #REF! | D237: =VLOOKUP($A237,#REF!,4,FALSE) -> #REF! | E237: =VLOOKUP($A237,#REF!,5,FALSE) -> #REF! | F237: =VLOOKUP($A237,#REF!,6,FALSE) -> #REF! | G237: =VLOOKUP($A237,#REF!,7,FALSE) -> #REF! | H237: =VLOOKUP($A237,#REF!,8,FALSE) -> #REF! | I237: =VLOOKUP($A237,#REF!,9,FALSE) -> #REF! | J237: =TRUNC(I237*H237) -> #REF! | K237: =VLOOKUP($A237,#REF!,10,FALSE) -> #REF! | L237: =TRUNC(K237*H237) -> #REF! | M237: =VLOOKUP($A237,#REF!,11,FALSE) -> #REF! | N237: =TRUNC(M237*H237) -> #REF! | O237: =SUM(J237,L237,N237) -> #REF!
... A258: 272 | B258: =VLOOKUP($A258,#REF!,2,FALSE) -> #REF! | C258: =VLOOKUP($A258,#REF!,3,FALSE) -> #REF! | D258: =VLOOKUP($A258,#REF!,4,FALSE) -> #REF! | E258: =VLOOKUP($A258,#REF!,5,FALSE) -> #REF! | F258: =VLOOKUP($A258,#REF!,6,FALSE) -> #REF! | G258: =VLOOKUP($A258,#REF!,7,FALSE) -> #REF! | H258: =VLOOKUP($A258,#REF!,8,FALSE) -> #REF! | I258: =VLOOKUP($A258,#REF!,9,FALSE) -> #REF! | J258: =TRUNC(I258*H258) -> #REF! | K258: =VLOOKUP($A258,#REF!,10,FALSE) -> #REF! | L258: =TRUNC(K258*H258) -> #REF! | M258: =VLOOKUP($A258,#REF!,11,FALSE) -> #REF! | N258: =TRUNC(M258*H258) -> #REF! | O258: =SUM(J258,L258,N258) -> #REF!
A259: 273 | B259: 08-026 | C259: 등주부착대 이설 | D259: 각종(용융,디자인) | E259: Ø100㎜×11M | F259: 이설 | G259: 본 | H259: 1
A260: 274 | B260: =VLOOKUP($A260,#REF!,2,FALSE) -> #REF! | C260: =VLOOKUP($A260,#REF!,3,FALSE) -> #REF! | D260: =VLOOKUP($A260,#REF!,4,FALSE) -> #REF! | E260: =VLOOKUP($A260,#REF!,5,FALSE) -> #REF! | F260: =VLOOKUP($A260,#REF!,6,FALSE) -> #REF! | G260: =VLOOKUP($A260,#REF!,7,FALSE) -> #REF! | H260: =VLOOKUP($A260,#REF!,8,FALSE) -> #REF! | I260: =VLOOKUP($A260,#REF!,9,FALSE) -> #REF! | J260: =TRUNC(I260*H260) -> #REF! | K260: =VLOOKUP($A260,#REF!,10,FALSE) -> #REF! | L260: =TRUNC(K260*H260) -> #REF! | M260: =VLOOKUP($A260,#REF!,11,FALSE) -> #REF! | N260: =TRUNC(M260*H260) -> #REF! | O260: =SUM(J260,L260,N260) -> #REF!
A261: 275 | B261: 08-028 | C261: 등주부착대 이설 | D261: 각종(용융,디자인) | E261: Ø80㎜×7M | F261: 이설 | G261: 본 | H261: 1
A262: 276 | B262: =VLOOKUP($A262,#REF!,2,FALSE) -> #REF! | C262: =VLOOKUP($A262,#REF!,3,FALSE) -> #REF! | D262: =VLOOKUP($A262,#REF!,4,FALSE) -> #REF! | E262: =VLOOKUP($A262,#REF!,5,FALSE) -> #REF! | F262: =VLOOKUP($A262,#REF!,6,FALSE) -> #REF! | G262: =VLOOKUP($A262,#REF!,7,FALSE) -> #REF! | H262: =VLOOKUP($A262,#REF!,8,FALSE) -> #REF! | I262: =VLOOKUP($A262,#REF!,9,FALSE) -> #REF! | J262: =TRUNC(I262*H262) -> #REF! | K262: =VLOOKUP($A262,#REF!,10,FALSE) -> #REF! | L262: =TRUNC(K262*H262) -> #REF! | M262: =VLOOKUP($A262,#REF!,11,FALSE) -> #REF! | N262: =TRUNC(M262*H262) -> #REF! | O262: =SUM(J262,L262,N262) -> #REF!
A263: 277 | B263: =VLOOKUP($A263,#REF!,2,FALSE) -> #REF! | C263: =VLOOKUP($A263,#REF!,3,FALSE) -> #REF! | D263: =VLOOKUP($A263,#REF!,4,FALSE) -> #REF! | E263: =VLOOKUP($A263,#REF!,5,FALSE) -> #REF! | F263: =VLOOKUP($A263,#REF!,6,FALSE) -> #REF! | G263: =VLOOKUP($A263,#REF!,7,FALSE) -> #REF! | H263: =VLOOKUP($A263,#REF!,8,FALSE) -> #REF! | I263: =VLOOKUP($A263,#REF!,9,FALSE) -> #REF! | J263: =TRUNC(I263*H263) -> #REF! | K263: =VLOOKUP($A263,#REF!,10,FALSE) -> #REF! | L263: =TRUNC(K263*H263) -> #REF! | M263: =VLOOKUP($A263,#REF!,11,FALSE) -> #REF! | N263: =TRUNC(M263*H263) -> #REF! | O263: =SUM(J263,L263,N263) -> #REF!
A264: 278 | B264: =VLOOKUP($A264,#REF!,2,FALSE) -> #REF! | C264: =VLOOKUP($A264,#REF!,3,FALSE) -> #REF! | D264: =VLOOKUP($A264,#REF!,4,FALSE) -> #REF! | E264: =VLOOKUP($A264,#REF!,5,FALSE) -> #REF! | F264: =VLOOKUP($A264,#REF!,6,FALSE) -> #REF! | G264: =VLOOKUP($A264,#REF!,7,FALSE) -> #REF! | H264: =VLOOKUP($A264,#REF!,8,FALSE) -> #REF! | I264: =VLOOKUP($A264,#REF!,9,FALSE) -> #REF! | J264: =TRUNC(I264*H264) -> #REF! | K264: =VLOOKUP($A264,#REF!,10,FALSE) -> #REF! | L264: =TRUNC(K264*H264) -> #REF! | M264: =VLOOKUP($A264,#REF!,11,FALSE) -> #REF! | N264: =TRUNC(M264*H264) -> #REF! | O264: =SUM(J264,L264,N264) -> #REF!
A265: 279 | B265: =VLOOKUP($A265,#REF!,2,FALSE) -> #REF! | C265: =VLOOKUP($A265,#REF!,3,FALSE) -> #REF! | D265: =VLOOKUP($A265,#REF!,4,FALSE) -> #REF! | E265: =VLOOKUP($A265,#REF!,5,FALSE) -> #REF! | F265: =VLOOKUP($A265,#REF!,6,FALSE) -> #REF! | G265: =VLOOKUP($A265,#REF!,7,FALSE) -> #REF! | H265: =VLOOKUP($A265,#REF!,8,FALSE) -> #REF! | I265: =VLOOKUP($A265,#REF!,9,FALSE) -> #REF! | J265: =TRUNC(I265*H265) -> #REF! | K265: =VLOOKUP($A265,#REF!,10,FALSE) -> #REF! | L265: =TRUNC(K265*H265) -> #REF! | M265: =VLOOKUP($A265,#REF!,11,FALSE) -> #REF! | N265: =TRUNC(M265*H265) -> #REF! | O265: =SUM(J265,L265,N265) -> #REF!
A266: 281 | B266: =VLOOKUP($A266,#REF!,2,FALSE) -> #REF! | C266: =VLOOKUP($A266,#REF!,3,FALSE) -> #REF! | D266: =VLOOKUP($A266,#REF!,4,FALSE) -> #REF! | E266: =VLOOKUP($A266,#REF!,5,FALSE) -> #REF! | F266: =VLOOKUP($A266,#REF!,6,FALSE) -> #REF! | G266: =VLOOKUP($A266,#REF!,7,FALSE) -> #REF! | H266: =VLOOKUP($A266,#REF!,8,FALSE) -> #REF! | I266: =VLOOKUP($A266,#REF!,9,FALSE) -> #REF! | J266: =TRUNC(I266*H266) -> #REF! | K266: =VLOOKUP($A266,#REF!,10,FALSE) -> #REF! | L266: =TRUNC(K266*H266) -> #REF! | M266: =VLOOKUP($A266,#REF!,11,FALSE) -> #REF! | N266: =TRUNC(M266*H266) -> #REF! | O266: =SUM(J266,L266,N266) -> #REF!
A267: 283 | B267: =VLOOKUP($A267,#REF!,2,FALSE) -> #REF! | C267: =VLOOKUP($A267,#REF!,3,FALSE) -> #REF! | D267: =VLOOKUP($A267,#REF!,4,FALSE) -> #REF! | E267: =VLOOKUP($A267,#REF!,5,FALSE) -> #REF! | F267: =VLOOKUP($A267,#REF!,6,FALSE) -> #REF! | G267: =VLOOKUP($A267,#REF!,7,FALSE) -> #REF! | H267: =VLOOKUP($A267,#REF!,8,FALSE) -> #REF! | I267: =VLOOKUP($A267,#REF!,9,FALSE) -> #REF! | J267: =TRUNC(I267*H267) -> #REF! | K267: =VLOOKUP($A267,#REF!,10,FALSE) -> #REF! | L267: =TRUNC(K267*H267) -> #REF! | M267: =VLOOKUP($A267,#REF!,11,FALSE) -> #REF! | N267: =TRUNC(M267*H267) -> #REF! | O267: =SUM(J267,L267,N267) -> #REF!
A268: 285 | B268: =VLOOKUP($A268,#REF!,2,FALSE) -> #REF! | C268: =VLOOKUP($A268,#REF!,3,FALSE) -> #REF! | D268: =VLOOKUP($A268,#REF!,4,FALSE) -> #REF! | E268: =VLOOKUP($A268,#REF!,5,FALSE) -> #REF! | F268: =VLOOKUP($A268,#REF!,6,FALSE) -> #REF! | G268: =VLOOKUP($A268,#REF!,7,FALSE) -> #REF! | H268: =VLOOKUP($A268,#REF!,8,FALSE) -> #REF! | I268: =VLOOKUP($A268,#REF!,9,FALSE) -> #REF! | J268: =TRUNC(I268*H268) -> #REF! | K268: =VLOOKUP($A268,#REF!,10,FALSE) -> #REF! | L268: =TRUNC(K268*H268) -> #REF! | M268: =VLOOKUP($A268,#REF!,11,FALSE) -> #REF! | N268: =TRUNC(M268*H268) -> #REF! | O268: =SUM(J268,L268,N268) -> #REF!
A269: 287 | B269: =VLOOKUP($A269,#REF!,2,FALSE) -> #REF! | C269: =VLOOKUP($A269,#REF!,3,FALSE) -> #REF! | D269: =VLOOKUP($A269,#REF!,4,FALSE) -> #REF! | E269: =VLOOKUP($A269,#REF!,5,FALSE) -> #REF! | F269: =VLOOKUP($A269,#REF!,6,FALSE) -> #REF! | G269: =VLOOKUP($A269,#REF!,7,FALSE) -> #REF! | H269: =VLOOKUP($A269,#REF!,8,FALSE) -> #REF! | I269: =VLOOKUP($A269,#REF!,9,FALSE) -> #REF! | J269: =TRUNC(I269*H269) -> #REF! | K269: =VLOOKUP($A269,#REF!,10,FALSE) -> #REF! | L269: =TRUNC(K269*H269) -> #REF! | M269: =VLOOKUP($A269,#REF!,11,FALSE) -> #REF! | N269: =TRUNC(M269*H269) -> #REF! | O269: =SUM(J269,L269,N269) -> #REF!
A270: 289 | B270: =VLOOKUP($A270,#REF!,2,FALSE) -> #REF! | C270: =VLOOKUP($A270,#REF!,3,FALSE) -> #REF! | D270: =VLOOKUP($A270,#REF!,4,FALSE) -> #REF! | E270: =VLOOKUP($A270,#REF!,5,FALSE) -> #REF! | F270: =VLOOKUP($A270,#REF!,6,FALSE) -> #REF! | G270: =VLOOKUP($A270,#REF!,7,FALSE) -> #REF! | H270: =VLOOKUP($A270,#REF!,8,FALSE) -> #REF! | I270: =VLOOKUP($A270,#REF!,9,FALSE) -> #REF! | J270: =TRUNC(I270*H270) -> #REF! | K270: =VLOOKUP($A270,#REF!,10,FALSE) -> #REF! | L270: =TRUNC(K270*H270) -> #REF! | M270: =VLOOKUP($A270,#REF!,11,FALSE) -> #REF! | N270: =TRUNC(M270*H270) -> #REF! | O270: =SUM(J270,L270,N270) -> #REF!
A271: 291 | B271: =VLOOKUP($A271,#REF!,2,FALSE) -> #REF! | C271: =VLOOKUP($A271,#REF!,3,FALSE) -> #REF! | D271: =VLOOKUP($A271,#REF!,4,FALSE) -> #REF! | E271: =VLOOKUP($A271,#REF!,5,FALSE) -> #REF! | F271: =VLOOKUP($A271,#REF!,6,FALSE) -> #REF! | G271: =VLOOKUP($A271,#REF!,7,FALSE) -> #REF! | H271: =VLOOKUP($A271,#REF!,8,FALSE) -> #REF! | I271: =VLOOKUP($A271,#REF!,9,FALSE) -> #REF! | J271: =TRUNC(I271*H271) -> #REF! | K271: =VLOOKUP($A271,#REF!,10,FALSE) -> #REF! | L271: =TRUNC(K271*H271) -> #REF! | M271: =VLOOKUP($A271,#REF!,11,FALSE) -> #REF! | N271: =TRUNC(M271*H271) -> #REF! | O271: =SUM(J271,L271,N271) -> #REF!
A272: 293 | B272: =VLOOKUP($A272,#REF!,2,FALSE) -> #REF! | C272: =VLOOKUP($A272,#REF!,3,FALSE) -> #REF! | D272: =VLOOKUP($A272,#REF!,4,FALSE) -> #REF! | E272: =VLOOKUP($A272,#REF!,5,FALSE) -> #REF! | F272: =VLOOKUP($A272,#REF!,6,FALSE) -> #REF! | G272: =VLOOKUP($A272,#REF!,7,FALSE) -> #REF! | H272: =VLOOKUP($A272,#REF!,8,FALSE) -> #REF! | I272: =VLOOKUP($A272,#REF!,9,FALSE) -> #REF! | J272: =TRUNC(I272*H272) -> #REF! | K272: =VLOOKUP($A272,#REF!,10,FALSE) -> #REF! | L272: =TRUNC(K272*H272) -> #REF! | M272: =VLOOKUP($A272,#REF!,11,FALSE) -> #REF! | N272: =TRUNC(M272*H272) -> #REF! | O272: =SUM(J272,L272,N272) -> #REF!
A273: 295 | B273: =VLOOKUP($A273,#REF!,2,FALSE) -> #REF! | C273: =VLOOKUP($A273,#REF!,3,FALSE) -> #REF! | D273: =VLOOKUP($A273,#REF!,4,FALSE) -> #REF! | E273: =VLOOKUP($A273,#REF!,5,FALSE) -> #REF! | F273: =VLOOKUP($A273,#REF!,6,FALSE) -> #REF! | G273: =VLOOKUP($A273,#REF!,7,FALSE) -> #REF! | H273: =VLOOKUP($A273,#REF!,8,FALSE) -> #REF! | I273: =VLOOKUP($A273,#REF!,9,FALSE) -> #REF! | J273: =TRUNC(I273*H273) -> #REF! | K273: =VLOOKUP($A273,#REF!,10,FALSE) -> #REF! | L273: =TRUNC(K273*H273) -> #REF! | M273: =VLOOKUP($A273,#REF!,11,FALSE) -> #REF! | N273: =TRUNC(M273*H273) -> #REF! | O273: =SUM(J273,L273,N273) -> #REF!
... A328: 350 | B328: =VLOOKUP($A328,#REF!,2,FALSE) -> #REF! | C328: =VLOOKUP($A328,#REF!,3,FALSE) -> #REF! | D328: =VLOOKUP($A328,#REF!,4,FALSE) -> #REF! | E328: =VLOOKUP($A328,#REF!,5,FALSE) -> #REF! | F328: =VLOOKUP($A328,#REF!,6,FALSE) -> #REF! | G328: =VLOOKUP($A328,#REF!,7,FALSE) -> #REF! | H328: =VLOOKUP($A328,#REF!,8,FALSE) -> #REF! | I328: =VLOOKUP($A328,#REF!,9,FALSE) -> #REF! | J328: =TRUNC(I328*H328) -> #REF! | K328: =VLOOKUP($A328,#REF!,10,FALSE) -> #REF! | L328: =TRUNC(K328*H328) -> #REF! | M328: =VLOOKUP($A328,#REF!,11,FALSE) -> #REF! | N328: =TRUNC(M328*H328) -> #REF! | O328: =SUM(J328,L328,N328) -> #REF!
A329: 351 | B329: 10-044 | C329: 등주기초 및 앙카 - 접지봉제외 | D329: Ø250㎜(1.2m×1.2m×1.8m) 기본 | E329: 0 | F329: 신설 | G329: 조 | H329: 1
A330: 352 | B330: =VLOOKUP($A330,#REF!,2,FALSE) -> #REF! | C330: =VLOOKUP($A330,#REF!,3,FALSE) -> #REF! | D330: =VLOOKUP($A330,#REF!,4,FALSE) -> #REF! | E330: =VLOOKUP($A330,#REF!,5,FALSE) -> #REF! | F330: =VLOOKUP($A330,#REF!,6,FALSE) -> #REF! | G330: =VLOOKUP($A330,#REF!,7,FALSE) -> #REF! | H330: =VLOOKUP($A330,#REF!,8,FALSE) -> #REF! | I330: =VLOOKUP($A330,#REF!,9,FALSE) -> #REF! | J330: =TRUNC(I330*H330) -> #REF! | K330: =VLOOKUP($A330,#REF!,10,FALSE) -> #REF! | L330: =TRUNC(K330*H330) -> #REF! | M330: =VLOOKUP($A330,#REF!,11,FALSE) -> #REF! | N330: =TRUNC(M330*H330) -> #REF! | O330: =SUM(J330,L330,N330) -> #REF!
A331: 353 | B331: =VLOOKUP($A331,#REF!,2,FALSE) -> #REF! | C331: =VLOOKUP($A331,#REF!,3,FALSE) -> #REF! | D331: =VLOOKUP($A331,#REF!,4,FALSE) -> #REF! | E331: =VLOOKUP($A331,#REF!,5,FALSE) -> #REF! | F331: =VLOOKUP($A331,#REF!,6,FALSE) -> #REF! | G331: =VLOOKUP($A331,#REF!,7,FALSE) -> #REF! | H331: =VLOOKUP($A331,#REF!,8,FALSE) -> #REF! | I331: =VLOOKUP($A331,#REF!,9,FALSE) -> #REF! | J331: =TRUNC(I331*H331) -> #REF! | K331: =VLOOKUP($A331,#REF!,10,FALSE) -> #REF! | L331: =TRUNC(K331*H331) -> #REF! | M331: =VLOOKUP($A331,#REF!,11,FALSE) -> #REF! | N331: =TRUNC(M331*H331) -> #REF! | O331: =SUM(J331,L331,N331) -> #REF!
A332: 354 | B332: =VLOOKUP($A332,#REF!,2,FALSE) -> #REF! | C332: =VLOOKUP($A332,#REF!,3,FALSE) -> #REF! | D332: =VLOOKUP($A332,#REF!,4,FALSE) -> #REF! | E332: =VLOOKUP($A332,#REF!,5,FALSE) -> #REF! | F332: =VLOOKUP($A332,#REF!,6,FALSE) -> #REF! | G332: =VLOOKUP($A332,#REF!,7,FALSE) -> #REF! | H332: =VLOOKUP($A332,#REF!,8,FALSE) -> #REF! | I332: =VLOOKUP($A332,#REF!,9,FALSE) -> #REF! | J332: =TRUNC(I332*H332) -> #REF! | K332: =VLOOKUP($A332,#REF!,10,FALSE) -> #REF! | L332: =TRUNC(K332*H332) -> #REF! | M332: =VLOOKUP($A332,#REF!,11,FALSE) -> #REF! | N332: =TRUNC(M332*H332) -> #REF! | O332: =SUM(J332,L332,N332) -> #REF!
A333: 355 | B333: 10-048 | C333: 등주기초 및 앙카 - 접지봉제외 | D333: Ø200㎜(1.1m×1.1m×1.5m) 기본 | E333: 부착대 5m 이하 | F333: 신설 | G333: 조 | H333: 1
A334: 356 | B334: =VLOOKUP($A334,#REF!,2,FALSE) -> #REF! | C334: =VLOOKUP($A334,#REF!,3,FALSE) -> #REF! | D334: =VLOOKUP($A334,#REF!,4,FALSE) -> #REF! | E334: =VLOOKUP($A334,#REF!,5,FALSE) -> #REF! | F334: =VLOOKUP($A334,#REF!,6,FALSE) -> #REF! | G334: =VLOOKUP($A334,#REF!,7,FALSE) -> #REF! | H334: =VLOOKUP($A334,#REF!,8,FALSE) -> #REF! | I334: =VLOOKUP($A334,#REF!,9,FALSE) -> #REF! | J334: =TRUNC(I334*H334) -> #REF! | K334: =VLOOKUP($A334,#REF!,10,FALSE) -> #REF! | L334: =TRUNC(K334*H334) -> #REF! | M334: =VLOOKUP($A334,#REF!,11,FALSE) -> #REF! | N334: =TRUNC(M334*H334) -> #REF! | O334: =SUM(J334,L334,N334) -> #REF!
A335: 357 | B335: =VLOOKUP($A335,#REF!,2,FALSE) -> #REF! | C335: =VLOOKUP($A335,#REF!,3,FALSE) -> #REF! | D335: =VLOOKUP($A335,#REF!,4,FALSE) -> #REF! | E335: =VLOOKUP($A335,#REF!,5,FALSE) -> #REF! | F335: =VLOOKUP($A335,#REF!,6,FALSE) -> #REF! | G335: =VLOOKUP($A335,#REF!,7,FALSE) -> #REF! | H335: =VLOOKUP($A335,#REF!,8,FALSE) -> #REF! | I335: =VLOOKUP($A335,#REF!,9,FALSE) -> #REF! | J335: =TRUNC(I335*H335) -> #REF! | K335: =VLOOKUP($A335,#REF!,10,FALSE) -> #REF! | L335: =TRUNC(K335*H335) -> #REF! | M335: =VLOOKUP($A335,#REF!,11,FALSE) -> #REF! | N335: =TRUNC(M335*H335) -> #REF! | O335: =SUM(J335,L335,N335) -> #REF!
A336: 358 | B336: =VLOOKUP($A336,#REF!,2,FALSE) -> #REF! | C336: =VLOOKUP($A336,#REF!,3,FALSE) -> #REF! | D336: =VLOOKUP($A336,#REF!,4,FALSE) -> #REF! | E336: =VLOOKUP($A336,#REF!,5,FALSE) -> #REF! | F336: =VLOOKUP($A336,#REF!,6,FALSE) -> #REF! | G336: =VLOOKUP($A336,#REF!,7,FALSE) -> #REF! | H336: =VLOOKUP($A336,#REF!,8,FALSE) -> #REF! | I336: =VLOOKUP($A336,#REF!,9,FALSE) -> #REF! | J336: =TRUNC(I336*H336) -> #REF! | K336: =VLOOKUP($A336,#REF!,10,FALSE) -> #REF! | L336: =TRUNC(K336*H336) -> #REF! | M336: =VLOOKUP($A336,#REF!,11,FALSE) -> #REF! | N336: =TRUNC(M336*H336) -> #REF! | O336: =SUM(J336,L336,N336) -> #REF!
A337: 359 | B337: =VLOOKUP($A337,#REF!,2,FALSE) -> #REF! | C337: =VLOOKUP($A337,#REF!,3,FALSE) -> #REF! | D337: =VLOOKUP($A337,#REF!,4,FALSE) -> #REF! | E337: =VLOOKUP($A337,#REF!,5,FALSE) -> #REF! | F337: =VLOOKUP($A337,#REF!,6,FALSE) -> #REF! | G337: =VLOOKUP($A337,#REF!,7,FALSE) -> #REF! | H337: =VLOOKUP($A337,#REF!,8,FALSE) -> #REF! | I337: =VLOOKUP($A337,#REF!,9,FALSE) -> #REF! | J337: =TRUNC(I337*H337) -> #REF! | K337: =VLOOKUP($A337,#REF!,10,FALSE) -> #REF! | L337: =TRUNC(K337*H337) -> #REF! | M337: =VLOOKUP($A337,#REF!,11,FALSE) -> #REF! | N337: =TRUNC(M337*H337) -> #REF! | O337: =SUM(J337,L337,N337) -> #REF!
A338: 360 | B338: =VLOOKUP($A338,#REF!,2,FALSE) -> #REF! | C338: =VLOOKUP($A338,#REF!,3,FALSE) -> #REF! | D338: =VLOOKUP($A338,#REF!,4,FALSE) -> #REF! | E338: =VLOOKUP($A338,#REF!,5,FALSE) -> #REF! | F338: =VLOOKUP($A338,#REF!,6,FALSE) -> #REF! | G338: =VLOOKUP($A338,#REF!,7,FALSE) -> #REF! | H338: =VLOOKUP($A338,#REF!,8,FALSE) -> #REF! | I338: =VLOOKUP($A338,#REF!,9,FALSE) -> #REF! | J338: =TRUNC(I338*H338) -> #REF! | K338: =VLOOKUP($A338,#REF!,10,FALSE) -> #REF! | L338: =TRUNC(K338*H338) -> #REF! | M338: =VLOOKUP($A338,#REF!,11,FALSE) -> #REF! | N338: =TRUNC(M338*H338) -> #REF! | O338: =SUM(J338,L338,N338) -> #REF!
A339: 361 | B339: 10-054 | C339: 등주기초 및 앙카 - 접지봉제외 | D339: Ø125㎜(0.8m×0.6m×0.8m) | E339: (보행등주) | F339: 신설 | G339: 조 | H339: 1
A340: 362 | B340: =VLOOKUP($A340,#REF!,2,FALSE) -> #REF! | C340: =VLOOKUP($A340,#REF!,3,FALSE) -> #REF! | D340: =VLOOKUP($A340,#REF!,4,FALSE) -> #REF! | E340: =VLOOKUP($A340,#REF!,5,FALSE) -> #REF! | F340: =VLOOKUP($A340,#REF!,6,FALSE) -> #REF! | G340: =VLOOKUP($A340,#REF!,7,FALSE) -> #REF! | H340: =VLOOKUP($A340,#REF!,8,FALSE) -> #REF! | I340: =VLOOKUP($A340,#REF!,9,FALSE) -> #REF! | J340: =TRUNC(I340*H340) -> #REF! | K340: =VLOOKUP($A340,#REF!,10,FALSE) -> #REF! | L340: =TRUNC(K340*H340) -> #REF! | M340: =VLOOKUP($A340,#REF!,11,FALSE) -> #REF! | N340: =TRUNC(M340*H340) -> #REF! | O340: =SUM(J340,L340,N340) -> #REF!
A341: 363 | B341: =VLOOKUP($A341,#REF!,2,FALSE) -> #REF! | C341: =VLOOKUP($A341,#REF!,3,FALSE) -> #REF! | D341: =VLOOKUP($A341,#REF!,4,FALSE) -> #REF! | E341: =VLOOKUP($A341,#REF!,5,FALSE) -> #REF! | F341: =VLOOKUP($A341,#REF!,6,FALSE) -> #REF! | G341: =VLOOKUP($A341,#REF!,7,FALSE) -> #REF! | H341: =VLOOKUP($A341,#REF!,8,FALSE) -> #REF! | I341: =VLOOKUP($A341,#REF!,9,FALSE) -> #REF! | J341: =TRUNC(I341*H341) -> #REF! | K341: =VLOOKUP($A341,#REF!,10,FALSE) -> #REF! | L341: =TRUNC(K341*H341) -> #REF! | M341: =VLOOKUP($A341,#REF!,11,FALSE) -> #REF! | N341: =TRUNC(M341*H341) -> #REF! | O341: =SUM(J341,L341,N341) -> #REF!
A342: 364 | B342: =VLOOKUP($A342,#REF!,2,FALSE) -> #REF! | C342: =VLOOKUP($A342,#REF!,3,FALSE) -> #REF! | D342: =VLOOKUP($A342,#REF!,4,FALSE) -> #REF! | E342: =VLOOKUP($A342,#REF!,5,FALSE) -> #REF! | F342: =VLOOKUP($A342,#REF!,6,FALSE) -> #REF! | G342: =VLOOKUP($A342,#REF!,7,FALSE) -> #REF! | H342: =VLOOKUP($A342,#REF!,8,FALSE) -> #REF! | I342: =VLOOKUP($A342,#REF!,9,FALSE) -> #REF! | J342: =TRUNC(I342*H342) -> #REF! | K342: =VLOOKUP($A342,#REF!,10,FALSE) -> #REF! | L342: =TRUNC(K342*H342) -> #REF! | M342: =VLOOKUP($A342,#REF!,11,FALSE) -> #REF! | N342: =TRUNC(M342*H342) -> #REF! | O342: =SUM(J342,L342,N342) -> #REF!
A343: 365 | B343: =VLOOKUP($A343,#REF!,2,FALSE) -> #REF! | C343: =VLOOKUP($A343,#REF!,3,FALSE) -> #REF! | D343: =VLOOKUP($A343,#REF!,4,FALSE) -> #REF! | E343: =VLOOKUP($A343,#REF!,5,FALSE) -> #REF! | F343: =VLOOKUP($A343,#REF!,6,FALSE) -> #REF! | G343: =VLOOKUP($A343,#REF!,7,FALSE) -> #REF! | H343: =VLOOKUP($A343,#REF!,8,FALSE) -> #REF! | I343: =VLOOKUP($A343,#REF!,9,FALSE) -> #REF! | J343: =TRUNC(I343*H343) -> #REF! | K343: =VLOOKUP($A343,#REF!,10,FALSE) -> #REF! | L343: =TRUNC(K343*H343) -> #REF! | M343: =VLOOKUP($A343,#REF!,11,FALSE) -> #REF! | N343: =TRUNC(M343*H343) -> #REF! | O343: =SUM(J343,L343,N343) -> #REF!
A344: 366 | B344: =VLOOKUP($A344,#REF!,2,FALSE) -> #REF! | C344: =VLOOKUP($A344,#REF!,3,FALSE) -> #REF! | D344: =VLOOKUP($A344,#REF!,4,FALSE) -> #REF! | E344: =VLOOKUP($A344,#REF!,5,FALSE) -> #REF! | F344: =VLOOKUP($A344,#REF!,6,FALSE) -> #REF! | G344: =VLOOKUP($A344,#REF!,7,FALSE) -> #REF! | H344: =VLOOKUP($A344,#REF!,8,FALSE) -> #REF! | I344: =VLOOKUP($A344,#REF!,9,FALSE) -> #REF! | J344: =TRUNC(I344*H344) -> #REF! | K344: =VLOOKUP($A344,#REF!,10,FALSE) -> #REF! | L344: =TRUNC(K344*H344) -> #REF! | M344: =VLOOKUP($A344,#REF!,11,FALSE) -> #REF! | N344: =TRUNC(M344*H344) -> #REF! | O344: =SUM(J344,L344,N344) -> #REF!
A345: 367 | B345: =VLOOKUP($A345,#REF!,2,FALSE) -> #REF! | C345: =VLOOKUP($A345,#REF!,3,FALSE) -> #REF! | D345: =VLOOKUP($A345,#REF!,4,FALSE) -> #REF! | E345: =VLOOKUP($A345,#REF!,5,FALSE) -> #REF! | F345: =VLOOKUP($A345,#REF!,6,FALSE) -> #REF! | G345: =VLOOKUP($A345,#REF!,7,FALSE) -> #REF! | H345: =VLOOKUP($A345,#REF!,8,FALSE) -> #REF! | I345: =VLOOKUP($A345,#REF!,9,FALSE) -> #REF! | J345: =TRUNC(I345*H345) -> #REF! | K345: =VLOOKUP($A345,#REF!,10,FALSE) -> #REF! | L345: =TRUNC(K345*H345) -> #REF! | M345: =VLOOKUP($A345,#REF!,11,FALSE) -> #REF! | N345: =TRUNC(M345*H345) -> #REF! | O345: =SUM(J345,L345,N345) -> #REF!
A346: 368 | B346: =VLOOKUP($A346,#REF!,2,FALSE) -> #REF! | C346: =VLOOKUP($A346,#REF!,3,FALSE) -> #REF! | D346: =VLOOKUP($A346,#REF!,4,FALSE) -> #REF! | E346: =VLOOKUP($A346,#REF!,5,FALSE) -> #REF! | F346: =VLOOKUP($A346,#REF!,6,FALSE) -> #REF! | G346: =VLOOKUP($A346,#REF!,7,FALSE) -> #REF! | H346: =VLOOKUP($A346,#REF!,8,FALSE) -> #REF! | I346: =VLOOKUP($A346,#REF!,9,FALSE) -> #REF! | J346: =TRUNC(I346*H346) -> #REF! | K346: =VLOOKUP($A346,#REF!,10,FALSE) -> #REF! | L346: =TRUNC(K346*H346) -> #REF! | M346: =VLOOKUP($A346,#REF!,11,FALSE) -> #REF! | N346: =TRUNC(M346*H346) -> #REF! | O346: =SUM(J346,L346,N346) -> #REF!
A347: 369 | B347: =VLOOKUP($A347,#REF!,2,FALSE) -> #REF! | C347: =VLOOKUP($A347,#REF!,3,FALSE) -> #REF! | D347: =VLOOKUP($A347,#REF!,4,FALSE) -> #REF! | E347: =VLOOKUP($A347,#REF!,5,FALSE) -> #REF! | F347: =VLOOKUP($A347,#REF!,6,FALSE) -> #REF! | G347: =VLOOKUP($A347,#REF!,7,FALSE) -> #REF! | H347: =VLOOKUP($A347,#REF!,8,FALSE) -> #REF! | I347: =VLOOKUP($A347,#REF!,9,FALSE) -> #REF! | J347: =TRUNC(I347*H347) -> #REF! | K347: =VLOOKUP($A347,#REF!,10,FALSE) -> #REF! | L347: =TRUNC(K347*H347) -> #REF! | M347: =VLOOKUP($A347,#REF!,11,FALSE) -> #REF! | N347: =TRUNC(M347*H347) -> #REF! | O347: =SUM(J347,L347,N347) -> #REF!
A348: 370 | B348: =VLOOKUP($A348,#REF!,2,FALSE) -> #REF! | C348: =VLOOKUP($A348,#REF!,3,FALSE) -> #REF! | D348: =VLOOKUP($A348,#REF!,4,FALSE) -> #REF! | E348: =VLOOKUP($A348,#REF!,5,FALSE) -> #REF! | F348: =VLOOKUP($A348,#REF!,6,FALSE) -> #REF! | G348: =VLOOKUP($A348,#REF!,7,FALSE) -> #REF! | H348: =VLOOKUP($A348,#REF!,8,FALSE) -> #REF! | I348: =VLOOKUP($A348,#REF!,9,FALSE) -> #REF! | J348: =TRUNC(I348*H348) -> #REF! | K348: =VLOOKUP($A348,#REF!,10,FALSE) -> #REF! | L348: =TRUNC(K348*H348) -> #REF! | M348: =VLOOKUP($A348,#REF!,11,FALSE) -> #REF! | N348: =TRUNC(M348*H348) -> #REF! | O348: =SUM(J348,L348,N348) -> #REF!
A349: 371 | B349: =VLOOKUP($A349,#REF!,2,FALSE) -> #REF! | C349: =VLOOKUP($A349,#REF!,3,FALSE) -> #REF! | D349: =VLOOKUP($A349,#REF!,4,FALSE) -> #REF! | E349: =VLOOKUP($A349,#REF!,5,FALSE) -> #REF! | F349: =VLOOKUP($A349,#REF!,6,FALSE) -> #REF! | G349: =VLOOKUP($A349,#REF!,7,FALSE) -> #REF! | H349: =VLOOKUP($A349,#REF!,8,FALSE) -> #REF! | I349: =VLOOKUP($A349,#REF!,9,FALSE) -> #REF! | J349: =TRUNC(I349*H349) -> #REF! | K349: =VLOOKUP($A349,#REF!,10,FALSE) -> #REF! | L349: =TRUNC(K349*H349) -> #REF! | M349: =VLOOKUP($A349,#REF!,11,FALSE) -> #REF! | N349: =TRUNC(M349*H349) -> #REF! | O349: =SUM(J349,L349,N349) -> #REF!
A350: 372 | B350: =VLOOKUP($A350,#REF!,2,FALSE) -> #REF! | C350: =VLOOKUP($A350,#REF!,3,FALSE) -> #REF! | D350: =VLOOKUP($A350,#REF!,4,FALSE) -> #REF! | E350: =VLOOKUP($A350,#REF!,5,FALSE) -> #REF! | F350: =VLOOKUP($A350,#REF!,6,FALSE) -> #REF! | G350: =VLOOKUP($A350,#REF!,7,FALSE) -> #REF! | H350: =VLOOKUP($A350,#REF!,8,FALSE) -> #REF! | I350: =VLOOKUP($A350,#REF!,9,FALSE) -> #REF! | J350: =TRUNC(I350*H350) -> #REF! | K350: =VLOOKUP($A350,#REF!,10,FALSE) -> #REF! | L350: =TRUNC(K350*H350) -> #REF! | M350: =VLOOKUP($A350,#REF!,11,FALSE) -> #REF! | N350: =TRUNC(M350*H350) -> #REF! | O350: =SUM(J350,L350,N350) -> #REF!
A351: 374 | B351: =VLOOKUP($A351,#REF!,2,FALSE) -> #REF! | C351: =VLOOKUP($A351,#REF!,3,FALSE) -> #REF! | D351: =VLOOKUP($A351,#REF!,4,FALSE) -> #REF! | E351: =VLOOKUP($A351,#REF!,5,FALSE) -> #REF! | F351: =VLOOKUP($A351,#REF!,6,FALSE) -> #REF! | G351: =VLOOKUP($A351,#REF!,7,FALSE) -> #REF! | H351: =VLOOKUP($A351,#REF!,8,FALSE) -> #REF! | I351: =VLOOKUP($A351,#REF!,9,FALSE) -> #REF! | J351: =TRUNC(I351*H351) -> #REF! | K351: =VLOOKUP($A351,#REF!,10,FALSE) -> #REF! | L351: =TRUNC(K351*H351) -> #REF! | M351: =VLOOKUP($A351,#REF!,11,FALSE) -> #REF! | N351: =TRUNC(M351*H351) -> #REF! | O351: =SUM(J351,L351,N351) -> #REF!
...

Sheet 2
B1: 세 부 물 량 표
B2: =공사원가계산서!B2 -> ■공사명 : 그린나래 지하차도 상부 교통사고 잦은 곳 개선 공사(전기) | F2: ="장소 : "&#REF! -> #REF!
B3: No | C3: 품 명 | D3: 규 격 | G3: 단위 | H3: 수량 | I3: A | J3: B | K3: C | L3: D | M3: E | N3: 1 | O3: 2 | P3: 3 | Q3: 4 | R3: 5 | S3: 6 | T3: 7 | U3: 8 | V3: 9 | W3: 10
A5: 1 | B5: =VLOOKUP($A5,#REF!,2,FALSE) -> #REF! | C5: =VLOOKUP($A5,#REF!,3,FALSE) -> #REF! | D5: =VLOOKUP($A5,#REF!,4,FALSE) -> #REF! | E5: =VLOOKUP($A5,#REF!,5,FALSE) -> #REF! | F5: =VLOOKUP($A5,#REF!,6,FALSE) -> #REF! | G5: =VLOOKUP($A5,#REF!,7,FALSE) -> #REF! | H5: =SUM(I5:W5) -> 0
A6: 2 | B6: =VLOOKUP($A6,#REF!,2,FALSE) -> #REF! | C6: =VLOOKUP($A6,#REF!,3,FALSE) -> #REF! | D6: =VLOOKUP($A6,#REF!,4,FALSE) -> #REF! | E6: =VLOOKUP($A6,#REF!,5,FALSE) -> #REF! | F6: =VLOOKUP($A6,#REF!,6,FALSE) -> #REF! | G6: =VLOOKUP($A6,#REF!,7,FALSE) -> #REF! | H6: =SUM(I6:W6) -> 0
A7: 3 | B7: =VLOOKUP($A7,#REF!,2,FALSE) -> #REF! | C7: =VLOOKUP($A7,#REF!,3,FALSE) -> #REF! | D7: =VLOOKUP($A7,#REF!,4,FALSE) -> #REF! | E7: =VLOOKUP($A7,#REF!,5,FALSE) -> #REF! | F7: =VLOOKUP($A7,#REF!,6,FALSE) -> #REF! | G7: =VLOOKUP($A7,#REF!,7,FALSE) -> #REF! | H7: =SUM(I7:W7) -> 0
A8: 4 | B8: =VLOOKUP($A8,#REF!,2,FALSE) -> #REF! | C8: =VLOOKUP($A8,#REF!,3,FALSE) -> #REF! | D8: =VLOOKUP($A8,#REF!,4,FALSE) -> #REF! | E8: =VLOOKUP($A8,#REF!,5,FALSE) -> #REF! | F8: =VLOOKUP($A8,#REF!,6,FALSE) -> #REF! | G8: =VLOOKUP($A8,#REF!,7,FALSE) -> #REF! | H8: =SUM(I8:W8) -> 0
A9: 5 | B9: =VLOOKUP($A9,#REF!,2,FALSE) -> #REF! | C9: =VLOOKUP($A9,#REF!,3,FALSE) -> #REF! | D9: =VLOOKUP($A9,#REF!,4,FALSE) -> #REF! | E9: =VLOOKUP($A9,#REF!,5,FALSE) -> #REF! | F9: =VLOOKUP($A9,#REF!,6,FALSE) -> #REF! | G9: =VLOOKUP($A9,#REF!,7,FALSE) -> #REF! | H9: =SUM(I9:W9) -> 0
A10: 6 | B10: =VLOOKUP($A10,#REF!,2,FALSE) -> #REF! | C10: =VLOOKUP($A10,#REF!,3,FALSE) -> #REF! | D10: =VLOOKUP($A10,#REF!,4,FALSE) -> #REF! | E10: =VLOOKUP($A10,#REF!,5,FALSE) -> #REF! | F10: =VLOOKUP($A10,#REF!,6,FALSE) -> #REF! | G10: =VLOOKUP($A10,#REF!,7,FALSE) -> #REF! | H10: =SUM(I10:W10) -> 0
A11: 7 | B11: =VLOOKUP($A11,#REF!,2,FALSE) -> #REF! | C11: =VLOOKUP($A11,#REF!,3,FALSE) -> #REF! | D11: =VLOOKUP($A11,#REF!,4,FALSE) -> #REF! | E11: =VLOOKUP($A11,#REF!,5,FALSE) -> #REF! | F11: =VLOOKUP($A11,#REF!,6,FALSE) -> #REF! | G11: =VLOOKUP($A11,#REF!,7,FALSE) -> #REF! | H11: =SUM(I11:W11) -> 0
A12: 8 | B12: =VLOOKUP($A12,#REF!,2,FALSE) -> #REF! | C12: =VLOOKUP($A12,#REF!,3,FALSE) -> #REF! | D12: =VLOOKUP($A12,#REF!,4,FALSE) -> #REF! | E12: =VLOOKUP($A12,#REF!,5,FALSE) -> #REF! | F12: =VLOOKUP($A12,#REF!,6,FALSE) -> #REF! | G12: =VLOOKUP($A12,#REF!,7,FALSE) -> #REF! | H12: =SUM(I12:W12) -> 0
A13: 9 | B13: =VLOOKUP($A13,#REF!,2,FALSE) -> #REF! | C13: =VLOOKUP($A13,#REF!,3,FALSE) -> #REF! | D13: =VLOOKUP($A13,#REF!,4,FALSE) -> #REF! | E13: =VLOOKUP($A13,#REF!,5,FALSE) -> #REF! | F13: =VLOOKUP($A13,#REF!,6,FALSE) -> #REF! | G13: =VLOOKUP($A13,#REF!,7,FALSE) -> #REF! | H13: =SUM(I13:W13) -> 0
A14: 10 | B14: =VLOOKUP($A14,#REF!,2,FALSE) -> #REF! | C14: =VLOOKUP($A14,#REF!,3,FALSE) -> #REF! | D14: =VLOOKUP($A14,#REF!,4,FALSE) -> #REF! | E14: =VLOOKUP($A14,#REF!,5,FALSE) -> #REF! | F14: =VLOOKUP($A14,#REF!,6,FALSE) -> #REF! | G14: =VLOOKUP($A14,#REF!,7,FALSE) -> #REF! | H14: =SUM(I14:W14) -> 0
A15: 11 | B15: =VLOOKUP($A15,#REF!,2,FALSE) -> #REF! | C15: =VLOOKUP($A15,#REF!,3,FALSE) -> #REF! | D15: =VLOOKUP($A15,#REF!,4,FALSE) -> #REF! | E15: =VLOOKUP($A15,#REF!,5,FALSE) -> #REF! | F15: =VLOOKUP($A15,#REF!,6,FALSE) -> #REF! | G15: =VLOOKUP($A15,#REF!,7,FALSE) -> #REF! | H15: =SUM(I15:W15) -> 0
A16: 12 | B16: =VLOOKUP($A16,#REF!,2,FALSE) -> #REF! | C16: =VLOOKUP($A16,#REF!,3,FALSE) -> #REF! | D16: =VLOOKUP($A16,#REF!,4,FALSE) -> #REF! | E16: =VLOOKUP($A16,#REF!,5,FALSE) -> #REF! | F16: =VLOOKUP($A16,#REF!,6,FALSE) -> #REF! | G16: =VLOOKUP($A16,#REF!,7,FALSE) -> #REF! | H16: =SUM(I16:W16) -> 0
... A982: 978 | B982: =VLOOKUP($A982,#REF!,2,FALSE) -> #REF! | C982: =VLOOKUP($A982,#REF!,3,FALSE) -> #REF! | D982: =VLOOKUP($A982,#REF!,4,FALSE) -> #REF! | E982: =VLOOKUP($A982,#REF!,5,FALSE) -> #REF! | F982: =VLOOKUP($A982,#REF!,6,FALSE) -> #REF! | G982: =VLOOKUP($A982,#REF!,7,FALSE) -> #REF! | H982: =SUM(I982:W982) -> 0
B983: 소 계 | H983: =SUM(H5:H982) -> 0 | I983: =SUM(I5:I982) -> 0 | J983: =SUM(J5:J982) -> 0 | K983: =SUM(K5:K982) -> 0 | L983: =SUM(L5:L982) -> 0 | M983: =SUM(M5:M982) -> 0 | N983: =SUM(N5:N982) -> 0 | O983: =SUM(O5:O982) -> 0 | ... W983: =SUM(W5:W982) -> 0

Sheet 3
B1: 세 부 물 량 표
B2: =공사원가계산서!B2 -> ■공사명 : 그린나래 지하차도 상부 교통사고 잦은 곳 개선 공사(전기) | F2: ="장소 : "&#REF! -> #REF!
B3: No | C3: 품 명 | D3: 규 격 | G3: 단위 | H3: 수량 | I3: A | J3: B | K3: C | L3: D | M3: E | N3: 1 | O3: 2 | P3: 3 | Q3: 4 | R3: 5 | S3: 6 | T3: 7 | U3: 8 | V3: 9 | W3: 10
A5: 1 | B5: =VLOOKUP($A5,#REF!,2,FALSE) -> #REF! | C5: =VLOOKUP($A5,#REF!,3,FALSE) -> #REF! | D5: =VLOOKUP($A5,#REF!,4,FALSE) -> #REF! | E5: =VLOOKUP($A5,#REF!,5,FALSE) -> #REF! | F5: =VLOOKUP($A5,#REF!,6,FALSE) -> #REF! | G5: =VLOOKUP($A5,#REF!,7,FALSE) -> #REF! | H5: =SUM(I5:W5) -> 0
A6: 2 | B6: =VLOOKUP($A6,#REF!,2,FALSE) -> #REF! | C6: =VLOOKUP($A6,#REF!,3,FALSE) -> #REF! | D6: =VLOOKUP($A6,#REF!,4,FALSE) -> #REF! | E6: =VLOOKUP($A6,#REF!,5,FALSE) -> #REF! | F6: =VLOOKUP($A6,#REF!,6,FALSE) -> #REF! | G6: =VLOOKUP($A6,#REF!,7,FALSE) -> #REF! | H6: =SUM(I6:W6) -> 0
A7: 3 | B7: =VLOOKUP($A7,#REF!,2,FALSE) -> #REF! | C7: =VLOOKUP($A7,#REF!,3,FALSE) -> #REF! | D7: =VLOOKUP($A7,#REF!,4,FALSE) -> #REF! | E7: =VLOOKUP($A7,#REF!,5,FALSE) -> #REF! | F7: =VLOOKUP($A7,#REF!,6,FALSE) -> #REF! | G7: =VLOOKUP($A7,#REF!,7,FALSE) -> #REF! | H7: =SUM(I7:W7) -> 0
A8: 4 | B8: =VLOOKUP($A8,#REF!,2,FALSE) -> #REF! | C8: =VLOOKUP($A8,#REF!,3,FALSE) -> #REF! | D8: =VLOOKUP($A8,#REF!,4,FALSE) -> #REF! | E8: =VLOOKUP($A8,#REF!,5,FALSE) -> #REF! | F8: =VLOOKUP($A8,#REF!,6,FALSE) -> #REF! | G8: =VLOOKUP($A8,#REF!,7,FALSE) -> #REF! | H8: =SUM(I8:W8) -> 0
A9: 5 | B9: =VLOOKUP($A9,#REF!,2,FALSE) -> #REF! | C9: =VLOOKUP($A9,#REF!,3,FALSE) -> #REF! | D9: =VLOOKUP($A9,#REF!,4,FALSE) -> #REF! | E9: =VLOOKUP($A9,#REF!,5,FALSE) -> #REF! | F9: =VLOOKUP($A9,#REF!,6,FALSE) -> #REF! | G9: =VLOOKUP($A9,#REF!,7,FALSE) -> #REF! | H9: =SUM(I9:W9) -> 0
A10: 6 | B10: =VLOOKUP($A10,#REF!,2,FALSE) -> #REF! | C10: =VLOOKUP($A10,#REF!,3,FALSE) -> #REF! | D10: =VLOOKUP($A10,#REF!,4,FALSE) -> #REF! | E10: =VLOOKUP($A10,#REF!,5,FALSE) -> #REF! | F10: =VLOOKUP($A10,#REF!,6,FALSE) -> #REF! | G10: =VLOOKUP($A10,#REF!,7,FALSE) -> #REF! | H10: =SUM(I10:W10) -> 0
A11: 7 | B11: =VLOOKUP($A11,#REF!,2,FALSE) -> #REF! | C11: =VLOOKUP($A11,#REF!,3,FALSE) -> #REF! | D11: =VLOOKUP($A11,#REF!,4,FALSE) -> #REF! | E11: =VLOOKUP($A11,#REF!,5,FALSE) -> #REF! | F11: =VLOOKUP($A11,#REF!,6,FALSE) -> #REF! | G11: =VLOOKUP($A11,#REF!,7,FALSE) -> #REF! | H11: =SUM(I11:W11) -> 0
A12: 8 | B12: =VLOOKUP($A12,#REF!,2,FALSE) -> #REF! | C12: =VLOOKUP($A12,#REF!,3,FALSE) -> #REF! | D12: =VLOOKUP($A12,#REF!,4,FALSE) -> #REF! | E12: =VLOOKUP($A12,#REF!,5,FALSE) -> #REF! | F12: =VLOOKUP($A12,#REF!,6,FALSE) -> #REF! | G12: =VLOOKUP($A12,#REF!,7,FALSE) -> #REF! | H12: =SUM(I12:W12) -> 0
A13: 9 | B13: =VLOOKUP($A13,#REF!,2,FALSE) -> #REF! | C13: =VLOOKUP($A13,#REF!,3,FALSE) -> #REF! | D13: =VLOOKUP($A13,#REF!,4,FALSE) -> #REF! | E13: =VLOOKUP($A13,#REF!,5,FALSE) -> #REF! | F13: =VLOOKUP($A13,#REF!,6,FALSE) -> #REF! | G13: =VLOOKUP($A13,#REF!,7,FALSE) -> #REF! | H13: =SUM(I13:W13) -> 0
A14: 10 | B14: =VLOOKUP($A14,#REF!,2,FALSE) -> #REF! | C14: =VLOOKUP($A14,#REF!,3,FALSE) -> #REF! | D14: =VLOOKUP($A14,#REF!,4,FALSE) -> #REF! | E14: =VLOOKUP($A14,#REF!,5,FALSE) -> #REF! | F14: =VLOOKUP($A14,#REF!,6,FALSE) -> #REF! | G14: =VLOOKUP($A14,#REF!,7,FALSE) -> #REF! | H14: =SUM(I14:W14) -> 0
A15: 11 | B15: =VLOOKUP($A15,#REF!,2,FALSE) -> #REF! | C15: =VLOOKUP($A15,#REF!,3,FALSE) -> #REF! | D15: =VLOOKUP($A15,#REF!,4,FALSE) -> #REF! | E15: =VLOOKUP($A15,#REF!,5,FALSE) -> #REF! | F15: =VLOOKUP($A15,#REF!,6,FALSE) -> #REF! | G15: =VLOOKUP($A15,#REF!,7,FALSE) -> #REF! | H15: =SUM(I15:W15) -> 0
A16: 12 | B16: =VLOOKUP($A16,#REF!,2,FALSE) -> #REF! | C16: =VLOOKUP($A16,#REF!,3,FALSE) -> #REF! | D16: =VLOOKUP($A16,#REF!,4,FALSE) -> #REF! | E16: =VLOOKUP($A16,#REF!,5,FALSE) -> #REF! | F16: =VLOOKUP($A16,#REF!,6,FALSE) -> #REF! | G16: =VLOOKUP($A16,#REF!,7,FALSE) -> #REF! | H16: =SUM(I16:W16) -> 0
... A982: 978 | B982: =VLOOKUP($A982,#REF!,2,FALSE) -> #REF! | C982: =VLOOKUP($A982,#REF!,3,FALSE) -> #REF! | D982: =VLOOKUP($A982,#REF!,4,FALSE) -> #REF! | E982: =VLOOKUP($A982,#REF!,5,FALSE) -> #REF! | F982: =VLOOKUP($A982,#REF!,6,FALSE) -> #REF! | G982: =VLOOKUP($A982,#REF!,7,FALSE) -> #REF! | H982: =SUM(I982:W982) -> 0
B983: 소 계 | H983: =SUM(H5:H982) -> 0 | I983: =SUM(I5:I982) -> 0 | J983: =SUM(J5:J982) -> 0 | K983: =SUM(K5:K982) -> 0 | L983: =SUM(L5:L982) -> 0 | M983: =SUM(M5:M982) -> 0 | N983: =SUM(N5:N982) -> 0 | O983: =SUM(O5:O982) -> 0 | ... W983: =SUM(W5:W982) -> 0

Sheet 4
B1: 세 부 물 량 표
B2: =공사원가계산서!B2 -> ■공사명 : 그린나래 지하차도 상부 교통사고 잦은 곳 개선 공사(전기) | F2: ="장소 : "&#REF! -> #REF!
B3: No | C3: 품 명 | D3: 규 격 | G3: 단위 | H3: 수량 | I3: A | J3: B | K3: C | L3: D | M3: E | N3: 1 | O3: 2 | P3: 3 | Q3: 4 | R3: 5 | S3: 6 | T3: 7 | U3: 8 | V3: 9 | W3: 10
A5: 1 | B5: =VLOOKUP($A5,#REF!,2,FALSE) -> #REF! | C5: =VLOOKUP($A5,#REF!,3,FALSE) -> #REF! | D5: =VLOOKUP($A5,#REF!,4,FALSE) -> #REF! | E5: =VLOOKUP($A5,#REF!,5,FALSE) -> #REF! | F5: =VLOOKUP($A5,#REF!,6,FALSE) -> #REF! | G5: =VLOOKUP($A5,#REF!,7,FALSE) -> #REF! | H5: =SUM(I5:W5) -> 0
A6: 2 | B6: =VLOOKUP($A6,#REF!,2,FALSE) -> #REF! | C6: =VLOOKUP($A6,#REF!,3,FALSE) -> #REF! | D6: =VLOOKUP($A6,#REF!,4,FALSE) -> #REF! | E6: =VLOOKUP($A6,#REF!,5,FALSE) -> #REF! | F6: =VLOOKUP($A6,#REF!,6,FALSE) -> #REF! | G6: =VLOOKUP($A6,#REF!,7,FALSE) -> #REF! | H6: =SUM(I6:W6) -> 0
A7: 3 | B7: =VLOOKUP($A7,#REF!,2,FALSE) -> #REF! | C7: =VLOOKUP($A7,#REF!,3,FALSE) -> #REF! | D7: =VLOOKUP($A7,#REF!,4,FALSE) -> #REF! | E7: =VLOOKUP($A7,#REF!,5,FALSE) -> #REF! | F7: =VLOOKUP($A7,#REF!,6,FALSE) -> #REF! | G7: =VLOOKUP($A7,#REF!,7,FALSE) -> #REF! | H7: =SUM(I7:W7) -> 0
A8: 4 | B8: =VLOOKUP($A8,#REF!,2,FALSE) -> #REF! | C8: =VLOOKUP($A8,#REF!,3,FALSE) -> #REF! | D8: =VLOOKUP($A8,#REF!,4,FALSE) -> #REF! | E8: =VLOOKUP($A8,#REF!,5,FALSE) -> #REF! | F8: =VLOOKUP($A8,#REF!,6,FALSE) -> #REF! | G8: =VLOOKUP($A8,#REF!,7,FALSE) -> #REF! | H8: =SUM(I8:W8) -> 0
A9: 5 | B9: =VLOOKUP($A9,#REF!,2,FALSE) -> #REF! | C9: =VLOOKUP($A9,#REF!,3,FALSE) -> #REF! | D9: =VLOOKUP($A9,#REF!,4,FALSE) -> #REF! | E9: =VLOOKUP($A9,#REF!,5,FALSE) -> #REF! | F9: =VLOOKUP($A9,#REF!,6,FALSE) -> #REF! | G9: =VLOOKUP($A9,#REF!,7,FALSE) -> #REF! | H9: =SUM(I9:W9) -> 0
A10: 6 | B10: =VLOOKUP($A10,#REF!,2,FALSE) -> #REF! | C10: =VLOOKUP($A10,#REF!,3,FALSE) -> #REF! | D10: =VLOOKUP($A10,#REF!,4,FALSE) -> #REF! | E10: =VLOOKUP($A10,#REF!,5,FALSE) -> #REF! | F10: =VLOOKUP($A10,#REF!,6,FALSE) -> #REF! | G10: =VLOOKUP($A10,#REF!,7,FALSE) -> #REF! | H10: =SUM(I10:W10) -> 0
A11: 7 | B11: =VLOOKUP($A11,#REF!,2,FALSE) -> #REF! | C11: =VLOOKUP($A11,#REF!,3,FALSE) -> #REF! | D11: =VLOOKUP($A11,#REF!,4,FALSE) -> #REF! | E11: =VLOOKUP($A11,#REF!,5,FALSE) -> #REF! | F11: =VLOOKUP($A11,#REF!,6,FALSE) -> #REF! | G11: =VLOOKUP($A11,#REF!,7,FALSE) -> #REF! | H11: =SUM(I11:W11) -> 0
A12: 8 | B12: =VLOOKUP($A12,#REF!,2,FALSE) -> #REF! | C12: =VLOOKUP($A12,#REF!,3,FALSE) -> #REF! | D12: =VLOOKUP($A12,#REF!,4,FALSE) -> #REF! | E12: =VLOOKUP($A12,#REF!,5,FALSE) -> #REF! | F12: =VLOOKUP($A12,#REF!,6,FALSE) -> #REF! | G12: =VLOOKUP($A12,#REF!,7,FALSE) -> #REF! | H12: =SUM(I12:W12) -> 0
A13: 9 | B13: =VLOOKUP($A13,#REF!,2,FALSE) -> #REF! | C13: =VLOOKUP($A13,#REF!,3,FALSE) -> #REF! | D13: =VLOOKUP($A13,#REF!,4,FALSE) -> #REF! | E13: =VLOOKUP($A13,#REF!,5,FALSE) -> #REF! | F13: =VLOOKUP($A13,#REF!,6,FALSE) -> #REF! | G13: =VLOOKUP($A13,#REF!,7,FALSE) -> #REF! | H13: =SUM(I13:W13) -> 0
A14: 10 | B14: =VLOOKUP($A14,#REF!,2,FALSE) -> #REF! | C14: =VLOOKUP($A14,#REF!,3,FALSE) -> #REF! | D14: =VLOOKUP($A14,#REF!,4,FALSE) -> #REF! | E14: =VLOOKUP($A14,#REF!,5,FALSE) -> #REF! | F14: =VLOOKUP($A14,#REF!,6,FALSE) -> #REF! | G14: =VLOOKUP($A14,#REF!,7,FALSE) -> #REF! | H14: =SUM(I14:W14) -> 0
A15: 11 | B15: =VLOOKUP($A15,#REF!,2,FALSE) -> #REF! | C15: =VLOOKUP($A15,#REF!,3,FALSE) -> #REF! | D15: =VLOOKUP($A15,#REF!,4,FALSE) -> #REF! | E15: =VLOOKUP($A15,#REF!,5,FALSE) -> #REF! | F15: =VLOOKUP($A15,#REF!,6,FALSE) -> #REF! | G15: =VLOOKUP($A15,#REF!,7,FALSE) -> #REF! | H15: =SUM(I15:W15) -> 0
A16: 12 | B16: =VLOOKUP($A16,#REF!,2,FALSE) -> #REF! | C16: =VLOOKUP($A16,#REF!,3,FALSE) -> #REF! | D16: =VLOOKUP($A16,#REF!,4,FALSE) -> #REF! | E16: =VLOOKUP($A16,#REF!,5,FALSE) -> #REF! | F16: =VLOOKUP($A16,#REF!,6,FALSE) -> #REF! | G16: =VLOOKUP($A16,#REF!,7,FALSE) -> #REF! | H16: =SUM(I16:W16) -> 0
... A982: 978 | B982: =VLOOKUP($A982,#REF!,2,FALSE) -> #REF! | C982: =VLOOKUP($A982,#REF!,3,FALSE) -> #REF! | D982: =VLOOKUP($A982,#REF!,4,FALSE) -> #REF! | E982: =VLOOKUP($A982,#REF!,5,FALSE) -> #REF! | F982: =VLOOKUP($A982,#REF!,6,FALSE) -> #REF! | G982: =VLOOKUP($A982,#REF!,7,FALSE) -> #REF! | H982: =SUM(I982:W982) -> 0
B983: 소 계 | H983: =SUM(H5:H982) -> 0 | I983: =SUM(I5:I982) -> 0 | J983: =SUM(J5:J982) -> 0 | K983: =SUM(K5:K982) -> 0 | L983: =SUM(L5:L982) -> 0 | M983: =SUM(M5:M982) -> 0 | N983: =SUM(N5:N982) -> 0 | O983: =SUM(O5:O982) -> 0 | ... W983: =SUM(W5:W982) -> 0

Sheet 5
B1: 세 부 물 량 표
B2: =공사원가계산서!B2 -> ■공사명 : 그린나래 지하차도 상부 교통사고 잦은 곳 개선 공사(전기) | F2: ="장소 : "&#REF! -> #REF!
B3: No | C3: 품 명 | D3: 규 격 | G3: 단위 | H3: 수량 | I3: A | J3: B | K3: C | L3: D | M3: E | N3: 1 | O3: 2 | P3: 3 | Q3: 4 | R3: 5 | S3: 6 | T3: 7 | U3: 8 | V3: 9 | W3: 10
A5: 1 | B5: =VLOOKUP($A5,#REF!,2,FALSE) -> #REF! | C5: =VLOOKUP($A5,#REF!,3,FALSE) -> #REF! | D5: =VLOOKUP($A5,#REF!,4,FALSE) -> #REF! | E5: =VLOOKUP($A5,#REF!,5,FALSE) -> #REF! | F5: =VLOOKUP($A5,#REF!,6,FALSE) -> #REF! | G5: =VLOOKUP($A5,#REF!,7,FALSE) -> #REF! | H5: =SUM(I5:W5) -> 0
A6: 2 | B6: =VLOOKUP($A6,#REF!,2,FALSE) -> #REF! | C6: =VLOOKUP($A6,#REF!,3,FALSE) -> #REF! | D6: =VLOOKUP($A6,#REF!,4,FALSE) -> #REF! | E6: =VLOOKUP($A6,#REF!,5,FALSE) -> #REF! | F6: =VLOOKUP($A6,#REF!,6,FALSE) -> #REF! | G6: =VLOOKUP($A6,#REF!,7,FALSE) -> #REF! | H6: =SUM(I6:W6) -> 0
A7: 3 | B7: =VLOOKUP($A7,#REF!,2,FALSE) -> #REF! | C7: =VLOOKUP($A7,#REF!,3,FALSE) -> #REF! | D7: =VLOOKUP($A7,#REF!,4,FALSE) -> #REF! | E7: =VLOOKUP($A7,#REF!,5,FALSE) -> #REF! | F7: =VLOOKUP($A7,#REF!,6,FALSE) -> #REF! | G7: =VLOOKUP($A7,#REF!,7,FALSE) -> #REF! | H7: =SUM(I7:W7) -> 0
A8: 4 | B8: =VLOOKUP($A8,#REF!,2,FALSE) -> #REF! | C8: =VLOOKUP($A8,#REF!,3,FALSE) -> #REF! | D8: =VLOOKUP($A8,#REF!,4,FALSE) -> #REF! | E8: =VLOOKUP($A8,#REF!,5,FALSE) -> #REF! | F8: =VLOOKUP($A8,#REF!,6,FALSE) -> #REF! | G8: =VLOOKUP($A8,#REF!,7,FALSE) -> #REF! | H8: =SUM(I8:W8) -> 0
A9: 5 | B9: =VLOOKUP($A9,#REF!,2,FALSE) -> #REF! | C9: =VLOOKUP($A9,#REF!,3,FALSE) -> #REF! | D9: =VLOOKUP($A9,#REF!,4,FALSE) -> #REF! | E9: =VLOOKUP($A9,#REF!,5,FALSE) -> #REF! | F9: =VLOOKUP($A9,#REF!,6,FALSE) -> #REF! | G9: =VLOOKUP($A9,#REF!,7,FALSE) -> #REF! | H9: =SUM(I9:W9) -> 0
A10: 6 | B10: =VLOOKUP($A10,#REF!,2,FALSE) -> #REF! | C10: =VLOOKUP($A10,#REF!,3,FALSE) -> #REF! | D10: =VLOOKUP($A10,#REF!,4,FALSE) -> #REF! | E10: =VLOOKUP($A10,#REF!,5,FALSE) -> #REF! | F10: =VLOOKUP($A10,#REF!,6,FALSE) -> #REF! | G10: =VLOOKUP($A10,#REF!,7,FALSE) -> #REF! | H10: =SUM(I10:W10) -> 0
A11: 7 | B11: =VLOOKUP($A11,#REF!,2,FALSE) -> #REF! | C11: =VLOOKUP($A11,#REF!,3,FALSE) -> #REF! | D11: =VLOOKUP($A11,#REF!,4,FALSE) -> #REF! | E11: =VLOOKUP($A11,#REF!,5,FALSE) -> #REF! | F11: =VLOOKUP($A11,#REF!,6,FALSE) -> #REF! | G11: =VLOOKUP($A11,#REF!,7,FALSE) -> #REF! | H11: =SUM(I11:W11) -> 0
A12: 8 | B12: =VLOOKUP($A12,#REF!,2,FALSE) -> #REF! | C12: =VLOOKUP($A12,#REF!,3,FALSE) -> #REF! | D12: =VLOOKUP($A12,#REF!,4,FALSE) -> #REF! | E12: =VLOOKUP($A12,#REF!,5,FALSE) -> #REF! | F12: =VLOOKUP($A12,#REF!,6,FALSE) -> #REF! | G12: =VLOOKUP($A12,#REF!,7,FALSE) -> #REF! | H12: =SUM(I12:W12) -> 0
A13: 9 | B13: =VLOOKUP($A13,#REF!,2,FALSE) -> #REF! | C13: =VLOOKUP($A13,#REF!,3,FALSE) -> #REF! | D13: =VLOOKUP($A13,#REF!,4,FALSE) -> #REF! | E13: =VLOOKUP($A13,#REF!,5,FALSE) -> #REF! | F13: =VLOOKUP($A13,#REF!,6,FALSE) -> #REF! | G13: =VLOOKUP($A13,#REF!,7,FALSE) -> #REF! | H13: =SUM(I13:W13) -> 0
A14: 10 | B14: =VLOOKUP($A14,#REF!,2,FALSE) -> #REF! | C14: =VLOOKUP($A14,#REF!,3,FALSE) -> #REF! | D14: =VLOOKUP($A14,#REF!,4,FALSE) -> #REF! | E14: =VLOOKUP($A14,#REF!,5,FALSE) -> #REF! | F14: =VLOOKUP($A14,#REF!,6,FALSE) -> #REF! | G14: =VLOOKUP($A14,#REF!,7,FALSE) -> #REF! | H14: =SUM(I14:W14) -> 0
A15: 11 | B15: =VLOOKUP($A15,#REF!,2,FALSE) -> #REF! | C15: =VLOOKUP($A15,#REF!,3,FALSE) -> #REF! | D15: =VLOOKUP($A15,#REF!,4,FALSE) -> #REF! | E15: =VLOOKUP($A15,#REF!,5,FALSE) -> #REF! | F15: =VLOOKUP($A15,#REF!,6,FALSE) -> #REF! | G15: =VLOOKUP($A15,#REF!,7,FALSE) -> #REF! | H15: =SUM(I15:W15) -> 0
A16: 12 | B16: =VLOOKUP($A16,#REF!,2,FALSE) -> #REF! | C16: =VLOOKUP($A16,#REF!,3,FALSE) -> #REF! | D16: =VLOOKUP($A16,#REF!,4,FALSE) -> #REF! | E16: =VLOOKUP($A16,#REF!,5,FALSE) -> #REF! | F16: =VLOOKUP($A16,#REF!,6,FALSE) -> #REF! | G16: =VLOOKUP($A16,#REF!,7,FALSE) -> #REF! | H16: =SUM(I16:W16) -> 0
... A982: 978 | B982: =VLOOKUP($A982,#REF!,2,FALSE) -> #REF! | C982: =VLOOKUP($A982,#REF!,3,FALSE) -> #REF! | D982: =VLOOKUP($A982,#REF!,4,FALSE) -> #REF! | E982: =VLOOKUP($A982,#REF!,5,FALSE) -> #REF! | F982: =VLOOKUP($A982,#REF!,6,FALSE) -> #REF! | G982: =VLOOKUP($A982,#REF!,7,FALSE) -> #REF! | H982: =SUM(I982:W982) -> 0
B983: 소 계 | H983: =SUM(H5:H982) -> 0 | I983: =SUM(I5:I982) -> 0 | J983: =SUM(J5:J982) -> 0 | K983: =SUM(K5:K982) -> 0 | L983: =SUM(L5:L982) -> 0 | M983: =SUM(M5:M982) -> 0 | N983: =SUM(N5:N982) -> 0 | O983: =SUM(O5:O982) -> 0 | ... W983: =SUM(W5:W982) -> 0

Sheet 6
B1: 세 부 물 량 표
B2: =공사원가계산서!B2 -> ■공사명 : 그린나래 지하차도 상부 교통사고 잦은 곳 개선 공사(전기) | F2: ="장소 : "&#REF! -> #REF!
B3: No | C3: 품 명 | D3: 규 격 | G3: 단위 | H3: 수량 | I3: A | J3: B | K3: C | L3: D | M3: E | N3: 1 | O3: 2 | P3: 3 | Q3: 4 | R3: 5 | S3: 6 | T3: 7 | U3: 8 | V3: 9 | W3: 10
A5: 1 | B5: =VLOOKUP($A5,#REF!,2,FALSE) -> #REF! | C5: =VLOOKUP($A5,#REF!,3,FALSE) -> #REF! | D5: =VLOOKUP($A5,#REF!,4,FALSE) -> #REF! | E5: =VLOOKUP($A5,#REF!,5,FALSE) -> #REF! | F5: =VLOOKUP($A5,#REF!,6,FALSE) -> #REF! | G5: =VLOOKUP($A5,#REF!,7,FALSE) -> #REF! | H5: =SUM(I5:W5) -> 0
A6: 2 | B6: =VLOOKUP($A6,#REF!,2,FALSE) -> #REF! | C6: =VLOOKUP($A6,#REF!,3,FALSE) -> #REF! | D6: =VLOOKUP($A6,#REF!,4,FALSE) -> #REF! | E6: =VLOOKUP($A6,#REF!,5,FALSE) -> #REF! | F6: =VLOOKUP($A6,#REF!,6,FALSE) -> #REF! | G6: =VLOOKUP($A6,#REF!,7,FALSE) -> #REF! | H6: =SUM(I6:W6) -> 0
A7: 3 | B7: =VLOOKUP($A7,#REF!,2,FALSE) -> #REF! | C7: =VLOOKUP($A7,#REF!,3,FALSE) -> #REF! | D7: =VLOOKUP($A7,#REF!,4,FALSE) -> #REF! | E7: =VLOOKUP($A7,#REF!,5,FALSE) -> #REF! | F7: =VLOOKUP($A7,#REF!,6,FALSE) -> #REF! | G7: =VLOOKUP($A7,#REF!,7,FALSE) -> #REF! | H7: =SUM(I7:W7) -> 0
A8: 4 | B8: =VLOOKUP($A8,#REF!,2,FALSE) -> #REF! | C8: =VLOOKUP($A8,#REF!,3,FALSE) -> #REF! | D8: =VLOOKUP($A8,#REF!,4,FALSE) -> #REF! | E8: =VLOOKUP($A8,#REF!,5,FALSE) -> #REF! | F8: =VLOOKUP($A8,#REF!,6,FALSE) -> #REF! | G8: =VLOOKUP($A8,#REF!,7,FALSE) -> #REF! | H8: =SUM(I8:W8) -> 0
A9: 5 | B9: =VLOOKUP($A9,#REF!,2,FALSE) -> #REF! | C9: =VLOOKUP($A9,#REF!,3,FALSE) -> #REF! | D9: =VLOOKUP($A9,#REF!,4,FALSE) -> #REF! | E9: =VLOOKUP($A9,#REF!,5,FALSE) -> #REF! | F9: =VLOOKUP($A9,#REF!,6,FALSE) -> #REF! | G9: =VLOOKUP($A9,#REF!,7,FALSE) -> #REF! | H9: =SUM(I9:W9) -> 0
A10: 6 | B10: =VLOOKUP($A10,#REF!,2,FALSE) -> #REF! | C10: =VLOOKUP($A10,#REF!,3,FALSE) -> #REF! | D10: =VLOOKUP($A10,#REF!,4,FALSE) -> #REF! | E10: =VLOOKUP($A10,#REF!,5,FALSE) -> #REF! | F10: =VLOOKUP($A10,#REF!,6,FALSE) -> #REF! | G10: =VLOOKUP($A10,#REF!,7,FALSE) -> #REF! | H10: =SUM(I10:W10) -> 0
A11: 7 | B11: =VLOOKUP($A11,#REF!,2,FALSE) -> #REF! | C11: =VLOOKUP($A11,#REF!,3,FALSE) -> #REF! | D11: =VLOOKUP($A11,#REF!,4,FALSE) -> #REF! | E11: =VLOOKUP($A11,#REF!,5,FALSE) -> #REF! | F11: =VLOOKUP($A11,#REF!,6,FALSE) -> #REF! | G11: =VLOOKUP($A11,#REF!,7,FALSE) -> #REF! | H11: =SUM(I11:W11) -> 0
A12: 8 | B12: =VLOOKUP($A12,#REF!,2,FALSE) -> #REF! | C12: =VLOOKUP($A12,#REF!,3,FALSE) -> #REF! | D12: =VLOOKUP($A12,#REF!,4,FALSE) -> #REF! | E12: =VLOOKUP($A12,#REF!,5,FALSE) -> #REF! | F12: =VLOOKUP($A12,#REF!,6,FALSE) -> #REF! | G12: =VLOOKUP($A12,#REF!,7,FALSE) -> #REF! | H12: =SUM(I12:W12) -> 0
A13: 9 | B13: =VLOOKUP($A13,#REF!,2,FALSE) -> #REF! | C13: =VLOOKUP($A13,#REF!,3,FALSE) -> #REF! | D13: =VLOOKUP($A13,#REF!,4,FALSE) -> #REF! | E13: =VLOOKUP($A13,#REF!,5,FALSE) -> #REF! | F13: =VLOOKUP($A13,#REF!,6,FALSE) -> #REF! | G13: =VLOOKUP($A13,#REF!,7,FALSE) -> #REF! | H13: =SUM(I13:W13) -> 0
A14: 10 | B14: =VLOOKUP($A14,#REF!,2,FALSE) -> #REF! | C14: =VLOOKUP($A14,#REF!,3,FALSE) -> #REF! | D14: =VLOOKUP($A14,#REF!,4,FALSE) -> #REF! | E14: =VLOOKUP($A14,#REF!,5,FALSE) -> #REF! | F14: =VLOOKUP($A14,#REF!,6,FALSE) -> #REF! | G14: =VLOOKUP($A14,#REF!,7,FALSE) -> #REF! | H14: =SUM(I14:W14) -> 0
A15: 11 | B15: =VLOOKUP($A15,#REF!,2,FALSE) -> #REF! | C15: =VLOOKUP($A15,#REF!,3,FALSE) -> #REF! | D15: =VLOOKUP($A15,#REF!,4,FALSE) -> #REF! | E15: =VLOOKUP($A15,#REF!,5,FALSE) -> #REF! | F15: =VLOOKUP($A15,#REF!,6,FALSE) -> #REF! | G15: =VLOOKUP($A15,#REF!,7,FALSE) -> #REF! | H15: =SUM(I15:W15) -> 0
A16: 12 | B16: =VLOOKUP($A16,#REF!,2,FALSE) -> #REF! | C16: =VLOOKUP($A16,#REF!,3,FALSE) -> #REF! | D16: =VLOOKUP($A16,#REF!,4,FALSE) -> #REF! | E16: =VLOOKUP($A16,#REF!,5,FALSE) -> #REF! | F16: =VLOOKUP($A16,#REF!,6,FALSE) -> #REF! | G16: =VLOOKUP($A16,#REF!,7,FALSE) -> #REF! | H16: =SUM(I16:W16) -> 0
... A982: 978 | B982: =VLOOKUP($A982,#REF!,2,FALSE) -> #REF! | C982: =VLOOKUP($A982,#REF!,3,FALSE) -> #REF! | D982: =VLOOKUP($A982,#REF!,4,FALSE) -> #REF! | E982: =VLOOKUP($A982,#REF!,5,FALSE) -> #REF! | F982: =VLOOKUP($A982,#REF!,6,FALSE) -> #REF! | G982: =VLOOKUP($A982,#REF!,7,FALSE) -> #REF! | H982: =SUM(I982:W982) -> 0
B983: 소 계 | H983: =SUM(H5:H982) -> 0 | I983: =SUM(I5:I982) -> 0 | J983: =SUM(J5:J982) -> 0 | K983: =SUM(K5:K982) -> 0 | L983: =SUM(L5:L982) -> 0 | M983: =SUM(M5:M982) -> 0 | N983: =SUM(N5:N982) -> 0 | O983: =SUM(O5:O982) -> 0 | ... W983: =SUM(W5:W982) -> 0

Sheet 7
B1: 세 부 물 량 표
B2: =공사원가계산서!B2 -> ■공사명 : 그린나래 지하차도 상부 교통사고 잦은 곳 개선 공사(전기) | F2: ="장소 : "&#REF! -> #REF!
B3: No | C3: 품 명 | D3: 규 격 | G3: 단위 | H3: 수량 | I3: A | J3: B | K3: C | L3: D | M3: E | N3: 1 | O3: 2 | P3: 3 | Q3: 4 | R3: 5 | S3: 6 | T3: 7 | U3: 8 | V3: 9 | W3: 10
A5: 1 | B5: =VLOOKUP($A5,#REF!,2,FALSE) -> #REF! | C5: =VLOOKUP($A5,#REF!,3,FALSE) -> #REF! | D5: =VLOOKUP($A5,#REF!,4,FALSE) -> #REF! | E5: =VLOOKUP($A5,#REF!,5,FALSE) -> #REF! | F5: =VLOOKUP($A5,#REF!,6,FALSE) -> #REF! | G5: =VLOOKUP($A5,#REF!,7,FALSE) -> #REF! | H5: =SUM(I5:W5) -> 0
A6: 2 | B6: =VLOOKUP($A6,#REF!,2,FALSE) -> #REF! | C6: =VLOOKUP($A6,#REF!,3,FALSE) -> #REF! | D6: =VLOOKUP($A6,#REF!,4,FALSE) -> #REF! | E6: =VLOOKUP($A6,#REF!,5,FALSE) -> #REF! | F6: =VLOOKUP($A6,#REF!,6,FALSE) -> #REF! | G6: =VLOOKUP($A6,#REF!,7,FALSE) -> #REF! | H6: =SUM(I6:W6) -> 0
A7: 3 | B7: =VLOOKUP($A7,#REF!,2,FALSE) -> #REF! | C7: =VLOOKUP($A7,#REF!,3,FALSE) -> #REF! | D7: =VLOOKUP($A7,#REF!,4,FALSE) -> #REF! | E7: =VLOOKUP($A7,#REF!,5,FALSE) -> #REF! | F7: =VLOOKUP($A7,#REF!,6,FALSE) -> #REF! | G7: =VLOOKUP($A7,#REF!,7,FALSE) -> #REF! | H7: =SUM(I7:W7) -> 0
A8: 4 | B8: =VLOOKUP($A8,#REF!,2,FALSE) -> #REF! | C8: =VLOOKUP($A8,#REF!,3,FALSE) -> #REF! | D8: =VLOOKUP($A8,#REF!,4,FALSE) -> #REF! | E8: =VLOOKUP($A8,#REF!,5,FALSE) -> #REF! | F8: =VLOOKUP($A8,#REF!,6,FALSE) -> #REF! | G8: =VLOOKUP($A8,#REF!,7,FALSE) -> #REF! | H8: =SUM(I8:W8) -> 0
A9: 5 | B9: =VLOOKUP($A9,#REF!,2,FALSE) -> #REF! | C9: =VLOOKUP($A9,#REF!,3,FALSE) -> #REF! | D9: =VLOOKUP($A9,#REF!,4,FALSE) -> #REF! | E9: =VLOOKUP($A9,#REF!,5,FALSE) -> #REF! | F9: =VLOOKUP($A9,#REF!,6,FALSE) -> #REF! | G9: =VLOOKUP($A9,#REF!,7,FALSE) -> #REF! | H9: =SUM(I9:W9) -> 0
A10: 6 | B10: =VLOOKUP($A10,#REF!,2,FALSE) -> #REF! | C10: =VLOOKUP($A10,#REF!,3,FALSE) -> #REF! | D10: =VLOOKUP($A10,#REF!,4,FALSE) -> #REF! | E10: =VLOOKUP($A10,#REF!,5,FALSE) -> #REF! | F10: =VLOOKUP($A10,#REF!,6,FALSE) -> #REF! | G10: =VLOOKUP($A10,#REF!,7,FALSE) -> #REF! | H10: =SUM(I10:W10) -> 0
A11: 7 | B11: =VLOOKUP($A11,#REF!,2,FALSE) -> #REF! | C11: =VLOOKUP($A11,#REF!,3,FALSE) -> #REF! | D11: =VLOOKUP($A11,#REF!,4,FALSE) -> #REF! | E11: =VLOOKUP($A11,#REF!,5,FALSE) -> #REF! | F11: =VLOOKUP($A11,#REF!,6,FALSE) -> #REF! | G11: =VLOOKUP($A11,#REF!,7,FALSE) -> #REF! | H11: =SUM(I11:W11) -> 0
A12: 8 | B12: =VLOOKUP($A12,#REF!,2,FALSE) -> #REF! | C12: =VLOOKUP($A12,#REF!,3,FALSE) -> #REF! | D12: =VLOOKUP($A12,#REF!,4,FALSE) -> #REF! | E12: =VLOOKUP($A12,#REF!,5,FALSE) -> #REF! | F12: =VLOOKUP($A12,#REF!,6,FALSE) -> #REF! | G12: =VLOOKUP($A12,#REF!,7,FALSE) -> #REF! | H12: =SUM(I12:W12) -> 0
A13: 9 | B13: =VLOOKUP($A13,#REF!,2,FALSE) -> #REF! | C13: =VLOOKUP($A13,#REF!,3,FALSE) -> #REF! | D13: =VLOOKUP($A13,#REF!,4,FALSE) -> #REF! | E13: =VLOOKUP($A13,#REF!,5,FALSE) -> #REF! | F13: =VLOOKUP($A13,#REF!,6,FALSE) -> #REF! | G13: =VLOOKUP($A13,#REF!,7,FALSE) -> #REF! | H13: =SUM(I13:W13) -> 0
A14: 10 | B14: =VLOOKUP($A14,#REF!,2,FALSE) -> #REF! | C14: =VLOOKUP($A14,#REF!,3,FALSE) -> #REF! | D14: =VLOOKUP($A14,#REF!,4,FALSE) -> #REF! | E14: =VLOOKUP($A14,#REF!,5,FALSE) -> #REF! | F14: =VLOOKUP($A14,#REF!,6,FALSE) -> #REF! | G14: =VLOOKUP($A14,#REF!,7,FALSE) -> #REF! | H14: =SUM(I14:W14) -> 0
A15: 11 | B15: =VLOOKUP($A15,#REF!,2,FALSE) -> #REF! | C15: =VLOOKUP($A15,#REF!,3,FALSE) -> #REF! | D15: =VLOOKUP($A15,#REF!,4,FALSE) -> #REF! | E15: =VLOOKUP($A15,#REF!,5,FALSE) -> #REF! | F15: =VLOOKUP($A15,#REF!,6,FALSE) -> #REF! | G15: =VLOOKUP($A15,#REF!,7,FALSE) -> #REF! | H15: =SUM(I15:W15) -> 0
A16: 12 | B16: =VLOOKUP($A16,#REF!,2,FALSE) -> #REF! | C16: =VLOOKUP($A16,#REF!,3,FALSE) -> #REF! | D16: =VLOOKUP($A16,#REF!,4,FALSE) -> #REF! | E16: =VLOOKUP($A16,#REF!,5,FALSE) -> #REF! | F16: =VLOOKUP($A16,#REF!,6,FALSE) -> #REF! | G16: =VLOOKUP($A16,#REF!,7,FALSE) -> #REF! | H16: =SUM(I16:W16) -> 0
... A982: 978 | B982: =VLOOKUP($A982,#REF!,2,FALSE) -> #REF! | C982: =VLOOKUP($A982,#REF!,3,FALSE) -> #REF! | D982: =VLOOKUP($A982,#REF!,4,FALSE) -> #REF! | E982: =VLOOKUP($A982,#REF!,5,FALSE) -> #REF! | F982: =VLOOKUP($A982,#REF!,6,FALSE) -> #REF! | G982: =VLOOKUP($A982,#REF!,7,FALSE) -> #REF! | H982: =SUM(I982:W982) -> 0
B983: 소 계 | H983: =SUM(H5:H982) -> 0 | I983: =SUM(I5:I982) -> 0 | J983: =SUM(J5:J982) -> 0 | K983: =SUM(K5:K982) -> 0 | L983: =SUM(L5:L982) -> 0 | M983: =SUM(M5:M982) -> 0 | N983: =SUM(N5:N982) -> 0 | O983: =SUM(O5:O982) -> 0 | ... W983: =SUM(W5:W982) -> 0

Sheet 8
B1: 세 부 물 량 표
B2: =공사원가계산서!B2 -> ■공사명 : 그린나래 지하차도 상부 교통사고 잦은 곳 개선 공사(전기) | F2: ="장소 : "&#REF! -> #REF!
B3: No | C3: 품 명 | D3: 규 격 | G3: 단위 | H3: 수량 | I3: A | J3: B | K3: C | L3: D | M3: E | N3: 1 | O3: 2 | P3: 3 | Q3: 4 | R3: 5 | S3: 6 | T3: 7 | U3: 8 | V3: 9 | W3: 10
A5: 1 | B5: =VLOOKUP($A5,#REF!,2,FALSE) -> #REF! | C5: =VLOOKUP($A5,#REF!,3,FALSE) -> #REF! | D5: =VLOOKUP($A5,#REF!,4,FALSE) -> #REF! | E5: =VLOOKUP($A5,#REF!,5,FALSE) -> #REF! | F5: =VLOOKUP($A5,#REF!,6,FALSE) -> #REF! | G5: =VLOOKUP($A5,#REF!,7,FALSE) -> #REF! | H5: =SUM(I5:W5) -> 0
A6: 2 | B6: =VLOOKUP($A6,#REF!,2,FALSE) -> #REF! | C6: =VLOOKUP($A6,#REF!,3,FALSE) -> #REF! | D6: =VLOOKUP($A6,#REF!,4,FALSE) -> #REF! | E6: =VLOOKUP($A6,#REF!,5,FALSE) -> #REF! | F6: =VLOOKUP($A6,#REF!,6,FALSE) -> #REF! | G6: =VLOOKUP($A6,#REF!,7,FALSE) -> #REF! | H6: =SUM(I6:W6) -> 0
A7: 3 | B7: =VLOOKUP($A7,#REF!,2,FALSE) -> #REF! | C7: =VLOOKUP($A7,#REF!,3,FALSE) -> #REF! | D7: =VLOOKUP($A7,#REF!,4,FALSE) -> #REF! | E7: =VLOOKUP($A7,#REF!,5,FALSE) -> #REF! | F7: =VLOOKUP($A7,#REF!,6,FALSE) -> #REF! | G7: =VLOOKUP($A7,#REF!,7,FALSE) -> #REF! | H7: =SUM(I7:W7) -> 0
A8: 4 | B8: =VLOOKUP($A8,#REF!,2,FALSE) -> #REF! | C8: =VLOOKUP($A8,#REF!,3,FALSE) -> #REF! | D8: =VLOOKUP($A8,#REF!,4,FALSE) -> #REF! | E8: =VLOOKUP($A8,#REF!,5,FALSE) -> #REF! | F8: =VLOOKUP($A8,#REF!,6,FALSE) -> #REF! | G8: =VLOOKUP($A8,#REF!,7,FALSE) -> #REF! | H8: =SUM(I8:W8) -> 0
A9: 5 | B9: =VLOOKUP($A9,#REF!,2,FALSE) -> #REF! | C9: =VLOOKUP($A9,#REF!,3,FALSE) -> #REF! | D9: =VLOOKUP($A9,#REF!,4,FALSE) -> #REF! | E9: =VLOOKUP($A9,#REF!,5,FALSE) -> #REF! | F9: =VLOOKUP($A9,#REF!,6,FALSE) -> #REF! | G9: =VLOOKUP($A9,#REF!,7,FALSE) -> #REF! | H9: =SUM(I9:W9) -> 0
A10: 6 | B10: =VLOOKUP($A10,#REF!,2,FALSE) -> #REF! | C10: =VLOOKUP($A10,#REF!,3,FALSE) -> #REF! | D10: =VLOOKUP($A10,#REF!,4,FALSE) -> #REF! | E10: =VLOOKUP($A10,#REF!,5,FALSE) -> #REF! | F10: =VLOOKUP($A10,#REF!,6,FALSE) -> #REF! | G10: =VLOOKUP($A10,#REF!,7,FALSE) -> #REF! | H10: =SUM(I10:W10) -> 0
A11: 7 | B11: =VLOOKUP($A11,#REF!,2,FALSE) -> #REF! | C11: =VLOOKUP($A11,#REF!,3,FALSE) -> #REF! | D11: =VLOOKUP($A11,#REF!,4,FALSE) -> #REF! | E11: =VLOOKUP($A11,#REF!,5,FALSE) -> #REF! | F11: =VLOOKUP($A11,#REF!,6,FALSE) -> #REF! | G11: =VLOOKUP($A11,#REF!,7,FALSE) -> #REF! | H11: =SUM(I11:W11) -> 0
A12: 8 | B12: =VLOOKUP($A12,#REF!,2,FALSE) -> #REF! | C12: =VLOOKUP($A12,#REF!,3,FALSE) -> #REF! | D12: =VLOOKUP($A12,#REF!,4,FALSE) -> #REF! | E12: =VLOOKUP($A12,#REF!,5,FALSE) -> #REF! | F12: =VLOOKUP($A12,#REF!,6,FALSE) -> #REF! | G12: =VLOOKUP($A12,#REF!,7,FALSE) -> #REF! | H12: =SUM(I12:W12) -> 0
A13: 9 | B13: =VLOOKUP($A13,#REF!,2,FALSE) -> #REF! | C13: =VLOOKUP($A13,#REF!,3,FALSE) -> #REF! | D13: =VLOOKUP($A13,#REF!,4,FALSE) -> #REF! | E13: =VLOOKUP($A13,#REF!,5,FALSE) -> #REF! | F13: =VLOOKUP($A13,#REF!,6,FALSE) -> #REF! | G13: =VLOOKUP($A13,#REF!,7,FALSE) -> #REF! | H13: =SUM(I13:W13) -> 0
A14: 10 | B14: =VLOOKUP($A14,#REF!,2,FALSE) -> #REF! | C14: =VLOOKUP($A14,#REF!,3,FALSE) -> #REF! | D14: =VLOOKUP($A14,#REF!,4,FALSE) -> #REF! | E14: =VLOOKUP($A14,#REF!,5,FALSE) -> #REF! | F14: =VLOOKUP($A14,#REF!,6,FALSE) -> #REF! | G14: =VLOOKUP($A14,#REF!,7,FALSE) -> #REF! | H14: =SUM(I14:W14) -> 0
A15: 11 | B15: =VLOOKUP($A15,#REF!,2,FALSE) -> #REF! | C15: =VLOOKUP($A15,#REF!,3,FALSE) -> #REF! | D15: =VLOOKUP($A15,#REF!,4,FALSE) -> #REF! | E15: =VLOOKUP($A15,#REF!,5,FALSE) -> #REF! | F15: =VLOOKUP($A15,#REF!,6,FALSE) -> #REF! | G15: =VLOOKUP($A15,#REF!,7,FALSE) -> #REF! | H15: =SUM(I15:W15) -> 0
A16: 12 | B16: =VLOOKUP($A16,#REF!,2,FALSE) -> #REF! | C16: =VLOOKUP($A16,#REF!,3,FALSE) -> #REF! | D16: =VLOOKUP($A16,#REF!,4,FALSE) -> #REF! | E16: =VLOOKUP($A16,#REF!,5,FALSE) -> #REF! | F16: =VLOOKUP($A16,#REF!,6,FALSE) -> #REF! | G16: =VLOOKUP($A16,#REF!,7,FALSE) -> #REF! | H16: =SUM(I16:W16) -> 0
... A982: 978 | B982: =VLOOKUP($A982,#REF!,2,FALSE) -> #REF! | C982: =VLOOKUP($A982,#REF!,3,FALSE) -> #REF! | D982: =VLOOKUP($A982,#REF!,4,FALSE) -> #REF! | E982: =VLOOKUP($A982,#REF!,5,FALSE) -> #REF! | F982: =VLOOKUP($A982,#REF!,6,FALSE) -> #REF! | G982: =VLOOKUP($A982,#REF!,7,FALSE) -> #REF! | H982: =SUM(I982:W982) -> 0
B983: 소 계 | H983: =SUM(H5:H982) -> 0 | I983: =SUM(I5:I982) -> 0 | J983: =SUM(J5:J982) -> 0 | K983: =SUM(K5:K982) -> 0 | L983: =SUM(L5:L982) -> 0 | M983: =SUM(M5:M982) -> 0 | N983: =SUM(N5:N982) -> 0 | O983: =SUM(O5:O982) -> 0 | ... W983: =SUM(W5:W982) -> 0

Sheet 9
B1: 세 부 물 량 표
B2: =공사원가계산서!B2 -> ■공사명 : 그린나래 지하차도 상부 교통사고 잦은 곳 개선 공사(전기) | F2: ="장소 : "&#REF! -> #REF!
B3: No | C3: 품 명 | D3: 규 격 | G3: 단위 | H3: 수량 | I3: A | J3: B | K3: C | L3: D | M3: E | N3: 1 | O3: 2 | P3: 3 | Q3: 4 | R3: 5 | S3: 6 | T3: 7 | U3: 8 | V3: 9 | W3: 10
A5: 1 | B5: =VLOOKUP($A5,#REF!,2,FALSE) -> #REF! | C5: =VLOOKUP($A5,#REF!,3,FALSE) -> #REF! | D5: =VLOOKUP($A5,#REF!,4,FALSE) -> #REF! | E5: =VLOOKUP($A5,#REF!,5,FALSE) -> #REF! | F5: =VLOOKUP($A5,#REF!,6,FALSE) -> #REF! | G5: =VLOOKUP($A5,#REF!,7,FALSE) -> #REF! | H5: =SUM(I5:W5) -> 0
A6: 2 | B6: =VLOOKUP($A6,#REF!,2,FALSE) -> #REF! | C6: =VLOOKUP($A6,#REF!,3,FALSE) -> #REF! | D6: =VLOOKUP($A6,#REF!,4,FALSE) -> #REF! | E6: =VLOOKUP($A6,#REF!,5,FALSE) -> #REF! | F6: =VLOOKUP($A6,#REF!,6,FALSE) -> #REF! | G6: =VLOOKUP($A6,#REF!,7,FALSE) -> #REF! | H6: =SUM(I6:W6) -> 0
A7: 3 | B7: =VLOOKUP($A7,#REF!,2,FALSE) -> #REF! | C7: =VLOOKUP($A7,#REF!,3,FALSE) -> #REF! | D7: =VLOOKUP($A7,#REF!,4,FALSE) -> #REF! | E7: =VLOOKUP($A7,#REF!,5,FALSE) -> #REF! | F7: =VLOOKUP($A7,#REF!,6,FALSE) -> #REF! | G7: =VLOOKUP($A7,#REF!,7,FALSE) -> #REF! | H7: =SUM(I7:W7) -> 0
A8: 4 | B8: =VLOOKUP($A8,#REF!,2,FALSE) -> #REF! | C8: =VLOOKUP($A8,#REF!,3,FALSE) -> #REF! | D8: =VLOOKUP($A8,#REF!,4,FALSE) -> #REF! | E8: =VLOOKUP($A8,#REF!,5,FALSE) -> #REF! | F8: =VLOOKUP($A8,#REF!,6,FALSE) -> #REF! | G8: =VLOOKUP($A8,#REF!,7,FALSE) -> #REF! | H8: =SUM(I8:W8) -> 0
A9: 5 | B9: =VLOOKUP($A9,#REF!,2,FALSE) -> #REF! | C9: =VLOOKUP($A9,#REF!,3,FALSE) -> #REF! | D9: =VLOOKUP($A9,#REF!,4,FALSE) -> #REF! | E9: =VLOOKUP($A9,#REF!,5,FALSE) -> #REF! | F9: =VLOOKUP($A9,#REF!,6,FALSE) -> #REF! | G9: =VLOOKUP($A9,#REF!,7,FALSE) -> #REF! | H9: =SUM(I9:W9) -> 0
A10: 6 | B10: =VLOOKUP($A10,#REF!,2,FALSE) -> #REF! | C10: =VLOOKUP($A10,#REF!,3,FALSE) -> #REF! | D10: =VLOOKUP($A10,#REF!,4,FALSE) -> #REF! | E10: =VLOOKUP($A10,#REF!,5,FALSE) -> #REF! | F10: =VLOOKUP($A10,#REF!,6,FALSE) -> #REF! | G10: =VLOOKUP($A10,#REF!,7,FALSE) -> #REF! | H10: =SUM(I10:W10) -> 0
A11: 7 | B11: =VLOOKUP($A11,#REF!,2,FALSE) -> #REF! | C11: =VLOOKUP($A11,#REF!,3,FALSE) -> #REF! | D11: =VLOOKUP($A11,#REF!,4,FALSE) -> #REF! | E11: =VLOOKUP($A11,#REF!,5,FALSE) -> #REF! | F11: =VLOOKUP($A11,#REF!,6,FALSE) -> #REF! | G11: =VLOOKUP($A11,#REF!,7,FALSE) -> #REF! | H11: =SUM(I11:W11) -> 0
A12: 8 | B12: =VLOOKUP($A12,#REF!,2,FALSE) -> #REF! | C12: =VLOOKUP($A12,#REF!,3,FALSE) -> #REF! | D12: =VLOOKUP($A12,#REF!,4,FALSE) -> #REF! | E12: =VLOOKUP($A12,#REF!,5,FALSE) -> #REF! | F12: =VLOOKUP($A12,#REF!,6,FALSE) -> #REF! | G12: =VLOOKUP($A12,#REF!,7,FALSE) -> #REF! | H12: =SUM(I12:W12) -> 0
A13: 9 | B13: =VLOOKUP($A13,#REF!,2,FALSE) -> #REF! | C13: =VLOOKUP($A13,#REF!,3,FALSE) -> #REF! | D13: =VLOOKUP($A13,#REF!,4,FALSE) -> #REF! | E13: =VLOOKUP($A13,#REF!,5,FALSE) -> #REF! | F13: =VLOOKUP($A13,#REF!,6,FALSE) -> #REF! | G13: =VLOOKUP($A13,#REF!,7,FALSE) -> #REF! | H13: =SUM(I13:W13) -> 0
A14: 10 | B14: =VLOOKUP($A14,#REF!,2,FALSE) -> #REF! | C14: =VLOOKUP($A14,#REF!,3,FALSE) -> #REF! | D14: =VLOOKUP($A14,#REF!,4,FALSE) -> #REF! | E14: =VLOOKUP($A14,#REF!,5,FALSE) -> #REF! | F14: =VLOOKUP($A14,#REF!,6,FALSE) -> #REF! | G14: =VLOOKUP($A14,#REF!,7,FALSE) -> #REF! | H14: =SUM(I14:W14) -> 0
A15: 11 | B15: =VLOOKUP($A15,#REF!,2,FALSE) -> #REF! | C15: =VLOOKUP($A15,#REF!,3,FALSE) -> #REF! | D15: =VLOOKUP($A15,#REF!,4,FALSE) -> #REF! | E15: =VLOOKUP($A15,#REF!,5,FALSE) -> #REF! | F15: =VLOOKUP($A15,#REF!,6,FALSE) -> #REF! | G15: =VLOOKUP($A15,#REF!,7,FALSE) -> #REF! | H15: =SUM(I15:W15) -> 0
A16: 12 | B16: =VLOOKUP($A16,#REF!,2,FALSE) -> #REF! | C16: =VLOOKUP($A16,#REF!,3,FALSE) -> #REF! | D16: =VLOOKUP($A16,#REF!,4,FALSE) -> #REF! | E16: =VLOOKUP($A16,#REF!,5,FALSE) -> #REF! | F16: =VLOOKUP($A16,#REF!,6,FALSE) -> #REF! | G16: =VLOOKUP($A16,#REF!,7,FALSE) -> #REF! | H16: =SUM(I16:W16) -> 0
... A982: 978 | B982: =VLOOKUP($A982,#REF!,2,FALSE) -> #REF! | C982: =VLOOKUP($A982,#REF!,3,FALSE) -> #REF! | D982: =VLOOKUP($A982,#REF!,4,FALSE) -> #REF! | E982: =VLOOKUP($A982,#REF!,5,FALSE) -> #REF! | F982: =VLOOKUP($A982,#REF!,6,FALSE) -> #REF! | G982: =VLOOKUP($A982,#REF!,7,FALSE) -> #REF! | H982: =SUM(I982:W982) -> 0
B983: 소 계 | H983: =SUM(H5:H982) -> 0 | I983: =SUM(I5:I982) -> 0 | J983: =SUM(J5:J982) -> 0 | K983: =SUM(K5:K982) -> 0 | L983: =SUM(L5:L982) -> 0 | M983: =SUM(M5:M982) -> 0 | N983: =SUM(N5:N982) -> 0 | O983: =SUM(O5:O982) -> 0 | ... W983: =SUM(W5:W982) -> 0

Sheet 10
B1: 세 부 물 량 표
B2: =공사원가계산서!B2 -> ■공사명 : 그린나래 지하차도 상부 교통사고 잦은 곳 개선 공사(전기) | F2: ="장소 : "&#REF! -> #REF!
B3: No | C3: 품 명 | D3: 규 격 | G3: 단위 | H3: 수량 | I3: A | J3: B | K3: C | L3: D | M3: E | N3: 1 | O3: 2 | P3: 3 | Q3: 4 | R3: 5 | S3: 6 | T3: 7 | U3: 8 | V3: 9 | W3: 10
A5: 1 | B5: =VLOOKUP($A5,#REF!,2,FALSE) -> #REF! | C5: =VLOOKUP($A5,#REF!,3,FALSE) -> #REF! | D5: =VLOOKUP($A5,#REF!,4,FALSE) -> #REF! | E5: =VLOOKUP($A5,#REF!,5,FALSE) -> #REF! | F5: =VLOOKUP($A5,#REF!,6,FALSE) -> #REF! | G5: =VLOOKUP($A5,#REF!,7,FALSE) -> #REF! | H5: =SUM(I5:W5) -> 0
A6: 2 | B6: =VLOOKUP($A6,#REF!,2,FALSE) -> #REF! | C6: =VLOOKUP($A6,#REF!,3,FALSE) -> #REF! | D6: =VLOOKUP($A6,#REF!,4,FALSE) -> #REF! | E6: =VLOOKUP($A6,#REF!,5,FALSE) -> #REF! | F6: =VLOOKUP($A6,#REF!,6,FALSE) -> #REF! | G6: =VLOOKUP($A6,#REF!,7,FALSE) -> #REF! | H6: =SUM(I6:W6) -> 0
A7: 3 | B7: =VLOOKUP($A7,#REF!,2,FALSE) -> #REF! | C7: =VLOOKUP($A7,#REF!,3,FALSE) -> #REF! | D7: =VLOOKUP($A7,#REF!,4,FALSE) -> #REF! | E7: =VLOOKUP($A7,#REF!,5,FALSE) -> #REF! | F7: =VLOOKUP($A7,#REF!,6,FALSE) -> #REF! | G7: =VLOOKUP($A7,#REF!,7,FALSE) -> #REF! | H7: =SUM(I7:W7) -> 0
A8: 4 | B8: =VLOOKUP($A8,#REF!,2,FALSE) -> #REF! | C8: =VLOOKUP($A8,#REF!,3,FALSE) -> #REF! | D8: =VLOOKUP($A8,#REF!,4,FALSE) -> #REF! | E8: =VLOOKUP($A8,#REF!,5,FALSE) -> #REF! | F8: =VLOOKUP($A8,#REF!,6,FALSE) -> #REF! | G8: =VLOOKUP($A8,#REF!,7,FALSE) -> #REF! | H8: =SUM(I8:W8) -> 0
A9: 5 | B9: =VLOOKUP($A9,#REF!,2,FALSE) -> #REF! | C9: =VLOOKUP($A9,#REF!,3,FALSE) -> #REF! | D9: =VLOOKUP($A9,#REF!,4,FALSE) -> #REF! | E9: =VLOOKUP($A9,#REF!,5,FALSE) -> #REF! | F9: =VLOOKUP($A9,#REF!,6,FALSE) -> #REF! | G9: =VLOOKUP($A9,#REF!,7,FALSE) -> #REF! | H9: =SUM(I9:W9) -> 0
A10: 6 | B10: =VLOOKUP($A10,#REF!,2,FALSE) -> #REF! | C10: =VLOOKUP($A10,#REF!,3,FALSE) -> #REF! | D10: =VLOOKUP($A10,#REF!,4,FALSE) -> #REF! | E10: =VLOOKUP($A10,#REF!,5,FALSE) -> #REF! | F10: =VLOOKUP($A10,#REF!,6,FALSE) -> #REF! | G10: =VLOOKUP($A10,#REF!,7,FALSE) -> #REF! | H10: =SUM(I10:W10) -> 0
A11: 7 | B11: =VLOOKUP($A11,#REF!,2,FALSE) -> #REF! | C11: =VLOOKUP($A11,#REF!,3,FALSE) -> #REF! | D11: =VLOOKUP($A11,#REF!,4,FALSE) -> #REF! | E11: =VLOOKUP($A11,#REF!,5,FALSE) -> #REF! | F11: =VLOOKUP($A11,#REF!,6,FALSE) -> #REF! | G11: =VLOOKUP($A11,#REF!,7,FALSE) -> #REF! | H11: =SUM(I11:W11) -> 0
A12: 8 | B12: =VLOOKUP($A12,#REF!,2,FALSE) -> #REF! | C12: =VLOOKUP($A12,#REF!,3,FALSE) -> #REF! | D12: =VLOOKUP($A12,#REF!,4,FALSE) -> #REF! | E12: =VLOOKUP($A12,#REF!,5,FALSE) -> #REF! | F12: =VLOOKUP($A12,#REF!,6,FALSE) -> #REF! | G12: =VLOOKUP($A12,#REF!,7,FALSE) -> #REF! | H12: =SUM(I12:W12) -> 0
A13: 9 | B13: =VLOOKUP($A13,#REF!,2,FALSE) -> #REF! | C13: =VLOOKUP($A13,#REF!,3,FALSE) -> #REF! | D13: =VLOOKUP($A13,#REF!,4,FALSE) -> #REF! | E13: =VLOOKUP($A13,#REF!,5,FALSE) -> #REF! | F13: =VLOOKUP($A13,#REF!,6,FALSE) -> #REF! | G13: =VLOOKUP($A13,#REF!,7,FALSE) -> #REF! | H13: =SUM(I13:W13) -> 0
A14: 10 | B14: =VLOOKUP($A14,#REF!,2,FALSE) -> #REF! | C14: =VLOOKUP($A14,#REF!,3,FALSE) -> #REF! | D14: =VLOOKUP($A14,#REF!,4,FALSE) -> #REF! | E14: =VLOOKUP($A14,#REF!,5,FALSE) -> #REF! | F14: =VLOOKUP($A14,#REF!,6,FALSE) -> #REF! | G14: =VLOOKUP($A14,#REF!,7,FALSE) -> #REF! | H14: =SUM(I14:W14) -> 0
A15: 11 | B15: =VLOOKUP($A15,#REF!,2,FALSE) -> #REF! | C15: =VLOOKUP($A15,#REF!,3,FALSE) -> #REF! | D15: =VLOOKUP($A15,#REF!,4,FALSE) -> #REF! | E15: =VLOOKUP($A15,#REF!,5,FALSE) -> #REF! | F15: =VLOOKUP($A15,#REF!,6,FALSE) -> #REF! | G15: =VLOOKUP($A15,#REF!,7,FALSE) -> #REF! | H15: =SUM(I15:W15) -> 0
A16: 12 | B16: =VLOOKUP($A16,#REF!,2,FALSE) -> #REF! | C16: =VLOOKUP($A16,#REF!,3,FALSE) -> #REF! | D16: =VLOOKUP($A16,#REF!,4,FALSE) -> #REF! | E16: =VLOOKUP($A16,#REF!,5,FALSE) -> #REF! | F16: =VLOOKUP($A16,#REF!,6,FALSE) -> #REF! | G16: =VLOOKUP($A16,#REF!,7,FALSE) -> #REF! | H16: =SUM(I16:W16) -> 0
... A982: 978 | B982: =VLOOKUP($A982,#REF!,2,FALSE) -> #REF! | C982: =VLOOKUP($A982,#REF!,3,FALSE) -> #REF! | D982: =VLOOKUP($A982,#REF!,4,FALSE) -> #REF! | E982: =VLOOKUP($A982,#REF!,5,FALSE) -> #REF! | F982: =VLOOKUP($A982,#REF!,6,FALSE) -> #REF! | G982: =VLOOKUP($A982,#REF!,7,FALSE) -> #REF! | H982: =SUM(I982:W982) -> 0
B983: 소 계 | H983: =SUM(H5:H982) -> 0 | I983: =SUM(I5:I982) -> 0 | J983: =SUM(J5:J982) -> 0 | K983: =SUM(K5:K982) -> 0 | L983: =SUM(L5:L982) -> 0 | M983: =SUM(M5:M982) -> 0 | N983: =SUM(N5:N982) -> 0 | O983: =SUM(O5:O982) -> 0 | ... W983: =SUM(W5:W982) -> 0

Sheet 11
B1: 세 부 물 량 표
B2: =공사원가계산서!B2 -> ■공사명 : 그린나래 지하차도 상부 교통사고 잦은 곳 개선 공사(전기) | F2: ="장소 : "&#REF! -> #REF!
B3: No | C3: 품 명 | D3: 규 격 | G3: 단위 | H3: 수량 | I3: A | J3: B | K3: C | L3: D | M3: E | N3: 1 | O3: 2 | P3: 3 | Q3: 4 | R3: 5 | S3: 6 | T3: 7 | U3: 8 | V3: 9 | W3: 10
A5: 1 | B5: =VLOOKUP($A5,#REF!,2,FALSE) -> #REF! | C5: =VLOOKUP($A5,#REF!,3,FALSE) -> #REF! | D5: =VLOOKUP($A5,#REF!,4,FALSE) -> #REF! | E5: =VLOOKUP($A5,#REF!,5,FALSE) -> #REF! | F5: =VLOOKUP($A5,#REF!,6,FALSE) -> #REF! | G5: =VLOOKUP($A5,#REF!,7,FALSE) -> #REF! | H5: =SUM(I5:W5) -> 0
A6: 2 | B6: =VLOOKUP($A6,#REF!,2,FALSE) -> #REF! | C6: =VLOOKUP($A6,#REF!,3,FALSE) -> #REF! | D6: =VLOOKUP($A6,#REF!,4,FALSE) -> #REF! | E6: =VLOOKUP($A6,#REF!,5,FALSE) -> #REF! | F6: =VLOOKUP($A6,#REF!,6,FALSE) -> #REF! | G6: =VLOOKUP($A6,#REF!,7,FALSE) -> #REF! | H6: =SUM(I6:W6) -> 0
A7: 3 | B7: =VLOOKUP($A7,#REF!,2,FALSE) -> #REF! | C7: =VLOOKUP($A7,#REF!,3,FALSE) -> #REF! | D7: =VLOOKUP($A7,#REF!,4,FALSE) -> #REF! | E7: =VLOOKUP($A7,#REF!,5,FALSE) -> #REF! | F7: =VLOOKUP($A7,#REF!,6,FALSE) -> #REF! | G7: =VLOOKUP($A7,#REF!,7,FALSE) -> #REF! | H7: =SUM(I7:W7) -> 0
A8: 4 | B8: =VLOOKUP($A8,#REF!,2,FALSE) -> #REF! | C8: =VLOOKUP($A8,#REF!,3,FALSE) -> #REF! | D8: =VLOOKUP($A8,#REF!,4,FALSE) -> #REF! | E8: =VLOOKUP($A8,#REF!,5,FALSE) -> #REF! | F8: =VLOOKUP($A8,#REF!,6,FALSE) -> #REF! | G8: =VLOOKUP($A8,#REF!,7,FALSE) -> #REF! | H8: =SUM(I8:W8) -> 0
A9: 5 | B9: =VLOOKUP($A9,#REF!,2,FALSE) -> #REF! | C9: =VLOOKUP($A9,#REF!,3,FALSE) -> #REF! | D9: =VLOOKUP($A9,#REF!,4,FALSE) -> #REF! | E9: =VLOOKUP($A9,#REF!,5,FALSE) -> #REF! | F9: =VLOOKUP($A9,#REF!,6,FALSE) -> #REF! | G9: =VLOOKUP($A9,#REF!,7,FALSE) -> #REF! | H9: =SUM(I9:W9) -> 0
A10: 6 | B10: =VLOOKUP($A10,#REF!,2,FALSE) -> #REF! | C10: =VLOOKUP($A10,#REF!,3,FALSE) -> #REF! | D10: =VLOOKUP($A10,#REF!,4,FALSE) -> #REF! | E10: =VLOOKUP($A10,#REF!,5,FALSE) -> #REF! | F10: =VLOOKUP($A10,#REF!,6,FALSE) -> #REF! | G10: =VLOOKUP($A10,#REF!,7,FALSE) -> #REF! | H10: =SUM(I10:W10) -> 0
A11: 7 | B11: =VLOOKUP($A11,#REF!,2,FALSE) -> #REF! | C11: =VLOOKUP($A11,#REF!,3,FALSE) -> #REF! | D11: =VLOOKUP($A11,#REF!,4,FALSE) -> #REF! | E11: =VLOOKUP($A11,#REF!,5,FALSE) -> #REF! | F11: =VLOOKUP($A11,#REF!,6,FALSE) -> #REF! | G11: =VLOOKUP($A11,#REF!,7,FALSE) -> #REF! | H11: =SUM(I11:W11) -> 0
A12: 8 | B12: =VLOOKUP($A12,#REF!,2,FALSE) -> #REF! | C12: =VLOOKUP($A12,#REF!,3,FALSE) -> #REF! | D12: =VLOOKUP($A12,#REF!,4,FALSE) -> #REF! | E12: =VLOOKUP($A12,#REF!,5,FALSE) -> #REF! | F12: =VLOOKUP($A12,#REF!,6,FALSE) -> #REF! | G12: =VLOOKUP($A12,#REF!,7,FALSE) -> #REF! | H12: =SUM(I12:W12) -> 0
A13: 9 | B13: =VLOOKUP($A13,#REF!,2,FALSE) -> #REF! | C13: =VLOOKUP($A13,#REF!,3,FALSE) -> #REF! | D13: =VLOOKUP($A13,#REF!,4,FALSE) -> #REF! | E13: =VLOOKUP($A13,#REF!,5,FALSE) -> #REF! | F13: =VLOOKUP($A13,#REF!,6,FALSE) -> #REF! | G13: =VLOOKUP($A13,#REF!,7,FALSE) -> #REF! | H13: =SUM(I13:W13) -> 0
A14: 10 | B14: =VLOOKUP($A14,#REF!,2,FALSE) -> #REF! | C14: =VLOOKUP($A14,#REF!,3,FALSE) -> #REF! | D14: =VLOOKUP($A14,#REF!,4,FALSE) -> #REF! | E14: =VLOOKUP($A14,#REF!,5,FALSE) -> #REF! | F14: =VLOOKUP($A14,#REF!,6,FALSE) -> #REF! | G14: =VLOOKUP($A14,#REF!,7,FALSE) -> #REF! | H14: =SUM(I14:W14) -> 0
A15: 11 | B15: =VLOOKUP($A15,#REF!,2,FALSE) -> #REF! | C15: =VLOOKUP($A15,#REF!,3,FALSE) -> #REF! | D15: =VLOOKUP($A15,#REF!,4,FALSE) -> #REF! | E15: =VLOOKUP($A15,#REF!,5,FALSE) -> #REF! | F15: =VLOOKUP($A15,#REF!,6,FALSE) -> #REF! | G15: =VLOOKUP($A15,#REF!,7,FALSE) -> #REF! | H15: =SUM(I15:W15) -> 0
A16: 12 | B16: =VLOOKUP($A16,#REF!,2,FALSE) -> #REF! | C16: =VLOOKUP($A16,#REF!,3,FALSE) -> #REF! | D16: =VLOOKUP($A16,#REF!,4,FALSE) -> #REF! | E16: =VLOOKUP($A16,#REF!,5,FALSE) -> #REF! | F16: =VLOOKUP($A16,#REF!,6,FALSE) -> #REF! | G16: =VLOOKUP($A16,#REF!,7,FALSE) -> #REF! | H16: =SUM(I16:W16) -> 0
... A982: 978 | B982: =VLOOKUP($A982,#REF!,2,FALSE) -> #REF! | C982: =VLOOKUP($A982,#REF!,3,FALSE) -> #REF! | D982: =VLOOKUP($A982,#REF!,4,FALSE) -> #REF! | E982: =VLOOKUP($A982,#REF!,5,FALSE) -> #REF! | F982: =VLOOKUP($A982,#REF!,6,FALSE) -> #REF! | G982: =VLOOKUP($A982,#REF!,7,FALSE) -> #REF! | H982: =SUM(I982:W982) -> 0
B983: 소 계 | H983: =SUM(H5:H982) -> 0 | I983: =SUM(I5:I982) -> 0 | J983: =SUM(J5:J982) -> 0 | K983: =SUM(K5:K982) -> 0 | L983: =SUM(L5:L982) -> 0 | M983: =SUM(M5:M982) -> 0 | N983: =SUM(N5:N982) -> 0 | O983: =SUM(O5:O982) -> 0 | ... W983: =SUM(W5:W982) -> 0

Sheet 12
B1: 세 부 물 량 표
B2: =공사원가계산서!B2 -> ■공사명 : 그린나래 지하차도 상부 교통사고 잦은 곳 개선 공사(전기) | F2: ="장소 : "&#REF! -> #REF!
B3: No | C3: 품 명 | D3: 규 격 | G3: 단위 | H3: 수량 | I3: A | J3: B | K3: C | L3: D | M3: E | N3: 1 | O3: 2 | P3: 3 | Q3: 4 | R3: 5 | S3: 6 | T3: 7 | U3: 8 | V3: 9 | W3: 10
A5: 1 | B5: =VLOOKUP($A5,#REF!,2,FALSE) -> #REF! | C5: =VLOOKUP($A5,#REF!,3,FALSE) -> #REF! | D5: =VLOOKUP($A5,#REF!,4,FALSE) -> #REF! | E5: =VLOOKUP($A5,#REF!,5,FALSE) -> #REF! | F5: =VLOOKUP($A5,#REF!,6,FALSE) -> #REF! | G5: =VLOOKUP($A5,#REF!,7,FALSE) -> #REF! | H5: =SUM(I5:W5) -> 0
A6: 2 | B6: =VLOOKUP($A6,#REF!,2,FALSE) -> #REF! | C6: =VLOOKUP($A6,#REF!,3,FALSE) -> #REF! | D6: =VLOOKUP($A6,#REF!,4,FALSE) -> #REF! | E6: =VLOOKUP($A6,#REF!,5,FALSE) -> #REF! | F6: =VLOOKUP($A6,#REF!,6,FALSE) -> #REF! | G6: =VLOOKUP($A6,#REF!,7,FALSE) -> #REF! | H6: =SUM(I6:W6) -> 0
A7: 3 | B7: =VLOOKUP($A7,#REF!,2,FALSE) -> #REF! | C7: =VLOOKUP($A7,#REF!,3,FALSE) -> #REF! | D7: =VLOOKUP($A7,#REF!,4,FALSE) -> #REF! | E7: =VLOOKUP($A7,#REF!,5,FALSE) -> #REF! | F7: =VLOOKUP($A7,#REF!,6,FALSE) -> #REF! | G7: =VLOOKUP($A7,#REF!,7,FALSE) -> #REF! | H7: =SUM(I7:W7) -> 0
A8: 4 | B8: =VLOOKUP($A8,#REF!,2,FALSE) -> #REF! | C8: =VLOOKUP($A8,#REF!,3,FALSE) -> #REF! | D8: =VLOOKUP($A8,#REF!,4,FALSE) -> #REF! | E8: =VLOOKUP($A8,#REF!,5,FALSE) -> #REF! | F8: =VLOOKUP($A8,#REF!,6,FALSE) -> #REF! | G8: =VLOOKUP($A8,#REF!,7,FALSE) -> #REF! | H8: =SUM(I8:W8) -> 0
A9: 5 | B9: =VLOOKUP($A9,#REF!,2,FALSE) -> #REF! | C9: =VLOOKUP($A9,#REF!,3,FALSE) -> #REF! | D9: =VLOOKUP($A9,#REF!,4,FALSE) -> #REF! | E9: =VLOOKUP($A9,#REF!,5,FALSE) -> #REF! | F9: =VLOOKUP($A9,#REF!,6,FALSE) -> #REF! | G9: =VLOOKUP($A9,#REF!,7,FALSE) -> #REF! | H9: =SUM(I9:W9) -> 0
A10: 6 | B10: =VLOOKUP($A10,#REF!,2,FALSE) -> #REF! | C10: =VLOOKUP($A10,#REF!,3,FALSE) -> #REF! | D10: =VLOOKUP($A10,#REF!,4,FALSE) -> #REF! | E10: =VLOOKUP($A10,#REF!,5,FALSE) -> #REF! | F10: =VLOOKUP($A10,#REF!,6,FALSE) -> #REF! | G10: =VLOOKUP($A10,#REF!,7,FALSE) -> #REF! | H10: =SUM(I10:W10) -> 0
A11: 7 | B11: =VLOOKUP($A11,#REF!,2,FALSE) -> #REF! | C11: =VLOOKUP($A11,#REF!,3,FALSE) -> #REF! | D11: =VLOOKUP($A11,#REF!,4,FALSE) -> #REF! | E11: =VLOOKUP($A11,#REF!,5,FALSE) -> #REF! | F11: =VLOOKUP($A11,#REF!,6,FALSE) -> #REF! | G11: =VLOOKUP($A11,#REF!,7,FALSE) -> #REF! | H11: =SUM(I11:W11) -> 0
A12: 8 | B12: =VLOOKUP($A12,#REF!,2,FALSE) -> #REF! | C12: =VLOOKUP($A12,#REF!,3,FALSE) -> #REF! | D12: =VLOOKUP($A12,#REF!,4,FALSE) -> #REF! | E12: =VLOOKUP($A12,#REF!,5,FALSE) -> #REF! | F12: =VLOOKUP($A12,#REF!,6,FALSE) -> #REF! | G12: =VLOOKUP($A12,#REF!,7,FALSE) -> #REF! | H12: =SUM(I12:W12) -> 0
A13: 9 | B13: =VLOOKUP($A13,#REF!,2,FALSE) -> #REF! | C13: =VLOOKUP($A13,#REF!,3,FALSE) -> #REF! | D13: =VLOOKUP($A13,#REF!,4,FALSE) -> #REF! | E13: =VLOOKUP($A13,#REF!,5,FALSE) -> #REF! | F13: =VLOOKUP($A13,#REF!,6,FALSE) -> #REF! | G13: =VLOOKUP($A13,#REF!,7,FALSE) -> #REF! | H13: =SUM(I13:W13) -> 0
A14: 10 | B14: =VLOOKUP($A14,#REF!,2,FALSE) -> #REF! | C14: =VLOOKUP($A14,#REF!,3,FALSE) -> #REF! | D14: =VLOOKUP($A14,#REF!,4,FALSE) -> #REF! | E14: =VLOOKUP($A14,#REF!,5,FALSE) -> #REF! | F14: =VLOOKUP($A14,#REF!,6,FALSE) -> #REF! | G14: =VLOOKUP($A14,#REF!,7,FALSE) -> #REF! | H14: =SUM(I14:W14) -> 0
A15: 11 | B15: =VLOOKUP($A15,#REF!,2,FALSE) -> #REF! | C15: =VLOOKUP($A15,#REF!,3,FALSE) -> #REF! | D15: =VLOOKUP($A15,#REF!,4,FALSE) -> #REF! | E15: =VLOOKUP($A15,#REF!,5,FALSE) -> #REF! | F15: =VLOOKUP($A15,#REF!,6,FALSE) -> #REF! | G15: =VLOOKUP($A15,#REF!,7,FALSE) -> #REF! | H15: =SUM(I15:W15) -> 0
A16: 12 | B16: =VLOOKUP($A16,#REF!,2,FALSE) -> #REF! | C16: =VLOOKUP($A16,#REF!,3,FALSE) -> #REF! | D16: =VLOOKUP($A16,#REF!,4,FALSE) -> #REF! | E16: =VLOOKUP($A16,#REF!,5,FALSE) -> #REF! | F16: =VLOOKUP($A16,#REF!,6,FALSE) -> #REF! | G16: =VLOOKUP($A16,#REF!,7,FALSE) -> #REF! | H16: =SUM(I16:W16) -> 0
... A982: 978 | B982: =VLOOKUP($A982,#REF!,2,FALSE) -> #REF! | C982: =VLOOKUP($A982,#REF!,3,FALSE) -> #REF! | D982: =VLOOKUP($A982,#REF!,4,FALSE) -> #REF! | E982: =VLOOKUP($A982,#REF!,5,FALSE) -> #REF! | F982: =VLOOKUP($A982,#REF!,6,FALSE) -> #REF! | G982: =VLOOKUP($A982,#REF!,7,FALSE) -> #REF! | H982: =SUM(I982:W982) -> 0
B983: 소 계 | H983: =SUM(H5:H982) -> 0 | I983: =SUM(I5:I982) -> 0 | J983: =SUM(J5:J982) -> 0 | K983: =SUM(K5:K982) -> 0 | L983: =SUM(L5:L982) -> 0 | M983: =SUM(M5:M982) -> 0 | N983: =SUM(N5:N982) -> 0 | O983: =SUM(O5:O982) -> 0 | ... W983: =SUM(W5:W982) -> 0

Sheet Sheet1
