Workbook
Name HTML_Control: {"'공사부문'!$A$6:$A$32"}
Name HTML_Control: {"'공사부문'!$A$6:$A$32"}
Name HTML_Control: {"'공사부문'!$A$6:$A$32"}
Name HTML_Control: {"'공사부문'!$A$6:$A$32"}
Name HTML_Control: {"'공사부문'!$A$6:$A$32"}
Name HTML_Control: {"'공사부문'!$A$6:$A$32"}
Name HTML_Control: {"'공사부문'!$A$6:$A$32"}
Name HTML_Control: {"'공사부문'!$A$6:$A$32"}
Name HTML_Control: {"'공사부문'!$A$6:$A$32"}
Name HTML_Control: {"'공사부문'!$A$6:$A$32"}
Name HTML_Control: {"'공사부문'!$A$6:$A$32"}
Name XXXXXX: {"'공사부문'!$A$6:$A$32"}
Name XXXXXX: {"'공사부문'!$A$6:$A$32"}
Name XXXXXX: {"'공사부문'!$A$6:$A$32"}
Name XXXXXX: {"'공사부문'!$A$6:$A$32"}
Name XXXXXX: {"'공사부문'!$A$6:$A$32"}
Name XXXXXX: {"'공사부문'!$A$6:$A$32"}
Name XXXXXX: {"'공사부문'!$A$6:$A$32"}
Name XXXXXX: {"'공사부문'!$A$6:$A$32"}
Name XXXXXX: {"'공사부문'!$A$6:$A$32"}
Name XXXXXX: {"'공사부문'!$A$6:$A$32"}
Name XXXXXX: {"'공사부문'!$A$6:$A$32"}
Name 김1: {"'Firr(선)'!$AS$1:$AY$62","'Firr(사)'!$AS$1:$AY$62","'Firr(회)'!$AS$1:$AY$62","'Firr(선)'!$L$1:$V$62","'Firr(사)'!$L$1:$V$62","'Firr(회)'!$L$1:$V$62"}
Name 김1: {"'Firr(선)'!$AS$1:$AY$62","'Firr(사)'!$AS$1:$AY$62","'Firr(회)'!$AS$1:$AY$62","'Firr(선)'!$L$1:$V$62","'Firr(사)'!$L$1:$V$62","'Firr(회)'!$L$1:$V$62"}
Name 김1: {"'Firr(선)'!$AS$1:$AY$62","'Firr(사)'!$AS$1:$AY$62","'Firr(회)'!$AS$1:$AY$62","'Firr(선)'!$L$1:$V$62","'Firr(사)'!$L$1:$V$62","'Firr(회)'!$L$1:$V$62"}
Name 김1: {"'Firr(선)'!$AS$1:$AY$62","'Firr(사)'!$AS$1:$AY$62","'Firr(회)'!$AS$1:$AY$62","'Firr(선)'!$L$1:$V$62","'Firr(사)'!$L$1:$V$62","'Firr(회)'!$L$1:$V$62"}
Name 김1: {"'Firr(선)'!$AS$1:$AY$62","'Firr(사)'!$AS$1:$AY$62","'Firr(회)'!$AS$1:$AY$62","'Firr(선)'!$L$1:$V$62","'Firr(사)'!$L$1:$V$62","'Firr(회)'!$L$1:$V$62"}
Name 김1: {"'Firr(선)'!$AS$1:$AY$62","'Firr(사)'!$AS$1:$AY$62","'Firr(회)'!$AS$1:$AY$62","'Firr(선)'!$L$1:$V$62","'Firr(사)'!$L$1:$V$62","'Firr(회)'!$L$1:$V$62"}
Name 김1: {"'Firr(선)'!$AS$1:$AY$62","'Firr(사)'!$AS$1:$AY$62","'Firr(회)'!$AS$1:$AY$62","'Firr(선)'!$L$1:$V$62","'Firr(사)'!$L$1:$V$62","'Firr(회)'!$L$1:$V$62"}
Name 김1: {"'Firr(선)'!$AS$1:$AY$62","'Firr(사)'!$AS$1:$AY$62","'Firr(회)'!$AS$1:$AY$62","'Firr(선)'!$L$1:$V$62","'Firr(사)'!$L$1:$V$62","'Firr(회)'!$L$1:$V$62"}
Name 김1: {"'Firr(선)'!$AS$1:$AY$62","'Firr(사)'!$AS$1:$AY$62","'Firr(회)'!$AS$1:$AY$62","'Firr(선)'!$L$1:$V$62","'Firr(사)'!$L$1:$V$62","'Firr(회)'!$L$1:$V$62"}
Name 김1: {"'Firr(선)'!$AS$1:$AY$62","'Firr(사)'!$AS$1:$AY$62","'Firr(회)'!$AS$1:$AY$62","'Firr(선)'!$L$1:$V$62","'Firr(사)'!$L$1:$V$62","'Firr(회)'!$L$1:$V$62"}
Name 김1: {"'Firr(선)'!$AS$1:$AY$62","'Firr(사)'!$AS$1:$AY$62","'Firr(회)'!$AS$1:$AY$62","'Firr(선)'!$L$1:$V$62","'Firr(사)'!$L$1:$V$62","'Firr(회)'!$L$1:$V$62"}
Name 내역서2: {"'단계별시설공사비'!$A$3:$K$51"}
Name 내역서2: {"'단계별시설공사비'!$A$3:$K$51"}
Name 내역서2: {"'단계별시설공사비'!$A$3:$K$51"}
Name 내역서2: {"'단계별시설공사비'!$A$3:$K$51"}
Name 내역서2: {"'단계별시설공사비'!$A$3:$K$51"}
Name 내역서2: {"'단계별시설공사비'!$A$3:$K$51"}
Name 내역서2: {"'단계별시설공사비'!$A$3:$K$51"}
Name 내역서2: {"'단계별시설공사비'!$A$3:$K$51"}
Name 내역서2: {"'단계별시설공사비'!$A$3:$K$51"}
Name 내역서2: {"'단계별시설공사비'!$A$3:$K$51"}
Name 내역서2: {"'단계별시설공사비'!$A$3:$K$51"}
Name 대관공사비: {"'건축내역'!$A$1:$L$413"}
Name 대관공사비: {"'건축내역'!$A$1:$L$413"}
Name 대관공사비: {"'건축내역'!$A$1:$L$413"}
Name 대관공사비: {"'건축내역'!$A$1:$L$413"}
Name 대관공사비: {"'건축내역'!$A$1:$L$413"}
Name 대관공사비: {"'건축내역'!$A$1:$L$413"}
Name 대관공사비: {"'건축내역'!$A$1:$L$413"}
Name 대관공사비: {"'건축내역'!$A$1:$L$413"}
Name 대관공사비: {"'건축내역'!$A$1:$L$413"}
Name 대관공사비: {"'건축내역'!$A$1:$L$413"}
Name 대관공사비: {"'건축내역'!$A$1:$L$413"}
Name 박1: {"'Firr(선)'!$AS$1:$AY$62","'Firr(사)'!$AS$1:$AY$62","'Firr(회)'!$AS$1:$AY$62","'Firr(선)'!$L$1:$V$62","'Firr(사)'!$L$1:$V$62","'Firr(회)'!$L$1:$V$62"}
Name 박1: {"'Firr(선)'!$AS$1:$AY$62","'Firr(사)'!$AS$1:$AY$62","'Firr(회)'!$AS$1:$AY$62","'Firr(선)'!$L$1:$V$62","'Firr(사)'!$L$1:$V$62","'Firr(회)'!$L$1:$V$62"}
Name 박1: {"'Firr(선)'!$AS$1:$AY$62","'Firr(사)'!$AS$1:$AY$62","'Firr(회)'!$AS$1:$AY$62","'Firr(선)'!$L$1:$V$62","'Firr(사)'!$L$1:$V$62","'Firr(회)'!$L$1:$V$62"}
Name 박1: {"'Firr(선)'!$AS$1:$AY$62","'Firr(사)'!$AS$1:$AY$62","'Firr(회)'!$AS$1:$AY$62","'Firr(선)'!$L$1:$V$62","'Firr(사)'!$L$1:$V$62","'Firr(회)'!$L$1:$V$62"}
Name 박1: {"'Firr(선)'!$AS$1:$AY$62","'Firr(사)'!$AS$1:$AY$62","'Firr(회)'!$AS$1:$AY$62","'Firr(선)'!$L$1:$V$62","'Firr(사)'!$L$1:$V$62","'Firr(회)'!$L$1:$V$62"}

Sheet 공사원가계산서
B1: 공 사 원 가 계 산 서
B2: ■공사명 : 그린나래 지하차도 상부 교통사고 잦은 곳 개선 공사(전기)
B3: 구 분 비 목 | E3: 금 액 | F3: 구성비(%) | G3: 적 용 요 율 | H3: 비 고 | I3: ※ 적용시기 : 2026. 01. 01. 기초금액 발표분부터
B4: 순 공 사 원 가 | C4: 재 료 비 | D4: 직접재료비
D5: 간접재료비
D6: 작업부산물(△)
D7: 소 계
C8: 노 무 비 | D8: 직접노무비
D9: 간접노무비 | G9: 19.1 | I9: 6개월 이하 (10억 이상)
D10: 소 계
C11: 제 경 비 | D11: 산출경비 | H11: 안전관리비목포함
D12: 산재보험료 | G12: 3.56
D13: 고용보험료 | G13: 1.01
D14: 건강보험료 | G14: 3.595 | H14: 공사기간 1개월이상
D15: 연금보험료 | G15: 4.75 | H15: 공사기간 1개월이상
D16: 기타경비 | G16: 5.5 | I16: 6개월 이하 (10억 이상)
D17: 산업안전보건관리비 | G17: 3.15 | H17: 2천이상 | I17: 2개 중 작은금액 적용
D18: 산업안전보건관리비 | G18: 3.15 | H18: 2천이상 | I18: 2개 중 작은금액 적용
D19: 안전관리비
D20: 퇴직공제부금비 | G20: 0 | H20: 1억이상
D21: 노인장기요양보험료 | G21: 13.14 | H21: 공사기간 1개월이상
D22: 건설기계대여대금 지급보증액 | G22: 0 | H22: 적용제외(전기)
D23: 석면분담금 | G23: 0.006
D24: 임금채권부담금 | G24: 0.09
D25: 소 계
C26: 계
B27: 일반관리비 | G27: 8
B28: 이윤 | G28: 15 | H28: 단수맞춤 | I28: 4469
B29: 고용개선지원비 ( P S 단가) | H29: 5천만원이상 30일 이상
B30: 고재처리
B31: 공급가액
B32: 손해배상공제료 | G32: <공급가액> x 0.26477% | H32: 단수맞춤 (10원단위 반올림)
B33: 소 계 | G33: <공급가액 + 손해배상공제료>
B34: 부가가치세
B35: 도급비
B36: 관급자재
B37: 이전비
B38: 총공사비
B105: * 안전관리비 미계상 사유 : 건설진흥법 대상 (전기공사 제외)

Sheet 내역서
B1: 내 역 서
B3: No | C3: 품 명 | D3: 규 격 | G3: 단위 | H3: 수량 | I3: 재료비 | K3: 노무비 | M3: 경 비 | O3: 합 계 | P3: 비 고
I4: 단 가 | J4: 금 액 | K4: 단 가 | L4: 금 액 | M4: 단 가 | N4: 금 액
A5: 1 | B5: =VLOOKUP($A5,#REF!,2,FALSE) -> #REF! | C5: =VLOOKUP($A5,#REF!,3,FALSE) -> #REF! | D5: =VLOOKUP($A5,#REF!,4,FALSE) -> #REF! | E5: =VLOOKUP($A5,#REF!,5,FALSE) -> #REF! | F5: =VLOOKUP($A5,#REF!,6,FALSE) -> #REF! | G5: =VLOOKUP($A5,#REF!,7,FALSE) -> #REF! | H5: =VLOOKUP($A5,#REF!,8,FALSE) -> #REF! | I5: =VLOOKUP($A5,#REF!,9,FALSE) -> #REF! | J5: =TRUNC(I5*H5) -> #REF! | K5: =VLOOKUP($A5,#REF!,10,FALSE) -> #REF! | L5: =TRUNC(K5*H5) -> #REF! | M5: =VLOOKUP($A5,#REF!,11,FALSE) -> #REF! | N5: =TRUNC(M5*H5) -> #REF! | O5: =SUM(J5,L5,N5) -> #REF!
A6: 2 | B6: =VLOOKUP($A6,#REF!,2,FALSE) -> #REF! | C6: =VLOOKUP($A6,#REF!,3,FALSE) -> #REF! | D6: =VLOOKUP($A6,#REF!,4,FALSE) -> #REF! | E6: =VLOOKUP($A6,#REF!,5,FALSE) -> #REF! | F6: =VLOOKUP($A6,#REF!,6,FALSE) -> #REF! | G6: =VLOOKUP($A6,#REF!,7,FALSE) -> #REF! | H6: =VLOOKUP($A6,#REF!,8,FALSE) -> #REF! | I6: =VLOOKUP($A6,#REF!,9,FALSE) -> #REF! | J6: =TRUNC(I6*H6) -> #REF! | K6: =VLOOKUP($A6,#REF!,10,FALSE) -> #REF! | L6: =TRUNC(K6*H6) -> #REF! | M6: =VLOOKUP($A6,#REF!,11,FALSE) -> #REF! | N6: =TRUNC(M6*H6) -> #REF! | O6: =SUM(J6,L6,N6) -> #REF!
A7: 3 | B7: =VLOOKUP($A7,#REF!,2,FALSE) -> #REF! | C7: =VLOOKUP($A7,#REF!,3,FALSE) -> #REF! | D7: =VLOOKUP($A7,#REF!,4,FALSE) -> #REF! | E7: =VLOOKUP($A7,#REF!,5,FALSE) -> #REF! | F7: =VLOOKUP($A7,#REF!,6,FALSE) -> #REF! | G7: =VLOOKUP($A7,#REF!,7,FALSE) -> #REF! | H7: =VLOOKUP($A7,#REF!,8,FALSE) -> #REF! | I7: =VLOOKUP($A7,#REF!,9,FALSE) -> #REF! | J7: =TRUNC(I7*H7) -> #REF! | K7: =VLOOKUP($A7,#REF!,10,FALSE) -> #REF! | L7: =TRUNC(K7*H7) -> #REF! | M7: =VLOOKUP($A7,#REF!,11,FALSE) -> #REF! | N7: =TRUNC(M7*H7) -> #REF! | O7: =SUM(J7,L7,N7) -> #REF!
A8: 4 | B8: =VLOOKUP($A8,#REF!,2,FALSE) -> #REF! | C8: =VLOOKUP($A8,#REF!,3,FALSE) -> #REF! | D8: =VLOOKUP($A8,#REF!,4,FALSE) -> #REF! | E8: =VLOOKUP($A8,#REF!,5,FALSE) -> #REF! | F8: =VLOOKUP($A8,#REF!,6,FALSE) -> #REF! | G8: =VLOOKUP($A8,#REF!,7,FALSE) -> #REF! | H8: =VLOOKUP($A8,#REF!,8,FALSE) -> #REF! | I8: =VLOOKUP($A8,#REF!,9,FALSE) -> #REF! | J8: =TRUNC(I8*H8) -> #REF! | K8: =VLOOKUP($A8,#REF!,10,FALSE) -> #REF! | L8: =TRUNC(K8*H8) -> #REF! | M8: =VLOOKUP($A8,#REF!,11,FALSE) -> #REF! | N8: =TRUNC(M8*H8) -> #REF! | O8: =SUM(J8,L8,N8) -> #REF!
A9: 5 | B9: =VLOOKUP($A9,#REF!,2,FALSE) -> #REF! | C9: =VLOOKUP($A9,#REF!,3,FALSE) -> #REF! | D9: =VLOOKUP($A9,#REF!,4,FALSE) -> #REF! | E9: =VLOOKUP($A9,#REF!,5,FALSE) -> #REF! | F9: =VLOOKUP($A9,#REF!,6,FALSE) -> #REF! | G9: =VLOOKUP($A9,#REF!,7,FALSE) -> #REF! | H9: =VLOOKUP($A9,#REF!,8,FALSE) -> #REF! | I9: =VLOOKUP($A9,#REF!,9,FALSE) -> #REF! | J9: =TRUNC(I9*H9) -> #REF! | K9: =VLOOKUP($A9,#REF!,10,FALSE) -> #REF! | L9: =TRUNC(K9*H9) -> #REF! | M9: =VLOOKUP($A9,#REF!,11,FALSE) -> #REF! | N9: =TRUNC(M9*H9) -> #REF! | O9: =SUM(J9,L9,N9) -> #REF!
A10: 6 | B10: =VLOOKUP($A10,#REF!,2,FALSE) -> #REF! | C10: =VLOOKUP($A10,#REF!,3,FALSE) -> #REF! | D10: =VLOOKUP($A10,#REF!,4,FALSE) -> #REF! | E10: =VLOOKUP($A10,#REF!,5,FALSE) -> #REF! | F10: =VLOOKUP($A10,#REF!,6,FALSE) -> #REF! | G10: =VLOOKUP($A10,#REF!,7,FALSE) -> #REF! | H10: =VLOOKUP($A10,#REF!,8,FALSE) -> #REF! | I10: =VLOOKUP($A10,#REF!,9,FALSE) -> #REF! | J10: =TRUNC(I10*H10) -> #REF! | K10: =VLOOKUP($A10,#REF!,10,FALSE) -> #REF! | L10: =TRUNC(K10*H10) -> #REF! | M10: =VLOOKUP($A10,#REF!,11,FALSE) -> #REF! | N10: =TRUNC(M10*H10) -> #REF! | O10: =SUM(J10,L10,N10) -> #REF!
A11: 7 | B11: =VLOOKUP($A11,#REF!,2,FALSE) -> #REF! | C11: =VLOOKUP($A11,#REF!,3,FALSE) -> #REF! | D11: =VLOOKUP($A11,#REF!,4,FALSE) -> #REF! | E11: =VLOOKUP($A11,#REF!,5,FALSE) -> #REF! | F11: =VLOOKUP($A11,#REF!,6,FALSE) -> #REF! | G11: =VLOOKUP($A11,#REF!,7,FALSE) -> #REF! | H11: =VLOOKUP($A11,#REF!,8,FALSE) -> #REF! | I11: =VLOOKUP($A11,#REF!,9,FALSE) -> #REF! | J11: =TRUNC(I11*H11) -> #REF! | K11: =VLOOKUP($A11,#REF!,10,FALSE) -> #REF! | L11: =TRUNC(K11*H11) -> #REF! | M11: =VLOOKUP($A11,#REF!,11,FALSE) -> #REF! | N11: =TRUNC(M11*H11) -> #REF! | O11: =SUM(J11,L11,N11) -> #REF!
A12: 8 | B12: =VLOOKUP($A12,#REF!,2,FALSE) -> #REF! | C12: =VLOOKUP($A12,#REF!,3,FALSE) -> #REF! | D12: =VLOOKUP($A12,#REF!,4,FALSE) -> #REF! | E12: =VLOOKUP($A12,#REF!,5,FALSE) -> #REF! | F12: =VLOOKUP($A12,#REF!,6,FALSE) -> #REF! | G12: =VLOOKUP($A12,#REF!,7,FALSE) -> #REF! | H12: =VLOOKUP($A12,#REF!,8,FALSE) -> #REF! | I12: =VLOOKUP($A12,#REF!,9,FALSE) -> #REF! | J12: =TRUNC(I12*H12) -> #REF! | K12: =VLOOKUP($A12,#REF!,10,FALSE) -> #REF! | L12: =TRUNC(K12*H12) -> #REF! | M12: =VLOOKUP($A12,#REF!,11,FALSE) -> #REF! | N12: =TRUNC(M12*H12) -> #REF! | O12: =SUM(J12,L12,N12) -> #REF!
A13: 9 | B13: =VLOOKUP($A13,#REF!,2,FALSE) -> #REF! | C13: =VLOOKUP($A13,#REF!,3,FALSE) -> #REF! | D13: =VLOOKUP($A13,#REF!,4,FALSE) -> #REF! | E13: =VLOOKUP($A13,#REF!,5,FALSE) -> #REF! | F13: =VLOOKUP($A13,#REF!,6,FALSE) -> #REF! | G13: =VLOOKUP($A13,#REF!,7,FALSE) -> #REF! | H13: =VLOOKUP($A13,#REF!,8,FALSE) -> #REF! | I13: =VLOOKUP($A13,#REF!,9,FALSE) -> #REF! | J13: =TRUNC(I13*H13) -> #REF! | K13: =VLOOKUP($A13,#REF!,10,FALSE) -> #REF! | L13: =TRUNC(K13*H13) -> #REF! | M13: =VLOOKUP($A13,#REF!,11,FALSE) -> #REF! | N13: =TRUNC(M13*H13) -> #REF! | O13: =SUM(J13,L13,N13) -> #REF!
A14: 10 | B14: =VLOOKUP($A14,#REF!,2,FALSE) -> #REF! | C14: =VLOOKUP($A14,#REF!,3,FALSE) -> #REF! | D14: =VLOOKUP($A14,#REF!,4,FALSE) -> #REF! | E14: =VLOOKUP($A14,#REF!,5,FALSE) -> #REF! | F14: =VLOOKUP($A14,#REF!,6,FALSE) -> #REF! | G14: =VLOOKUP($A14,#REF!,7,FALSE) -> #REF! | H14: =VLOOKUP($A14,#REF!,8,FALSE) -> #REF! | I14: =VLOOKUP($A14,#REF!,9,FALSE) -> #REF! | J14: =TRUNC(I14*H14) -> #REF! | K14: =VLOOKUP($A14,#REF!,10,FALSE) -> #REF! | L14: =TRUNC(K14*H14) -> #REF! | M14: =VLOOKUP($A14,#REF!,11,FALSE) -> #REF! | N14: =TRUNC(M14*H14) -> #REF! | O14: =SUM(J14,L14,N14) -> #REF!
A15: 11 | B15: =VLOOKUP($A15,#REF!,2,FALSE) -> #REF! | C15: =VLOOKUP($A15,#REF!,3,FALSE) -> #REF! | D15: =VLOOKUP($A15,#REF!,4,FALSE) -> #REF! | E15: =VLOOKUP($A15,#REF!,5,FALSE) -> #REF! | F15: =VLOOKUP($A15,#REF!,6,FALSE) -> #REF! | G15: =VLOOKUP($A15,#REF!,7,FALSE) -> #REF! | H15: =VLOOKUP($A15,#REF!,8,FALSE) -> #REF! | I15: =VLOOKUP($A15,#REF!,9,FALSE) -> #REF! | J15: =TRUNC(I15*H15) -> #REF! | K15: =VLOOKUP($A15,#REF!,10,FALSE) -> #REF! | L15: =TRUNC(K15*H15) -> #REF! | M15: =VLOOKUP($A15,#REF!,11,FALSE) -> #REF! | N15: =TRUNC(M15*H15) -> #REF! | O15: =SUM(J15,L15,N15) -> #REF!
A16: 12 | B16: =VLOOKUP($A16,#REF!,2,FALSE) -> #REF! | C16: =VLOOKUP($A16,#REF!,3,FALSE) -> #REF! | D16: =VLOOKUP($A16,#REF!,4,FALSE) -> #REF! | E16: =VLOOKUP($A16,#REF!,5,FALSE) -> #REF! | F16: =VLOOKUP($A16,#REF!,6,FALSE) -> #REF! | G16: =VLOOKUP($A16,#REF!,7,FALSE) -> #REF! | H16: =VLOOKUP($A16,#REF!,8,FALSE) -> #REF! | I16: =VLOOKUP($A16,#REF!,9,FALSE) -> #REF! | J16: =TRUNC(I16*H16) -> #REF! | K16: =VLOOKUP($A16,#REF!,10,FALSE) -> #REF! | L16: =TRUNC(K16*H16) -> #REF! | M16: =VLOOKUP($A16,#REF!,11,FALSE) -> #REF! | N16: =TRUNC(M16*H16) -> #REF! | O16: =SUM(J16,L16,N16) -> #REF!
... A18: 14 | B18: =VLOOKUP($A18,#REF!,2,FALSE) -> #REF! | C18: =VLOOKUP($A18,#REF!,3,FALSE) -> #REF! | D18: =VLOOKUP($A18,#REF!,4,FALSE) -> #REF! | E18: =VLOOKUP($A18,#REF!,5,FALSE) -> #REF! | F18: =VLOOKUP($A18,#REF!,6,FALSE) -> #REF! | G18: =VLOOKUP($A18,#REF!,7,FALSE) -> #REF! | H18: =VLOOKUP($A18,#REF!,8,FALSE) -> #REF! | I18: =VLOOKUP($A18,#REF!,9,FALSE) -> #REF! | J18: =TRUNC(I18*H18) -> #REF! | K18: =VLOOKUP($A18,#REF!,10,FALSE) -> #REF! | L18: =TRUNC(K18*H18) -> #REF! | M18: =VLOOKUP($A18,#REF!,11,FALSE) -> #REF! | N18: =TRUNC(M18*H18) -> #REF! | O18: =SUM(J18,L18,N18) -> #REF!
A19: 15 | B19: 01-015 | C19: 신호제어기 종합시험 | D19: 현장과 센터간 시험 | E19: 0 | F19: 신설 | G19: 식 | H19: 1
A20: 16 | B20: =VLOOKUP($A20,#REF!,2,FALSE) -> #REF! | C20: =VLOOKUP($A20,#REF!,3,FALSE) -> #REF! | D20: =VLOOKUP($A20,#REF!,4,FALSE) -> #REF! | E20: =VLOOKUP($A20,#REF!,5,FALSE) -> #REF! | F20: =VLOOKUP($A20,#REF!,6,FALSE) -> #REF! | G20: =VLOOKUP($A20,#REF!,7,FALSE) -> #REF! | H20: =VLOOKUP($A20,#REF!,8,FALSE) -> #REF! | I20: =VLOOKUP($A20,#REF!,9,FALSE) -> #REF! | J20: =TRUNC(I20*H20) -> #REF! | K20: =VLOOKUP($A20,#REF!,10,FALSE) -> #REF! | L20: =TRUNC(K20*H20) -> #REF! | M20: =VLOOKUP($A20,#REF!,11,FALSE) -> #REF! | N20: =TRUNC(M20*H20) -> #REF! | O20: =SUM(J20,L20,N20) -> #REF!
A21: 17 | B21: =VLOOKUP($A21,#REF!,2,FALSE) -> #REF! | C21: =VLOOKUP($A21,#REF!,3,FALSE) -> #REF! | D21: =VLOOKUP($A21,#REF!,4,FALSE) -> #REF! | E21: =VLOOKUP($A21,#REF!,5,FALSE) -> #REF! | F21: =VLOOKUP($A21,#REF!,6,FALSE) -> #REF! | G21: =VLOOKUP($A21,#REF!,7,FALSE) -> #REF! | H21: =VLOOKUP($A21,#REF!,8,FALSE) -> #REF! | I21: =VLOOKUP($A21,#REF!,9,FALSE) -> #REF! | J21: =TRUNC(I21*H21) -> #REF! | K21: =VLOOKUP($A21,#REF!,10,FALSE) -> #REF! | L21: =TRUNC(K21*H21) -> #REF! | M21: =VLOOKUP($A21,#REF!,11,FALSE) -> #REF! | N21: =TRUNC(M21*H21) -> #REF! | O21: =SUM(J21,L21,N21) -> #REF!
A22: 19 | B22: =VLOOKUP($A22,#REF!,2,FALSE) -> #REF! | C22: =VLOOKUP($A22,#REF!,3,FALSE) -> #REF! | D22: =VLOOKUP($A22,#REF!,4,FALSE) -> #REF! | E22: =VLOOKUP($A22,#REF!,5,FALSE) -> #REF! | F22: =VLOOKUP($A22,#REF!,6,FALSE) -> #REF! | G22: =VLOOKUP($A22,#REF!,7,FALSE) -> #REF! | H22: =VLOOKUP($A22,#REF!,8,FALSE) -> #REF! | I22: =VLOOKUP($A22,#REF!,9,FALSE) -> #REF! | J22: =TRUNC(I22*H22) -> #REF! | K22: =VLOOKUP($A22,#REF!,10,FALSE) -> #REF! | L22: =TRUNC(K22*H22) -> #REF! | M22: =VLOOKUP($A22,#REF!,11,FALSE) -> #REF! | N22: =TRUNC(M22*H22) -> #REF! | O22: =SUM(J22,L22,N22) -> #REF!
A23: 20 | B23: =VLOOKUP($A23,#REF!,2,FALSE) -> #REF! | C23: =VLOOKUP($A23,#REF!,3,FALSE) -> #REF! | D23: =VLOOKUP($A23,#REF!,4,FALSE) -> #REF! | E23: =VLOOKUP($A23,#REF!,5,FALSE) -> #REF! | F23: =VLOOKUP($A23,#REF!,6,FALSE) -> #REF! | G23: =VLOOKUP($A23,#REF!,7,FALSE) -> #REF! | H23: =VLOOKUP($A23,#REF!,8,FALSE) -> #REF! | I23: =VLOOKUP($A23,#REF!,9,FALSE) -> #REF! | J23: =TRUNC(I23*H23) -> #REF! | K23: =VLOOKUP($A23,#REF!,10,FALSE) -> #REF! | L23: =TRUNC(K23*H23) -> #REF! | M23: =VLOOKUP($A23,#REF!,11,FALSE) -> #REF! | N23: =TRUNC(M23*H23) -> #REF! | O23: =SUM(J23,L23,N23) -> #REF!
A24: 21 | B24: =VLOOKUP($A24,#REF!,2,FALSE) -> #REF! | C24: =VLOOKUP($A24,#REF!,3,FALSE) -> #REF! | D24: =VLOOKUP($A24,#REF!,4,FALSE) -> #REF! | E24: =VLOOKUP($A24,#REF!,5,FALSE) -> #REF! | F24: =VLOOKUP($A24,#REF!,6,FALSE) -> #REF! | G24: =VLOOKUP($A24,#REF!,7,FALSE) -> #REF! | H24: =VLOOKUP($A24,#REF!,8,FALSE) -> #REF! | I24: =VLOOKUP($A24,#REF!,9,FALSE) -> #REF! | J24: =TRUNC(I24*H24) -> #REF! | K24: =VLOOKUP($A24,#REF!,10,FALSE) -> #REF! | L24: =TRUNC(K24*H24) -> #REF! | M24: =VLOOKUP($A24,#REF!,11,FALSE) -> #REF! | N24: =TRUNC(M24*H24) -> #REF! | O24: =SUM(J24,L24,N24) -> #REF!
A25: 22 | B25: =VLOOKUP($A25,#REF!,2,FALSE) -> #REF! | C25: =VLOOKUP($A25,#REF!,3,FALSE) -> #REF! | D25: =VLOOKUP($A25,#REF!,4,FALSE) -> #REF! | E25: =VLOOKUP($A25,#REF!,5,FALSE) -> #REF! | F25: =VLOOKUP($A25,#REF!,6,FALSE) -> #REF! | G25: =VLOOKUP($A25,#REF!,7,FALSE) -> #REF! | H25: =VLOOKUP($A25,#REF!,8,FALSE) -> #REF! | I25: =VLOOKUP($A25,#REF!,9,FALSE) -> #REF! | J25: =TRUNC(I25*H25) -> #REF! | K25: =VLOOKUP($A25,#REF!,10,FALSE) -> #REF! | L25: =TRUNC(K25*H25) -> #REF! | M25: =VLOOKUP($A25,#REF!,11,FALSE) -> #REF! | N25: =TRUNC(M25*H25) -> #REF! | O25: =SUM(J25,L25,N25) -> #REF!
A26: 23 | B26: =VLOOKUP($A26,#REF!,2,FALSE) -> #REF! | C26: =VLOOKUP($A26,#REF!,3,FALSE) -> #REF! | D26: =VLOOKUP($A26,#REF!,4,FALSE) -> #REF! | E26: =VLOOKUP($A26,#REF!,5,FALSE) -> #REF! | F26: =VLOOKUP($A26,#REF!,6,FALSE) -> #REF! | G26: =VLOOKUP($A26,#REF!,7,FALSE) -> #REF! | H26: =VLOOKUP($A26,#REF!,8,FALSE) -> #REF! | I26: =VLOOKUP($A26,#REF!,9,FALSE) -> #REF! | J26: =TRUNC(I26*H26) -> #REF! | K26: =VLOOKUP($A26,#REF!,10,FALSE) -> #REF! | L26: =TRUNC(K26*H26) -> #REF! | M26: =VLOOKUP($A26,#REF!,11,FALSE) -> #REF! | N26: =TRUNC(M26*H26) -> #REF! | O26: =SUM(J26,L26,N26) -> #REF!
A27: 24 | B27: =VLOOKUP($A27,#REF!,2,FALSE) -> #REF! | C27: =VLOOKUP($A27,#REF!,3,FALSE) -> #REF! | D27: =VLOOKUP($A27,#REF!,4,FALSE) -> #REF! | E27: =VLOOKUP($A27,#REF!,5,FALSE) -> #REF! | F27: =VLOOKUP($A27,#REF!,6,FALSE) -> #REF! | G27: =VLOOKUP($A27,#REF!,7,FALSE) -> #REF! | H27: =VLOOKUP($A27,#REF!,8,FALSE) -> #REF! | I27: =VLOOKUP($A27,#REF!,9,FALSE) -> #REF! | J27: =TRUNC(I27*H27) -> #REF! | K27: =VLOOKUP($A27,#REF!,10,FALSE) -> #REF! | L27: =TRUNC(K27*H27) -> #REF! | M27: =VLOOKUP($A27,#REF!,11,FALSE) -> #REF! | N27: =TRUNC(M27*H27) -> #REF! | O27: =SUM(J27,L27,N27) -> #REF!
A28: 25 | B28: =VLOOKUP($A28,#REF!,2,FALSE) -> #REF! | C28: =VLOOKUP($A28,#REF!,3,FALSE) -> #REF! | D28: =VLOOKUP($A28,#REF!,4,FALSE) -> #REF! | E28: =VLOOKUP($A28,#REF!,5,FALSE) -> #REF! | F28: =VLOOKUP($A28,#REF!,6,FALSE) -> #REF! | G28: =VLOOKUP($A28,#REF!,7,FALSE) -> #REF! | H28: =VLOOKUP($A28,#REF!,8,FALSE) -> #REF! | I28: =VLOOKUP($A28,#REF!,9,FALSE) -> #REF! | J28: =TRUNC(I28*H28) -> #REF! | K28: =VLOOKUP($A28,#REF!,10,FALSE) -> #REF! | L28: =TRUNC(K28*H28) -> #REF! | M28: =VLOOKUP($A28,#REF!,11,FALSE) -> #REF! | N28: =TRUNC(M28*H28) -> #REF! | O28: =SUM(J28,L28,N28) -> #REF!
A29: 26 | B29: =VLOOKUP($A29,#REF!,2,FALSE) -> #REF! | C29: =VLOOKUP($A29,#REF!,3,FALSE) -> #REF! | D29: =VLOOKUP($A29,#REF!,4,FALSE) -> #REF! | E29: =VLOOKUP($A29,#REF!,5,FALSE) -> #REF! | F29: =VLOOKUP($A29,#REF!,6,FALSE) -> #REF! | G29: =VLOOKUP($A29,#REF!,7,FALSE) -> #REF! | H29: =VLOOKUP($A29,#REF!,8,FALSE) -> #REF! | I29: =VLOOKUP($A29,#REF!,9,FALSE) -> #REF! | J29: =TRUNC(I29*H29) -> #REF! | K29: =VLOOKUP($A29,#REF!,10,FALSE) -> #REF! | L29: =TRUNC(K29*H29) -> #REF! | M29: =VLOOKUP($A29,#REF!,11,FALSE) -> #REF! | N29: =TRUNC(M29*H29) -> #REF! | O29: =SUM(J29,L29,N29) -> #REF!
A30: 27 | B30: =VLOOKUP($A30,#REF!,2,FALSE) -> #REF! | C30: =VLOOKUP($A30,#REF!,3,FALSE) -> #REF! | D30: =VLOOKUP($A30,#REF!,4,FALSE) -> #REF! | E30: =VLOOKUP($A30,#REF!,5,FALSE) -> #REF! | F30: =VLOOKUP($A30,#REF!,6,FALSE) -> #REF! | G30: =VLOOKUP($A30,#REF!,7,FALSE) -> #REF! | H30: =VLOOKUP($A30,#REF!,8,FALSE) -> #REF! | I30: =VLOOKUP($A30,#REF!,9,FALSE) -> #REF! | J30: =TRUNC(I30*H30) -> #REF! | K30: =VLOOKUP($A30,#REF!,10,FALSE) -> #REF! | L30: =TRUNC(K30*H30) -> #REF! | M30: =VLOOKUP($A30,#REF!,11,FALSE) -> #REF! | N30: =TRUNC(M30*H30) -> #REF! | O30: =SUM(J30,L30,N30) -> #REF!
A31: 28 | B31: =VLOOKUP($A31,#REF!,2,FALSE) -> #REF! | C31: =VLOOKUP($A31,#REF!,3,FALSE) -> #REF! | D31: =VLOOKUP($A31,#REF!,4,FALSE) -> #REF! | E31: =VLOOKUP($A31,#REF!,5,FALSE) -> #REF! | F31: =VLOOKUP($A31,#REF!,6,FALSE) -> #REF! | G31: =VLOOKUP($A31,#REF!,7,FALSE) -> #REF! | H31: =VLOOKUP($A31,#REF!,8,FALSE) -> #REF! | I31: =VLOOKUP($A31,#REF!,9,FALSE) -> #REF! | J31: =TRUNC(I31*H31) -> #REF! | K31: =VLOOKUP($A31,#REF!,10,FALSE) -> #REF! | L31: =TRUNC(K31*H31) -> #REF! | M31: =VLOOKUP($A31,#REF!,11,FALSE) -> #REF! | N31: =TRUNC(M31*H31) -> #REF! | O31: =SUM(J31,L31,N31) -> #REF!
... A48: 48 | B48: =VLOOKUP($A48,#REF!,2,FALSE) -> #REF! | C48: =VLOOKUP($A48,#REF!,3,FALSE) -> #REF! | D48: =VLOOKUP($A48,#REF!,4,FALSE) -> #REF! | E48: =VLOOKUP($A48,#REF!,5,FALSE) -> #REF! | F48: =VLOOKUP($A48,#REF!,6,FALSE) -> #REF! | G48: =VLOOKUP($A48,#REF!,7,FALSE) -> #REF! | H48: =VLOOKUP($A48,#REF!,8,FALSE) -> #REF! | I48: =VLOOKUP($A48,#REF!,9,FALSE) -> #REF! | J48: =TRUNC(I48*H48) -> #REF! | K48: =VLOOKUP($A48,#REF!,10,FALSE) -> #REF! | L48: =TRUNC(K48*H48) -> #REF! | M48: =VLOOKUP($A48,#REF!,11,FALSE) -> #REF! | N48: =TRUNC(M48*H48) -> #REF! | O48: =SUM(J48,L48,N48) -> #REF!
A49: 49 | B49: 02-026 | C49: 지중방수용 발포지수제 분사처리 | D49: 관로형KIT | E49: 0 | F49: 신설 | G49: EA | H49: 1
A50: 50 | B50: =VLOOKUP($A50,#REF!,2,FALSE) -> #REF! | C50: =VLOOKUP($A50,#REF!,3,FALSE) -> #REF! | D50: =VLOOKUP($A50,#REF!,4,FALSE) -> #REF! | E50: =VLOOKUP($A50,#REF!,5,FALSE) -> #REF! | F50: =VLOOKUP($A50,#REF!,6,FALSE) -> #REF! | G50: =VLOOKUP($A50,#REF!,7,FALSE) -> #REF! | H50: =VLOOKUP($A50,#REF!,8,FALSE) -> #REF! | I50: =VLOOKUP($A50,#REF!,9,FALSE) -> #REF! | J50: =TRUNC(I50*H50) -> #REF! | K50: =VLOOKUP($A50,#REF!,10,FALSE) -> #REF! | L50: =TRUNC(K50*H50) -> #REF! | M50: =VLOOKUP($A50,#REF!,11,FALSE) -> #REF! | N50: =TRUNC(M50*H50) -> #REF! | O50: =SUM(J50,L50,N50) -> #REF!
A51: 51 | B51: =VLOOKUP($A51,#REF!,2,FALSE) -> #REF! | C51: =VLOOKUP($A51,#REF!,3,FALSE) -> #REF! | D51: =VLOOKUP($A51,#REF!,4,FALSE) -> #REF! | E51: =VLOOKUP($A51,#REF!,5,FALSE) -> #REF! | F51: =VLOOKUP($A51,#REF!,6,FALSE) -> #REF! | G51: =VLOOKUP($A51,#REF!,7,FALSE) -> #REF! | H51: =VLOOKUP($A51,#REF!,8,FALSE) -> #REF! | I51: =VLOOKUP($A51,#REF!,9,FALSE) -> #REF! | J51: =TRUNC(I51*H51) -> #REF! | K51: =VLOOKUP($A51,#REF!,10,FALSE) -> #REF! | L51: =TRUNC(K51*H51) -> #REF! | M51: =VLOOKUP($A51,#REF!,11,FALSE) -> #REF! | N51: =TRUNC(M51*H51) -> #REF! | O51: =SUM(J51,L51,N51) -> #REF!
A52: 52 | B52: =VLOOKUP($A52,#REF!,2,FALSE) -> #REF! | C52: =VLOOKUP($A52,#REF!,3,FALSE) -> #REF! | D52: =VLOOKUP($A52,#REF!,4,FALSE) -> #REF! | E52: =VLOOKUP($A52,#REF!,5,FALSE) -> #REF! | F52: =VLOOKUP($A52,#REF!,6,FALSE) -> #REF! | G52: =VLOOKUP($A52,#REF!,7,FALSE) -> #REF! | H52: =VLOOKUP($A52,#REF!,8,FALSE) -> #REF! | I52: =VLOOKUP($A52,#REF!,9,FALSE) -> #REF! | J52: =TRUNC(I52*H52) -> #REF! | K52: =VLOOKUP($A52,#REF!,10,FALSE) -> #REF! | L52: =TRUNC(K52*H52) -> #REF! | M52: =VLOOKUP($A52,#REF!,11,FALSE) -> #REF! | N52: =TRUNC(M52*H52) -> #REF! | O52: =SUM(J52,L52,N52) -> #REF!
A53: 53 | B53: =VLOOKUP($A53,#REF!,2,FALSE) -> #REF! | C53: =VLOOKUP($A53,#REF!,3,FALSE) -> #REF! | D53: =VLOOKUP($A53,#REF!,4,FALSE) -> #REF! | E53: =VLOOKUP($A53,#REF!,5,FALSE) -> #REF! | F53: =VLOOKUP($A53,#REF!,6,FALSE) -> #REF! | G53: =VLOOKUP($A53,#REF!,7,FALSE) -> #REF! | H53: =VLOOKUP($A53,#REF!,8,FALSE) -> #REF! | I53: =VLOOKUP($A53,#REF!,9,FALSE) -> #REF! | J53: =TRUNC(I53*H53) -> #REF! | K53: =VLOOKUP($A53,#REF!,10,FALSE) -> #REF! | L53: =TRUNC(K53*H53) -> #REF! | M53: =VLOOKUP($A53,#REF!,11,FALSE) -> #REF! | N53: =TRUNC(M53*H53) -> #REF! | O53: =SUM(J53,L53,N53) -> #REF!
A54: 54 | B54: =VLOOKUP($A54,#REF!,2,FALSE) -> #REF! | C54: =VLOOKUP($A54,#REF!,3,FALSE) -> #REF! | D54: =VLOOKUP($A54,#REF!,4,FALSE) -> #REF! | E54: =VLOOKUP($A54,#REF!,5,FALSE) -> #REF! | F54: =VLOOKUP($A54,#REF!,6,FALSE) -> #REF! | G54: =VLOOKUP($A54,#REF!,7,FALSE) -> #REF! | H54: =VLOOKUP($A54,#REF!,8,FALSE) -> #REF! | I54: =VLOOKUP($A54,#REF!,9,FALSE) -> #REF! | J54: =TRUNC(I54*H54) -> #REF! | K54: =VLOOKUP($A54,#REF!,10,FALSE) -> #REF! | L54: =TRUNC(K54*H54) -> #REF! | M54: =VLOOKUP($A54,#REF!,11,FALSE) -> #REF! | N54: =TRUNC(M54*H54) -> #REF! | O54: =SUM(J54,L54,N54) -> #REF!
A55: 55 | B55: =VLOOKUP($A55,#REF!,2,FALSE) -> #REF! | C55: =VLOOKUP($A55,#REF!,3,FALSE) -> #REF! | D55: =VLOOKUP($A55,#REF!,4,FALSE) -> #REF! | E55: =VLOOKUP($A55,#REF!,5,FALSE) -> #REF! | F55: =VLOOKUP($A55,#REF!,6,FALSE) -> #REF! | G55: =VLOOKUP($A55,#REF!,7,FALSE) -> #REF! | H55: =VLOOKUP($A55,#REF!,8,FALSE) -> #REF! | I55: =VLOOKUP($A55,#REF!,9,FALSE) -> #REF! | J55: =TRUNC(I55*H55) -> #REF! | K55: =VLOOKUP($A55,#REF!,10,FALSE) -> #REF! | L55: =TRUNC(K55*H55) -> #REF! | M55: =VLOOKUP($A55,#REF!,11,FALSE) -> #REF! | N55: =TRUNC(M55*H55) -> #REF! | O55: =SUM(J55,L55,N55) -> #REF!
A56: 56 | B56: =VLOOKUP($A56,#REF!,2,FALSE) -> #REF! | C56: =VLOOKUP($A56,#REF!,3,FALSE) -> #REF! | D56: =VLOOKUP($A56,#REF!,4,FALSE) -> #REF! | E56: =VLOOKUP($A56,#REF!,5,FALSE) -> #REF! | F56: =VLOOKUP($A56,#REF!,6,FALSE) -> #REF! | G56: =VLOOKUP($A56,#REF!,7,FALSE) -> #REF! | H56: =VLOOKUP($A56,#REF!,8,FALSE) -> #REF! | I56: =VLOOKUP($A56,#REF!,9,FALSE) -> #REF! | J56: =TRUNC(I56*H56) -> #REF! | K56: =VLOOKUP($A56,#REF!,10,FALSE) -> #REF! | L56: =TRUNC(K56*H56) -> #REF! | M56: =VLOOKUP($A56,#REF!,11,FALSE) -> #REF! | N56: =TRUNC(M56*H56) -> #REF! | O56: =SUM(J56,L56,N56) -> #REF!
A57: 57 | B57: =VLOOKUP($A57,#REF!,2,FALSE) -> #REF! | C57: =VLOOKUP($A57,#REF!,3,FALSE) -> #REF! | D57: =VLOOKUP($A57,#REF!,4,FALSE) -> #REF! | E57: =VLOOKUP($A57,#REF!,5,FALSE) -> #REF! | F57: =VLOOKUP($A57,#REF!,6,FALSE) -> #REF! | G57: =VLOOKUP($A57,#REF!,7,FALSE) -> #REF! | H57: =VLOOKUP($A57,#REF!,8,FALSE) -> #REF! | I57: =VLOOKUP($A57,#REF!,9,FALSE) -> #REF! | J57: =TRUNC(I57*H57) -> #REF! | K57: =VLOOKUP($A57,#REF!,10,FALSE) -> #REF! | L57: =TRUNC(K57*H57) -> #REF! | M57: =VLOOKUP($A57,#REF!,11,FALSE) -> #REF! | N57: =TRUNC(M57*H57) -> #REF! | O57: =SUM(J57,L57,N57) -> #REF!
A58: 58 | B58: =VLOOKUP($A58,#REF!,2,FALSE) -> #REF! | C58: =VLOOKUP($A58,#REF!,3,FALSE) -> #REF! | D58: =VLOOKUP($A58,#REF!,4,FALSE) -> #REF! | E58: =VLOOKUP($A58,#REF!,5,FALSE) -> #REF! | F58: =VLOOKUP($A58,#REF!,6,FALSE) -> #REF! | G58: =VLOOKUP($A58,#REF!,7,FALSE) -> #REF! | H58: =VLOOKUP($A58,#REF!,8,FALSE) -> #REF! | I58: =VLOOKUP($A58,#REF!,9,FALSE) -> #REF! | J58: =TRUNC(I58*H58) -> #REF! | K58: =VLOOKUP($A58,#REF!,10,FALSE) -> #REF! | L58: =TRUNC(K58*H58) -> #REF! | M58: =VLOOKUP($A58,#REF!,11,FALSE) -> #REF! | N58: =TRUNC(M58*H58) -> #REF! | O58: =SUM(J58,L58,N58) -> #REF!
...

Sheet 2
B1: 세 부 물 량 표
B2: =공사원가계산서!B2 -> ■공사명 : 그린나래 지하차도 상부 교통사고 잦은 곳 개선 공사(전기) | F2: ="장소 : "&#REF! -> #REF!
B3: No | C3: 품 명 | D3: 규 격 | G3: 단위 | H3: 수량 | I3: A | J3: B | K3: C | L3: D | M3: E | N3: 1 | O3: 2 | P3: 3 | Q3: 4 | R3: 5 | S3: 6 | T3: 7 | U3: 8 | V3: 9 | W3: 10
A5: 1 | B5: =VLOOKUP($A5,#REF!,2,FALSE) -> #REF! | C5: =VLOOKUP($A5,#REF!,3,FALSE) -> #REF! | D5: =VLOOKUP($A5,#REF!,4,FALSE) -> #REF! | E5: =VLOOKUP($A5,#REF!,5,FALSE) -> #REF! | F5: =VLOOKUP($A5,#REF!,6,FALSE) -> #REF! | G5: =VLOOKUP($A5,#REF!,7,FALSE) -> #REF! | H5: =SUM(I5:W5) -> 0
A6: 2 | B6: =VLOOKUP($A6,#REF!,2,FALSE) -> #REF! | C6: =VLOOKUP($A6,#REF!,3,FALSE) -> #REF! | D6: =VLOOKUP($A6,#REF!,4,FALSE) -> #REF! | E6: =VLOOKUP($A6,#REF!,5,FALSE) -> #REF! | F6: =VLOOKUP($A6,#REF!,6,FALSE) -> #REF! | G6: =VLOOKUP($A6,#REF!,7,FALSE) -> #REF! | H6: =SUM(I6:W6) -> 0
A7: 3 | B7: =VLOOKUP($A7,#REF!,2,FALSE) -> #REF! | C7: =VLOOKUP($A7,#REF!,3,FALSE) -> #REF! | D7: =VLOOKUP($A7,#REF!,4,FALSE) -> #REF! | E7: =VLOOKUP($A7,#REF!,5,FALSE) -> #REF! | F7: =VLOOKUP($A7,#REF!,6,FALSE) -> #REF! | G7: =VLOOKUP($A7,#REF!,7,FALSE) -> #REF! | H7: =SUM(I7:W7) -> 0
A8: 4 | B8: =VLOOKUP($A8,#REF!,2,FALSE) -> #REF! | C8: =VLOOKUP($A8,#REF!,3,FALSE) -> #REF! | D8: =VLOOKUP($A8,#REF!,4,FALSE) -> #REF! | E8: =VLOOKUP($A8,#REF!,5,FALSE) -> #REF! | F8: =VLOOKUP($A8,#REF!,6,FALSE) -> #REF! | G8: =VLOOKUP($A8,#REF!,7,FALSE) -> #REF! | H8: =SUM(I8:W8) -> 0
A9: 5 | B9: =VLOOKUP($A9,#REF!,2,FALSE) -> #REF! | C9: =VLOOKUP($A9,#REF!,3,FALSE) -> #REF! | D9: =VLOOKUP($A9,#REF!,4,FALSE) -> #REF! | E9: =VLOOKUP($A9,#REF!,5,FALSE) -> #REF! | F9: =VLOOKUP($A9,#REF!,6,FALSE) -> #REF! | G9: =VLOOKUP($A9,#REF!,7,FALSE) -> #REF! | H9: =SUM(I9:W9) -> 0
A10: 6 | B10: =VLOOKUP($A10,#REF!,2,FALSE) -> #REF! | C10: =VLOOKUP($A10,#REF!,3,FALSE) -> #REF! | D10: =VLOOKUP($A10,#REF!,4,FALSE) -> #REF! | E10: =VLOOKUP($A10,#REF!,5,FALSE) -> #REF! | F10: =VLOOKUP($A10,#REF!,6,FALSE) -> #REF! | G10: =VLOOKUP($A10,#REF!,7,FALSE) -> #REF! | H10: =SUM(I10:W10) -> 0
A11: 7 | B11: =VLOOKUP($A11,#REF!,2,FALSE) -> #REF! | C11: =VLOOKUP($A11,#REF!,3,FALSE) -> #REF! | D11: =VLOOKUP($A11,#REF!,4,FALSE) -> #REF! | E11: =VLOOKUP($A11,#REF!,5,FALSE) -> #REF! | F11: =VLOOKUP($A11,#REF!,6,FALSE) -> #REF! | G11: =VLOOKUP($A11,#REF!,7,FALSE) -> #REF! | H11: =SUM(I11:W11) -> 0
A12: 8 | B12: =VLOOKUP($A12,#REF!,2,FALSE) -> #REF! | C12: =VLOOKUP($A12,#REF!,3,FALSE) -> #REF! | D12: =VLOOKUP($A12,#REF!,4,FALSE) -> #REF! | E12: =VLOOKUP($A12,#REF!,5,FALSE) -> #REF! | F12: =VLOOKUP($A12,#REF!,6,FALSE) -> #REF! | G12: =VLOOKUP($A12,#REF!,7,FALSE) -> #REF! | H12: =SUM(I12:W12) -> 0
A13: 9 | B13: =VLOOKUP($A13,#REF!,2,FALSE) -> #REF! | C13: =VLOOKUP($A13,#REF!,3,FALSE) -> #REF! | D13: =VLOOKUP($A13,#REF!,4,FALSE) -> #REF! | E13: =VLOOKUP($A13,#REF!,5,FALSE) -> #REF! | F13: =VLOOKUP($A13,#REF!,6,FALSE) -> #REF! | G13: =VLOOKUP($A13,#REF!,7,FALSE) -> #REF! | H13: =SUM(I13:W13) -> 0
A14: 10 | B14: =VLOOKUP($A14,#REF!,2,FALSE) -> #REF! | C14: =VLOOKUP($A14,#REF!,3,FALSE) -> #REF! | D14: =VLOOKUP($A14,#REF!,4,FALSE) -> #REF! | E14: =VLOOKUP($A14,#REF!,5,FALSE) -> #REF! | F14: =VLOOKUP($A14,#REF!,6,FALSE) -> #REF! | G14: =VLOOKUP($A14,#REF!,7,FALSE) -> #REF! | H14: =SUM(I14:W14) -> 0
A15: 11 | B15: =VLOOKUP($A15,#REF!,2,FALSE) -> #REF! | C15: =VLOOKUP($A15,#REF!,3,FALSE) -> #REF! | D15: =VLOOKUP($A15,#REF!,4,FALSE) -> #REF! | E15: =VLOOKUP($A15,#REF!,5,FALSE) -> #REF! | F15: =VLOOKUP($A15,#REF!,6,FALSE) -> #REF! | G15: =VLOOKUP($A15,#REF!,7,FALSE) -> #REF! | H15: =SUM(I15:W15) -> 0
A16: 12 | B16: =VLOOKUP($A16,#REF!,2,FALSE) -> #REF! | C16: =VLOOKUP($A16,#REF!,3,FALSE) -> #REF! | D16: =VLOOKUP($A16,#REF!,4,FALSE) -> #REF! | E16: =VLOOKUP($A16,#REF!,5,FALSE) -> #REF! | F16: =VLOOKUP($A16,#REF!,6,FALSE) -> #REF! | G16: =VLOOKUP($A16,#REF!,7,FALSE) -> #REF! | H16: =SUM(I16:W16) -> 0
... A982: 978 | B982: =VLOOKUP($A982,#REF!,2,FALSE) -> #REF! | C982: =VLOOKUP($A982,#REF!,3,FALSE) -> #REF! | D982: =VLOOKUP($A982,#REF!,4,FALSE) -> #REF! | E982: =VLOOKUP($A982,#REF!,5,FALSE) -> #REF! | F982: =VLOOKUP($A982,#REF!,6,FALSE) -> #REF! | G982: =VLOOKUP($A982,#REF!,7,FALSE) -> #REF! | H982: =SUM(I982:W982) -> 0
B983: 소 계 | H983: =SUM(H5:H982) -> 0 | I983: =SUM(I5:I982) -> 0 | J983: =SUM(J5:J982) -> 0 | K983: =SUM(K5:K982) -> 0 | L983: =SUM(L5:L982) -> 0 | M983: =SUM(M5:M982) -> 0 | N983: =SUM(N5:N982) -> 0 | O983: =SUM(O5:O982) -> 0 | ... W983: =SUM(W5:W982) -> 0

Sheet 3
B1: 세 부 물 량 표
B2: =공사원가계산서!B2 -> ■공사명 : 그린나래 지하차도 상부 교통사고 잦은 곳 개선 공사(전기) | F2: ="장소 : "&#REF! -> #REF!
B3: No | C3: 품 명 | D3: 규 격 | G3: 단위 | H3: 수량 | I3: A | J3: B | K3: C | L3: D | M3: E | N3: 1 | O3: 2 | P3: 3 | Q3: 4 | R3: 5 | S3: 6 | T3: 7 | U3: 8 | V3: 9 | W3: 10
A5: 1 | B5: =VLOOKUP($A5,#REF!,2,FALSE) -> #REF! | C5: =VLOOKUP($A5,#REF!,3,FALSE) -> #REF! | D5: =VLOOKUP($A5,#REF!,4,FALSE) -> #REF! | E5: =VLOOKUP($A5,#REF!,5,FALSE) -> #REF! | F5: =VLOOKUP($A5,#REF!,6,FALSE) -> #REF! | G5: =VLOOKUP($A5,#REF!,7,FALSE) -> #REF! | H5: =SUM(I5:W5) -> 0
A6: 2 | B6: =VLOOKUP($A6,#REF!,2,FALSE) -> #REF! | C6: =VLOOKUP($A6,#REF!,3,FALSE) -> #REF! | D6: =VLOOKUP($A6,#REF!,4,FALSE) -> #REF! | E6: =VLOOKUP($A6,#REF!,5,FALSE) -> #REF! | F6: =VLOOKUP($A6,#REF!,6,FALSE) -> #REF! | G6: =VLOOKUP($A6,#REF!,7,FALSE) -> #REF! | H6: =SUM(I6:W6) -> 0
A7: 3 | B7: =VLOOKUP($A7,#REF!,2,FALSE) -> #REF! | C7: =VLOOKUP($A7,#REF!,3,FALSE) -> #REF! | D7: =VLOOKUP($A7,#REF!,4,FALSE) -> #REF! | E7: =VLOOKUP($A7,#REF!,5,FALSE) -> #REF! | F7: =VLOOKUP($A7,#REF!,6,FALSE) -> #REF! | G7: =VLOOKUP($A7,#REF!,7,FALSE) -> #REF! | H7: =SUM(I7:W7) -> 0
A8: 4 | B8: =VLOOKUP($A8,#REF!,2,FALSE) -> #REF! | C8: =VLOOKUP($A8,#REF!,3,FALSE) -> #REF! | D8: =VLOOKUP($A8,#REF!,4,FALSE) -> #REF! | E8: =VLOOKUP($A8,#REF!,5,FALSE) -> #REF! | F8: =VLOOKUP($A8,#REF!,6,FALSE) -> #REF! | G8: =VLOOKUP($A8,#REF!,7,FALSE) -> #REF! | H8: =SUM(I8:W8) -> 0
A9: 5 | B9: =VLOOKUP($A9,#REF!,2,FALSE) -> #REF! | C9: =VLOOKUP($A9,#REF!,3,FALSE) -> #REF! | D9: =VLOOKUP($A9,#REF!,4,FALSE) -> #REF! | E9: =VLOOKUP($A9,#REF!,5,FALSE) -> #REF! | F9: =VLOOKUP($A9,#REF!,6,FALSE) -> #REF! | G9: =VLOOKUP($A9,#REF!,7,FALSE) -> #REF! | H9: =SUM(I9:W9) -> 0
A10: 6 | B10: =VLOOKUP($A10,#REF!,2,FALSE) -> #REF! | C10: =VLOOKUP($A10,#REF!,3,FALSE) -> #REF! | D10: =VLOOKUP($A10,#REF!,4,FALSE) -> #REF! | E10: =VLOOKUP($A10,#REF!,5,FALSE) -> #REF! | F10: =VLOOKUP($A10,#REF!,6,FALSE) -> #REF! | G10: =VLOOKUP($A10,#REF!,7,FALSE) -> #REF! | H10: =SUM(I10:W10) -> 0
A11: 7 | B11: =VLOOKUP($A11,#REF!,2,FALSE) -> #REF! | C11: =VLOOKUP($A11,#REF!,3,FALSE) -> #REF! | D11: =VLOOKUP($A11,#REF!,4,FALSE) -> #REF! | E11: =VLOOKUP($A11,#REF!,5,FALSE) -> #REF! | F11: =VLOOKUP($A11,#REF!,6,FALSE) -> #REF! | G11: =VLOOKUP($A11,#REF!,7,FALSE) -> #REF! | H11: =SUM(I11:W11) -> 0
A12: 8 | B12: =VLOOKUP($A12,#REF!,2,FALSE) -> #REF! | C12: =VLOOKUP($A12,#REF!,3,FALSE) -> #REF! | D12: =VLOOKUP($A12,#REF!,4,FALSE) -> #REF! | E12: =VLOOKUP($A12,#REF!,5,FALSE) -> #REF! | F12: =VLOOKUP($A12,#REF!,6,FALSE) -> #REF! | G12: =VLOOKUP($A12,#REF!,7,FALSE) -> #REF! | H12: =SUM(I12:W12) -> 0
A13: 9 | B13: =VLOOKUP($A13,#REF!,2,FALSE) -> #REF! | C13: =VLOOKUP($A13,#REF!,3,FALSE) -> #REF! | D13: =VLOOKUP($A13,#REF!,4,FALSE) -> #REF! | E13: =VLOOKUP($A13,#REF!,5,FALSE) -> #REF! | F13: =VLOOKUP($A13,#REF!,6,FALSE) -> #REF! | G13: =VLOOKUP($A13,#REF!,7,FALSE) -> #REF! | H13: =SUM(I13:W13) -> 0
A14: 10 | B14: =VLOOKUP($A14,#REF!,2,FALSE) -> #REF! | C14: =VLOOKUP($A14,#REF!,3,FALSE) -> #REF! | D14: =VLOOKUP($A14,#REF!,4,FALSE) -> #REF! | E14: =VLOOKUP($A14,#REF!,5,FALSE) -> #REF! | F14: =VLOOKUP($A14,#REF!,6,FALSE) -> #REF! | G14: =VLOOKUP($A14,#REF!,7,FALSE) -> #REF! | H14: =SUM(I14:W14) -> 0
A15: 11 | B15: =VLOOKUP($A15,#REF!,2,FALSE) -> #REF! | C15: =VLOOKUP($A15,#REF!,3,FALSE) -> #REF! | D15: =VLOOKUP($A15,#REF!,4,FALSE) -> #REF! | E15: =VLOOKUP($A15,#REF!,5,FALSE) -> #REF! | F15: =VLOOKUP($A15,#REF!,6,FALSE) -> #REF! | G15: =VLOOKUP($A15,#REF!,7,FALSE) -> #REF! | H15: =SUM(I15:W15) -> 0
A16: 12 | B16: =VLOOKUP($A16,#REF!,2,FALSE) -> #REF! | C16: =VLOOKUP($A16,#REF!,3,FALSE) -> #REF! | D16: =VLOOKUP($A16,#REF!,4,FALSE) -> #REF! | E16: =VLOOKUP($A16,#REF!,5,FALSE) -> #REF! | F16: =VLOOKUP($A16,#REF!,6,FALSE) -> #REF! | G16: =VLOOKUP($A16,#REF!,7,FALSE) -> #REF! | H16: =SUM(I16:W16) -> 0
... A982: 978 | B982: =VLOOKUP($A982,#REF!,2,FALSE) -> #REF! | C982: =VLOOKUP($A982,#REF!,3,FALSE) -> #REF! | D982: =VLOOKUP($A982,#REF!,4,FALSE) -> #REF! | E982: =VLOOKUP($A982,#REF!,5,FALSE) -> #REF! | F982: =VLOOKUP($A982,#REF!,6,FALSE) -> #REF! | G982: =VLOOKUP($A982,#REF!,7,FALSE) -> #REF! | H982: =SUM(I982:W982) -> 0
B983: 소 계 | H983: =SUM(H5:H982) -> 0 | I983: =SUM(I5:I982) -> 0 | J983: =SUM(J5:J982) -> 0 | K983: =SUM(K5:K982) -> 0 | L983: =SUM(L5:L982) -> 0 | M983: =SUM(M5:M982) -> 0 | N983: =SUM(N5:N982) -> 0 | O983: =SUM(O5:O982) -> 0 | ... W983: =SUM(W5:W982) -> 0

Sheet 4
B1: 세 부 물 량 표
B2: =공사원가계산서!B2 -> ■공사명 : 그린나래 지하차도 상부 교통사고 잦은 곳 개선 공사(전기) | F2: ="장소 : "&#REF! -> #REF!
B3: No | C3: 품 명 | D3: 규 격 | G3: 단위 | H3: 수량 | I3: A | J3: B | K3: C | L3: D | M3: E | N3: 1 | O3: 2 | P3: 3 | Q3: 4 | R3: 5 | S3: 6 | T3: 7 | U3: 8 | V3: 9 | W3: 10
A5: 1 | B5: =VLOOKUP($A5,#REF!,2,FALSE) -> #REF! | C5: =VLOOKUP($A5,#REF!,3,FALSE) -> #REF! | D5: =VLOOKUP($A5,#REF!,4,FALSE) -> #REF! | E5: =VLOOKUP($A5,#REF!,5,FALSE) -> #REF! | F5: =VLOOKUP($A5,#REF!,6,FALSE) -> #REF! | G5: =VLOOKUP($A5,#REF!,7,FALSE) -> #REF! | H5: =SUM(I5:W5) -> 0
A6: 2 | B6: =VLOOKUP($A6,#REF!,2,FALSE) -> #REF! | C6: =VLOOKUP($A6,#REF!,3,FALSE) -> #REF! | D6: =VLOOKUP($A6,#REF!,4,FALSE) -> #REF! | E6: =VLOOKUP($A6,#REF!,5,FALSE) -> #REF! | F6: =VLOOKUP($A6,#REF!,6,FALSE) -> #REF! | G6: =VLOOKUP($A6,#REF!,7,FALSE) -> #REF! | H6: =SUM(I6:W6) -> 0
A7: 3 | B7: =VLOOKUP($A7,#REF!,2,FALSE) -> #REF! | C7: =VLOOKUP($A7,#REF!,3,FALSE) -> #REF! | D7: =VLOOKUP($A7,#REF!,4,FALSE) -> #REF! | E7: =VLOOKUP($A7,#REF!,5,FALSE) -> #REF! | F7: =VLOOKUP($A7,#REF!,6,FALSE) -> #REF! | G7: =VLOOKUP($A7,#REF!,7,FALSE) -> #REF! | H7: =SUM(I7:W7) -> 0
A8: 4 | B8: =VLOOKUP($A8,#REF!,2,FALSE) -> #REF! | C8: =VLOOKUP($A8,#REF!,3,FALSE) -> #REF! | D8: =VLOOKUP($A8,#REF!,4,FALSE) -> #REF! | E8: =VLOOKUP($A8,#REF!,5,FALSE) -> #REF! | F8: =VLOOKUP($A8,#REF!,6,FALSE) -> #REF! | G8: =VLOOKUP($A8,#REF!,7,FALSE) -> #REF! | H8: =SUM(I8:W8) -> 0
A9: 5 | B9: =VLOOKUP($A9,#REF!,2,FALSE) -> #REF! | C9: =VLOOKUP($A9,#REF!,3,FALSE) -> #REF! | D9: =VLOOKUP($A9,#REF!,4,FALSE) -> #REF! | E9: =VLOOKUP($A9,#REF!,5,FALSE) -> #REF! | F9: =VLOOKUP($A9,#REF!,6,FALSE) -> #REF! | G9: =VLOOKUP($A9,#REF!,7,FALSE) -> #REF! | H9: =SUM(I9:W9) -> 0
A10: 6 | B10: =VLOOKUP($A10,#REF!,2,FALSE) -> #REF! | C10: =VLOOKUP($A10,#REF!,3,FALSE) -> #REF! | D10: =VLOOKUP($A10,#REF!,4,FALSE) -> #REF! | E10: =VLOOKUP($A10,#REF!,5,FALSE) -> #REF! | F10: =VLOOKUP($A10,#REF!,6,FALSE) -> #REF! | G10: =VLOOKUP($A10,#REF!,7,FALSE) -> #REF! | H10: =SUM(I10:W10) -> 0
A11: 7 | B11: =VLOOKUP($A11,#REF!,2,FALSE) -> #REF! | C11: =VLOOKUP($A11,#REF!,3,FALSE) -> #REF! | D11: =VLOOKUP($A11,#REF!,4,FALSE) -> #REF! | E11: =VLOOKUP($A11,#REF!,5,FALSE) -> #REF! | F11: =VLOOKUP($A11,#REF!,6,FALSE) -> #REF! | G11: =VLOOKUP($A11,#REF!,7,FALSE) -> #REF! | H11: =SUM(I11:W11) -> 0
A12: 8 | B12: =VLOOKUP($A12,#REF!,2,FALSE) -> #REF! | C12: =VLOOKUP($A12,#REF!,3,FALSE) -> #REF! | D12: =VLOOKUP($A12,#REF!,4,FALSE) -> #REF! | E12: =VLOOKUP($A12,#REF!,5,FALSE) -> #REF! | F12: =VLOOKUP($A12,#REF!,6,FALSE) -> #REF! | G12: =VLOOKUP($A12,#REF!,7,FALSE) -> #REF! | H12: =SUM(I12:W12) -> 0
A13: 9 | B13: =VLOOKUP($A13,#REF!,2,FALSE) -> #REF! | C13: =VLOOKUP($A13,#REF!,3,FALSE) -> #REF! | D13: =VLOOKUP($A13,#REF!,4,FALSE) -> #REF! | E13: =VLOOKUP($A13,#REF!,5,FALSE) -> #REF! | F13: =VLOOKUP($A13,#REF!,6,FALSE) -> #REF! | G13: =VLOOKUP($A13,#REF!,7,FALSE) -> #REF! | H13: =SUM(I13:W13) -> 0
A14: 10 | B14: =VLOOKUP($A14,#REF!,2,FALSE) -> #REF! | C14: =VLOOKUP($A14,#REF!,3,FALSE) -> #REF! | D14: =VLOOKUP($A14,#REF!,4,FALSE) -> #REF! | E14: =VLOOKUP($A14,#REF!,5,FALSE) -> #REF! | F14: =VLOOKUP($A14,#REF!,6,FALSE) -> #REF! | G14: =VLOOKUP($A14,#REF!,7,FALSE) -> #REF! | H14: =SUM(I14:W14) -> 0
A15: 11 | B15: =VLOOKUP($A15,#REF!,2,FALSE) -> #REF! | C15: =VLOOKUP($A15,#REF!,3,FALSE) -> #REF! | D15: =VLOOKUP($A15,#REF!,4,FALSE) -> #REF! | E15: =VLOOKUP($A15,#REF!,5,FALSE) -> #REF! | F15: =VLOOKUP($A15,#REF!,6,FALSE) -> #REF! | G15: =VLOOKUP($A15,#REF!,7,FALSE) -> #REF! | H15: =SUM(I15:W15) -> 0
A16: 12 | B16: =VLOOKUP($A16,#REF!,2,FALSE) -> #REF! | C16: =VLOOKUP($A16,#REF!,3,FALSE) -> #REF! | D16: =VLOOKUP($A16,#REF!,4,FALSE) -> #REF! | E16: =VLOOKUP($A16,#REF!,5,FALSE) -> #REF! | F16: =VLOOKUP($A16,#REF!,6,FALSE) -> #REF! | G16: =VLOOKUP($A16,#REF!,7,FALSE) -> #REF! | H16: =SUM(I16:W16) -> 0
... A982: 978 | B982: =VLOOKUP($A982,#REF!,2,FALSE) -> #REF! | C982: =VLOOKUP($A982,#REF!,3,FALSE) -> #REF! | D982: =VLOOKUP($A982,#REF!,4,FALSE) -> #REF! | E982: =VLOOKUP($A982,#REF!,5,FALSE) -> #REF! | F982: =VLOOKUP($A982,#REF!,6,FALSE) -> #REF! | G982: =VLOOKUP($A982,#REF!,7,FALSE) -> #REF! | H982: =SUM(I982:W982) -> 0
B983: 소 계 | H983: =SUM(H5:H982) -> 0 | I983: =SUM(I5:I982) -> 0 | J983: =SUM(J5:J982) -> 0 | K983: =SUM(K5:K982) -> 0 | L983: =SUM(L5:L982) -> 0 | M983: =SUM(M5:M982) -> 0 | N983: =SUM(N5:N982) -> 0 | O983: =SUM(O5:O982) -> 0 | ... W983: =SUM(W5:W982) -> 0

Sheet 5
B1: 세 부 물 량 표
B2: =공사원가계산서!B2 -> ■공사명 : 그린나래 지하차도 상부 교통사고 잦은 곳 개선 공사(전기) | F2: ="장소 : "&#REF! -> #REF!
B3: No | C3: 품 명 | D3: 규 격 | G3: 단위 | H3: 수량 | I3: A | J3: B | K3: C | L3: D | M3: E | N3: 1 | O3: 2 | P3: 3 | Q3: 4 | R3: 5 | S3: 6 | T3: 7 | U3: 8 | V3: 9 | W3: 10
A5: 1 | B5: =VLOOKUP($A5,#REF!,2,FALSE) -> #REF! | C5: =VLOOKUP($A5,#REF!,3,FALSE) -> #REF! | D5: =VLOOKUP($A5,#REF!,4,FALSE) -> #REF! | E5: =VLOOKUP($A5,#REF!,5,FALSE) -> #REF! | F5: =VLOOKUP($A5,#REF!,6,FALSE) -> #REF! | G5: =VLOOKUP($A5,#REF!,7,FALSE) -> #REF! | H5: =SUM(I5:W5) -> 0
A6: 2 | B6: =VLOOKUP($A6,#REF!,2,FALSE) -> #REF! | C6: =VLOOKUP($A6,#REF!,3,FALSE) -> #REF! | D6: =VLOOKUP($A6,#REF!,4,FALSE) -> #REF! | E6: =VLOOKUP($A6,#REF!,5,FALSE) -> #REF! | F6: =VLOOKUP($A6,#REF!,6,FALSE) -> #REF! | G6: =VLOOKUP($A6,#REF!,7,FALSE) -> #REF! | H6: =SUM(I6:W6) -> 0
A7: 3 | B7: =VLOOKUP($A7,#REF!,2,FALSE) -> #REF! | C7: =VLOOKUP($A7,#REF!,3,FALSE) -> #REF! | D7: =VLOOKUP($A7,#REF!,4,FALSE) -> #REF! | E7: =VLOOKUP($A7,#REF!,5,FALSE) -> #REF! | F7: =VLOOKUP($A7,#REF!,6,FALSE) -> #REF! | G7: =VLOOKUP($A7,#REF!,7,FALSE) -> #REF! | H7: =SUM(I7:W7) -> 0
A8: 4 | B8: =VLOOKUP($A8,#REF!,2,FALSE) -> #REF! | C8: =VLOOKUP($A8,#REF!,3,FALSE) -> #REF! | D8: =VLOOKUP($A8,#REF!,4,FALSE) -> #REF! | E8: =VLOOKUP($A8,#REF!,5,FALSE) -> #REF! | F8: =VLOOKUP($A8,#REF!,6,FALSE) -> #REF! | G8: =VLOOKUP($A8,#REF!,7,FALSE) -> #REF! | H8: =SUM(I8:W8) -> 0
A9: 5 | B9: =VLOOKUP($A9,#REF!,2,FALSE) -> #REF! | C9: =VLOOKUP($A9,#REF!,3,FALSE) -> #REF! | D9: =VLOOKUP($A9,#REF!,4,FALSE) -> #REF! | E9: =VLOOKUP($A9,#REF!,5,FALSE) -> #REF! | F9: =VLOOKUP($A9,#REF!,6,FALSE) -> #REF! | G9: =VLOOKUP($A9,#REF!,7,FALSE) -> #REF! | H9: =SUM(I9:W9) -> 0
A10: 6 | B10: =VLOOKUP($A10,#REF!,2,FALSE) -> #REF! | C10: =VLOOKUP($A10,#REF!,3,FALSE) -> #REF! | D10: =VLOOKUP($A10,#REF!,4,FALSE) -> #REF! | E10: =VLOOKUP($A10,#REF!,5,FALSE) -> #REF! | F10: =VLOOKUP($A10,#REF!,6,FALSE) -> #REF! | G10: =VLOOKUP($A10,#REF!,7,FALSE) -> #REF! | H10: =SUM(I10:W10) -> 0
A11: 7 | B11: =VLOOKUP($A11,#REF!,2,FALSE) -> #REF! | C11: =VLOOKUP($A11,#REF!,3,FALSE) -> #REF! | D11: =VLOOKUP($A11,#REF!,4,FALSE) -> #REF! | E11: =VLOOKUP($A11,#REF!,5,FALSE) -> #REF! | F11: =VLOOKUP($A11,#REF!,6,FALSE) -> #REF! | G11: =VLOOKUP($A11,#REF!,7,FALSE) -> #REF! | H11: =SUM(I11:W11) -> 0
A12: 8 | B12: =VLOOKUP($A12,#REF!,2,FALSE) -> #REF! | C12: =VLOOKUP($A12,#REF!,3,FALSE) -> #REF! | D12: =VLOOKUP($A12,#REF!,4,FALSE) -> #REF! | E12: =VLOOKUP($A12,#REF!,5,FALSE) -> #REF! | F12: =VLOOKUP($A12,#REF!,6,FALSE) -> #REF! | G12: =VLOOKUP($A12,#REF!,7,FALSE) -> #REF! | H12: =SUM(I12:W12) -> 0
A13: 9 | B13: =VLOOKUP($A13,#REF!,2,FALSE) -> #REF! | C13: =VLOOKUP($A13,#REF!,3,FALSE) -> #REF! | D13: =VLOOKUP($A13,#REF!,4,FALSE) -> #REF! | E13: =VLOOKUP($A13,#REF!,5,FALSE) -> #REF! | F13: =VLOOKUP($A13,#REF!,6,FALSE) -> #REF! | G13: =VLOOKUP($A13,#REF!,7,FALSE) -> #REF! | H13: =SUM(I13:W13) -> 0
A14: 10 | B14: =VLOOKUP($A14,#REF!,2,FALSE) -> #REF! | C14: =VLOOKUP($A14,#REF!,3,FALSE) -> #REF! | D14: =VLOOKUP($A14,#REF!,4,FALSE) -> #REF! | E14: =VLOOKUP($A14,#REF!,5,FALSE) -> #REF! | F14: =VLOOKUP($A14,#REF!,6,FALSE) -> #REF! | G14: =VLOOKUP($A14,#REF!,7,FALSE) -> #REF! | H14: =SUM(I14:W14) -> 0
A15: 11 | B15: =VLOOKUP($A15,#REF!,2,FALSE) -> #REF! | C15: =VLOOKUP($A15,#REF!,3,FALSE) -> #REF! | D15: =VLOOKUP($A15,#REF!,4,FALSE) -> #REF! | E15: =VLOOKUP($A15,#REF!,5,FALSE) -> #REF! | F15: =VLOOKUP($A15,#REF!,6,FALSE) -> #REF! | G15: =VLOOKUP($A15,#REF!,7,FALSE) -> #REF! | H15: =SUM(I15:W15) -> 0
A16: 12 | B16: =VLOOKUP($A16,#REF!,2,FALSE) -> #REF! | C16: =VLOOKUP($A16,#REF!,3,FALSE) -> #REF! | D16: =VLOOKUP($A16,#REF!,4,FALSE) -> #REF! | E16: =VLOOKUP($A16,#REF!,5,FALSE) -> #REF! | F16: =VLOOKUP($A16,#REF!,6,FALSE) -> #REF! | G16: =VLOOKUP($A16,#REF!,7,FALSE) -> #REF! | H16: =SUM(I16:W16) -> 0
... A982: 978 | B982: =VLOOKUP($A982,#REF!,2,FALSE) -> #REF! | C982: =VLOOKUP($A982,#REF!,3,FALSE) -> #REF! | D982: =VLOOKUP($A982,#REF!,4,FALSE) -> #REF! | E982: =VLOOKUP($A982,#REF!,5,FALSE) -> #REF! | F982: =VLOOKUP($A982,#REF!,6,FALSE) -> #REF! | G982: =VLOOKUP($A982,#REF!,7,FALSE) -> #REF! | H982: =SUM(I982:W982) -> 0
B983: 소 계 | H983: =SUM(H5:H982) -> 0 | I983: =SUM(I5:I982) -> 0 | J983: =SUM(J5:J982) -> 0 | K983: =SUM(K5:K982) -> 0 | L983: =SUM(L5:L982) -> 0 | M983: =SUM(M5:M982) -> 0 | N983: =SUM(N5:N982) -> 0 | O983: =SUM(O5:O982) -> 0 | ... W983: =SUM(W5:W982) -> 0

Sheet 6
B1: 세 부 물 량 표
B2: =공사원가계산서!B2 -> ■공사명 : 그린나래 지하차도 상부 교통사고 잦은 곳 개선 공사(전기) | F2: ="장소 : "&#REF! -> #REF!
B3: No | C3: 품 명 | D3: 규 격 | G3: 단위 | H3: 수량 | I3: A | J3: B | K3: C | L3: D | M3: E | N3: 1 | O3: 2 | P3: 3 | Q3: 4 | R3: 5 | S3: 6 | T3: 7 | U3: 8 | V3: 9 | W3: 10
A5: 1 | B5: =VLOOKUP($A5,#REF!,2,FALSE) -> #REF! | C5: =VLOOKUP($A5,#REF!,3,FALSE) -> #REF! | D5: =VLOOKUP($A5,#REF!,4,FALSE) -> #REF! | E5: =VLOOKUP($A5,#REF!,5,FALSE) -> #REF! | F5: =VLOOKUP($A5,#REF!,6,FALSE) -> #REF! | G5: =VLOOKUP($A5,#REF!,7,FALSE) -> #REF! | H5: =SUM(I5:W5) -> 0
A6: 2 | B6: =VLOOKUP($A6,#REF!,2,FALSE) -> #REF! | C6: =VLOOKUP($A6,#REF!,3,FALSE) -> #REF! | D6: =VLOOKUP($A6,#REF!,4,FALSE) -> #REF! | E6: =VLOOKUP($A6,#REF!,5,FALSE) -> #REF! | F6: =VLOOKUP($A6,#REF!,6,FALSE) -> #REF! | G6: =VLOOKUP($A6,#REF!,7,FALSE) -> #REF! | H6: =SUM(I6:W6) -> 0
A7: 3 | B7: =VLOOKUP($A7,#REF!,2,FALSE) -> #REF! | C7: =VLOOKUP($A7,#REF!,3,FALSE) -> #REF! | D7: =VLOOKUP($A7,#REF!,4,FALSE) -> #REF! | E7: =VLOOKUP($A7,#REF!,5,FALSE) -> #REF! | F7: =VLOOKUP($A7,#REF!,6,FALSE) -> #REF! | G7: =VLOOKUP($A7,#REF!,7,FALSE) -> #REF! | H7: =SUM(I7:W7) -> 0
A8: 4 | B8: =VLOOKUP($A8,#REF!,2,FALSE) -> #REF! | C8: =VLOOKUP($A8,#REF!,3,FALSE) -> #REF! | D8: =VLOOKUP($A8,#REF!,4,FALSE) -> #REF! | E8: =VLOOKUP($A8,#REF!,5,FALSE) -> #REF! | F8: =VLOOKUP($A8,#REF!,6,FALSE) -> #REF! | G8: =VLOOKUP($A8,#REF!,7,FALSE) -> #REF! | H8: =SUM(I8:W8) -> 0
A9: 5 | B9: =VLOOKUP($A9,#REF!,2,FALSE) -> #REF! | C9: =VLOOKUP($A9,#REF!,3,FALSE) -> #REF! | D9: =VLOOKUP($A9,#REF!,4,FALSE) -> #REF! | E9: =VLOOKUP($A9,#REF!,5,FALSE) -> #REF! | F9: =VLOOKUP($A9,#REF!,6,FALSE) -> #REF! | G9: =VLOOKUP($A9,#REF!,7,FALSE) -> #REF! | H9: =SUM(I9:W9) -> 0
A10: 6 | B10: =VLOOKUP($A10,#REF!,2,FALSE) -> #REF! | C10: =VLOOKUP($A10,#REF!,3,FALSE) -> #REF! | D10: =VLOOKUP($A10,#REF!,4,FALSE) -> #REF! | E10: =VLOOKUP($A10,#REF!,5,FALSE) -> #REF! | F10: =VLOOKUP($A10,#REF!,6,FALSE) -> #REF! | G10: =VLOOKUP($A10,#REF!,7,FALSE) -> #REF! | H10: =SUM(I10:W10) -> 0
A11: 7 | B11: =VLOOKUP($A11,#REF!,2,FALSE) -> #REF! | C11: =VLOOKUP($A11,#REF!,3,FALSE) -> #REF! | D11: =VLOOKUP($A11,#REF!,4,FALSE) -> #REF! | E11: =VLOOKUP($A11,#REF!,5,FALSE) -> #REF! | F11: =VLOOKUP($A11,#REF!,6,FALSE) -> #REF! | G11: =VLOOKUP($A11,#REF!,7,FALSE) -> #REF! | H11: =SUM(I11:W11) -> 0
A12: 8 | B12: =VLOOKUP($A12,#REF!,2,FALSE) -> #REF! | C12: =VLOOKUP($A12,#REF!,3,FALSE) -> #REF! | D12: =VLOOKUP($A12,#REF!,4,FALSE) -> #REF! | E12: =VLOOKUP($A12,#REF!,5,FALSE) -> #REF! | F12: =VLOOKUP($A12,#REF!,6,FALSE) -> #REF! | G12: =VLOOKUP($A12,#REF!,7,FALSE) -> #REF! | H12: =SUM(I12:W12) -> 0
A13: 9 | B13: =VLOOKUP($A13,#REF!,2,FALSE) -> #REF! | C13: =VLOOKUP($A13,#REF!,3,FALSE) -> #REF! | D13: =VLOOKUP($A13,#REF!,4,FALSE) -> #REF! | E13: =VLOOKUP($A13,#REF!,5,FALSE) -> #REF! | F13: =VLOOKUP($A13,#REF!,6,FALSE) -> #REF! | G13: =VLOOKUP($A13,#REF!,7,FALSE) -> #REF! | H13: =SUM(I13:W13) -> 0
A14: 10 | B14: =VLOOKUP($A14,#REF!,2,FALSE) -> #REF! | C14: =VLOOKUP($A14,#REF!,3,FALSE) -> #REF! | D14: =VLOOKUP($A14,#REF!,4,FALSE) -> #REF! | E14: =VLOOKUP($A14,#REF!,5,FALSE) -> #REF! | F14: =VLOOKUP($A14,#REF!,6,FALSE) -> #REF! | G14: =VLOOKUP($A14,#REF!,7,FALSE) -> #REF! | H14: =SUM(I14:W14) -> 0
A15: 11 | B15: =VLOOKUP($A15,#REF!,2,FALSE) -> #REF! | C15: =VLOOKUP($A15,#REF!,3,FALSE) -> #REF! | D15: =VLOOKUP($A15,#REF!,4,FALSE) -> #REF! | E15: =VLOOKUP($A15,#REF!,5,FALSE) -> #REF! | F15: =VLOOKUP($A15,#REF!,6,FALSE) -> #REF! | G15: =VLOOKUP($A15,#REF!,7,FALSE) -> #REF! | H15: =SUM(I15:W15) -> 0
A16: 12 | B16: =VLOOKUP($A16,#REF!,2,FALSE) -> #REF! | C16: =VLOOKUP($A16,#REF!,3,FALSE) -> #REF! | D16: =VLOOKUP($A16,#REF!,4,FALSE) -> #REF! | E16: =VLOOKUP($A16,#REF!,5,FALSE) -> #REF! | F16: =VLOOKUP($A16,#REF!,6,FALSE) -> #REF! | G16: =VLOOKUP($A16,#REF!,7,FALSE) -> #REF! | H16: =SUM(I16:W16) -> 0
... A982: 978 | B982: =VLOOKUP($A982,#REF!,2,FALSE) -> #REF! | C982: =VLOOKUP($A982,#REF!,3,FALSE) -> #REF! | D982: =VLOOKUP($A982,#REF!,4,FALSE) -> #REF! | E982: =VLOOKUP($A982,#REF!,5,FALSE) -> #REF! | F982: =VLOOKUP($A982,#REF!,6,FALSE) -> #REF! | G982: =VLOOKUP($A982,#REF!,7,FALSE) -> #REF! | H982: =SUM(I982:W982) -> 0
B983: 소 계 | H983: =SUM(H5:H982) -> 0 | I983: =SUM(I5:I982) -> 0 | J983: =SUM(J5:J982) -> 0 | K983: =SUM(K5:K982) -> 0 | L983: =SUM(L5:L982) -> 0 | M983: =SUM(M5:M982) -> 0 | N983: =SUM(N5:N982) -> 0 | O983: =SUM(O5:O982) -> 0 | ... W983: =SUM(W5:W982) -> 0

Sheet 7
B1: 세 부 물 량 표
B2: =공사원가계산서!B2 -> ■공사명 : 그린나래 지하차도 상부 교통사고 잦은 곳 개선 공사(전기) | F2: ="장소 : "&#REF! -> #REF!
B3: No | C3: 품 명 | D3: 규 격 | G3: 단위 | H3: 수량 | I3: A | J3: B | K3: C | L3: D | M3: E | N3: 1 | O3: 2 | P3: 3 | Q3: 4 | R3: 5 | S3: 6 | T3: 7 | U3: 8 | V3: 9 | W3: 10
A5: 1 | B5: =VLOOKUP($A5,#REF!,2,FALSE) -> #REF! | C5: =VLOOKUP($A5,#REF!,3,FALSE) -> #REF! | D5: =VLOOKUP($A5,#REF!,4,FALSE) -> #REF! | E5: =VLOOKUP($A5,#REF!,5,FALSE) -> #REF! | F5: =VLOOKUP($A5,#REF!,6,FALSE) -> #REF! | G5: =VLOOKUP($A5,#REF!,7,FALSE) -> #REF! | H5: =SUM(I5:W5) -> 0
A6: 2 | B6: =VLOOKUP($A6,#REF!,2,FALSE) -> #REF! | C6: =VLOOKUP($A6,#REF!,3,FALSE) -> #REF! | D6: =VLOOKUP($A6,#REF!,4,FALSE) -> #REF! | E6: =VLOOKUP($A6,#REF!,5,FALSE) -> #REF! | F6: =VLOOKUP($A6,#REF!,6,FALSE) -> #REF! | G6: =VLOOKUP($A6,#REF!,7,FALSE) -> #REF! | H6: =SUM(I6:W6) -> 0
A7: 3 | B7: =VLOOKUP($A7,#REF!,2,FALSE) -> #REF! | C7: =VLOOKUP($A7,#REF!,3,FALSE) -> #REF! | D7: =VLOOKUP($A7,#REF!,4,FALSE) -> #REF! | E7: =VLOOKUP($A7,#REF!,5,FALSE) -> #REF! | F7: =VLOOKUP($A7,#REF!,6,FALSE) -> #REF! | G7: =VLOOKUP($A7,#REF!,7,FALSE) -> #REF! | H7: =SUM(I7:W7) -> 0
A8: 4 | B8: =VLOOKUP($A8,#REF!,2,FALSE) -> #REF! | C8: =VLOOKUP($A8,#REF!,3,FALSE) -> #REF! | D8: =VLOOKUP($A8,#REF!,4,FALSE) -> #REF! | E8: =VLOOKUP($A8,#REF!,5,FALSE) -> #REF! | F8: =VLOOKUP($A8,#REF!,6,FALSE) -> #REF! | G8: =VLOOKUP($A8,#REF!,7,FALSE) -> #REF! | H8: =SUM(I8:W8) -> 0
A9: 5 | B9: =VLOOKUP($A9,#REF!,2,FALSE) -> #REF! | C9: =VLOOKUP($A9,#REF!,3,FALSE) -> #REF! | D9: =VLOOKUP($A9,#REF!,4,FALSE) -> #REF! | E9: =VLOOKUP($A9,#REF!,5,FALSE) -> #REF! | F9: =VLOOKUP($A9,#REF!,6,FALSE) -> #REF! | G9: =VLOOKUP($A9,#REF!,7,FALSE) -> #REF! | H9: =SUM(I9:W9) -> 0
A10: 6 | B10: =VLOOKUP($A10,#REF!,2,FALSE) -> #REF! | C10: =VLOOKUP($A10,#REF!,3,FALSE) -> #REF! | D10: =VLOOKUP($A10,#REF!,4,FALSE) -> #REF! | E10: =VLOOKUP($A10,#REF!,5,FALSE) -> #REF! | F10: =VLOOKUP($A10,#REF!,6,FALSE) -> #REF! | G10: =VLOOKUP($A10,#REF!,7,FALSE) -> #REF! | H10: =SUM(I10:W10) -> 0
A11: 7 | B11: =VLOOKUP($A11,#REF!,2,FALSE) -> #REF! | C11: =VLOOKUP($A11,#REF!,3,FALSE) -> #REF! | D11: =VLOOKUP($A11,#REF!,4,FALSE) -> #REF! | E11: =VLOOKUP($A11,#REF!,5,FALSE) -> #REF! | F11: =VLOOKUP($A11,#REF!,6,FALSE) -> #REF! | G11: =VLOOKUP($A11,#REF!,7,FALSE) -> #REF! | H11: =SUM(I11:W11) -> 0
A12: 8 | B12: =VLOOKUP($A12,#REF!,2,FALSE) -> #REF! | C12: =VLOOKUP($A12,#REF!,3,FALSE) -> #REF! | D12: =VLOOKUP($A12,#REF!,4,FALSE) -> #REF! | E12: =VLOOKUP($A12,#REF!,5,FALSE) -> #REF! | F12: =VLOOKUP($A12,#REF!,6,FALSE) -> #REF! | G12: =VLOOKUP($A12,#REF!,7,FALSE) -> #REF! | H12: =SUM(I12:W12) -> 0
A13: 9 | B13: =VLOOKUP($A13,#REF!,2,FALSE) -> #REF! | C13: =VLOOKUP($A13,#REF!,3,FALSE) -> #REF! | D13: =VLOOKUP($A13,#REF!,4,FALSE) -> #REF! | E13: =VLOOKUP($A13,#REF!,5,FALSE) -> #REF! | F13: =VLOOKUP($A13,#REF!,6,FALSE) -> #REF! | G13: =VLOOKUP($A13,#REF!,7,FALSE) -> #REF! | H13: =SUM(I13:W13) -> 0
A14: 10 | B14: =VLOOKUP($A14,#REF!,2,FALSE) -> #REF! | C14: =VLOOKUP($A14,#REF!,3,FALSE) -> #REF! | D14: =VLOOKUP($A14,#REF!,4,FALSE) -> #REF! | E14: =VLOOKUP($A14,#REF!,5,FALSE) -> #REF! | F14: =VLOOKUP($A14,#REF!,6,FALSE) -> #REF! | G14: =VLOOKUP($A14,#REF!,7,FALSE) -> #REF! | H14: =SUM(I14:W14) -> 0
A15: 11 | B15: =VLOOKUP($A15,#REF!,2,FALSE) -> #REF! | C15: =VLOOKUP($A15,#REF!,3,FALSE) -> #REF! | D15: =VLOOKUP($A15,#REF!,4,FALSE) -> #REF! | E15: =VLOOKUP($A15,#REF!,5,FALSE) -> #REF! | F15: =VLOOKUP($A15,#REF!,6,FALSE) -> #REF! | G15: =VLOOKUP($A15,#REF!,7,FALSE) -> #REF! | H15: =SUM(I15:W15) -> 0
A16: 12 | B16: =VLOOKUP($A16,#REF!,2,FALSE) -> #REF! | C16: =VLOOKUP($A16,#REF!,3,FALSE) -> #REF! | D16: =VLOOKUP($A16,#REF!,4,FALSE) -> #REF! | E16: =VLOOKUP($A16,#REF!,5,FALSE) -> #REF! | F16: =VLOOKUP($A16,#REF!,6,FALSE) -> #REF! | G16: =VLOOKUP($A16,#REF!,7,FALSE) -> #REF! | H16: =SUM(I16:W16) -> 0
... A982: 978 | B982: =VLOOKUP($A982,#REF!,2,FALSE) -> #REF! | C982: =VLOOKUP($A982,#REF!,3,FALSE) -> #REF! | D982: =VLOOKUP($A982,#REF!,4,FALSE) -> #REF! | E982: =VLOOKUP($A982,#REF!,5,FALSE) -> #REF! | F982: =VLOOKUP($A982,#REF!,6,FALSE) -> #REF! | G982: =VLOOKUP($A982,#REF!,7,FALSE) -> #REF! | H982: =SUM(I982:W982) -> 0
B983: 소 계 | H983: =SUM(H5:H982) -> 0 | I983: =SUM(I5:I982) -> 0 | J983: =SUM(J5:J982) -> 0 | K983: =SUM(K5:K982) -> 0 | L983: =SUM(L5:L982) -> 0 | M983: =SUM(M5:M982) -> 0 | N983: =SUM(N5:N982) -> 0 | O983: =SUM(O5:O982) -> 0 | ... W983: =SUM(W5:W982) -> 0

Sheet 8
B1: 세 부 물 량 표
B2: =공사원가계산서!B2 -> ■공사명 : 그린나래 지하차도 상부 교통사고 잦은 곳 개선 공사(전기) | F2: ="장소 : "&#REF! -> #REF!
B3: No | C3: 품 명 | D3: 규 격 | G3: 단위 | H3: 수량 | I3: A | J3: B | K3: C | L3: D | M3: E | N3: 1 | O3: 2 | P3: 3 | Q3: 4 | R3: 5 | S3: 6 | T3: 7 | U3: 8 | V3: 9 | W3: 10
A5: 1 | B5: =VLOOKUP($A5,#REF!,2,FALSE) -> #REF! | C5: =VLOOKUP($A5,#REF!,3,FALSE) -> #REF! | D5: =VLOOKUP($A5,#REF!,4,FALSE) -> #REF! | E5: =VLOOKUP($A5,#REF!,5,FALSE) -> #REF! | F5: =VLOOKUP($A5,#REF!,6,FALSE) -> #REF! | G5: =VLOOKUP($A5,#REF!,7,FALSE) -> #REF! | H5: =SUM(I5:W5) -> 0
A6: 2 | B6: =VLOOKUP($A6,#REF!,2,FALSE) -> #REF! | C6: =VLOOKUP($A6,#REF!,3,FALSE) -> #REF! | D6: =VLOOKUP($A6,#REF!,4,FALSE) -> #REF! | E6: =VLOOKUP($A6,#REF!,5,FALSE) -> #REF! | F6: =VLOOKUP($A6,#REF!,6,FALSE) -> #REF! | G6: =VLOOKUP($A6,#REF!,7,FALSE) -> #REF! | H6: =SUM(I6:W6) -> 0
A7: 3 | B7: =VLOOKUP($A7,#REF!,2,FALSE) -> #REF! | C7: =VLOOKUP($A7,#REF!,3,FALSE) -> #REF! | D7: =VLOOKUP($A7,#REF!,4,FALSE) -> #REF! | E7: =VLOOKUP($A7,#REF!,5,FALSE) -> #REF! | F7: =VLOOKUP($A7,#REF!,6,FALSE) -> #REF! | G7: =VLOOKUP($A7,#REF!,7,FALSE) -> #REF! | H7: =SUM(I7:W7) -> 0
A8: 4 | B8: =VLOOKUP($A8,#REF!,2,FALSE) -> #REF! | C8: =VLOOKUP($A8,#REF!,3,FALSE) -> #REF! | D8: =VLOOKUP($A8,#REF!,4,FALSE) -> #REF! | E8: =VLOOKUP($A8,#REF!,5,FALSE) -> #REF! | F8: =VLOOKUP($A8,#REF!,6,FALSE) -> #REF! | G8: =VLOOKUP($A8,#REF!,7,FALSE) -> #REF! | H8: =SUM(I8:W8) -> 0
A9: 5 | B9: =VLOOKUP($A9,#REF!,2,FALSE) -> #REF! | C9: =VLOOKUP($A9,#REF!,3,FALSE) -> #REF! | D9: =VLOOKUP($A9,#REF!,4,FALSE) -> #REF! | E9: =VLOOKUP($A9,#REF!,5,FALSE) -> #REF! | F9: =VLOOKUP($A9,#REF!,6,FALSE) -> #REF! | G9: =VLOOKUP($A9,#REF!,7,FALSE) -> #REF! | H9: =SUM(I9:W9) -> 0
A10: 6 | B10: =VLOOKUP($A10,#REF!,2,FALSE) -> #REF! | C10: =VLOOKUP($A10,#REF!,3,FALSE) -> #REF! | D10: =VLOOKUP($A10,#REF!,4,FALSE) -> #REF! | E10: =VLOOKUP($A10,#REF!,5,FALSE) -> #REF! | F10: =VLOOKUP($A10,#REF!,6,FALSE) -> #REF! | G10: =VLOOKUP($A10,#REF!,7,FALSE) -> #REF! | H10: =SUM(I10:W10) -> 0
A11: 7 | B11: =VLOOKUP($A11,#REF!,2,FALSE) -> #REF! | C11: =VLOOKUP($A11,#REF!,3,FALSE) -> #REF! | D11: =VLOOKUP($A11,#REF!,4,FALSE) -> #REF! | E11: =VLOOKUP($A11,#REF!,5,FALSE) -> #REF! | F11: =VLOOKUP($A11,#REF!,6,FALSE) -> #REF! | G11: =VLOOKUP($A11,#REF!,7,FALSE) -> #REF! | H11: =SUM(I11:W11) -> 0
A12: 8 | B12: =VLOOKUP($A12,#REF!,2,FALSE) -> #REF! | C12: =VLOOKUP($A12,#REF!,3,FALSE) -> #REF! | D12: =VLOOKUP($A12,#REF!,4,FALSE) -> #REF! | E12: =VLOOKUP($A12,#REF!,5,FALSE) -> #REF! | F12: =VLOOKUP($A12,#REF!,6,FALSE) -> #REF! | G12: =VLOOKUP($A12,#REF!,7,FALSE) -> #REF! | H12: =SUM(I12:W12) -> 0
A13: 9 | B13: =VLOOKUP($A13,#REF!,2,FALSE) -> #REF! | C13: =VLOOKUP($A13,#REF!,3,FALSE) -> #REF! | D13: =VLOOKUP($A13,#REF!,4,FALSE) -> #REF! | E13: =VLOOKUP($A13,#REF!,5,FALSE) -> #REF! | F13: =VLOOKUP($A13,#REF!,6,FALSE) -> #REF! | G13: =VLOOKUP($A13,#REF!,7,FALSE) -> #REF! | H13: =SUM(I13:W13) -> 0
A14: 10 | B14: =VLOOKUP($A14,#REF!,2,FALSE) -> #REF! | C14: =VLOOKUP($A14,#REF!,3,FALSE) -> #REF! | D14: =VLOOKUP($A14,#REF!,4,FALSE) -> #REF! | E14: =VLOOKUP($A14,#REF!,5,FALSE) -> #REF! | F14: =VLOOKUP($A14,#REF!,6,FALSE) -> #REF! | G14: =VLOOKUP($A14,#REF!,7,FALSE) -> #REF! | H14: =SUM(I14:W14) -> 0
A15: 11 | B15: =VLOOKUP($A15,#REF!,2,FALSE) -> #REF! | C15: =VLOOKUP($A15,#REF!,3,FALSE) -> #REF! | D15: =VLOOKUP($A15,#REF!,4,FALSE) -> #REF! | E15: =VLOOKUP($A15,#REF!,5,FALSE) -> #REF! | F15: =VLOOKUP($A15,#REF!,6,FALSE) -> #REF! | G15: =VLOOKUP($A15,#REF!,7,FALSE) -> #REF! | H15: =SUM(I15:W15) -> 0
A16: 12 | B16: =VLOOKUP($A16,#REF!,2,FALSE) -> #REF! | C16: =VLOOKUP($A16,#REF!,3,FALSE) -> #REF! | D16: =VLOOKUP($A16,#REF!,4,FALSE) -> #REF! | E16: =VLOOKUP($A16,#REF!,5,FALSE) -> #REF! | F16: =VLOOKUP($A16,#REF!,6,FALSE) -> #REF! | G16: =VLOOKUP($A16,#REF!,7,FALSE) -> #REF! | H16: =SUM(I16:W16) -> 0
... A982: 978 | B982: =VLOOKUP($A982,#REF!,2,FALSE) -> #REF! | C982: =VLOOKUP($A982,#REF!,3,FALSE) -> #REF! | D982: =VLOOKUP($A982,#REF!,4,FALSE) -> #REF! | E982: =VLOOKUP($A982,#REF!,5,FALSE) -> #REF! | F982: =VLOOKUP($A982,#REF!,6,FALSE) -> #REF! | G982: =VLOOKUP($A982,#REF!,7,FALSE) -> #REF! | H982: =SUM(I982:W982) -> 0
B983: 소 계 | H983: =SUM(H5:H982) -> 0 | I983: =SUM(I5:I982) -> 0 | J983: =SUM(J5:J982) -> 0 | K983: =SUM(K5:K982) -> 0 | L983: =SUM(L5:L982) -> 0 | M983: =SUM(M5:M982) -> 0 | N983: =SUM(N5:N982) -> 0 | O983: =SUM(O5:O982) -> 0 | ... W983: =SUM(W5:W982) -> 0

Sheet 9
B1: 세 부 물 량 표
B2: =공사원가계산서!B2 -> ■공사명 : 그린나래 지하차도 상부 교통사고 잦은 곳 개선 공사(전기) | F2: ="장소 : "&#REF! -> #REF!
B3: No | C3: 품 명 | D3: 규 격 | G3: 단위 | H3: 수량 | I3: A | J3: B | K3: C | L3: D | M3: E | N3: 1 | O3: 2 | P3: 3 | Q3: 4 | R3: 5 | S3: 6 | T3: 7 | U3: 8 | V3: 9 | W3: 10
A5: 1 | B5: =VLOOKUP($A5,#REF!,2,FALSE) -> #REF! | C5: =VLOOKUP($A5,#REF!,3,FALSE) -> #REF! | D5: =VLOOKUP($A5,#REF!,4,FALSE) -> #REF! | E5: =VLOOKUP($A5,#REF!,5,FALSE) -> #REF! | F5: =VLOOKUP($A5,#REF!,6,FALSE) -> #REF! | G5: =VLOOKUP($A5,#REF!,7,FALSE) -> #REF! | H5: =SUM(I5:W5) -> 0
A6: 2 | B6: =VLOOKUP($A6,#REF!,2,FALSE) -> #REF! | C6: =VLOOKUP($A6,#REF!,3,FALSE) -> #REF! | D6: =VLOOKUP($A6,#REF!,4,FALSE) -> #REF! | E6: =VLOOKUP($A6,#REF!,5,FALSE) -> #REF! | F6: =VLOOKUP($A6,#REF!,6,FALSE) -> #REF! | G6: =VLOOKUP($A6,#REF!,7,FALSE) -> #REF! | H6: =SUM(I6:W6) -> 0
A7: 3 | B7: =VLOOKUP($A7,#REF!,2,FALSE) -> #REF! | C7: =VLOOKUP($A7,#REF!,3,FALSE) -> #REF! | D7: =VLOOKUP($A7,#REF!,4,FALSE) -> #REF! | E7: =VLOOKUP($A7,#REF!,5,FALSE) -> #REF! | F7: =VLOOKUP($A7,#REF!,6,FALSE) -> #REF! | G7: =VLOOKUP($A7,#REF!,7,FALSE) -> #REF! | H7: =SUM(I7:W7) -> 0
A8: 4 | B8: =VLOOKUP($A8,#REF!,2,FALSE) -> #REF! | C8: =VLOOKUP($A8,#REF!,3,FALSE) -> #REF! | D8: =VLOOKUP($A8,#REF!,4,FALSE) -> #REF! | E8: =VLOOKUP($A8,#REF!,5,FALSE) -> #REF! | F8: =VLOOKUP($A8,#REF!,6,FALSE) -> #REF! | G8: =VLOOKUP($A8,#REF!,7,FALSE) -> #REF! | H8: =SUM(I8:W8) -> 0
A9: 5 | B9: =VLOOKUP($A9,#REF!,2,FALSE) -> #REF! | C9: =VLOOKUP($A9,#REF!,3,FALSE) -> #REF! | D9: =VLOOKUP($A9,#REF!,4,FALSE) -> #REF! | E9: =VLOOKUP($A9,#REF!,5,FALSE) -> #REF! | F9: =VLOOKUP($A9,#REF!,6,FALSE) -> #REF! | G9: =VLOOKUP($A9,#REF!,7,FALSE) -> #REF! | H9: =SUM(I9:W9) -> 0
A10: 6 | B10: =VLOOKUP($A10,#REF!,2,FALSE) -> #REF! | C10: =VLOOKUP($A10,#REF!,3,FALSE) -> #REF! | D10: =VLOOKUP($A10,#REF!,4,FALSE) -> #REF! | E10: =VLOOKUP($A10,#REF!,5,FALSE) -> #REF! | F10: =VLOOKUP($A10,#REF!,6,FALSE) -> #REF! | G10: =VLOOKUP($A10,#REF!,7,FALSE) -> #REF! | H10: =SUM(I10:W10) -> 0
A11: 7 | B11: =VLOOKUP($A11,#REF!,2,FALSE) -> #REF! | C11: =VLOOKUP($A11,#REF!,3,FALSE) -> #REF! | D11: =VLOOKUP($A11,#REF!,4,FALSE) -> #REF! | E11: =VLOOKUP($A11,#REF!,5,FALSE) -> #REF! | F11: =VLOOKUP($A11,#REF!,6,FALSE) -> #REF! | G11: =VLOOKUP($A11,#REF!,7,FALSE) -> #REF! | H11: =SUM(I11:W11) -> 0
A12: 8 | B12: =VLOOKUP($A12,#REF!,2,FALSE) -> #REF! | C12: =VLOOKUP($A12,#REF!,3,FALSE) -> #REF! | D12: =VLOOKUP($A12,#REF!,4,FALSE) -> #REF! | E12: =VLOOKUP($A12,#REF!,5,FALSE) -> #REF! | F12: =VLOOKUP($A12,#REF!,6,FALSE) -> #REF! | G12: =VLOOKUP($A12,#REF!,7,FALSE) -> #REF! | H12: =SUM(I12:W12) -> 0
A13: 9 | B13: =VLOOKUP($A13,#REF!,2,FALSE) -> #REF! | C13: =VLOOKUP($A13,#REF!,3,FALSE) -> #REF! | D13: =VLOOKUP($A13,#REF!,4,FALSE) -> #REF! | E13: =VLOOKUP($A13,#REF!,5,FALSE) -> #REF! | F13: =VLOOKUP($A13,#REF!,6,FALSE) -> #REF! | G13: =VLOOKUP($A13,#REF!,7,FALSE) -> #REF! | H13: =SUM(I13:W13) -> 0
