Workbook

Sheet 표지
B1: 공 사명
B3: 용지조서
A6: =NOW() -> 45604.455
A8: 발 주 처

Sheet 목차
C2: 목 차
A6: 1. | B6: 전체 집 계 표
A7: 2. | B7: 각종집 계 표
A8: 3. | B8: 토 지 조 서
A9: 4. | B9: 토 지 대 장
A10: 5. | B10: 용 지 도

Sheet 간지1
A4: 1. 전 체 집 계 표

Sheet 간지2
A4: 2. 각 종 집 계 표

Sheet 간지3
A4: 3. 토 지 조 서

Sheet 국유지집계표
A1: 국 유 지 편 입 용 지 현 황
A3: 구 분 | B3: 합 계 | F3: 인천 중구 을왕동 2-12호선 | J3: 인천 중구 을왕동 2-37호선 | N3: 비 고
B4: 필 지 | D4: 면 적(㎡) | F4: 필 지 | H4: 면 적(㎡) | J4: 필 지 | L4: 면 적(㎡)
B5: 기정 | C5: 변경 | D5: 기정 | E5: 변경 | F5: 기정 | G5: 변경 | H5: 기정 | I5: 변경 | J5: 기정 | K5: 변경 | L5: 기정 | M5: 변경
A6: 합 계 | B6: =SUM(B7:B18) -> #REF! | C6: =SUM(C7:C18) -> #REF! | D6: =SUM(D7:D18) -> #REF! | E6: =SUM(E7:E18) -> #REF! | F6: =SUM(F7:F18) -> #REF! | G6: =SUM(G7:G18) -> #REF! | H6: =SUM(H7:H18) -> #REF! | I6: =SUM(I7:I18) -> #REF! | ... M6: =SUM(M7:M18) -> #REF!
A7: 학 | B7: =+F7+J7 -> #REF! | C7: =G7+K7 -> #REF! | D7: =+H7+L7 -> #REF! | E7: =I7+M7 -> #REF! | F7: =SUMIF(#REF!, 사유지집계표!A7,#REF!) -> #REF! | G7: =SUMIF(#REF!, 사유지집계표!A7,#REF!) -> #REF! | H7: =SUMIF(#REF!, 사유지집계표!A7,#REF!) -> #REF! | I7: =SUMIF(#REF!, 사유지집계표!A7,#REF!) -> #REF! | J7: =SUMIF(#REF!, 사유지집계표!A7,#REF!) -> #REF! | K7: =SUMIF(#REF!, 사유지집계표!A7,#REF!) -> #REF! | L7: =SUMIF(#REF!, 사유지집계표!A7,#REF!) -> #REF! | M7: =SUMIF(#REF!, 사유지집계표!A7,#REF!) -> #REF!
A8: 도 | B8: =+F8+J8 -> #REF! | C8: =G8+K8 -> #REF! | D8: =+H8+L8 -> #REF! | E8: =I8+M8 -> #REF! | F8: =SUMIF(#REF!, 사유지집계표!A8,#REF!) -> #REF! | G8: =SUMIF(#REF!, 사유지집계표!A8,#REF!) -> #REF! | H8: =SUMIF(#REF!, 사유지집계표!A8,#REF!) -> #REF! | I8: =SUMIF(#REF!, 사유지집계표!A8,#REF!) -> #REF! | J8: =SUMIF(#REF!, 사유지집계표!A8,#REF!) -> #REF! | K8: =SUMIF(#REF!, 사유지집계표!A8,#REF!) -> #REF! | L8: =SUMIF(#REF!, 사유지집계표!A8,#REF!) -> #REF! | M8: =SUMIF(#REF!, 사유지집계표!A8,#REF!) -> #REF!
A9: 유 | B9: =+F9+J9 -> #REF! | C9: =G9+K9 -> #REF! | D9: =+H9+L9 -> #REF! | E9: =I9+M9 -> #REF! | F9: =SUMIF(#REF!, 사유지집계표!A9,#REF!) -> #REF! | G9: =SUMIF(#REF!, 사유지집계표!A9,#REF!) -> #REF! | H9: =SUMIF(#REF!, 사유지집계표!A9,#REF!) -> #REF! | I9: =SUMIF(#REF!, 사유지집계표!A9,#REF!) -> #REF! | J9: =SUMIF(#REF!, 사유지집계표!A9,#REF!) -> #REF! | K9: =SUMIF(#REF!, 사유지집계표!A9,#REF!) -> #REF! | L9: =SUMIF(#REF!, 사유지집계표!A9,#REF!) -> #REF! | M9: =SUMIF(#REF!, 사유지집계표!A9,#REF!) -> #REF!
A10: 대 | B10: =+F10+J10 -> #REF! | C10: =G10+K10 -> #REF! | D10: =+H10+L10 -> #REF! | E10: =I10+M10 -> #REF! | F10: =SUMIF(#REF!, 사유지집계표!A10,#REF!) -> #REF! | G10: =SUMIF(#REF!, 사유지집계표!A10,#REF!) -> #REF! | H10: =SUMIF(#REF!, 사유지집계표!A10,#REF!) -> #REF! | I10: =SUMIF(#REF!, 사유지집계표!A10,#REF!) -> #REF! | J10: =SUMIF(#REF!, 사유지집계표!A10,#REF!) -> #REF! | K10: =SUMIF(#REF!, 사유지집계표!A10,#REF!) -> #REF! | L10: =SUMIF(#REF!, 사유지집계표!A10,#REF!) -> #REF! | M10: =SUMIF(#REF!, 사유지집계표!A10,#REF!) -> #REF!
A11: 구 | B11: =+F11+J11 -> #REF! | C11: =G11+K11 -> #REF! | D11: =+H11+L11 -> #REF! | E11: =I11+M11 -> #REF! | F11: =SUMIF(#REF!, 사유지집계표!A11,#REF!) -> #REF! | G11: =SUMIF(#REF!, 사유지집계표!A11,#REF!) -> #REF! | H11: =SUMIF(#REF!, 사유지집계표!A11,#REF!) -> #REF! | I11: =SUMIF(#REF!, 사유지집계표!A11,#REF!) -> #REF! | J11: =SUMIF(#REF!, 사유지집계표!A11,#REF!) -> #REF! | K11: =SUMIF(#REF!, 사유지집계표!A11,#REF!) -> #REF! | L11: =SUMIF(#REF!, 사유지집계표!A11,#REF!) -> #REF! | M11: =SUMIF(#REF!, 사유지집계표!A11,#REF!) -> #REF!
A12: 전 | B12: =+F12+J12 -> #REF! | C12: =G12+K12 -> #REF! | D12: =+H12+L12 -> #REF! | E12: =I12+M12 -> #REF! | F12: =SUMIF(#REF!, 사유지집계표!A12,#REF!) -> #REF! | G12: =SUMIF(#REF!, 사유지집계표!A12,#REF!) -> #REF! | H12: =SUMIF(#REF!, 사유지집계표!A12,#REF!) -> #REF! | I12: =SUMIF(#REF!, 사유지집계표!A12,#REF!) -> #REF! | J12: =SUMIF(#REF!, 사유지집계표!A12,#REF!) -> #REF! | K12: =SUMIF(#REF!, 사유지집계표!A12,#REF!) -> #REF! | L12: =SUMIF(#REF!, 사유지집계표!A12,#REF!) -> #REF! | M12: =SUMIF(#REF!, 사유지집계표!A12,#REF!) -> #REF!
A13: 임 | B13: =+F13+J13 -> #REF! | C13: =G13+K13 -> #REF! | D13: =+H13+L13 -> #REF! | E13: =I13+M13 -> #REF! | F13: =SUMIF(#REF!, 사유지집계표!A13,#REF!) -> #REF! | G13: =SUMIF(#REF!, 사유지집계표!A13,#REF!) -> #REF! | H13: =SUMIF(#REF!, 사유지집계표!A13,#REF!) -> #REF! | I13: =SUMIF(#REF!, 사유지집계표!A13,#REF!) -> #REF! | J13: =SUMIF(#REF!, 사유지집계표!A13,#REF!) -> #REF! | K13: =SUMIF(#REF!, 사유지집계표!A13,#REF!) -> #REF! | L13: =SUMIF(#REF!, 사유지집계표!A13,#REF!) -> #REF! | M13: =SUMIF(#REF!, 사유지집계표!A13,#REF!) -> #REF!
A14: 과 | B14: =+F14+J14 -> #REF! | C14: =G14+K14 -> #REF! | D14: =+H14+L14 -> #REF! | E14: =I14+M14 -> #REF! | F14: =SUMIF(#REF!, 사유지집계표!A14,#REF!) -> #REF! | G14: =SUMIF(#REF!, 사유지집계표!A14,#REF!) -> #REF! | H14: =SUMIF(#REF!, 사유지집계표!A14,#REF!) -> #REF! | I14: =SUMIF(#REF!, 사유지집계표!A14,#REF!) -> #REF! | J14: =SUMIF(#REF!, 사유지집계표!A14,#REF!) -> #REF! | K14: =SUMIF(#REF!, 사유지집계표!A14,#REF!) -> #REF! | L14: =SUMIF(#REF!, 사유지집계표!A14,#REF!) -> #REF! | M14: =SUMIF(#REF!, 사유지집계표!A14,#REF!) -> #REF!
A15: 잡 | B15: =+F15+J15 -> #REF! | C15: =G15+K15 -> #REF! | D15: =+H15+L15 -> #REF! | E15: =I15+M15 -> #REF! | F15: =SUMIF(#REF!, 사유지집계표!A15,#REF!) -> #REF! | G15: =SUMIF(#REF!, 사유지집계표!A15,#REF!) -> #REF! | H15: =SUMIF(#REF!, 사유지집계표!A15,#REF!) -> #REF! | I15: =SUMIF(#REF!, 사유지집계표!A15,#REF!) -> #REF! | J15: =SUMIF(#REF!, 사유지집계표!A15,#REF!) -> #REF! | K15: =SUMIF(#REF!, 사유지집계표!A15,#REF!) -> #REF! | L15: =SUMIF(#REF!, 사유지집계표!A15,#REF!) -> #REF! | M15: =SUMIF(#REF!, 사유지집계표!A15,#REF!) -> #REF!
A16: 답 | B16: =+F16+J16 -> #REF! | C16: =G16+K16 -> #REF! | D16: =+H16+L16 -> #REF! | E16: =I16+M16 -> #REF! | F16: =SUMIF(#REF!, 사유지집계표!A16,#REF!) -> #REF! | G16: =SUMIF(#REF!, 사유지집계표!A16,#REF!) -> #REF! | H16: =SUMIF(#REF!, 사유지집계표!A16,#REF!) -> #REF! | I16: =SUMIF(#REF!, 사유지집계표!A16,#REF!) -> #REF! | J16: =SUMIF(#REF!, 사유지집계표!A16,#REF!) -> #REF! | K16: =SUMIF(#REF!, 사유지집계표!A16,#REF!) -> #REF! | L16: =SUMIF(#REF!, 사유지집계표!A16,#REF!) -> #REF! | M16: =SUMIF(#REF!, 사유지집계표!A16,#REF!) -> #REF!
A17: 제 | B17: =+F17+J17 -> #REF! | C17: =G17+K17 -> #REF! | D17: =+H17+L17 -> #REF! | E17: =I17+M17 -> #REF! | F17: =SUMIF(#REF!, 사유지집계표!A17,#REF!) -> #REF! | G17: =SUMIF(#REF!, 사유지집계표!A17,#REF!) -> #REF! | H17: =SUMIF(#REF!, 사유지집계표!A17,#REF!) -> #REF! | I17: =SUMIF(#REF!, 사유지집계표!A17,#REF!) -> #REF! | J17: =SUMIF(#REF!, 사유지집계표!A17,#REF!) -> #REF! | K17: =SUMIF(#REF!, 사유지집계표!A17,#REF!) -> #REF! | L17: =SUMIF(#REF!, 사유지집계표!A17,#REF!) -> #REF! | M17: =SUMIF(#REF!, 사유지집계표!A17,#REF!) -> #REF!

Sheet 공유지집계표
A1: 공 유 지 편 입 용 지 현 황
A3: 구 분 | B3: 합 계 | F3: 인천 중구 을왕동 2-12호선 | J3: 인천 중구 을왕동 2-37호선 | N3: 비 고
B4: 필 지 | D4: 면 적(㎡) | F4: 필 지 | H4: 면 적(㎡) | J4: 필 지 | L4: 면 적(㎡)
B5: 기정 | C5: 변경 | D5: 기정 | E5: 변경 | F5: 기정 | G5: 변경 | H5: 기정 | I5: 변경 | J5: 기정 | K5: 변경 | L5: 기정 | M5: 변경
A6: 합 계 | B6: =SUM(B7:B18) -> #REF! | C6: =SUM(C7:C18) -> #REF! | D6: =SUM(D7:D18) -> #REF! | E6: =SUM(E7:E18) -> #REF! | F6: =SUM(F7:F18) -> #REF! | G6: =SUM(G7:G18) -> #REF! | H6: =SUM(H7:H18) -> #REF! | I6: =SUM(I7:I18) -> #REF! | ... M6: =SUM(M7:M18) -> #REF!
A7: 학 | B7: =+F7+J7 -> #REF! | C7: =G7+K7 -> #REF! | D7: =+H7+L7 -> #REF! | E7: =I7+M7 -> #REF! | F7: =SUMIF(#REF!, 사유지집계표!A7,#REF!) -> #REF! | G7: =SUMIF(#REF!, 사유지집계표!A7,#REF!) -> #REF! | H7: =SUMIF(#REF!, 사유지집계표!A7,#REF!) -> #REF! | I7: =SUMIF(#REF!, 사유지집계표!A7,#REF!) -> #REF! | J7: =SUMIF(#REF!, 사유지집계표!A7,#REF!) -> #REF! | K7: =SUMIF(#REF!, 사유지집계표!A7,#REF!) -> #REF! | L7: =SUMIF(#REF!, 사유지집계표!A7,#REF!) -> #REF! | M7: =SUMIF(#REF!, 사유지집계표!A7,#REF!) -> #REF!
A8: 도 | B8: =+F8+J8 -> #REF! | C8: =G8+K8 -> #REF! | D8: =+H8+L8 -> #REF! | E8: =I8+M8 -> #REF! | F8: =SUMIF(#REF!, 사유지집계표!A8,#REF!) -> #REF! | G8: =SUMIF(#REF!, 사유지집계표!A8,#REF!) -> #REF! | H8: =SUMIF(#REF!, 사유지집계표!A8,#REF!) -> #REF! | I8: =SUMIF(#REF!, 사유지집계표!A8,#REF!) -> #REF! | J8: =SUMIF(#REF!, 사유지집계표!A8,#REF!) -> #REF! | K8: =SUMIF(#REF!, 사유지집계표!A8,#REF!) -> #REF! | L8: =SUMIF(#REF!, 사유지집계표!A8,#REF!) -> #REF! | M8: =SUMIF(#REF!, 사유지집계표!A8,#REF!) -> #REF!
A9: 유 | B9: =+F9+J9 -> #REF! | C9: =G9+K9 -> #REF! | D9: =+H9+L9 -> #REF! | E9: =I9+M9 -> #REF! | F9: =SUMIF(#REF!, 사유지집계표!A9,#REF!) -> #REF! | G9: =SUMIF(#REF!, 사유지집계표!A9,#REF!) -> #REF! | H9: =SUMIF(#REF!, 사유지집계표!A9,#REF!) -> #REF! | I9: =SUMIF(#REF!, 사유지집계표!A9,#REF!) -> #REF! | J9: =SUMIF(#REF!, 사유지집계표!A9,#REF!) -> #REF! | K9: =SUMIF(#REF!, 사유지집계표!A9,#REF!) -> #REF! | L9: =SUMIF(#REF!, 사유지집계표!A9,#REF!) -> #REF! | M9: =SUMIF(#REF!, 사유지집계표!A9,#REF!) -> #REF!
A10: 대 | B10: =+F10+J10 -> #REF! | C10: =G10+K10 -> #REF! | D10: =+H10+L10 -> #REF! | E10: =I10+M10 -> #REF! | F10: =SUMIF(#REF!, 사유지집계표!A10,#REF!) -> #REF! | G10: =SUMIF(#REF!, 사유지집계표!A10,#REF!) -> #REF! | H10: =SUMIF(#REF!, 사유지집계표!A10,#REF!) -> #REF! | I10: =SUMIF(#REF!, 사유지집계표!A10,#REF!) -> #REF! | J10: =SUMIF(#REF!, 사유지집계표!A10,#REF!) -> #REF! | K10: =SUMIF(#REF!, 사유지집계표!A10,#REF!) -> #REF! | L10: =SUMIF(#REF!, 사유지집계표!A10,#REF!) -> #REF! | M10: =SUMIF(#REF!, 사유지집계표!A10,#REF!) -> #REF!
A11: 구 | B11: =+F11+J11 -> #REF! | C11: =G11+K11 -> #REF! | D11: =+H11+L11 -> #REF! | E11: =I11+M11 -> #REF! | F11: =SUMIF(#REF!, 사유지집계표!A11,#REF!) -> #REF! | G11: =SUMIF(#REF!, 사유지집계표!A11,#REF!) -> #REF! | H11: =SUMIF(#REF!, 사유지집계표!A11,#REF!) -> #REF! | I11: =SUMIF(#REF!, 사유지집계표!A11,#REF!) -> #REF! | J11: =SUMIF(#REF!, 사유지집계표!A11,#REF!) -> #REF! | K11: =SUMIF(#REF!, 사유지집계표!A11,#REF!) -> #REF! | L11: =SUMIF(#REF!, 사유지집계표!A11,#REF!) -> #REF! | M11: =SUMIF(#REF!, 사유지집계표!A11,#REF!) -> #REF!
A12: 전 | B12: =+F12+J12 -> #REF! | C12: =G12+K12 -> #REF! | D12: =+H12+L12 -> #REF! | E12: =I12+M12 -> #REF! | F12: =SUMIF(#REF!, 사유지집계표!A12,#REF!) -> #REF! | G12: =SUMIF(#REF!, 사유지집계표!A12,#REF!) -> #REF! | H12: =SUMIF(#REF!, 사유지집계표!A12,#REF!) -> #REF! | I12: =SUMIF(#REF!, 사유지집계표!A12,#REF!) -> #REF! | J12: =SUMIF(#REF!, 사유지집계표!A12,#REF!) -> #REF! | K12: =SUMIF(#REF!, 사유지집계표!A12,#REF!) -> #REF! | L12: =SUMIF(#REF!, 사유지집계표!A12,#REF!) -> #REF! | M12: =SUMIF(#REF!, 사유지집계표!A12,#REF!) -> #REF!
A13: 임 | B13: =+F13+J13 -> #REF! | C13: =G13+K13 -> #REF! | D13: =+H13+L13 -> #REF! | E13: =I13+M13 -> #REF! | F13: =SUMIF(#REF!, 사유지집계표!A13,#REF!) -> #REF! | G13: =SUMIF(#REF!, 사유지집계표!A13,#REF!) -> #REF! | H13: =SUMIF(#REF!, 사유지집계표!A13,#REF!) -> #REF! | I13: =SUMIF(#REF!, 사유지집계표!A13,#REF!) -> #REF! | J13: =SUMIF(#REF!, 사유지집계표!A13,#REF!) -> #REF! | K13: =SUMIF(#REF!, 사유지집계표!A13,#REF!) -> #REF! | L13: =SUMIF(#REF!, 사유지집계표!A13,#REF!) -> #REF! | M13: =SUMIF(#REF!, 사유지집계표!A13,#REF!) -> #REF!
A14: 과 | B14: =+F14+J14 -> #REF! | C14: =G14+K14 -> #REF! | D14: =+H14+L14 -> #REF! | E14: =I14+M14 -> #REF! | F14: =SUMIF(#REF!, 사유지집계표!A14,#REF!) -> #REF! | G14: =SUMIF(#REF!, 사유지집계표!A14,#REF!) -> #REF! | H14: =SUMIF(#REF!, 사유지집계표!A14,#REF!) -> #REF! | I14: =SUMIF(#REF!, 사유지집계표!A14,#REF!) -> #REF! | J14: =SUMIF(#REF!, 사유지집계표!A14,#REF!) -> #REF! | K14: =SUMIF(#REF!, 사유지집계표!A14,#REF!) -> #REF! | L14: =SUMIF(#REF!, 사유지집계표!A14,#REF!) -> #REF! | M14: =SUMIF(#REF!, 사유지집계표!A14,#REF!) -> #REF!
A15: 잡 | B15: =+F15+J15 -> #REF! | C15: =G15+K15 -> #REF! | D15: =+H15+L15 -> #REF! | E15: =I15+M15 -> #REF! | F15: =SUMIF(#REF!, 사유지집계표!A15,#REF!) -> #REF! | G15: =SUMIF(#REF!, 사유지집계표!A15,#REF!) -> #REF! | H15: =SUMIF(#REF!, 사유지집계표!A15,#REF!) -> #REF! | I15: =SUMIF(#REF!, 사유지집계표!A15,#REF!) -> #REF! | J15: =SUMIF(#REF!, 사유지집계표!A15,#REF!) -> #REF! | K15: =SUMIF(#REF!, 사유지집계표!A15,#REF!) -> #REF! | L15: =SUMIF(#REF!, 사유지집계표!A15,#REF!) -> #REF! | M15: =SUMIF(#REF!, 사유지집계표!A15,#REF!) -> #REF!
A16: 답 | B16: =+F16+J16 -> #REF! | C16: =G16+K16 -> #REF! | D16: =+H16+L16 -> #REF! | E16: =I16+M16 -> #REF! | F16: =SUMIF(#REF!, 사유지집계표!A16,#REF!) -> #REF! | G16: =SUMIF(#REF!, 사유지집계표!A16,#REF!) -> #REF! | H16: =SUMIF(#REF!, 사유지집계표!A16,#REF!) -> #REF! | I16: =SUMIF(#REF!, 사유지집계표!A16,#REF!) -> #REF! | J16: =SUMIF(#REF!, 사유지집계표!A16,#REF!) -> #REF! | K16: =SUMIF(#REF!, 사유지집계표!A16,#REF!) -> #REF! | L16: =SUMIF(#REF!, 사유지집계표!A16,#REF!) -> #REF! | M16: =SUMIF(#REF!, 사유지집계표!A16,#REF!) -> #REF!
A17: 제 | B17: =+F17+J17 -> #REF! | C17: =G17+K17 -> #REF! | D17: =+H17+L17 -> #REF! | E17: =I17+M17 -> #REF! | F17: =SUMIF(#REF!, 사유지집계표!A17,#REF!) -> #REF! | G17: =SUMIF(#REF!, 사유지집계표!A17,#REF!) -> #REF! | H17: =SUMIF(#REF!, 사유지집계표!A17,#REF!) -> #REF! | I17: =SUMIF(#REF!, 사유지집계표!A17,#REF!) -> #REF! | J17: =SUMIF(#REF!, 사유지집계표!A17,#REF!) -> #REF! | K17: =SUMIF(#REF!, 사유지집계표!A17,#REF!) -> #REF! | L17: =SUMIF(#REF!, 사유지집계표!A17,#REF!) -> #REF! | M17: =SUMIF(#REF!, 사유지집계표!A17,#REF!) -> #REF!

Sheet 사유지집계표
A1: 사 유 지 편 입 용 지 현 황
A3: 구 분 | B3: 합 계 | F3: 인천 중구 을왕동 2-12호선 | J3: 인천 중구 을왕동 2-37호선 | N3: 비 고
B4: 필 지 | D4: 면 적(㎡) | F4: 필 지 | H4: 면 적(㎡) | J4: 필 지 | L4: 면 적(㎡)
B5: 기정 | C5: 변경 | D5: 기정 | E5: 변경 | F5: 기정 | G5: 변경 | H5: 기정 | I5: 변경 | J5: 기정 | K5: 변경 | L5: 기정 | M5: 변경
A6: 합 계 | B6: =SUM(B7:B18) -> #REF! | C6: =SUM(C7:C18) -> #REF! | D6: =SUM(D7:D18) -> #REF! | E6: =SUM(E7:E18) -> #REF! | F6: =SUM(F7:F18) -> #REF! | G6: =SUM(G7:G18) -> #REF! | H6: =SUM(H7:H18) -> #REF! | I6: =SUM(I7:I18) -> #REF! | ... M6: =SUM(M7:M18) -> #REF!
A7: 학 | B7: =+F7+J7 -> #REF! | C7: =G7+K7 -> #REF! | D7: =+H7+L7 -> #REF! | E7: =I7+M7 -> #REF! | F7: =SUMIF(#REF!, 사유지집계표!A7,#REF!) -> #REF! | G7: =SUMIF(#REF!, 사유지집계표!A7,#REF!) -> #REF! | H7: =SUMIF(#REF!, 사유지집계표!A7,#REF!) -> #REF! | I7: =SUMIF(#REF!, 사유지집계표!A7,#REF!) -> #REF! | J7: =SUMIF(#REF!, 사유지집계표!A7,#REF!) -> #REF! | K7: =SUMIF(#REF!, 사유지집계표!A7,#REF!) -> #REF! | L7: =SUMIF(#REF!, 사유지집계표!A7,#REF!) -> #REF! | M7: =SUMIF(#REF!, 사유지집계표!A7,#REF!) -> #REF!
A8: 도 | B8: =+F8+J8 -> #REF! | C8: =G8+K8 -> #REF! | D8: =+H8+L8 -> #REF! | E8: =I8+M8 -> #REF! | F8: =SUMIF(#REF!, 사유지집계표!A8,#REF!) -> #REF! | G8: =SUMIF(#REF!, 사유지집계표!A8,#REF!) -> #REF! | H8: =SUMIF(#REF!, 사유지집계표!A8,#REF!) -> #REF! | I8: =SUMIF(#REF!, 사유지집계표!A8,#REF!) -> #REF! | J8: =SUMIF(#REF!, 사유지집계표!A8,#REF!) -> #REF! | K8: =SUMIF(#REF!, 사유지집계표!A8,#REF!) -> #REF! | L8: =SUMIF(#REF!, 사유지집계표!A8,#REF!) -> #REF! | M8: =SUMIF(#REF!, 사유지집계표!A8,#REF!) -> #REF!
A9: 유 | B9: =+F9+J9 -> #REF! | C9: =G9+K9 -> #REF! | D9: =+H9+L9 -> #REF! | E9: =I9+M9 -> #REF! | F9: =SUMIF(#REF!, 사유지집계표!A9,#REF!) -> #REF! | G9: =SUMIF(#REF!, 사유지집계표!A9,#REF!) -> #REF! | H9: =SUMIF(#REF!, 사유지집계표!A9,#REF!) -> #REF! | I9: =SUMIF(#REF!, 사유지집계표!A9,#REF!) -> #REF! | J9: =SUMIF(#REF!, 사유지집계표!A9,#REF!) -> #REF! | K9: =SUMIF(#REF!, 사유지집계표!A9,#REF!) -> #REF! | L9: =SUMIF(#REF!, 사유지집계표!A9,#REF!) -> #REF! | M9: =SUMIF(#REF!, 사유지집계표!A9,#REF!) -> #REF!
A10: 대 | B10: =+F10+J10 -> #REF! | C10: =G10+K10 -> #REF! | D10: =+H10+L10 -> #REF! | E10: =I10+M10 -> #REF! | F10: =SUMIF(#REF!, 사유지집계표!A10,#REF!) -> #REF! | G10: =SUMIF(#REF!, 사유지집계표!A10,#REF!) -> #REF! | H10: =SUMIF(#REF!, 사유지집계표!A10,#REF!) -> #REF! | I10: =SUMIF(#REF!, 사유지집계표!A10,#REF!) -> #REF! | J10: =SUMIF(#REF!, 사유지집계표!A10,#REF!) -> #REF! | K10: =SUMIF(#REF!, 사유지집계표!A10,#REF!) -> #REF! | L10: =SUMIF(#REF!, 사유지집계표!A10,#REF!) -> #REF! | M10: =SUMIF(#REF!, 사유지집계표!A10,#REF!) -> #REF!
A11: 구 | B11: =+F11+J11 -> #REF! | C11: =G11+K11 -> #REF! | D11: =+H11+L11 -> #REF! | E11: =I11+M11 -> #REF! | F11: =SUMIF(#REF!, 사유지집계표!A11,#REF!) -> #REF! | G11: =SUMIF(#REF!, 사유지집계표!A11,#REF!) -> #REF! | H11: =SUMIF(#REF!, 사유지집계표!A11,#REF!) -> #REF! | I11: =SUMIF(#REF!, 사유지집계표!A11,#REF!) -> #REF! | J11: =SUMIF(#REF!, 사유지집계표!A11,#REF!) -> #REF! | K11: =SUMIF(#REF!, 사유지집계표!A11,#REF!) -> #REF! | L11: =SUMIF(#REF!, 사유지집계표!A11,#REF!) -> #REF! | M11: =SUMIF(#REF!, 사유지집계표!A11,#REF!) -> #REF!
A12: 전 | B12: =+F12+J12 -> #REF! | C12: =G12+K12 -> #REF! | D12: =+H12+L12 -> #REF! | E12: =I12+M12 -> #REF! | F12: =SUMIF(#REF!, 사유지집계표!A12,#REF!) -> #REF! | G12: =SUMIF(#REF!, 사유지집계표!A12,#REF!) -> #REF! | H12: =SUMIF(#REF!, 사유지집계표!A12,#REF!) -> #REF! | I12: =SUMIF(#REF!, 사유지집계표!A12,#REF!) -> #REF! | J12: =SUMIF(#REF!, 사유지집계표!A12,#REF!) -> #REF! | K12: =SUMIF(#REF!, 사유지집계표!A12,#REF!) -> #REF! | L12: =SUMIF(#REF!, 사유지집계표!A12,#REF!) -> #REF! | M12: =SUMIF(#REF!, 사유지집계표!A12,#REF!) -> #REF!
A13: 임 | B13: =+F13+J13 -> #REF! | C13: =G13+K13 -> #REF! | D13: =+H13+L13 -> #REF! | E13: =I13+M13 -> #REF! | F13: =SUMIF(#REF!, 사유지집계표!A13,#REF!) -> #REF! | G13: =SUMIF(#REF!, 사유지집계표!A13,#REF!) -> #REF! | H13: =SUMIF(#REF!, 사유지집계표!A13,#REF!) -> #REF! | I13: =SUMIF(#REF!, 사유지집계표!A13,#REF!) -> #REF! | J13: =SUMIF(#REF!, 사유지집계표!A13,#REF!) -> #REF! | K13: =SUMIF(#REF!, 사유지집계표!A13,#REF!) -> #REF! | L13: =SUMIF(#REF!, 사유지집계표!A13,#REF!) -> #REF! | M13: =SUMIF(#REF!, 사유지집계표!A13,#REF!) -> #REF!
A14: 과 | B14: =+F14+J14 -> #REF! | C14: =G14+K14 -> #REF! | D14: =+H14+L14 -> #REF! | E14: =I14+M14 -> #REF! | F14: =SUMIF(#REF!, 사유지집계표!A14,#REF!) -> #REF! | G14: =SUMIF(#REF!, 사유지집계표!A14,#REF!) -> #REF! | H14: =SUMIF(#REF!, 사유지집계표!A14,#REF!) -> #REF! | I14: =SUMIF(#REF!, 사유지집계표!A14,#REF!) -> #REF! | J14: =SUMIF(#REF!, 사유지집계표!A14,#REF!) -> #REF! | K14: =SUMIF(#REF!, 사유지집계표!A14,#REF!) -> #REF! | L14: =SUMIF(#REF!, 사유지집계표!A14,#REF!) -> #REF! | M14: =SUMIF(#REF!, 사유지집계표!A14,#REF!) -> #REF!
A15: 잡 | B15: =+F15+J15 -> #REF! | C15: =G15+K15 -> #REF! | D15: =+H15+L15 -> #REF! | E15: =I15+M15 -> #REF! | F15: =SUMIF(#REF!, 사유지집계표!A15,#REF!) -> #REF! | G15: =SUMIF(#REF!, 사유지집계표!A15,#REF!) -> #REF! | H15: =SUMIF(#REF!, 사유지집계표!A15,#REF!) -> #REF! | I15: =SUMIF(#REF!, 사유지집계표!A15,#REF!) -> #REF! | J15: =SUMIF(#REF!, 사유지집계표!A15,#REF!) -> #REF! | K15: =SUMIF(#REF!, 사유지집계표!A15,#REF!) -> #REF! | L15: =SUMIF(#REF!, 사유지집계표!A15,#REF!) -> #REF! | M15: =SUMIF(#REF!, 사유지집계표!A15,#REF!) -> #REF!
A16: 답 | B16: =+F16+J16 -> #REF! | C16: =G16+K16 -> #REF! | D16: =+H16+L16 -> #REF! | E16: =I16+M16 -> #REF! | F16: =SUMIF(#REF!, 사유지집계표!A16,#REF!) -> #REF! | G16: =SUMIF(#REF!, 사유지집계표!A16,#REF!) -> #REF! | H16: =SUMIF(#REF!, 사유지집계표!A16,#REF!) -> #REF! | I16: =SUMIF(#REF!, 사유지집계표!A16,#REF!) -> #REF! | J16: =SUMIF(#REF!, 사유지집계표!A16,#REF!) -> #REF! | K16: =SUMIF(#REF!, 사유지집계표!A16,#REF!) -> #REF! | L16: =SUMIF(#REF!, 사유지집계표!A16,#REF!) -> #REF! | M16: =SUMIF(#REF!, 사유지집계표!A16,#REF!) -> #REF!
A17: 제 | B17: =+F17+J17 -> #REF! | C17: =G17+K17 -> #REF! | D17: =+H17+L17 -> #REF! | E17: =I17+M17 -> #REF! | F17: =SUMIF(#REF!, 사유지집계표!A17,#REF!) -> #REF! | G17: =SUMIF(#REF!, 사유지집계표!A17,#REF!) -> #REF! | H17: =SUMIF(#REF!, 사유지집계표!A17,#REF!) -> #REF! | I17: =SUMIF(#REF!, 사유지집계표!A17,#REF!) -> #REF! | J17: =SUMIF(#REF!, 사유지집계표!A17,#REF!) -> #REF! | K17: =SUMIF(#REF!, 사유지집계표!A17,#REF!) -> #REF! | L17: =SUMIF(#REF!, 사유지집계표!A17,#REF!) -> #REF! | M17: =SUMIF(#REF!, 사유지집계표!A17,#REF!) -> #REF!

Sheet 인천 중구 을왕동 (2-12호선) 조서
A1: 토 지 조 서(소2-12호선)
A2: 구 분 | B2: 주 소 | C2: 지 번 | E2: 지 목 | F2: 면 적 (㎡) | J2: 소 유 자 | Q2: 관 계 인
F3: 대장면적 | H3: 편입면적 | L3: 비 고 | M3: 공지시가 | N3: 보상비 | O3: 기존면적 (㎡)
C4: 기정 | D4: 변경 | F4: 기정 | G4: 변경 | H4: 기정 | I4: 변경 | J4: 주 소 | K4: 성 명 | O4: 대장면적 | P4: 편입면적 | Q4: 주 소 | R4: 성 명 | S4: 소유권이외의 권리의종류와 내 용 | T4: 비 고 | V4: 수정한사항
A5: 1 | B5: 중구 을왕동 | C5: 808-101 | D5: 808-101 | E5: 도 | F5: 137 | G5: 137 | H5: 137 | I5: 137 | J5: 인천광역시 | K5: 공
A6: 2 | B6: 중구 을왕동 | C6: 808-102 | D6: 808-102 | E6: 도 | F6: 152 | G6: 152 | H6: 152 | I6: 152 | J6: 인천광역시 | K6: 공
A7: 3 | B7: 중구 을왕동 | C7: 810-355 | D7: 810-355 | E7: 잡 | F7: 1 | G7: 1 | H7: 1 | I7: 1 | J7: 인천광역시 | K7: 공
A8: 4 | B8: 중구 을왕동 | C8: 810-332 | D8: 810-332 | E8: 도 | F8: 85 | G8: 85 | H8: 85 | I8: 85 | J8: 인천광역시 | K8: 공
A9: 5 | B9: 중구 을왕동 | C9: 810-333 | D9: 810-333 | E9: 도 | F9: 64 | G9: 64 | H9: 64 | I9: 64 | J9: 인천광역시 | K9: 공
A10: 6 | B10: 중구 을왕동 | C10: 810-354 | D10: 810-354 | E10: 구 | F10: 28 | G10: 28 | H10: 28 | I10: 28 | J10: 인천광역시 | K10: 공
A11: 7 | B11: 중구 을왕동 | C11: 810-317 | D11: 810-317 | E11: 전 | F11: 15 | G11: 15 | H11: 15 | I11: 15 | J11: 인천광역시 연수구 송도과학로**번길 ***, ***동 ****호(송도동,송도*****로) | K11: 김**외*인 | T11: 소유자 변경
J12: 중구(인천광역시) | K12: 공
A13: 8 | B13: 중구 을왕동 | C13: 810-304 | D13: 810-304 | E13: 대 | F13: 57 | G13: 57 | H13: 57 | I13: 57 | J13: 인천광역시 중구 용유서로***번길 *-*, ***호 (을왕동) | K13: 신*현 | T13: 소유자 변경
J14: 중구(인천광역시) | K14: 공
A15: 9 | B15: 중구 을왕동 | C15: 810-361 | D15: 810-361 | E15: 전 | F15: 17 | G15: 17 | H15: 17 | I15: 17 | J15: 인천광역시 중구 용유서로***번길 ** (을왕동) | K15: 주******* ******팜 외**인 | T15: 소유자 변경
J16: 중구(인천광역시) | K16: 공
A17: 10 | B17: 중구 을왕동 | C17: 810-316 | D17: 810-316 | E17: 전 | F17: 92 | G17: 92 | H17: 92 | I17: 92 | J17: 경기도 수원시 영통구 광교중앙로 **,***동 ****호 (원천동) | K17: 이*표 | T17: 소유자 변경
J18: 중구(인천광역시) | K18: 공 | U18: -
A19: 11 | B19: 중구 을왕동 | C19: 810-322 | D19: 810-322 | E19: 전 | F19: 8 | G19: 8 | H19: 8 | I19: 8 | J19: 중구(인천광역시) | K19: 공
A20: 12 | B20: 중구 을왕동 | C20: 810-381 | D20: 810-381 | E20: 전 | F20: 53 | G20: 53 | H20: 53 | I20: 53 | J20: 중구(인천광역시) | K20: 공
A21: 13 | B21: 중구 을왕동 | C21: 810-360 | D21: 810-360 | E21: 전 | F21: 74 | G21: 74 | H21: 74 | I21: 74 | J21: 서울특별시 용산구 독서당로 ***,***동***호 (한남동,****) | K21: 박*현 | T21: 소유자 변경
J22: 중구(인천광역시) | K22: 공
A23: 14 | B23: 중구 을왕동 | C23: 810-359 | D23: 810-359 | E23: 전 | F23: 12 | G23: 12 | H23: 12 | I23: 12 | J23: 인천광역시 중구 용유서로***번길 ** (을왕동) | K23: 주******* ******팜 외**인 | T23: 소유자 변경
J24: 중구(인천광역시) | K24: 공
A25: 15 | B25: 중구 을왕동 | C25: 810-324 | D25: 810-324 | E25: 전 | F25: 41 | G25: 41 | H25: 41 | I25: 41 | J25: 중구(인천광역시) | K25: 공
A26: 16 | B26: 중구 을왕동 | C26: 810-323 | D26: 810-323 | E26: 전 | F26: 22 | G26: 22 | H26: 22 | I26: 22 | J26: 중구(인천광역시) | K26: 공
A27: 17 | B27: 중구 을왕동 | C27: 810-279 | D27: 810-279 | E27: 도 | F27: 17 | G27: 17 | H27: 17 | I27: 17 | J27: 중구(인천광역시) | K27: 공
A28: 18 | B28: 중구 을왕동 | C28: 810-358 | D28: 810-358 | E28: 대 | F28: 24 | G28: 24 | H28: 24 | I28: 24 | J28: 중구(인천광역시) | K28: 공
A29: 19 | B29: 중구 을왕동 | C29: 810-289 | D29: 810-289 | E29: 도 | F29: 38 | G29: 38 | H29: 38 | I29: 38 | J29: 중구(인천광역시) | K29: 공
A30: 20 | B30: 중구 을왕동 | C30: 810-357 | D30: 810-357 | E30: 대 | F30: 53 | G30: 53 | H30: 53 | I30: 53 | J30: 중구(인천광역시) | K30: 공 | U30: -
A31: 21 | B31: 중구 을왕동 | C31: 810-93 | D31: 810-93 | E31: 도 | F31: 1159 | G31: 1159 | H31: 1159 | I31: 1159 | J31: 국토교통부 | K31: 국
A32: 22 | B32: 중구 을왕동 | C32: 810-356 | D32: 810-356 | E32: 전 | F32: 22 | G32: 22 | H32: 22 | I32: 22 | J32: 인천광역시 연수구 연수동 ***-* 세경아파트 ***-**** | K32: 이*영 외*인 | T32: 소유자 변경
J33: 중구(인천광역시) | K33: 공
A34: 23 | B34: 중구 을왕동 | C34: 810-329 | D34: 810-329 | E34: 전 | F34: 20 | G34: 20 | H34: 20 | I34: 20 | J34: 중구(인천광역시) | K34: 공
A35: 24 | B35: 중구 을왕동 | C35: 810-290 | D35: 810-290 | E35: 도 | F35: 30 | G35: 30 | H35: 30 | I35: 30 | J35: 인천광역시 중구 용유서로***번길 **-* (을왕동) | K35: 이*헌 | T35: 소유자 변경
J36: 중구(인천광역시) | K36: 공
A37: 25 | B37: 중구 을왕동 | C37: 810-334 | D37: 810-334 | E37: 대 | F37: 18 | G37: 18 | H37: 18 | I37: 18 | J37: 인천광역시 중구 용유서로***번길 **-* (을왕동) | K37: 이*헌 | Q37: 서울특별시 중구 남대문로 ** (을지로2가)(개봉동지점) | R37: 주*** ***행 | S37: 근저당권설정
Q38: 서울특별시 중구 청계천로 ***(수표동) | R38: 주*** *****븐 | S38: 근저당권설정
A39: 26 | B39: 중구 을왕동 | C39: 810-92 | D39: 810-389 | E39: 대 | F39: 712 | G39: 6 | H39: 5 | I39: 6 | J39: 인천광역시 중구 용유서로 ***번길 **-* (을왕동) | K39: 이*헌 | Q39: 서울특별시 중구 남대문로 ** (을지로2가)(개봉동지점) | R39: 주*** ***행 | S39: 근저당권설정 | T39: 지번 변경
Q40: 서울특별시 중구 청계천로 ***(수표동) | R40: 주*** *****븐 | S40: 근저당권설정
...

Sheet 인천 중구 을왕동 (2-37호선) 조서
A1: 토 지 조 서(소2-37호선)
A2: 구 분 | B2: 주 소 | C2: 지 번 | E2: 지 목 | F2: 면 적 (㎡) | J2: 소 유 자 | Q2: 관 계 인
F3: 대장면적 | H3: 편입면적 | L3: 비 고 | M3: 공지시가 | N3: 보상비 | O3: 기존면적 (㎡)
C4: 기정 | D4: 변경 | F4: 기정 | G4: 변경 | H4: 기정 | I4: 변경 | J4: 주 소 | K4: 성 명 | O4: 대장면적 | P4: 편입면적 | Q4: 주 소 | R4: 성 명 | S4: 소유권이외의 권리의종류와 내 용 | T4: 비 고
A5: 1 | B5: 중구 을왕동 | C5: 810-336 | D5: 810-336 | E5: 잡 | F5: 2 | G5: 2 | H5: 2 | I5: 2 | J5: 기획재정부 | K5: 국
A6: 2 | B6: 중구 을왕동 | C6: 810-342 | D6: 810-342 | E6: 도 | F6: 75 | G6: 75 | H6: 75 | I6: 75 | J6: 기획재정부 | K6: 국
A7: 3 | B7: 중구 을왕동 | C7: 810-344 | D7: 810-344 | E7: 유 | F7: 18 | G7: 18 | H7: 18 | I7: 18 | J7: 서울 서초구 방배동 *** 방배 삼호아파트 바동 ***호 | K7: 박* 외*인 | T7: 소유자 변경
J8: 중구(인천광역시) | K8: 공
A9: 4 | B9: 중구 을왕동 | C9: 810-367 | D9: 810-367 | E9: 제 | F9: 306 | G9: 306 | H9: 306 | I9: 306 | J9: ***-* | K9: 서*숙 | T9: 소유자 변경
J10: 중구(인천광역시) | K10: 공
A11: 5 | B11: 중구 을왕동 | C11: 810-366 | D11: 810-366 | E11: 도 | F11: 25 | G11: 25 | H11: 25 | I11: 25 | J11: 인천광역시 | K11: 공
A12: 6 | B12: 중구 을왕동 | C12: 810-364 | D12: 810-364 | E12: 도 | F12: 101 | G12: 101 | H12: 101 | I12: 101 | J12: 인천광역시 | K12: 공
A13: 7 | B13: 중구 을왕동 | C13: 810-373 | D13: 810-373 | E13: 도 | F13: 138 | G13: 138 | H13: 138 | I13: 138 | J13: 인천광역시 | K13: 공
A14: 8 | B14: 중구 을왕동 | C14: 810-371 | D14: 810-371 | E14: 도 | F14: 210 | G14: 210 | H14: 210 | I14: 210 | J14: 인천광역시 | K14: 공
A15: 9 | B15: 중구 을왕동 | C15: 810-369 | D15: 810-369 | E15: 도 | F15: 49 | G15: 49 | H15: 49 | I15: 49 | J15: 인천광역시 | K15: 공
A16: 10 | B16: 중구 을왕동 | C16: 810-365 | D16: 810-365 | E16: 도 | F16: 101 | G16: 101 | H16: 101 | I16: 101 | J16: 인천광역시 | K16: 공 | U16: -
A17: 11 | B17: 중구 을왕동 | C17: 810-338 | D17: 810-338 | E17: 잡 | F17: 120 | G17: 120 | H17: 120 | I17: 120 | J17: 기획재정부 | K17: 국
A18: 12 | B18: 중구 을왕동 | C18: 810-349 | D18: 810-349 | E18: 구 | F18: 43 | G18: 43 | H18: 43 | I18: 43 | J18: ***-* | K18: 김*호 | T18: 소유자 변경
J19: 중구(인천광역시) | K19: 공
A20: 13 | B20: 중구 을왕동 | C20: 810-330 | D20: 810-330 | E20: 구 | F20: 215 | G20: 215 | H20: 215 | I20: 215 | J20: 인천광역시 중구 용유서로 ***번길 *-**(을왕동) | K20: 서*숙 | T20: 소유자 변경
J21: 중구(인천광역시) | K21: 공
A33: 합 계 | F33: =SUM(F5:F30) -> 1403 | G33: =SUM(G5:G30) -> 1403 | H33: =SUM(H5:H30) -> 1403 | I33: =SUM(I5:I30) -> 1403

Sheet 충청북도 단양군 단성면 하방리
A1: 번 호 | B1: 주 소 | C1: 번 지 | D1: 지 목 | E1: 편입면적 | F1: 전체면적 | G1: 전필확인
A2: 1 | B2: 충청북도 단양군 단성면 하방리 | C2: 222-5 | D2: 학 | E2: 288 | F2: 1381 | G2: 일부
A3: 2 | B3: 충청북도 단양군 단성면 하방리 | C3: 232-18 | D3: 도 | E3: 40 | F3: 45 | G3: 일부
A4: 3 | B4: 충청북도 단양군 단성면 하방리 | C4: 232-17 | D4: 유 | E4: 4 | F4: 4 | G4: 전필
A5: 4 | B5: 충청북도 단양군 단성면 하방리 | C5: 222-2 | D5: 학 | E5: 15 | F5: 16 | G5: 일부
A6: 5 | B6: 충청북도 단양군 단성면 하방리 | C6: 222-4 | D6: 도 | E6: 16 | F6: 16 | G6: 전필
A7: 6 | B7: 충청북도 단양군 단성면 하방리 | C7: 232-2 | D7: 대 | E7: 99 | F7: 224 | G7: 일부
A8: 7 | B8: 충청북도 단양군 단성면 하방리 | C8: 232-13 | D8: 대 | E8: 32 | F8: 32 | G8: 전필
A9: 8 | B9: 충청북도 단양군 단성면 하방리 | C9: 232-8 | D9: 대 | E9: 34 | F9: 39 | G9: 일부
A10: 9 | B10: 충청북도 단양군 단성면 하방리 | C10: 232-14 | D10: 대 | E10: 3 | F10: 3 | G10: 전필
A11: 10 | B11: 충청북도 단양군 단성면 하방리 | C11: 232-7 | D11: 대 | E11: 28 | F11: 28 | G11: 전필
A12: 11 | B12: 충청북도 단양군 단성면 하방리 | C12: 232-15 | D12: 대 | E12: 1 | F12: 1 | G12: 전필
A13: 12 | B13: 충청북도 단양군 단성면 하방리 | C13: 232-16 | D13: 대 | E13: 78 | F13: 78 | G13: 전필
... A52: 51 | B52: 충청북도 단양군 단성면 하방리 | C52: 153-9 | D52: 전 | E52: 116 | F52: 177 | G52: 일부

Sheet 충청북도 단양군 단성면 상방리
A1: 번 호 | B1: 주 소 | C1: 번 지 | D1: 지 목 | E1: 편입면적 | F1: 전체면적 | G1: 전필확인
A2: 1 | B2: 충청북도 단양군 단성면 상방리 | C2: 188-4 | D2: 전 | E2: 399 | F2: 577 | G2: 일부
A3: 2 | B3: 충청북도 단양군 단성면 상방리 | C3: 188-1 | D3: 대 | E3: 294 | F3: 304 | G3: 일부
A4: 3 | B4: 충청북도 단양군 단성면 상방리 | C4: 127-1 | D4: 대 | E4: 9 | F4: 323 | G4: 일부
A5: 4 | B5: 충청북도 단양군 단성면 상방리 | C5: 127-2 | D5: 대 | E5: 40 | F5: 322 | G5: 일부
A6: 5 | B6: 충청북도 단양군 단성면 상방리 | C6: 189-1 | D6: 대 | E6: 197 | F6: 197 | G6: 전필
A7: 6 | B7: 충청북도 단양군 단성면 상방리 | C7: 190 | D7: 대 | E7: 250 | F7: 250 | G7: 전필
A8: 7 | B8: 충청북도 단양군 단성면 상방리 | C8: 298-13 | D8: 도 | E8: 65 | F8: 2248 | G8: 일부
A9: 8 | B9: 충청북도 단양군 단성면 상방리 | C9: 192-3 | D9: 대 | E9: 58 | F9: 58 | G9: 전필
A10: 9 | B10: 충청북도 단양군 단성면 상방리 | C10: 298-6 | D10: 유 | E10: 66 | F10: 181 | G10: 일부
A11: 10 | B11: 충청북도 단양군 단성면 상방리 | C11: 191 | D11: 대 | E11: 340 | F11: 399 | G11: 일부
A12: 11 | B12: 충청북도 단양군 단성면 상방리 | C12: 124 | D12: 대 | E12: 12 | F12: 427 | G12: 일부
A13: 12 | B13: 충청북도 단양군 단성면 상방리 | C13: 123 | D13: 대 | E13: 177 | F13: 421 | G13: 일부
... A61: 60 | B61: 충청북도 단양군 단성면 상방리 | C61: 199-1 | D61: 도 | E61: 56 | F61: 171 | G61: 일부

Sheet Sheet1

Sheet 간지4
A4: 4. 토 지 대 장

Sheet 간지5
A4: 5. 용 지 도
