Workbook
Name _________SBB1: #REF!
Name _________SBB2: #REF!
Name _________SBB3: #REF!
Name _________SBB4: #REF!
Name _________SBB5: #REF!
Name _________SHH1: #REF!
Name _________SHH2: #REF!
Name _________SHH3: #REF!
Name ________MaL1: #REF!
Name ________MaL1: #REF!
Name ________pa1: #REF!
Name ________pa1: #REF!
Name ________pa2: #REF!
Name ________pa2: #REF!
Name ________SBB1: #REF!
Name ________SBB1: #REF!
Name ________SBB2: #REF!
Name ________SBB2: #REF!
Name ________SBB3: #REF!
Name ________SBB3: #REF!
Name ________SBB4: #REF!
Name ________SBB4: #REF!
Name ________SBB5: #REF!
Name ________SBB5: #REF!
Name ________SHH1: #REF!
Name ________SHH1: #REF!
Name ________SHH2: #REF!
Name ________SHH2: #REF!
Name ________SHH3: #REF!
Name ________SHH3: #REF!
Name ________Ted1: #REF!
Name ________Ted1: #REF!
Name ________Ts1: #REF!
Name ________Ts1: #REF!
Name _______GHH1: #REF!
Name _______GHH2: #REF!
Name _______JEA1: #REF!
Name _______JEA2: #REF!
Name _______MaL1: #REF!
Name _______MaL2: #REF!
Name _______pa1: #REF!
Name _______pa2: #REF!
Name _______SBB1: #REF!
Name _______SBB1: #REF!
Name _______SBB2: #REF!
Name _______SBB2: #REF!
Name _______SBB3: #REF!
Name _______SBB3: #REF!
Name _______SBB4: #REF!
Name _______SBB4: #REF!
Name _______SBB5: #REF!
Name _______SBB5: #REF!
Name _______SHH1: #REF!
Name _______SHH1: #REF!
Name _______SHH2: #REF!
Name _______SHH2: #REF!
Name _______SHH3: #REF!
Name _______SHH3: #REF!
Name _______Ted1: #REF!
Name _______Ts1: #REF!

Sheet 갑지 (2)
A1: 설계 년 월 일 | D1: 2017년 2월 일 설계 | I1: 과 장 | M1: 팀 장 | Q1: 심 사 자 | U1: 설 계 자
B5: 국도37호선 양평 양평 창대 등 9개소 배수시설 정비 및 도로시설물 개선공사 (폐기물 처리) 설계예산서
E9: ○ 페콘크리트 | I9: : | J9: =내역서!E7 -> 1475.8
E10: ○ 폐아스콘 | I10: : | J10: =내역서!E8 -> 650.95
E11: ○ 폐기물운반 | I11: : | J11: =내역서!E18 -> 2519.2
E15: 도급예정액 | I15: : | J15: ="일금 "&NUMBERSTRING(R15,1)&"" -> 일금 삼천삼십육만 | P15: 원정 ( | R15: =총괄내역서!F18 -> 30360000
E16: 공급가액 | I16: : | J16: ="일금 "&NUMBERSTRING(R16,1)&"" -> 일금 이천칠백육십만 | P16: 원정 ( | R16: =총괄내역서!F16 -> 27600000
E17: 부가가치세 | I17: : | J17: ="일금 "&NUMBERSTRING(R17,1)&"" -> 일금 이백칠십육만 | P17: 원정 ( | R17: =총괄내역서!F17 -> 2760000
C18: 폐기물처리비 | G18: : | H18: ="일금 "&NUMBERSTRING(R18,1)&"" -> #REF! | O18: 원정 ( ￦ | R18: =#REF! -> #REF! | V18: )
C19: 전기공사비 | G19: : | H19: ="일금 "&NUMBERSTRING(R19,1)&"" -> #REF! | O19: 원정 ( ￦ | R19: =#REF! -> #REF! | V19: )
C20: 보상비 | G20: : | H20: ="일금 "&NUMBERSTRING(R20,1)&"" -> #REF! | O20: 원정 ( ￦ | R20: =#REF! -> #REF! | V20: )

Sheet 갑지
A1: 본 부 장 | C1: 과 장 | E1: 팀 장 | G1: 심사자 | I1: 감독자 | K1: 설계자 | M1: 2019년 5월
A5: 2 0 1 9 년 도
A6: 국지도78호선 파주 파주리 외 2개소 보도설치공사 페기물 설계예산서
C9: ▣ 공 사 위 치 : | E9: 1공구(파주리 국지도78호선), 2공구(창만리 지방도360호선), 3공구(영장리 지방도367호선)
C11: ▣ 공 사 개 요
C13: 가) 1공구(파주리 국지도 78호선) : 폐콘크리트 : 79.0ton, 폐아스콘 : 52.0ton
C15: 나) 2공구(창만리 지방도 360호선) : 폐콘크리트 : 23.0ton, 폐아스콘 : 49.0ton
C17: 다) 3공구(영장리 지방도 367호선) : 폐콘크리트 : 51.0ton, 폐아스콘 : 127.0ton
C24: ▣ 총 공 사 비 | E24: : | F24: =총괄내역서!G19 -> 30360000 | I24: =F24 -> 30360000
C25: ▣ 도 급 공 사 비 | E25: : | F25: =총괄내역서!F18 -> 30360000 | I25: =F25 -> 30360000
C26: ▣ 공 급 가 액 | E26: : | F26: =총괄내역서!F16 -> 27600000 | I26: =F26 -> 27600000
C27: ▣ 부 가 가 치 세 | E27: : | F27: =총괄내역서!F17 -> 2760000 | I27: =F27 -> 2760000

Sheet 총괄내역서
A1: 총 괄 설 계 내 역 서
A2: 공사명 : | C2: 중산동 일원 도로정비공사 폐기물처리용역
A3: 공 종 | C3: 명칭 | E3: 규 격 | F3: 합 계 | H3: 재 료 비 | I3: 노 무 비 | K3: 경 비
A4: 1 | C4: 폐기물처리비 | F4: =SUM(H4:K4) -> 27575161 | K4: 27575161
A5: 가. | C5: 순공사비 | F5: =SUM(H5:L5) -> 27575161 | K5: =SUM(K4:K4) -> 27575161
B6: 1 | C6: 간접노무비
B7: 2 | C7: 산재보험료
B8: 3 | C8: 건강보험료
B9: 4 | C9: 연금보험료
B10: 5 | C10: 산업안전보건관리비 | F10: 148630 | H10: 총 금액의 70% x 0.7%
B11: 6 | C11: 기타경비
A12: 나. | C12: 소계 | F12: =SUM(F5:F11) -> 27723791
B13: 7 | C13: 일반관리비
A14: 다. | C14: 소계 | F14: =F12+F13 -> 27723791
B15: 8 | C15: 이윤
A16: 라. | C16: 공급가액 | F16: 27600000 | H16: 단수정리
B17: 9 | C17: 부가가치세 | F17: =ROUND(F16*0.1,0) -> 2760000 | H17: 공급가액 x 10%
A18: 마. | C18: 도급공사비 | F18: =F16+F17 -> 30360000
A19: 바. | C19: 총공사비 | G19: =ROUNDDOWN(F18,0) -> 30360000
G23: 651800000
G24: =G23+G19 -> 682160000
G25: 303000000
G26: =G25-G24 -> -379160000

Sheet 내역서
A1: 설 계 내 역 서
A2: 공사명 : | C2: =총괄내역서!C2 -> 중산동 일원 도로정비공사 폐기물처리용역
A3: 공 종 | C3: 명 칭 | D3: 규 격 | E3: 수 량 | F3: 단위 | G3: 노 무 비 | I3: 재 료 비 | K3: 경 비 | M3: 합 계 | O3: 비 고
G4: 단 가 | H4: 금 액 | I4: 단 가 | J4: 금 액 | K4: 단 가 | L4: 금 액 | M4: 단 가 | N4: 금 액
A5: ◎ | C5: 순공사비 | L5: =L6+L20 -> 0 | N5: =J5+H5+L5 -> 0 | O5: =Q5+S5+U5 -> 0
A6: 1. | C6: 폐기물 수집운반공 | D6: 덤프24톤 | L6: =L18 -> 0 | N6: =J6+H6+L6 -> 0 | O6: =Q6+S6+U6 -> 0
A7: a | C7: 폐아스콘 운반(중산동) | D7: L=17.0km | E7: =628*2.35 -> 1475.8 | F7: Ton | L7: =ROUNDDOWN(K7*E7,0) -> 0 | M7: =K7 -> 0 | N7: =J7+H7+L7 -> 0
A8: b | C8: 폐아스콘 운반(운북동) | D8: L=17.0km | E8: =277*2.35 -> 650.95 | F8: Ton | L8: =ROUNDDOWN(K8*E8,0) -> 0 | M8: =K8 -> 0 | N8: =J8+H8+L8 -> 0
A9: c | C9: 폐아스콘 운반(운남동) | D9: L=17.0km | E9: =167*2.35 -> 392.45 | F9: Ton | L9: =ROUNDDOWN(K9*E9,0) -> 0 | M9: =K9 -> 0 | N9: =J9+H9+L9 -> 0
A15: c | C15: 폐콘크리트(건설폐재류) 운반 | F15: TON | K15: 11840 | L15: =ROUNDDOWN(K15*E15,0) -> 0 | M15: =K15 -> 11840 | N15: =J15+H15+L15 -> 0
A16: d | C16: 금속및철재류(건설폐재류) 운반 | F16: TON | K16: 11840 | L16: =ROUNDDOWN(K16*E16,0) -> 0 | M16: =K16 -> 11840 | N16: =J16+H16+L16 -> 0
A17: e | C17: 혼합폐기물 운반 | F17: TON | K17: 20000 | L17: =ROUNDDOWN(K17*E17,0) -> 0 | M17: =K17 -> 20000 | N17: =J17+H17+L17 -> 0 | Q17: =SUM(E7:E16) -> 2519.2
C18: 소 계 | E18: =SUM(E7:E17) -> 2519.2 | F18: Ton | L18: =SUM(L7:L17) -> 0 | N18: =J18+H18+L18 -> 0
A20: 2. | C20: 폐기물처리비 | L20: =L33 -> 0 | N20: =J20+H20+L20 -> 0
A21: a | C21: 폐아스콘 처리비(중산동) | D21: (폐아스콘) | E21: 0 | F21: Ton | L21: =ROUNDDOWN(K21*E21,0) -> 0 | M21: =K21 -> 0 | N21: =J21+H21+L21 -> 0 | O21: 협약에 따른 무상처리
A22: b | C22: 폐아스콘 처리비(운북동) | D22: (폐아스콘) | F22: Ton | L22: =ROUNDDOWN(K22*E22,0) -> 0 | M22: =K22 -> 0 | N22: =J22+H22+L22 -> 0
A23: c | C23: 폐아스콘 처리비(운남동) | D23: (폐아스콘) | F23: Ton | L23: =ROUNDDOWN(K23*E23,0) -> 0 | M23: =K23 -> 0 | N23: =J23+H23+L23 -> 0
F29: TON
A30: c | C30: 폐콘크리트(건설폐재류) 처리비 | E30: =E15 -> 0 | F30: TON | K30: 30855 | L30: =ROUNDDOWN(K30*E30,0) -> 0 | M30: =K30 -> 30855 | N30: =J30+H30+L30 -> 0
A31: d | C31: 금속및철재류(건설폐재류) 처리비 | E31: =E16 -> 0 | F31: TON | K31: 22753 | L31: =ROUNDDOWN(K31*E31,0) -> 0 | M31: =K31 -> 22753 | N31: =J31+H31+L31 -> 0
A32: e | C32: 혼합폐기물 처리비 | E32: =E17 -> 0 | F32: Ton | K32: 44273 | L32: =ROUNDDOWN(K32*E32,0) -> 0 | M32: =K32 -> 44273 | N32: =J32+H32+L32 -> 0
C33: 소 계 | E33: =SUM(E21:E32) -> 0 | F33: Ton | L33: =SUM(L21:L32) -> 0 | N33: =J33+H33+L33 -> 0

Sheet 운반거리 산출근거
A2: 운반거리 산출근거
A4: 연 번 | B4: 위 치 | D4: 폐기물량 (TON) | E4: 평균운반 거리 (km) | F4: 최대거리 (km) | G4: 최소거리 (km) | H4: 환산운반비 (16년 12월 물가자료) | I4: 비 고
B5: 폐기물업체 ㈜ 산하 | C5: 지점
A6: 1 | B6: 남양주시 와부읍 수레로 733 | C6: 개군면 하자포리 429번지 | D6: =ROUND(철거집계!K10*철거집계!$D$14,0) -> 25 | E6: =ROUND((F6+G6)/2,0) -> 39 | F6: 39.7 | G6: 38.7 | H6: 16040
A7: 2
A8: 3
A9: 4
A10: 5
A11: 6
A12: 7
A13: 8
A14: 9
B16: ▣폐아스콘 운반비 | D16: 평균운반거리 39.0km이며
D17: km당 운반거리 산출 : (14,940 - 13,340 ) / 5km = 300원
D18: 39km 운반거리 단가 왕복기준 13,340+300 x 9km = 16,040원
F20: =13340+300*9 -> 16040

Sheet 철거집계
A2: 총괄깨기 수량집계표
A4: 공 종 | C4: 단 위 | D4: 창대리 769-1 | E4: 창대리 44-7 | F4: 광탄리 422-1 | G4: 덕평리 602-1 | H4: 신애리 554-2 | I4: 삼봉리 12-10 | J4: 양근리 7-5 | K4: 하자포리 429 | L4: 도곡리 1024-26 | M4: 계
A5: 무근콘크리트깨기 | B5: T=30cm미만 | C5: ㎥ | D5: 6.225 | E5: 4.03 | G5: 16.42 | H5: 0.56 | I5: 0.17 | J5: 1.48 | K5: 33.84 | M5: =SUM(D5:L5) -> 62.725
B6: T=30cm이상 | C6: ㎥ | M6: =SUM(D6:L6) -> 0
A7: 철근콘크리트깨기 | B7: T=30cm미만 | C7: ㎥ | M7: =SUM(D7:L7) -> 0
B8: T=30cm이상 | C8: ㎥ | G8: 34.632 | M8: =SUM(D8:L8) -> 34.632
A9: 기존 포장 깨기 | B9: 콘크리트 | C9: ㎥ | L9: 6 | M9: =SUM(D9:L9) -> 6
B10: 아스콘 | C10: ㎥ | K10: 10.74 | M10: =SUM(D10:L10) -> 10.74
A11: 무근 : | B11: =M5+M6+M9 -> 68.725 | C11: x | D11: 2.3 | E11: = | M11: =B11*D11 -> 158.0675 | N11: TON
A12: 철근 : | B12: =M7+M8 -> 34.632 | C12: x | D12: 2.4 | E12: = | M12: =B12*D12 -> 83.1168 | N12: TON
A13: 폐콘크리트 | B13: =M11 -> 158.0675 | C13: + | D13: =M12 -> 83.1168 | E13: = | M13: =B13+D13 -> 241.1843 | N13: TON
A14: 폐아스콘 | B14: =M10 -> 10.74 | C14: x | D14: 2.35 | E14: = | M14: =B14*D14 -> 25.239 | N14: TON
B16: ▣폐콘크리트 운반 | D16: =B11+B12 -> 103.357 | F16: ㎥
B17: ▣폐콘크리트 처리 | D17: =M13 -> 241.1843 | F17: ton
B18: ▣폐아스콘 운반 | D18: =B14 -> 10.74 | F18: ㎥
D21: 아스콘은 처리비 없음

Sheet Sheet1

Sheet Sheet2

Sheet Sheet3
