Workbook

Sheet 내역서
A1: 내역서
A2: 공 종 명 | B2: 규 격 | C2: 수량 | D2: 단위 | E2: 합 계 | G2: 재 료 비 | I2: 노 무 비 | K2: 경 비 | M2: 비 고
E3: 단 가 | F3: 금 액 | G3: 단 가 | H3: 금 액 | I3: 단 가 | J3: 금 액 | K3: 단 가 | L3: 금 액 | S3: 할 증 | T3: 화폐변환 | U3: OP값 | V3: EQ | W3: LA | X3: MA | Y3: 금액계상
A4: ▣ 영종국제도시 보도 정비사업(추가 구간) | B4: (추가구간) | C4: 1 | D4: 식 | O4: A0000
A5: 1. 토공 | C5: 1 | D5: 식 | P5: 10 | R5: A0001 | BJ5: =HYPERLINK("#내역서!A33","A0001 →") -> A0001 →
A6: 2. 포장공 | C6: 1 | D6: 식 | P6: 20 | R6: A0002 | BJ6: =HYPERLINK("#내역서!A39","A0002 →") -> A0002 →
A7: 3. 부대공 | C7: 1 | D7: 식 | P7: 30 | R7: A0003 | BJ7: =HYPERLINK("#내역서!A45","A0003 →") -> A0003 →
A8: 4. 사급자재대 | C8: 1 | D8: 식 | P8: 40 | R8: A0004 | BJ8: =HYPERLINK("#내역서!A50","A0004 →") -> A0004 →
A9: >▣ 직접공사비 | P9: 50 | AA9: LA+ = | AB9: =내역서!J9*(19.1/100) -> 0 | AC9: LA = | AD9: =$AB9 -> 0
A10: A. 간접노무비 | B10: [직.노]× | C10: 19.1 | D10: % | P10: 60 | R10: F | X10: .LA=LA(50)*(19.1/100)_x000D_ | AA10: EQ+ = | AB10: =(내역서!J9+(내역서!H10+내역서!J10+내역서!L10))*(3.56/100) -> 0 | AC10: EQ = | AD10: =$AB10 -> 0
A11: B. 산재보험료 | B11: [노무비]× | C11: 3.56 | D11: % | P11: 70 | R11: F | X11: .EQ=(LA(50)+TOT(60))*(3.56/100)_x000D_ | AA11: EQ+ = | AB11: =(내역서!J9+(내역서!H10+내역서!J10+내역서!L10))*(1.01/100) -> 0 | AC11: EQ = | AD11: =$AB11 -> 0
A12: C. 고용보험료 | B12: [노무비]× | C12: 1.01 | D12: % | P12: 80 | R12: F | X12: .EQ=(LA(50)+TOT(60))*(1.01/100)_x000D_ | AA12: EQ+ = | AB12: =내역서!J9*(3.595/100)*0 -> 0 | AC12: EQ = | AD12: =$AB12 -> 0
A13: D. 건강보험료(30일미만제외) | B13: [직.노]× | C13: 3.595 | D13: % | P13: 90 | R13: F | X13: .EQ=LA(50)*(3.595/100)*0_x000D_ | AA13: EQ+ = | AB13: =내역서!J9*(4.75/100)*0 -> 0 | AC13: EQ = | AD13: =$AB13 -> 0
A14: E. 연금보험료(30일미만제외) | B14: [직.노]× | C14: 4.75 | D14: % | P14: 100 | R14: F | X14: .EQ=LA(50)*(4.75/100)*0_x000D_ | AA14: EQ+ = | AB14: =(내역서!H13+내역서!J13+내역서!L13)*(13.14/100) -> 0 | AC14: EQ = | AD14: =$AB14 -> 0
A15: F. 노인장기요양보험료(30일미만제외) | B15: [건강보험료]× | C15: 13.14 | D15: % | P15: 110 | R15: F | X15: .EQ=TOT(90)*(13.14/100)_x000D_ | AA15: EQ+ = | AB15: =내역서!J9*(2.3/100)*0 -> 0 | AC15: EQ = | AD15: =$AB15 -> 0
A16: G. 퇴직공제부금비(1억미만제외) | B16: [직노]× | C16: 2.3 | D16: % | P16: 120 | R16: F | X16: EQ=LA(50)*(2.3/100)*0_x000D_ | AA16: EQ+ = | AB16: =(내역서!H9+내역서!J9+내역서!L9)*(0.68/100) -> 0 | AC16: EQ = | AD16: =$AB16 -> 0
A17: H. 건설기계대여대금지급보증서발급금액 | B17: [직접공사비]× | C17: 0.68 | D17: % | P17: 130 | R17: F | X17: .EQ=TOT(50)*(0.68/100)_x000D_ | AA17: EQ+ = | AB17: =ROUND((내역서!H9+내역서!J9+(내역서!H54/1.1))*(3.15/100),2) -> 0 | AC17: EQ = | AD17: =$AB17 -> 0 | AE17: 17_1_1+ = | AF17: =ROUND(ROUND((내역서!H9+내역서!J9+(내역서!H54/1.1))*(3.15/100),2),2) -> 0 | AG17: 17_1_1 = | AH17: =$AF17 -> 0
A18: I. 산업안전보건관리비 | B18: [재+직.노+도.관/1.1]×율 | C18: 3.15 | D18: % | P18: 140 | Q18: * | R18: F | X18: EQ=(MA(50)+LA(50)+(~A0005.M~/1.1))*(3.15/100)=?_x000D_ | AA18: EQ+ = | AB18: =ROUND((내역서!H9+내역서!J9)*(3.15/100)*1.2,2) -> 0 | AC18: EQ = | AD18: =$AB18 -> 0 | AE18: 18_1_1+ = | AF18: =ROUND(ROUND((내역서!H9+내역서!J9)*(3.15/100)*1.2,2),2) -> 0 | AG18: 18_1_1 = | AH18: =$AF18 -> 0
A19: 산업안전보건관리비 (적용) | B19: [(재+직.노)×율]×1.2 | C19: 3.15 | D19: % | P19: 150 | R19: F | X19: eq=(MA(50)+LA(50))*(3.15/100)*1.2=?_x000D_ | AA19: EQ+ = | AB19: =(내역서!H9+내역서!J9+내역서!L9)*(0.9/100) -> 0 | AC19: EQ = | AD19: =$AB19 -> 0
A20: J. 환경보전비 | B20: [직접공사비]× | C20: 0.9 | D20: % | P20: 160 | R20: F | X20: .EQ=TOT(50)*(0.9/100)_x000D_ | AA20: EQ+ = | AB20: =(내역서!H9+내역서!J9+(내역서!H10+내역서!J10+내역서!L10))*(5.5/100) -> 0 | AC20: EQ = | AD20: =$AB20 -> 0
A21: K. 기타경비 | B21: [재+노]× | C21: 5.5 | D21: % | P21: 170 | R21: F | X21: .EQ=(MA(50)+LA(50)+TOT(60))*(5.5/100)_x000D_ | AA21: EQ+ = | AB21: =(내역서!J9+(내역서!H10+내역서!J10+내역서!L10))*(0.006/100) -> 0 | AC21: EQ = | AD21: =$AB21 -> 0
A22: L. 석면분담금 | B22: [노무비]× | C22: 0.006 | D22: % | P22: 180 | R22: F | X22: EQ=(LA(50)+TOT(60))*(0.006/100)_x000D_ | AA22: EQ+ = | AB22: =(내역서!J9+(내역서!H10+내역서!J10+내역서!L10))*(0.09/100) -> 0 | AC22: EQ = | AD22: =$AB22 -> 0
A23: M. 임금채권부담금 | B23: [노무비]× | C23: 0.09 | D23: % | P23: 190 | R23: F | X23: EQ=(LA(50)+TOT(60))*(0.09/100)_x000D_
A24: >>▣ 순공사원가 | P24: 210 | AA24: EQ+ = | AB24: =(내역서!H24+내역서!J24+내역서!L24)*(8/100) -> 0 | AC24: EQ = | AD24: =$AB24 -> 0
A25: N. 일반관리비 | B25: [순공사원가]× | C25: 8 | D25: % | P25: 220 | R25: F | X25: .EQ=TOT(210)*(8/100)_x000D_ | AA25: EQ+ = | AB25: =ROUND((내역서!J24+내역서!L24+(내역서!H25+내역서!J25+내역서!L25))*(15/100)-10129,2) -> -10129 | AC25: EQ = | AD25: =$AB25 -> -10129 | AE25: 25_1_1+ = | AF25: =ROUND(ROUND((내역서!J24+내역서!L24+(내역서!H25+내역서!J25+내역서!L25))*(15/100)-10129,2),2) -> -10129 | AG25: 25_1_1 = | AH25: =$AF25 -> -10129
A26: O. 이윤 | B26: [노+경+일.관]× | C26: 15 | D26: % | P26: 230 | R26: F | X26: EQ=(LA(210)+EQ(210)+TOT(220))*(15/100)-10129=?
A27: >>>▣ 공급가액 | P27: 240 | AA27: EQ+ = | AB27: =(내역서!H27+내역서!J27+내역서!L27)*(10/100) -> 0 | AC27: EQ = | AD27: =$AB27 -> 0
A28: P. 부가가치세 | B28: [공급가액]× | C28: 10 | D28: % | P28: 250 | R28: F | X28: .EQ=TOT(240)*(10/100)_x000D_
A29: >>>>▣ 도급예정액 | P29: 260
A30: 5. 도급자 관급자재대 | C30: 1 | D30: 식 | P30: 270 | R30: A0005 | BJ30: =HYPERLINK("#내역서!A54","A0005 →") -> A0005 →
A31: >>>>>▣ 총 공 사 비 | P31: 280
P32: 290 | Q32: S
A33: 1. 토공 | C33: 1 | D33: 식 | O33: A0001
A34: .1) 기존구조물철거 | P34: 10
A35: .. 보도용 블록 장비 사용 철거 | B35: B-Type, 460㎡/일당 | C35: 1257 | D35: ㎡ | P35: 20 | R35: KMA2-1-25 | T35: T | BJ35: =HYPERLINK("#일위대가목록!A7","KMA2-1-25 →") -> KMA2-1-25 →
A36: .2) 폐기물상차 | P36: 30
A37: .. 폐콘크리트 | B37: 굴삭기 0.6㎥ | C37: 76 | D37: ㎥ | P37: 40 | R37: SHA02100 | T37: F | BJ37: =HYPERLINK("#일위대가목록!A3","SHA02100 →") -> SHA02100 →
P38: 50
A39: 2. 포장공 | C39: 1 | D39: 식 | O39: A0002
A40: .1) 보도블록 | P40: 10
...
