Workbook

Sheet 무의동
A1: 용 지 조 서
G2: 인천시 중구 무의동
A4: 일련 | B4: 지 번 | C4: 지목 | D4: 지 적 | E4: 편입면적 | F4: 소 유 자 | H4: 관 계 인 | K4: 비고
A5: 번호 | D5: ( ㎡ ) | E5: ( ㎡ ) | F5: 성 명 | G5: 주 소 | H5: 성 명 | I5: 주 소 | J5: 권리관계
A7: 1 | B7: 297-19 | C7: 유 | D7: 458 | E7: 46 | F7: 공 | G7: 인천광역시
A8: 2 | B8: 297-20 | C8: 유 | D8: 1118 | E8: 18 | F8: 공 | G8: 인천광역시
A9: 3 | B9: 297-22 | C9: 구 | D9: 127 | E9: 7 | F9: 국 | G9: 농림축산식품부
A10: 4 | B10: 297-21 | C10: 구 | D10: 38 | E10: 24 | F10: 국 | G10: 농림축산식품부
A11: 5 | B11: 297-11 | C11: 유 | D11: 23 | E11: 9 | F11: 박*애 | G11: 인천시 중구 무의동 ***-*
F12: 신*철 | G12: 서울 성북구 종암동 **-**
F13: 신*석 | G13: 서울 송파구 잠실동 ***-* *층 ***호
F14: 신***라 | G14: 서울 성북구 하월곡동 **-***
A15: 6 | B15: 297-2 | C15: 도 | D15: 228 | E15: 20 | F15: 국 | G15: 국토교통부
A16: 7 | B16: 297-7 | C16: 잡 | D16: 383 | E16: 110 | F16: 박*애 | G16: 인천시 중구 대무의로 **-*(무의동)
F17: 농협협동 조합중앙회 | G17: 서울 중구 충정로*가 ** | K17: 근저당권 지상권
A18: 8 | B18: 297-14 | C18: 구 | D18: 172 | E18: 135 | F18: 국 | G18: 농림축산식품부
A19: 11 | B19: 837 | C19: 구 | D19: 2896 | E19: 1163 | F19: 국 | G19: 농림축산식품부
A20: 12 | B20: 571 | C20: 전 | D20: 1792 | E20: 862 | F20: 차*교 | G20: 인천시 중구 큰무리로 *-* (무의동)
F21: 오정농업 협동조합 | G21: 경기도 부천시 소사로 ***(원종동) (삼정지점) | K21: 근저당권
A22: 13 | B22: 570 | C22: 대 | D22: 650 | E22: 9 | F22: 이*국 | G22: 인천시 중구 대무의로 **-* (무의동)
A23: 14 | B23: 573-1 | C23: 전 | D23: 714 | E23: 11 | F23: 차*교 | G23: 인천시 중구 큰무리로 *-* (무의동)
F24: 오정농업 협동조합 | G24: 경기도 부천시 소사로 ***(원종동) (삼정지점) | K24: 근저당권
A25: 15 | B25: 554 | C25: 전 | D25: 496 | E25: 8 | F25: 차*훈 | G25: 인천광역시 연수구 아트센터대로**번길 **,****동****호(송도동,송도더샵하버뷰* **단지)
A26: 16 | B26: 574 | C26: 답 | D26: 278 | E26: 207 | F26: 차*일 | G26: 인천시 중구 큰무리로 ***-** (무의동)
A27: 17 | B27: 575 | C27: 답 | D27: 357 | E27: 173 | F27: 김*숙 | G27: 인천시 중구 큰무리로 ** (무의동)
F28: 중구농업 협동조합 | G28: 인천시 중구 운남로 *** (운남동) (용유지점) | K28: 근저당권
A29: 18 | B29: 576 | C29: 전 | D29: 932 | E29: 141 | F29: 차*일 | G29: 인천시 중구 큰무리로 ***-** (무의동)
A30: 19 | B30: 577 | C30: 전 | D30: 215 | E30: 78 | F30: 차*일 | G30: 인천시 중구 큰무리로 ***-** (무의동)
A31: 20 | B31: 580 | C31: 전 | D31: 268 | E31: 201 | F31: 이*영 | G31: 인천시 중구 큰무리로*번길 **
A32: 21 | B32: 550 | C32: 답 | D32: 235 | E32: 62 | F32: 김*철 | G32: 인천광역시 중구 큰무리로**번길 **(무의동)
A33: 22 | B33: 581 | C33: 전 | D33: 102 | E33: 73 | F33: 이*국 | G33: 인천시 중구 무의동 ***
A34: 23 | B34: 549 | C34: 전 | D34: 618 | E34: 23 | F34: 김*숙 | G34: 인천광역시 중구 큰무리로 **(무의동)
F35: 중구농업 협동조합 | G35: 인천 중구 운남로 *** (운남동) (용유지점) | K35: 근저당권
A36: 24 | B36: 582 | C36: 전 | D36: 106 | E36: 102 | F36: 차*교 | G36: 인천시 중구 무의동 ***
A37: 25 | B37: 587 | C37: 전 | D37: 66 | E37: 1 | K37: 미등기
A38: 26 | B38: 586 | C38: 전 | D38: 440 | E38: 11 | F38: 이*분 | G38: 인천광역시 중구 대무의로 *** (무의동)
F39: 중구농업 협동조합 | G39: 인천 중구 운남동 ****-* (용유지점) | K39: 근저당권 지상권
A40: 27 | B40: 836 | C40: 도 | D40: 66 | E40: 11 | F40: 국 | G40: 농립축산식품부
A41: 28 | B41: 585 | C41: 전 | D41: 1332 | E41: 99 | F41: 박*경 | G41: 서울 서초구 반포동 **-* 한양아파트*동***호 | K41: 근저당권
F42: 박*희 | G42: 서울 송파구 가락동 ***-* | K42: 근저당권
...

Sheet 마전리
A1: 용 지 조 서
H2: 충청남도 예산군 대술면 마전리
A4: 일련 | B4: 지 번 | C4: 지목 | D4: 지 적 | E4: 편입면적 | F4: 소 유 자 | H4: 관 계 인 | K4: 비고
A5: 번호 | D5: ( ㎡ ) | E5: ( ㎡ ) | F5: 성 명 | G5: 주 소 | H5: 성 명 | I5: 주 소 | J5: 권리관계 | N5: 면적확인 | O5: 국계법 | P5: 용도지역 | Q5: 공시지가
A6: 1 | M6: =CONCATENATE(C6,F6) | N6: =D6-E6 -> 0
A7: 2 | M7: =CONCATENATE(C7,F7) | N7: =D7-E7 -> 0 | S7: 보전관리지역 | T7: 계획관리지역 | U7: 농림지역 | V7: 자연녹지지역 | W7: 생산관리지역 | Y7: 합계
A8: 3 | M8: =CONCATENATE(C8,F8) | N8: =D8-E8 -> 0 | S8: =COUNTIF($O$6:$O$246,"보전관리지역") -> 0 | T8: =COUNTIF($O$6:$O$246,"계획관리지역") -> 0 | U8: =COUNTIF($O$6:$O$246,"농림지역") -> 0 | V8: =COUNTIF($O$6:$O$246,"자연녹지지역") -> 0 | W8: =COUNTIF($O$6:$O$246,"생산관리지역") -> 0 | X8: 필지 | Y8: =SUM(S8:W8) -> 0
A9: 4 | M9: =CONCATENATE(C9,F9) | N9: =D9-E9 -> 0 | S9: =SUMIF($O$6:$O$247,"보전관리지역",$E$6:$E$405) -> 0 | T9: =SUMIF($O$6:$O$247,"계획관리지역",$E$6:$E$405) -> 0 | U9: =SUMIF($O$6:$O$247,"농림지역",$E$6:$E$405) -> 0 | V9: =SUMIF($O$6:$O$247,"자연녹지지역",$E$6:$E$405) -> 0 | W9: =SUMIF($O$6:$O$247,"생산관리지역",$E$6:$E$405) -> 0 | X9: 면적 | Y9: =SUM(S9:W9) -> 0
A10: 5 | M10: =CONCATENATE(C10,F10) | N10: =D10-E10 -> 0
A11: 6 | M11: =CONCATENATE(C11,F11) | N11: =D11-E11 -> 0
A12: 7 | M12: =CONCATENATE(C12,F12) | N12: =D12-E12 -> 0
A13: 8 | M13: =CONCATENATE(C13,F13) | N13: =D13-E13 -> 0
A14: 9 | M14: =CONCATENATE(C14,F14) | N14: =D14-E14 -> 0
A15: 10 | M15: =CONCATENATE(C15,F15) | N15: =D15-E15 -> 0
A16: 11 | M16: =CONCATENATE(C16,F16) | N16: =D16-E16 -> 0
A17: 12 | M17: =CONCATENATE(C17,F17) | N17: =D17-E17 -> 0
A18: 13 | M18: =CONCATENATE(C18,F18) | N18: =D18-E18 -> 0
A19: 14 | M19: =CONCATENATE(C19,F19) | N19: =D19-E19 -> 0
A20: 15 | M20: =CONCATENATE(C20,F20) | N20: =D20-E20 -> 0
A21: 16 | M21: =CONCATENATE(C21,F21) | N21: =D21-E21 -> 0
... A25: 20 | M25: =CONCATENATE(C25,F25) | N25: =D25-E25 -> 0
B26: 소 계 | D26: =SUM(D6:D25) -> 0 | E26: =SUM(E6:E25) -> 0 | M26: =CONCATENATE(C26,F26) | N26: =D26-E26 -> 0
A27: 21 | M27: =CONCATENATE(C27,F27) | N27: =D27-E27 -> 0
A28: 22 | M28: =CONCATENATE(C28,F28) | N28: =D28-E28 -> 0
A29: 23 | M29: =CONCATENATE(C29,F29) | N29: =D29-E29 -> 0
A30: 24 | M30: =CONCATENATE(C30,F30) | N30: =D30-E30 -> 0
A31: 25 | M31: =CONCATENATE(C31,F31) | N31: =D31-E31 -> 0
A32: 26 | M32: =CONCATENATE(C32,F32) | N32: =D32-E32 -> 0
A33: 27 | M33: =CONCATENATE(C33,F33) | N33: =D33-E33 -> 0
A34: 28 | M34: =CONCATENATE(C34,F34) | N34: =D34-E34 -> 0
A35: 29 | M35: =CONCATENATE(C35,F35) | N35: =D35-E35 -> 0
A36: 30 | M36: =CONCATENATE(C36,F36) | N36: =D36-E36 -> 0
A37: 31 | M37: =CONCATENATE(C37,F37) | N37: =D37-E37 -> 0
A38: 32 | M38: =CONCATENATE(C38,F38) | N38: =D38-E38 -> 0
... A46: 40 | M46: =CONCATENATE(C46,F46) | N46: =D46-E46 -> 0
B47: 소 계 | D47: =SUM(D27:D46) -> 0 | E47: =SUM(E27:E46) -> 0 | M47: =CONCATENATE(C47,F47) | N47: =D47-E47 -> 0
A48: 41 | M48: =CONCATENATE(C48,F48) | N48: =D48-E48 -> 0
A49: 42 | M49: =CONCATENATE(C49,F49) | N49: =D49-E49 -> 0
A50: 43 | M50: =CONCATENATE(C50,F50) | N50: =D50-E50 -> 0
A51: 44 | M51: =CONCATENATE(C51,F51) | N51: =D51-E51 -> 0
...

Sheet 이티리
A1: 용 지 조 서
H2: 충청남도 예산군 대술면 이티리
A4: 일련 | B4: 지 번 | C4: 지목 | D4: 지 적 | E4: 편입면적 | F4: 소 유 자 | H4: 관 계 인 | K4: 비고
A5: 번호 | D5: ( ㎡ ) | E5: ( ㎡ ) | F5: 성 명 | G5: 주소 | H5: 성 명 | I5: 주 소 | J5: 권리관계 | N5: 면적확인 | O5: 국계법 | P5: 용도지역 | Q5: 공시지가
A6: 1 | M6: =CONCATENATE(C6,F6) | N6: =D6-E6 -> 0
A7: 2 | M7: =CONCATENATE(C7,F7) | N7: =D7-E7 -> 0 | S7: 보전관리지역 | T7: 계획관리지역 | U7: 농림지역 | V7: 자연녹지지역 | W7: 생산관리지역 | Y7: 합계
A8: 3 | M8: =CONCATENATE(C8,F8) | N8: =D8-E8 -> 0 | S8: =COUNTIF($O$6:$O$307,"보전관리지역") -> 0 | T8: =COUNTIF($O$6:$O$307,"계획관리지역") -> 0 | U8: =COUNTIF($O$6:$O$307,"농림지역") -> 0 | V8: =COUNTIF($O$6:$O$307,"자연녹지지역") -> 0 | W8: =COUNTIF($O$6:$O$307,"생산관리지역") -> 0 | X8: 필지 | Y8: =SUM(S8:W8) -> 0
A9: 4 | M9: =CONCATENATE(C9,F9) | N9: =D9-E9 -> 0 | S9: =SUMIF($O$6:$O$308,"보전관리지역",$E$6:$E$466) -> 0 | T9: =SUMIF($O$6:$O$308,"계획관리지역",$E$6:$E$466) -> 0 | U9: =SUMIF($O$6:$O$308,"농림지역",$E$6:$E$466) -> 0 | V9: =SUMIF($O$6:$O$308,"자연녹지지역",$E$6:$E$466) -> 0 | W9: =SUMIF($O$6:$O$308,"생산관리지역",$E$6:$E$466) -> 0 | X9: 면적 | Y9: =SUM(S9:W9) -> 0
A10: 5 | M10: =CONCATENATE(C10,F10) | N10: =D10-E10 -> 0
A11: 6 | M11: =CONCATENATE(C11,F11) | N11: =D11-E11 -> 0
A12: 7 | M12: =CONCATENATE(C12,F12) | N12: =D12-E12 -> 0
A13: 8 | M13: =CONCATENATE(C13,F13) | N13: =D13-E13 -> 0
A14: 9 | M14: =CONCATENATE(C14,F14) | N14: =D14-E14 -> 0
A15: 10 | M15: =CONCATENATE(C15,F15) | N15: =D15-E15 -> 0
A16: 11 | M16: =CONCATENATE(C16,F16) | N16: =D16-E16 -> 0
A17: 12 | M17: =CONCATENATE(C17,F17) | N17: =D17-E17 -> 0
A18: 13 | M18: =CONCATENATE(C18,F18) | N18: =D18-E18 -> 0
A19: 14 | M19: =CONCATENATE(C19,F19) | N19: =D19-E19 -> 0
A20: 15 | M20: =CONCATENATE(C20,F20) | N20: =D20-E20 -> 0
A21: 16 | M21: =CONCATENATE(C21,F21) | N21: =D21-E21 -> 0
... A25: 20 | M25: =CONCATENATE(C25,F25) | N25: =D25-E25 -> 0
B26: 소 계 | D26: =SUM(D6:D25) -> 0 | E26: =SUM(E6:E25) -> 0 | M26: =CONCATENATE(C26,F26) | N26: =D26-E26 -> 0
A27: 21 | M27: =CONCATENATE(C27,F27) | N27: =D27-E27 -> 0
A28: 22 | M28: =CONCATENATE(C28,F28) | N28: =D28-E28 -> 0
A29: 23 | M29: =CONCATENATE(C29,F29) | N29: =D29-E29 -> 0
A30: 24 | M30: =CONCATENATE(C30,F30) | N30: =D30-E30 -> 0
A31: 25 | M31: =CONCATENATE(C31,F31) | N31: =D31-E31 -> 0
A32: 26 | M32: =CONCATENATE(C32,F32) | N32: =D32-E32 -> 0
A33: 27 | M33: =CONCATENATE(C33,F33) | N33: =D33-E33 -> 0
A34: 28 | M34: =CONCATENATE(C34,F34) | N34: =D34-E34 -> 0
A35: 29 | M35: =CONCATENATE(C35,F35) | N35: =D35-E35 -> 0
A36: 30 | M36: =CONCATENATE(C36,F36) | N36: =D36-E36 -> 0
A37: 31 | M37: =CONCATENATE(C37,F37) | N37: =D37-E37 -> 0
A38: 32 | M38: =CONCATENATE(C38,F38) | N38: =D38-E38 -> 0
... A46: 40 | M46: =CONCATENATE(C46,F46) | N46: =D46-E46 -> 0
B47: 소 계 | D47: =SUM(D27:D46) -> 0 | E47: =SUM(E27:E46) -> 0 | M47: =CONCATENATE(C47,F47) | N47: =D47-E47 -> 0
A48: 41 | M48: =CONCATENATE(C48,F48) | N48: =D48-E48 -> 0
A49: 42 | M49: =CONCATENATE(C49,F49) | N49: =D49-E49 -> 0
A50: 43 | M50: =CONCATENATE(C50,F50) | N50: =D50-E50 -> 0
A51: 44 | M51: =CONCATENATE(C51,F51) | N51: =D51-E51 -> 0
...

Sheet 용도지역현황
F9: 보전관리지역 | G9: 계획관리지역 | H9: 농림지역 | I9: 자연녹지지역 | J9: 생산관리지역
E10: 필지 | F10: =무의동!S10+마전리!S8+이티리!S8 -> 0 | G10: =무의동!T10+마전리!T8+이티리!T8 -> 0 | H10: =무의동!U10+마전리!U8+이티리!U8 -> 0 | I10: =무의동!V10+마전리!V8+이티리!V8 -> 0 | J10: =무의동!W10+마전리!W8+이티리!W8 -> 0
E11: 면적 | F11: =무의동!S11+마전리!S9+이티리!S9 -> 0 | G11: =무의동!T11+마전리!T9+이티리!T9 -> 0 | H11: =무의동!U11+마전리!U9+이티리!U9 -> 0 | I11: =무의동!V11+마전리!V9+이티리!V9 -> 0 | J11: =무의동!W11+마전리!W9+이티리!W9 -> 0

Sheet 123
A1: 용 지 조 서
K2: 대구광역시 북구 관음동
A4: 일련 | B4: 지 번 | C4: 지목 | D4: 지 적 | E4: 편입면적 | F4: 실제이용상황 | H4: 소 유 자 | J4: 관 계 인 | M4: 비고
A5: 번호 | D5: ( ㎡ ) | E5: ( ㎡ ) | F5: 지목 | G5: 면 적 | H5: 성 명 | I5: 주 소 | J5: 성 명 | K5: 주 소 | L5: 권리관계
N6: =CONCATENATE(C6,H6)
N7: =CONCATENATE(C7,H7)
N8: =CONCATENATE(C8,H8)
N9: =CONCATENATE(C9,H9)
N10: =CONCATENATE(C10,H10)
N11: =CONCATENATE(C11,H11)
N12: =CONCATENATE(C12,H12)
N13: =CONCATENATE(C13,H13)
N14: =CONCATENATE(C14,H14)
N15: =CONCATENATE(C15,H15)
N16: =CONCATENATE(C16,H16)
N17: =CONCATENATE(C17,H17)
... N172: =CONCATENATE(C172,H172)
A173: 소 계 | E173: =SUM(E153:E172) -> 0 | N173: =CONCATENATE(C173,H173)
E174: =SUM(E173,E152,E131,E110,E89,E68,E47,E26) -> 0

Sheet 태전동
A1: 용 지 조 서
K2: 대구광역시 북구 태전동
A4: 일련 | B4: 지 번 | C4: 지목 | D4: 지 적 | E4: 편입면적 | F4: 실제이용상황 | H4: 소 유 자 | J4: 관 계 인 | M4: 비고
A5: 번호 | D5: ( ㎡ ) | E5: ( ㎡ ) | F5: 지목 | G5: 면 적 | H5: 성 명 | I5: 주 소 | J5: 성 명 | K5: 주 소 | L5: 권리관계
N6: =CONCATENATE(C6,H6)
N7: =CONCATENATE(C7,H7)
N8: =CONCATENATE(C8,H8)
N9: =CONCATENATE(C9,H9)
N10: =CONCATENATE(C10,H10)
N11: =CONCATENATE(C11,H11)
N12: =CONCATENATE(C12,H12)
N13: =CONCATENATE(C13,H13)
N14: =CONCATENATE(C14,H14)
N15: =CONCATENATE(C15,H15)
N16: =CONCATENATE(C16,H16)
N17: =CONCATENATE(C17,H17)
... N187: =CONCATENATE(C187,H187)

Sheet 0

Sheet 용지조서(6)

Sheet 용지조서(7)

Sheet 용지조서(8)

Sheet 용지조서(9)

Sheet 용지조서(10)
A1: 용 지 조 서
A6: 일련 | B6: 지 번 | C6: 지목 | D6: 지 적 | E6: 편입면적 | F6: 실제이용상황 | H6: 소 유 자 | J6: 관 계 인 | M6: 비고
A7: 번호 | D7: ( ㎡ ) | E7: ( ㎡ ) | F7: 지목 | G7: 면 적 | H7: 성 명 | I7: 주 소 | J7: 성 명 | K7: 주 소 | L7: 권리관계
A8: =IF(OR(ISNUMBER(E8),ISTEXT(C8)),1," ") | N8: 전 | O8: =COUNTIF(C8:C27,"전") -> 0 | P8: / | Q8: =SUMIF(C8:C27,"전",E8:E27) -> 0 | R8: =COUNTIF(X8:X27,"전국") -> 0 | S8: / | T8: =SUMIF(X8:X27,"전국",E8:E27) -> 0 | U8: =O8-R8 -> 0 | V8: / | W8: =Q8-T8 -> 0 | X8: =CONCATENATE(C8,H8)
A9: =IF(OR(ISNUMBER(E9),ISTEXT(C9)),A8+1," ") | N9: 답 | O9: =COUNTIF(C8:C27,"답") -> 0 | P9: / | Q9: =SUMIF(C8:C27,"답",E8:E27) -> 0 | R9: =COUNTIF(X8:X27,"답국") -> 0 | S9: / | T9: =SUMIF(X8:X27,"답국",E8:E27) -> 0 | U9: =O9-R9 -> 0 | V9: / | W9: =Q9-T9 -> 0 | X9: =CONCATENATE(C9,H9)
A10: =IF(OR(ISNUMBER(E10),ISTEXT(C10)),A9+1," ") | N10: 임야 | O10: =COUNTIF(C8:C27,"임") -> 0 | P10: / | Q10: =SUMIF(C8:C27,"임",E8:E27) -> 0 | R10: =COUNTIF(X8:X27,"임국") -> 0 | S10: / | T10: =SUMIF(X8:X27,"임국",E8:E27) -> 0 | U10: =O10-R10 -> 0 | V10: / | W10: =Q10-T10 -> 0 | X10: =CONCATENATE(C10,H10)
A11: =IF(OR(ISNUMBER(E11),ISTEXT(C11)),A10+1," ") | N11: 대지 | O11: =COUNTIF(C8:C27,"대") -> 0 | P11: / | Q11: =SUMIF(C8:C27,"대",E8:E27) -> 0 | R11: =COUNTIF(X8:X27,"대국") -> 0 | S11: / | T11: =SUMIF(X8:X27,"대국",E8:E27) -> 0 | U11: =O11-R11 -> 0 | V11: / | W11: =Q11-T11 -> 0 | X11: =CONCATENATE(C11,H11)
A12: =IF(OR(ISNUMBER(E12),ISTEXT(C12)),A11+1," ") | N12: 도로 | O12: =COUNTIF(C8:C27,"도") -> 0 | P12: / | Q12: =SUMIF(C8:C27,"도",E8:E27) -> 0 | R12: =COUNTIF(X8:X27,"도국") -> 0 | S12: / | T12: =SUMIF(X8:X27,"도국",E8:E27) -> 0 | U12: =O12-R12 -> 0 | V12: / | W12: =Q12-T12 -> 0 | X12: =CONCATENATE(C12,H12)
A13: =IF(OR(ISNUMBER(E13),ISTEXT(C13)),A12+1," ") | N13: 하천 | O13: =COUNTIF(C8:C27,"천") -> 0 | P13: / | Q13: =SUMIF(C8:C27,"천",E8:E27) -> 0 | R13: =COUNTIF(X8:X27,"천국") -> 0 | S13: / | T13: =SUMIF(X8:X27,"천국",E8:E27) -> 0 | U13: =O13-R13 -> 0 | V13: / | W13: =Q13-T13 -> 0 | X13: =CONCATENATE(C13,H13)
A14: =IF(OR(ISNUMBER(E14),ISTEXT(C14)),A13+1," ") | N14: 구거 | O14: =COUNTIF(C8:C27,"구") -> 0 | P14: / | Q14: =SUMIF(C8:C27,"구",E8:E27) -> 0 | R14: =COUNTIF(X8:X27,"구국") -> 0 | S14: / | T14: =SUMIF(X8:X27,"구국",E8:E27) -> 0 | U14: =O14-R14 -> 0 | V14: / | W14: =Q14-T14 -> 0 | X14: =CONCATENATE(C14,H14)
A15: =IF(OR(ISNUMBER(E15),ISTEXT(C15)),A14+1," ") | N15: 제방 | O15: =COUNTIF(C8:C27,"제") -> 0 | P15: / | Q15: =SUMIF(C8:C27,"제",E8:E27) -> 0 | R15: =COUNTIF(X8:X27,"제국") -> 0 | S15: / | T15: =SUMIF(X8:X27,"제국",E8:E27) -> 0 | U15: =O15-R15 -> 0 | V15: / | W15: =Q15-T15 -> 0 | X15: =CONCATENATE(C15,H15)
A16: =IF(OR(ISNUMBER(E16),ISTEXT(C16)),A15+1," ") | N16: 유지 | O16: =COUNTIF(C8:C27,"유") -> 0 | P16: / | Q16: =SUMIF(C8:C27,"유",E8:E27) -> 0 | R16: =COUNTIF(X8:X27,"유국") -> 0 | S16: / | T16: =SUMIF(X8:X27,"유국",E8:E27) -> 0 | U16: =O16-R16 -> 0 | V16: / | W16: =Q16-T16 -> 0 | X16: =CONCATENATE(C16,H16)
A17: =IF(OR(ISNUMBER(E17),ISTEXT(C17)),A16+1," ") | N17: 과수원 | O17: =COUNTIF(C8:C27,"과") -> 0 | P17: / | Q17: =SUMIF(C8:C27,"과",E8:E27) -> 0 | R17: =COUNTIF(X8:X27,"과국") -> 0 | S17: / | T17: =SUMIF(X8:X27,"과국",E8:E27) -> 0 | U17: =O17-R17 -> 0 | V17: / | W17: =Q17-T17 -> 0 | X17: =CONCATENATE(C17,H17)
A18: =IF(OR(ISNUMBER(E18),ISTEXT(C18)),A17+1," ") | N18: 묘지 | O18: =COUNTIF(C8:C27,"묘") -> 0 | P18: / | Q18: =SUMIF(C8:C27,"묘",E8:E27) -> 0 | R18: =COUNTIF(X8:X27,"묘국") -> 0 | S18: / | T18: =SUMIF(X8:X27,"묘국",E8:E27) -> 0 | U18: =O18-R18 -> 0 | V18: / | W18: =Q18-T18 -> 0 | X18: =CONCATENATE(C18,H18)
A19: =IF(OR(ISNUMBER(E19),ISTEXT(C19)),A18+1," ") | N19: 목장 | O19: =COUNTIF(C8:C27,"목") -> 0 | P19: / | Q19: =SUMIF(C8:C27,"목",E8:E27) -> 0 | R19: =COUNTIF(X8:X27,"목국") -> 0 | S19: / | T19: =SUMIF(X8:X27,"목국",E8:E27) -> 0 | U19: =O19-R19 -> 0 | V19: / | W19: =Q19-T19 -> 0 | X19: =CONCATENATE(C19,H19)
A20: =IF(OR(ISNUMBER(E20),ISTEXT(C20)),A19+1," ") | N20: 잡종지 | O20: =COUNTIF(C8:C27,"잡") -> 0 | P20: / | Q20: =SUMIF(C8:C27,"잡",E8:E27) -> 0 | R20: =COUNTIF(X8:X27,"잡국") -> 0 | S20: / | T20: =SUMIF(X8:X27,"잡국",E8:E27) -> 0 | U20: =O20-R20 -> 0 | V20: / | W20: =Q20-T20 -> 0 | X20: =CONCATENATE(C20,H20)
A21: =IF(OR(ISNUMBER(E21),ISTEXT(C21)),A20+1," ") | N21: 학교용지 | O21: =COUNTIF(C8:C27,"학") -> 0 | P21: / | Q21: =SUMIF(C8:C27,"학",E8:E27) -> 0 | R21: =COUNTIF(X8:X27,"학국") -> 0 | S21: / | T21: =SUMIF(X8:X27,"학국",E8:E27) -> 0 | U21: =O21-R21 -> 0 | V21: / | W21: =Q21-T21 -> 0 | X21: =CONCATENATE(C21,H21)
A22: =IF(OR(ISNUMBER(E22),ISTEXT(C22)),A21+1," ") | N22: 수도 | O22: =COUNTIF(C8:C27,"수") -> 0 | P22: / | Q22: =SUMIF(C8:C27,"수",E8:E27) -> 0 | R22: =COUNTIF(X8:X27,"수국") -> 0 | S22: / | T22: =SUMIF(X8:X27,"수국",E8:E27) -> 0 | U22: =O22-R22 -> 0 | V22: / | W22: =Q22-T22 -> 0 | X22: =CONCATENATE(C22,H22)
A23: =IF(OR(ISNUMBER(E23),ISTEXT(C23)),A22+1," ") | N23: 공장 | O23: =COUNTIF(C8:C27,"장") -> 0 | P23: / | Q23: =SUMIF(C8:C27,"장",E8:E27) -> 0 | R23: =COUNTIF(X8:X27,"장국") -> 0 | S23: / | T23: =SUMIF(X8:X27,"장국",E8:E27) -> 0 | U23: =O23-R23 -> 0 | V23: / | W23: =Q23-T23 -> 0 | X23: =CONCATENATE(C23,H23)
A24: =IF(OR(ISNUMBER(E24),ISTEXT(C24)),A23+1," ") | X24: =CONCATENATE(C24,H24)
A25: =IF(OR(ISNUMBER(E25),ISTEXT(C25)),A24+1," ") | X25: =CONCATENATE(C25,H25)
A26: =IF(OR(ISNUMBER(E26),ISTEXT(C26)),A25+1," ") | X26: =CONCATENATE(C26,H26)
A27: =IF(OR(ISNUMBER(E27),ISTEXT(C27)),A26+1," ") | N27: 기타 | O27: =COUNTIF(C8:C27," ") -> 0 | P27: / | Q27: =SUMIF(C8:C27," ",E8:E27) -> 0 | S27: / | U27: =O27 -> 0 | V27: / | W27: =Q27 -> 0 | X27: =CONCATENATE(C27,H27)
A28: 소 계 | E28: =SUM(E8:E27) -> 0 | N28: 계 | O28: =SUM(O8:O27) -> 0 | P28: / | Q28: =SUM(Q8:Q27) -> 0 | R28: =SUM(R8:R27) -> 0 | S28: / | T28: =SUM(T8:T27) -> 0 | U28: =SUM(U8:U27) -> 0 | V28: / | W28: =SUM(W8:W27) -> 0 | X28: =CONCATENATE(C28,H28)
A29: =IF(OR(ISNUMBER(E29),ISTEXT(C29)),A27+1," ") | N29: 전 | O29: =COUNTIF(C29:C48,"전") -> 0 | P29: / | Q29: =SUMIF(C29:C48,"전",E29:E48) -> 0 | R29: =COUNTIF(X29:X48,"전국") -> 0 | S29: / | T29: =SUMIF(X29:X48,"전국",E29:E48) -> 0 | U29: =O29-R29 -> 0 | V29: / | W29: =Q29-T29 -> 0 | X29: =CONCATENATE(C29,H29)
A30: =IF(OR(ISNUMBER(E30),ISTEXT(C30)),A29+1," ") | N30: 답 | O30: =COUNTIF(C29:C48,"답") -> 0 | P30: / | Q30: =SUMIF(C29:C48,"답",E29:E48) -> 0 | R30: =COUNTIF(X29:X48,"답국") -> 0 | S30: / | T30: =SUMIF(X29:X48,"답국",E29:E48) -> 0 | U30: =O30-R30 -> 0 | V30: / | W30: =Q30-T30 -> 0 | X30: =CONCATENATE(C30,H30)
A31: =IF(OR(ISNUMBER(E31),ISTEXT(C31)),A30+1," ") | N31: 임야 | O31: =COUNTIF(C29:C48,"임") -> 0 | P31: / | Q31: =SUMIF(C29:C48,"임",E29:E48) -> 0 | R31: =COUNTIF(X29:X48,"임국") -> 0 | S31: / | T31: =SUMIF(X29:X48,"임국",E29:E48) -> 0 | U31: =O31-R31 -> 0 | V31: / | W31: =Q31-T31 -> 0 | X31: =CONCATENATE(C31,H31)
A32: =IF(OR(ISNUMBER(E32),ISTEXT(C32)),A31+1," ") | N32: 대지 | O32: =COUNTIF(C29:C48,"대") -> 0 | P32: / | Q32: =SUMIF(C29:C48,"대",E29:E48) -> 0 | R32: =COUNTIF(X29:X48,"대국") -> 0 | S32: / | T32: =SUMIF(X29:X48,"대국",E29:E48) -> 0 | U32: =O32-R32 -> 0 | V32: / | W32: =Q32-T32 -> 0 | X32: =CONCATENATE(C32,H32)
A33: =IF(OR(ISNUMBER(E33),ISTEXT(C33)),A32+1," ") | N33: 도로 | O33: =COUNTIF(C29:C48,"도") -> 0 | P33: / | Q33: =SUMIF(C29:C48,"도",E29:E48) -> 0 | R33: =COUNTIF(X29:X48,"도국") -> 0 | S33: / | T33: =SUMIF(X29:X48,"도국",E29:E48) -> 0 | U33: =O33-R33 -> 0 | V33: / | W33: =Q33-T33 -> 0 | X33: =CONCATENATE(C33,H33)
A34: =IF(OR(ISNUMBER(E34),ISTEXT(C34)),A33+1," ") | N34: 하천 | O34: =COUNTIF(C29:C48,"천") -> 0 | P34: / | Q34: =SUMIF(C29:C48,"천",E29:E48) -> 0 | R34: =COUNTIF(X29:X48,"천국") -> 0 | S34: / | T34: =SUMIF(X29:X48,"천국",E29:E48) -> 0 | U34: =O34-R34 -> 0 | V34: / | W34: =Q34-T34 -> 0 | X34: =CONCATENATE(C34,H34)
A35: =IF(OR(ISNUMBER(E35),ISTEXT(C35)),A34+1," ") | N35: 구거 | O35: =COUNTIF(C29:C48,"구") -> 0 | P35: / | Q35: =SUMIF(C29:C48,"구",E29:E48) -> 0 | R35: =COUNTIF(X29:X48,"구국") -> 0 | S35: / | T35: =SUMIF(X29:X48,"구국",E29:E48) -> 0 | U35: =O35-R35 -> 0 | V35: / | W35: =Q35-T35 -> 0 | X35: =CONCATENATE(C35,H35)
A36: =IF(OR(ISNUMBER(E36),ISTEXT(C36)),A35+1," ") | N36: 제방 | O36: =COUNTIF(C29:C48,"제") -> 0 | P36: / | Q36: =SUMIF(C29:C48,"제",E29:E48) -> 0 | R36: =COUNTIF(X29:X48,"제국") -> 0 | S36: / | T36: =SUMIF(X29:X48,"제국",E29:E48) -> 0 | U36: =O36-R36 -> 0 | V36: / | W36: =Q36-T36 -> 0 | X36: =CONCATENATE(C36,H36)
A37: =IF(OR(ISNUMBER(E37),ISTEXT(C37)),A36+1," ") | N37: 유지 | O37: =COUNTIF(C29:C48,"유") -> 0 | P37: / | Q37: =SUMIF(C29:C48,"유",E29:E48) -> 0 | R37: =COUNTIF(X29:X48,"유국") -> 0 | S37: / | T37: =SUMIF(X29:X48,"유국",E29:E48) -> 0 | U37: =O37-R37 -> 0 | V37: / | W37: =Q37-T37 -> 0 | X37: =CONCATENATE(C37,H37)
A38: =IF(OR(ISNUMBER(E38),ISTEXT(C38)),A37+1," ") | N38: 과수원 | O38: =COUNTIF(C29:C48,"과") -> 0 | P38: / | Q38: =SUMIF(C29:C48,"과",E29:E48) -> 0 | R38: =COUNTIF(X29:X48,"과국") -> 0 | S38: / | T38: =SUMIF(X29:X48,"과국",E29:E48) -> 0 | U38: =O38-R38 -> 0 | V38: / | W38: =Q38-T38 -> 0 | X38: =CONCATENATE(C38,H38)
A39: =IF(OR(ISNUMBER(E39),ISTEXT(C39)),A38+1," ") | N39: 묘지 | O39: =COUNTIF(C29:C48,"묘") -> 0 | P39: / | Q39: =SUMIF(C29:C48,"묘",E29:E48) -> 0 | R39: =COUNTIF(X29:X48,"묘국") -> 0 | S39: / | T39: =SUMIF(X29:X48,"묘국",E29:E48) -> 0 | U39: =O39-R39 -> 0 | V39: / | W39: =Q39-T39 -> 0 | X39: =CONCATENATE(C39,H39)
A40: =IF(OR(ISNUMBER(E40),ISTEXT(C40)),A39+1," ") | N40: 목장 | O40: =COUNTIF(C29:C48,"목") -> 0 | P40: / | Q40: =SUMIF(C29:C48,"목",E29:E48) -> 0 | R40: =COUNTIF(X29:X48,"목국") -> 0 | S40: / | T40: =SUMIF(X29:X48,"목국",E29:E48) -> 0 | U40: =O40-R40 -> 0 | V40: / | W40: =Q40-T40 -> 0 | X40: =CONCATENATE(C40,H40)
A41: =IF(OR(ISNUMBER(E41),ISTEXT(C41)),A40+1," ") | N41: 잡종지 | O41: =COUNTIF(C29:C48,"잡") -> 0 | P41: / | Q41: =SUMIF(C29:C48,"잡",E29:E48) -> 0 | R41: =COUNTIF(X29:X48,"잡국") -> 0 | S41: / | T41: =SUMIF(X29:X48,"잡국",E29:E48) -> 0 | U41: =O41-R41 -> 0 | V41: / | W41: =Q41-T41 -> 0 | X41: =CONCATENATE(C41,H41)
A42: =IF(OR(ISNUMBER(E42),ISTEXT(C42)),A41+1," ") | N42: 학교용지 | O42: =COUNTIF(C29:C48,"학") -> 0 | P42: / | Q42: =SUMIF(C29:C48,"학",E29:E48) -> 0 | R42: =COUNTIF(X29:X48,"학국") -> 0 | S42: / | T42: =SUMIF(X29:X48,"학국",E29:E48) -> 0 | U42: =O42-R42 -> 0 | V42: / | W42: =Q42-T42 -> 0 | X42: =CONCATENATE(C42,H42)
A43: =IF(OR(ISNUMBER(E43),ISTEXT(C43)),A42+1," ") | N43: 수도 | O43: =COUNTIF(C29:C48,"수") -> 0 | P43: / | Q43: =SUMIF(C29:C48,"수",E29:E48) -> 0 | R43: =COUNTIF(X29:X48,"수국") -> 0 | S43: / | T43: =SUMIF(X29:X48,"수국",E29:E48) -> 0 | U43: =O43-R43 -> 0 | V43: / | W43: =Q43-T43 -> 0 | X43: =CONCATENATE(C43,H43)
A44: =IF(OR(ISNUMBER(E44),ISTEXT(C44)),A43+1," ") | N44: 공장 | O44: =COUNTIF(C29:C48,"장") -> 0 | P44: / | Q44: =SUMIF(C29:C48,"장",E29:E48) -> 0 | R44: =COUNTIF(X29:X48,"장국") -> 0 | S44: / | T44: =SUMIF(X29:X48,"장국",E29:E48) -> 0 | U44: =O44-R44 -> 0 | V44: / | W44: =Q44-T44 -> 0 | X44: =CONCATENATE(C44,H44)
...

Sheet 용지조서(11)

Sheet 용지조서(12)
A1: 용 지 조 서
A6: 일련 | B6: 지 번 | C6: 지목 | D6: 지 적 | E6: 편입면적 | F6: 실제이용상황 | H6: 소 유 자 | J6: 관 계 인 | M6: 비고
A7: 번호 | D7: ( ㎡ ) | E7: ( ㎡ ) | F7: 지목 | G7: 면 적 | H7: 성 명 | I7: 주 소 | J7: 성 명 | K7: 주 소 | L7: 권리관계
A8: =IF(OR(ISNUMBER(E8),ISTEXT(C8)),1," ") | N8: 전 | O8: =COUNTIF(C8:C27,"전") -> 0 | P8: / | Q8: =SUMIF(C8:C27,"전",E8:E27) -> 0 | R8: =COUNTIF(X8:X27,"전국") -> 0 | S8: / | T8: =SUMIF(X8:X27,"전국",E8:E27) -> 0 | U8: =O8-R8 -> 0 | V8: / | W8: =Q8-T8 -> 0 | X8: =CONCATENATE(C8,H8)
A9: =IF(OR(ISNUMBER(E9),ISTEXT(C9)),A8+1," ") | N9: 답 | O9: =COUNTIF(C8:C27,"답") -> 0 | P9: / | Q9: =SUMIF(C8:C27,"답",E8:E27) -> 0 | R9: =COUNTIF(X8:X27,"답국") -> 0 | S9: / | T9: =SUMIF(X8:X27,"답국",E8:E27) -> 0 | U9: =O9-R9 -> 0 | V9: / | W9: =Q9-T9 -> 0 | X9: =CONCATENATE(C9,H9)
A10: =IF(OR(ISNUMBER(E10),ISTEXT(C10)),A9+1," ") | N10: 임야 | O10: =COUNTIF(C8:C27,"임") -> 0 | P10: / | Q10: =SUMIF(C8:C27,"임",E8:E27) -> 0 | R10: =COUNTIF(X8:X27,"임국") -> 0 | S10: / | T10: =SUMIF(X8:X27,"임국",E8:E27) -> 0 | U10: =O10-R10 -> 0 | V10: / | W10: =Q10-T10 -> 0 | X10: =CONCATENATE(C10,H10)
A11: =IF(OR(ISNUMBER(E11),ISTEXT(C11)),A10+1," ") | N11: 대지 | O11: =COUNTIF(C8:C27,"대") -> 0 | P11: / | Q11: =SUMIF(C8:C27,"대",E8:E27) -> 0 | R11: =COUNTIF(X8:X27,"대국") -> 0 | S11: / | T11: =SUMIF(X8:X27,"대국",E8:E27) -> 0 | U11: =O11-R11 -> 0 | V11: / | W11: =Q11-T11 -> 0 | X11: =CONCATENATE(C11,H11)
A12: =IF(OR(ISNUMBER(E12),ISTEXT(C12)),A11+1," ") | N12: 도로 | O12: =COUNTIF(C8:C27,"도") -> 0 | P12: / | Q12: =SUMIF(C8:C27,"도",E8:E27) -> 0 | R12: =COUNTIF(X8:X27,"도국") -> 0 | S12: / | T12: =SUMIF(X8:X27,"도국",E8:E27) -> 0 | U12: =O12-R12 -> 0 | V12: / | W12: =Q12-T12 -> 0 | X12: =CONCATENATE(C12,H12)
A13: =IF(OR(ISNUMBER(E13),ISTEXT(C13)),A12+1," ") | N13: 하천 | O13: =COUNTIF(C8:C27,"천") -> 0 | P13: / | Q13: =SUMIF(C8:C27,"천",E8:E27) -> 0 | R13: =COUNTIF(X8:X27,"천국") -> 0 | S13: / | T13: =SUMIF(X8:X27,"천국",E8:E27) -> 0 | U13: =O13-R13 -> 0 | V13: / | W13: =Q13-T13 -> 0 | X13: =CONCATENATE(C13,H13)
A14: =IF(OR(ISNUMBER(E14),ISTEXT(C14)),A13+1," ") | N14: 구거 | O14: =COUNTIF(C8:C27,"구") -> 0 | P14: / | Q14: =SUMIF(C8:C27,"구",E8:E27) -> 0 | R14: =COUNTIF(X8:X27,"구국") -> 0 | S14: / | T14: =SUMIF(X8:X27,"구국",E8:E27) -> 0 | U14: =O14-R14 -> 0 | V14: / | W14: =Q14-T14 -> 0 | X14: =CONCATENATE(C14,H14)
A15: =IF(OR(ISNUMBER(E15),ISTEXT(C15)),A14+1," ") | N15: 제방 | O15: =COUNTIF(C8:C27,"제") -> 0 | P15: / | Q15: =SUMIF(C8:C27,"제",E8:E27) -> 0 | R15: =COUNTIF(X8:X27,"제국") -> 0 | S15: / | T15: =SUMIF(X8:X27,"제국",E8:E27) -> 0 | U15: =O15-R15 -> 0 | V15: / | W15: =Q15-T15 -> 0 | X15: =CONCATENATE(C15,H15)
A16: =IF(OR(ISNUMBER(E16),ISTEXT(C16)),A15+1," ") | N16: 유지 | O16: =COUNTIF(C8:C27,"유") -> 0 | P16: / | Q16: =SUMIF(C8:C27,"유",E8:E27) -> 0 | R16: =COUNTIF(X8:X27,"유국") -> 0 | S16: / | T16: =SUMIF(X8:X27,"유국",E8:E27) -> 0 | U16: =O16-R16 -> 0 | V16: / | W16: =Q16-T16 -> 0 | X16: =CONCATENATE(C16,H16)
A17: =IF(OR(ISNUMBER(E17),ISTEXT(C17)),A16+1," ") | N17: 과수원 | O17: =COUNTIF(C8:C27,"과") -> 0 | P17: / | Q17: =SUMIF(C8:C27,"과",E8:E27) -> 0 | R17: =COUNTIF(X8:X27,"과국") -> 0 | S17: / | T17: =SUMIF(X8:X27,"과국",E8:E27) -> 0 | U17: =O17-R17 -> 0 | V17: / | W17: =Q17-T17 -> 0 | X17: =CONCATENATE(C17,H17)
A18: =IF(OR(ISNUMBER(E18),ISTEXT(C18)),A17+1," ") | N18: 묘지 | O18: =COUNTIF(C8:C27,"묘") -> 0 | P18: / | Q18: =SUMIF(C8:C27,"묘",E8:E27) -> 0 | R18: =COUNTIF(X8:X27,"묘국") -> 0 | S18: / | T18: =SUMIF(X8:X27,"묘국",E8:E27) -> 0 | U18: =O18-R18 -> 0 | V18: / | W18: =Q18-T18 -> 0 | X18: =CONCATENATE(C18,H18)
A19: =IF(OR(ISNUMBER(E19),ISTEXT(C19)),A18+1," ") | N19: 목장 | O19: =COUNTIF(C8:C27,"목") -> 0 | P19: / | Q19: =SUMIF(C8:C27,"목",E8:E27) -> 0 | R19: =COUNTIF(X8:X27,"목국") -> 0 | S19: / | T19: =SUMIF(X8:X27,"목국",E8:E27) -> 0 | U19: =O19-R19 -> 0 | V19: / | W19: =Q19-T19 -> 0 | X19: =CONCATENATE(C19,H19)
A20: =IF(OR(ISNUMBER(E20),ISTEXT(C20)),A19+1," ") | N20: 잡종지 | O20: =COUNTIF(C8:C27,"잡") -> 0 | P20: / | Q20: =SUMIF(C8:C27,"잡",E8:E27) -> 0 | R20: =COUNTIF(X8:X27,"잡국") -> 0 | S20: / | T20: =SUMIF(X8:X27,"잡국",E8:E27) -> 0 | U20: =O20-R20 -> 0 | V20: / | W20: =Q20-T20 -> 0 | X20: =CONCATENATE(C20,H20)
A21: =IF(OR(ISNUMBER(E21),ISTEXT(C21)),A20+1," ") | N21: 학교용지 | O21: =COUNTIF(C8:C27,"학") -> 0 | P21: / | Q21: =SUMIF(C8:C27,"학",E8:E27) -> 0 | R21: =COUNTIF(X8:X27,"학국") -> 0 | S21: / | T21: =SUMIF(X8:X27,"학국",E8:E27) -> 0 | U21: =O21-R21 -> 0 | V21: / | W21: =Q21-T21 -> 0 | X21: =CONCATENATE(C21,H21)
A22: =IF(OR(ISNUMBER(E22),ISTEXT(C22)),A21+1," ") | N22: 수도 | O22: =COUNTIF(C8:C27,"수") -> 0 | P22: / | Q22: =SUMIF(C8:C27,"수",E8:E27) -> 0 | R22: =COUNTIF(X8:X27,"수국") -> 0 | S22: / | T22: =SUMIF(X8:X27,"수국",E8:E27) -> 0 | U22: =O22-R22 -> 0 | V22: / | W22: =Q22-T22 -> 0 | X22: =CONCATENATE(C22,H22)
A23: =IF(OR(ISNUMBER(E23),ISTEXT(C23)),A22+1," ") | N23: 공장 | O23: =COUNTIF(C8:C27,"장") -> 0 | P23: / | Q23: =SUMIF(C8:C27,"장",E8:E27) -> 0 | R23: =COUNTIF(X8:X27,"장국") -> 0 | S23: / | T23: =SUMIF(X8:X27,"장국",E8:E27) -> 0 | U23: =O23-R23 -> 0 | V23: / | W23: =Q23-T23 -> 0 | X23: =CONCATENATE(C23,H23)
A24: =IF(OR(ISNUMBER(E24),ISTEXT(C24)),A23+1," ") | X24: =CONCATENATE(C24,H24)
A25: =IF(OR(ISNUMBER(E25),ISTEXT(C25)),A24+1," ") | X25: =CONCATENATE(C25,H25)
A26: =IF(OR(ISNUMBER(E26),ISTEXT(C26)),A25+1," ") | X26: =CONCATENATE(C26,H26)
A27: =IF(OR(ISNUMBER(E27),ISTEXT(C27)),A26+1," ") | N27: 기타 | O27: =COUNTIF(C8:C27," ") -> 0 | P27: / | Q27: =SUMIF(C8:C27," ",E8:E27) -> 0 | S27: / | U27: =O27 -> 0 | V27: / | W27: =Q27 -> 0 | X27: =CONCATENATE(C27,H27)
A28: 소 계 | E28: =SUM(E8:E27) -> 0 | N28: 계 | O28: =SUM(O8:O27) -> 0 | P28: / | Q28: =SUM(Q8:Q27) -> 0 | R28: =SUM(R8:R27) -> 0 | S28: / | T28: =SUM(T8:T27) -> 0 | U28: =SUM(U8:U27) -> 0 | V28: / | W28: =SUM(W8:W27) -> 0 | X28: =CONCATENATE(C28,H28)
A29: =IF(OR(ISNUMBER(E29),ISTEXT(C29)),A27+1," ") | N29: 전 | O29: =COUNTIF(C29:C48,"전") -> 0 | P29: / | Q29: =SUMIF(C29:C48,"전",E29:E48) -> 0 | R29: =COUNTIF(X29:X48,"전국") -> 0 | S29: / | T29: =SUMIF(X29:X48,"전국",E29:E48) -> 0 | U29: =O29-R29 -> 0 | V29: / | W29: =Q29-T29 -> 0 | X29: =CONCATENATE(C29,H29)
A30: =IF(OR(ISNUMBER(E30),ISTEXT(C30)),A29+1," ") | N30: 답 | O30: =COUNTIF(C29:C48,"답") -> 0 | P30: / | Q30: =SUMIF(C29:C48,"답",E29:E48) -> 0 | R30: =COUNTIF(X29:X48,"답국") -> 0 | S30: / | T30: =SUMIF(X29:X48,"답국",E29:E48) -> 0 | U30: =O30-R30 -> 0 | V30: / | W30: =Q30-T30 -> 0 | X30: =CONCATENATE(C30,H30)
A31: =IF(OR(ISNUMBER(E31),ISTEXT(C31)),A30+1," ") | N31: 임야 | O31: =COUNTIF(C29:C48,"임") -> 0 | P31: / | Q31: =SUMIF(C29:C48,"임",E29:E48) -> 0 | R31: =COUNTIF(X29:X48,"임국") -> 0 | S31: / | T31: =SUMIF(X29:X48,"임국",E29:E48) -> 0 | U31: =O31-R31 -> 0 | V31: / | W31: =Q31-T31 -> 0 | X31: =CONCATENATE(C31,H31)
A32: =IF(OR(ISNUMBER(E32),ISTEXT(C32)),A31+1," ") | N32: 대지 | O32: =COUNTIF(C29:C48,"대") -> 0 | P32: / | Q32: =SUMIF(C29:C48,"대",E29:E48) -> 0 | R32: =COUNTIF(X29:X48,"대국") -> 0 | S32: / | T32: =SUMIF(X29:X48,"대국",E29:E48) -> 0 | U32: =O32-R32 -> 0 | V32: / | W32: =Q32-T32 -> 0 | X32: =CONCATENATE(C32,H32)
A33: =IF(OR(ISNUMBER(E33),ISTEXT(C33)),A32+1," ") | N33: 도로 | O33: =COUNTIF(C29:C48,"도") -> 0 | P33: / | Q33: =SUMIF(C29:C48,"도",E29:E48) -> 0 | R33: =COUNTIF(X29:X48,"도국") -> 0 | S33: / | T33: =SUMIF(X29:X48,"도국",E29:E48) -> 0 | U33: =O33-R33 -> 0 | V33: / | W33: =Q33-T33 -> 0 | X33: =CONCATENATE(C33,H33)
A34: =IF(OR(ISNUMBER(E34),ISTEXT(C34)),A33+1," ") | N34: 하천 | O34: =COUNTIF(C29:C48,"천") -> 0 | P34: / | Q34: =SUMIF(C29:C48,"천",E29:E48) -> 0 | R34: =COUNTIF(X29:X48,"천국") -> 0 | S34: / | T34: =SUMIF(X29:X48,"천국",E29:E48) -> 0 | U34: =O34-R34 -> 0 | V34: / | W34: =Q34-T34 -> 0 | X34: =CONCATENATE(C34,H34)
A35: =IF(OR(ISNUMBER(E35),ISTEXT(C35)),A34+1," ") | N35: 구거 | O35: =COUNTIF(C29:C48,"구") -> 0 | P35: / | Q35: =SUMIF(C29:C48,"구",E29:E48) -> 0 | R35: =COUNTIF(X29:X48,"구국") -> 0 | S35: / | T35: =SUMIF(X29:X48,"구국",E29:E48) -> 0 | U35: =O35-R35 -> 0 | V35: / | W35: =Q35-T35 -> 0 | X35: =CONCATENATE(C35,H35)
A36: =IF(OR(ISNUMBER(E36),ISTEXT(C36)),A35+1," ") | N36: 제방 | O36: =COUNTIF(C29:C48,"제") -> 0 | P36: / | Q36: =SUMIF(C29:C48,"제",E29:E48) -> 0 | R36: =COUNTIF(X29:X48,"제국") -> 0 | S36: / | T36: =SUMIF(X29:X48,"제국",E29:E48) -> 0 | U36: =O36-R36 -> 0 | V36: / | W36: =Q36-T36 -> 0 | X36: =CONCATENATE(C36,H36)
A37: =IF(OR(ISNUMBER(E37),ISTEXT(C37)),A36+1," ") | N37: 유지 | O37: =COUNTIF(C29:C48,"유") -> 0 | P37: / | Q37: =SUMIF(C29:C48,"유",E29:E48) -> 0 | R37: =COUNTIF(X29:X48,"유국") -> 0 | S37: / | T37: =SUMIF(X29:X48,"유국",E29:E48) -> 0 | U37: =O37-R37 -> 0 | V37: / | W37: =Q37-T37 -> 0 | X37: =CONCATENATE(C37,H37)
A38: =IF(OR(ISNUMBER(E38),ISTEXT(C38)),A37+1," ") | N38: 과수원 | O38: =COUNTIF(C29:C48,"과") -> 0 | P38: / | Q38: =SUMIF(C29:C48,"과",E29:E48) -> 0 | R38: =COUNTIF(X29:X48,"과국") -> 0 | S38: / | T38: =SUMIF(X29:X48,"과국",E29:E48) -> 0 | U38: =O38-R38 -> 0 | V38: / | W38: =Q38-T38 -> 0 | X38: =CONCATENATE(C38,H38)
A39: =IF(OR(ISNUMBER(E39),ISTEXT(C39)),A38+1," ") | N39: 묘지 | O39: =COUNTIF(C29:C48,"묘") -> 0 | P39: / | Q39: =SUMIF(C29:C48,"묘",E29:E48) -> 0 | R39: =COUNTIF(X29:X48,"묘국") -> 0 | S39: / | T39: =SUMIF(X29:X48,"묘국",E29:E48) -> 0 | U39: =O39-R39 -> 0 | V39: / | W39: =Q39-T39 -> 0 | X39: =CONCATENATE(C39,H39)
A40: =IF(OR(ISNUMBER(E40),ISTEXT(C40)),A39+1," ") | N40: 목장 | O40: =COUNTIF(C29:C48,"목") -> 0 | P40: / | Q40: =SUMIF(C29:C48,"목",E29:E48) -> 0 | R40: =COUNTIF(X29:X48,"목국") -> 0 | S40: / | T40: =SUMIF(X29:X48,"목국",E29:E48) -> 0 | U40: =O40-R40 -> 0 | V40: / | W40: =Q40-T40 -> 0 | X40: =CONCATENATE(C40,H40)
A41: =IF(OR(ISNUMBER(E41),ISTEXT(C41)),A40+1," ") | N41: 잡종지 | O41: =COUNTIF(C29:C48,"잡") -> 0 | P41: / | Q41: =SUMIF(C29:C48,"잡",E29:E48) -> 0 | R41: =COUNTIF(X29:X48,"잡국") -> 0 | S41: / | T41: =SUMIF(X29:X48,"잡국",E29:E48) -> 0 | U41: =O41-R41 -> 0 | V41: / | W41: =Q41-T41 -> 0 | X41: =CONCATENATE(C41,H41)
A42: =IF(OR(ISNUMBER(E42),ISTEXT(C42)),A41+1," ") | N42: 학교용지 | O42: =COUNTIF(C29:C48,"학") -> 0 | P42: / | Q42: =SUMIF(C29:C48,"학",E29:E48) -> 0 | R42: =COUNTIF(X29:X48,"학국") -> 0 | S42: / | T42: =SUMIF(X29:X48,"학국",E29:E48) -> 0 | U42: =O42-R42 -> 0 | V42: / | W42: =Q42-T42 -> 0 | X42: =CONCATENATE(C42,H42)
A43: =IF(OR(ISNUMBER(E43),ISTEXT(C43)),A42+1," ") | N43: 수도 | O43: =COUNTIF(C29:C48,"수") -> 0 | P43: / | Q43: =SUMIF(C29:C48,"수",E29:E48) -> 0 | R43: =COUNTIF(X29:X48,"수국") -> 0 | S43: / | T43: =SUMIF(X29:X48,"수국",E29:E48) -> 0 | U43: =O43-R43 -> 0 | V43: / | W43: =Q43-T43 -> 0 | X43: =CONCATENATE(C43,H43)
A44: =IF(OR(ISNUMBER(E44),ISTEXT(C44)),A43+1," ") | N44: 공장 | O44: =COUNTIF(C29:C48,"장") -> 0 | P44: / | Q44: =SUMIF(C29:C48,"장",E29:E48) -> 0 | R44: =COUNTIF(X29:X48,"장국") -> 0 | S44: / | T44: =SUMIF(X29:X48,"장국",E29:E48) -> 0 | U44: =O44-R44 -> 0 | V44: / | W44: =Q44-T44 -> 0 | X44: =CONCATENATE(C44,H44)
...

Sheet 용지조서(13)
A1: 용 지 조 서
A6: 일련 | B6: 지 번 | C6: 지목 | D6: 지 적 | E6: 편입면적 | F6: 실제이용상황 | H6: 소 유 자 | J6: 관 계 인 | M6: 비고
A7: 번호 | D7: ( ㎡ ) | E7: ( ㎡ ) | F7: 지목 | G7: 면 적 | H7: 성 명 | I7: 주 소 | J7: 성 명 | K7: 주 소 | L7: 권리관계
A8: =IF(OR(ISNUMBER(E8),ISTEXT(C8)),1," ") | N8: 전 | O8: =COUNTIF(C8:C27,"전") -> 0 | P8: / | Q8: =SUMIF(C8:C27,"전",E8:E27) -> 0 | R8: =COUNTIF(X8:X27,"전국") -> 0 | S8: / | T8: =SUMIF(X8:X27,"전국",E8:E27) -> 0 | U8: =O8-R8 -> 0 | V8: / | W8: =Q8-T8 -> 0 | X8: =CONCATENATE(C8,H8)
A9: =IF(OR(ISNUMBER(E9),ISTEXT(C9)),A8+1," ") | N9: 답 | O9: =COUNTIF(C8:C27,"답") -> 0 | P9: / | Q9: =SUMIF(C8:C27,"답",E8:E27) -> 0 | R9: =COUNTIF(X8:X27,"답국") -> 0 | S9: / | T9: =SUMIF(X8:X27,"답국",E8:E27) -> 0 | U9: =O9-R9 -> 0 | V9: / | W9: =Q9-T9 -> 0 | X9: =CONCATENATE(C9,H9)
A10: =IF(OR(ISNUMBER(E10),ISTEXT(C10)),A9+1," ") | N10: 임야 | O10: =COUNTIF(C8:C27,"임") -> 0 | P10: / | Q10: =SUMIF(C8:C27,"임",E8:E27) -> 0 | R10: =COUNTIF(X8:X27,"임국") -> 0 | S10: / | T10: =SUMIF(X8:X27,"임국",E8:E27) -> 0 | U10: =O10-R10 -> 0 | V10: / | W10: =Q10-T10 -> 0 | X10: =CONCATENATE(C10,H10)
A11: =IF(OR(ISNUMBER(E11),ISTEXT(C11)),A10+1," ") | N11: 대지 | O11: =COUNTIF(C8:C27,"대") -> 0 | P11: / | Q11: =SUMIF(C8:C27,"대",E8:E27) -> 0 | R11: =COUNTIF(X8:X27,"대국") -> 0 | S11: / | T11: =SUMIF(X8:X27,"대국",E8:E27) -> 0 | U11: =O11-R11 -> 0 | V11: / | W11: =Q11-T11 -> 0 | X11: =CONCATENATE(C11,H11)
A12: =IF(OR(ISNUMBER(E12),ISTEXT(C12)),A11+1," ") | N12: 도로 | O12: =COUNTIF(C8:C27,"도") -> 0 | P12: / | Q12: =SUMIF(C8:C27,"도",E8:E27) -> 0 | R12: =COUNTIF(X8:X27,"도국") -> 0 | S12: / | T12: =SUMIF(X8:X27,"도국",E8:E27) -> 0 | U12: =O12-R12 -> 0 | V12: / | W12: =Q12-T12 -> 0 | X12: =CONCATENATE(C12,H12)
A13: =IF(OR(ISNUMBER(E13),ISTEXT(C13)),A12+1," ") | N13: 하천 | O13: =COUNTIF(C8:C27,"천") -> 0 | P13: / | Q13: =SUMIF(C8:C27,"천",E8:E27) -> 0 | R13: =COUNTIF(X8:X27,"천국") -> 0 | S13: / | T13: =SUMIF(X8:X27,"천국",E8:E27) -> 0 | U13: =O13-R13 -> 0 | V13: / | W13: =Q13-T13 -> 0 | X13: =CONCATENATE(C13,H13)
A14: =IF(OR(ISNUMBER(E14),ISTEXT(C14)),A13+1," ") | N14: 구거 | O14: =COUNTIF(C8:C27,"구") -> 0 | P14: / | Q14: =SUMIF(C8:C27,"구",E8:E27) -> 0 | R14: =COUNTIF(X8:X27,"구국") -> 0 | S14: / | T14: =SUMIF(X8:X27,"구국",E8:E27) -> 0 | U14: =O14-R14 -> 0 | V14: / | W14: =Q14-T14 -> 0 | X14: =CONCATENATE(C14,H14)
A15: =IF(OR(ISNUMBER(E15),ISTEXT(C15)),A14+1," ") | N15: 제방 | O15: =COUNTIF(C8:C27,"제") -> 0 | P15: / | Q15: =SUMIF(C8:C27,"제",E8:E27) -> 0 | R15: =COUNTIF(X8:X27,"제국") -> 0 | S15: / | T15: =SUMIF(X8:X27,"제국",E8:E27) -> 0 | U15: =O15-R15 -> 0 | V15: / | W15: =Q15-T15 -> 0 | X15: =CONCATENATE(C15,H15)
A16: =IF(OR(ISNUMBER(E16),ISTEXT(C16)),A15+1," ") | N16: 유지 | O16: =COUNTIF(C8:C27,"유") -> 0 | P16: / | Q16: =SUMIF(C8:C27,"유",E8:E27) -> 0 | R16: =COUNTIF(X8:X27,"유국") -> 0 | S16: / | T16: =SUMIF(X8:X27,"유국",E8:E27) -> 0 | U16: =O16-R16 -> 0 | V16: / | W16: =Q16-T16 -> 0 | X16: =CONCATENATE(C16,H16)
A17: =IF(OR(ISNUMBER(E17),ISTEXT(C17)),A16+1," ") | N17: 과수원 | O17: =COUNTIF(C8:C27,"과") -> 0 | P17: / | Q17: =SUMIF(C8:C27,"과",E8:E27) -> 0 | R17: =COUNTIF(X8:X27,"과국") -> 0 | S17: / | T17: =SUMIF(X8:X27,"과국",E8:E27) -> 0 | U17: =O17-R17 -> 0 | V17: / | W17: =Q17-T17 -> 0 | X17: =CONCATENATE(C17,H17)
A18: =IF(OR(ISNUMBER(E18),ISTEXT(C18)),A17+1," ") | N18: 묘지 | O18: =COUNTIF(C8:C27,"묘") -> 0 | P18: / | Q18: =SUMIF(C8:C27,"묘",E8:E27) -> 0 | R18: =COUNTIF(X8:X27,"묘국") -> 0 | S18: / | T18: =SUMIF(X8:X27,"묘국",E8:E27) -> 0 | U18: =O18-R18 -> 0 | V18: / | W18: =Q18-T18 -> 0 | X18: =CONCATENATE(C18,H18)
A19: =IF(OR(ISNUMBER(E19),ISTEXT(C19)),A18+1," ") | N19: 목장 | O19: =COUNTIF(C8:C27,"목") -> 0 | P19: / | Q19: =SUMIF(C8:C27,"목",E8:E27) -> 0 | R19: =COUNTIF(X8:X27,"목국") -> 0 | S19: / | T19: =SUMIF(X8:X27,"목국",E8:E27) -> 0 | U19: =O19-R19 -> 0 | V19: / | W19: =Q19-T19 -> 0 | X19: =CONCATENATE(C19,H19)
A20: =IF(OR(ISNUMBER(E20),ISTEXT(C20)),A19+1," ") | N20: 잡종지 | O20: =COUNTIF(C8:C27,"잡") -> 0 | P20: / | Q20: =SUMIF(C8:C27,"잡",E8:E27) -> 0 | R20: =COUNTIF(X8:X27,"잡국") -> 0 | S20: / | T20: =SUMIF(X8:X27,"잡국",E8:E27) -> 0 | U20: =O20-R20 -> 0 | V20: / | W20: =Q20-T20 -> 0 | X20: =CONCATENATE(C20,H20)
A21: =IF(OR(ISNUMBER(E21),ISTEXT(C21)),A20+1," ") | N21: 학교용지 | O21: =COUNTIF(C8:C27,"학") -> 0 | P21: / | Q21: =SUMIF(C8:C27,"학",E8:E27) -> 0 | R21: =COUNTIF(X8:X27,"학국") -> 0 | S21: / | T21: =SUMIF(X8:X27,"학국",E8:E27) -> 0 | U21: =O21-R21 -> 0 | V21: / | W21: =Q21-T21 -> 0 | X21: =CONCATENATE(C21,H21)
A22: =IF(OR(ISNUMBER(E22),ISTEXT(C22)),A21+1," ") | N22: 수도 | O22: =COUNTIF(C8:C27,"수") -> 0 | P22: / | Q22: =SUMIF(C8:C27,"수",E8:E27) -> 0 | R22: =COUNTIF(X8:X27,"수국") -> 0 | S22: / | T22: =SUMIF(X8:X27,"수국",E8:E27) -> 0 | U22: =O22-R22 -> 0 | V22: / | W22: =Q22-T22 -> 0 | X22: =CONCATENATE(C22,H22)
A23: =IF(OR(ISNUMBER(E23),ISTEXT(C23)),A22+1," ") | N23: 공장 | O23: =COUNTIF(C8:C27,"장") -> 0 | P23: / | Q23: =SUMIF(C8:C27,"장",E8:E27) -> 0 | R23: =COUNTIF(X8:X27,"장국") -> 0 | S23: / | T23: =SUMIF(X8:X27,"장국",E8:E27) -> 0 | U23: =O23-R23 -> 0 | V23: / | W23: =Q23-T23 -> 0 | X23: =CONCATENATE(C23,H23)
A24: =IF(OR(ISNUMBER(E24),ISTEXT(C24)),A23+1," ") | X24: =CONCATENATE(C24,H24)
A25: =IF(OR(ISNUMBER(E25),ISTEXT(C25)),A24+1," ") | X25: =CONCATENATE(C25,H25)
A26: =IF(OR(ISNUMBER(E26),ISTEXT(C26)),A25+1," ") | X26: =CONCATENATE(C26,H26)
A27: =IF(OR(ISNUMBER(E27),ISTEXT(C27)),A26+1," ") | N27: 기타 | O27: =COUNTIF(C8:C27," ") -> 0 | P27: / | Q27: =SUMIF(C8:C27," ",E8:E27) -> 0 | S27: / | U27: =O27 -> 0 | V27: / | W27: =Q27 -> 0 | X27: =CONCATENATE(C27,H27)
A28: 소 계 | E28: =SUM(E8:E27) -> 0 | N28: 계 | O28: =SUM(O8:O27) -> 0 | P28: / | Q28: =SUM(Q8:Q27) -> 0 | R28: =SUM(R8:R27) -> 0 | S28: / | T28: =SUM(T8:T27) -> 0 | U28: =SUM(U8:U27) -> 0 | V28: / | W28: =SUM(W8:W27) -> 0 | X28: =CONCATENATE(C28,H28)
A29: =IF(OR(ISNUMBER(E29),ISTEXT(C29)),A27+1," ") | N29: 전 | O29: =COUNTIF(C29:C48,"전") -> 0 | P29: / | Q29: =SUMIF(C29:C48,"전",E29:E48) -> 0 | R29: =COUNTIF(X29:X48,"전국") -> 0 | S29: / | T29: =SUMIF(X29:X48,"전국",E29:E48) -> 0 | U29: =O29-R29 -> 0 | V29: / | W29: =Q29-T29 -> 0 | X29: =CONCATENATE(C29,H29)
A30: =IF(OR(ISNUMBER(E30),ISTEXT(C30)),A29+1," ") | N30: 답 | O30: =COUNTIF(C29:C48,"답") -> 0 | P30: / | Q30: =SUMIF(C29:C48,"답",E29:E48) -> 0 | R30: =COUNTIF(X29:X48,"답국") -> 0 | S30: / | T30: =SUMIF(X29:X48,"답국",E29:E48) -> 0 | U30: =O30-R30 -> 0 | V30: / | W30: =Q30-T30 -> 0 | X30: =CONCATENATE(C30,H30)
A31: =IF(OR(ISNUMBER(E31),ISTEXT(C31)),A30+1," ") | N31: 임야 | O31: =COUNTIF(C29:C48,"임") -> 0 | P31: / | Q31: =SUMIF(C29:C48,"임",E29:E48) -> 0 | R31: =COUNTIF(X29:X48,"임국") -> 0 | S31: / | T31: =SUMIF(X29:X48,"임국",E29:E48) -> 0 | U31: =O31-R31 -> 0 | V31: / | W31: =Q31-T31 -> 0 | X31: =CONCATENATE(C31,H31)
A32: =IF(OR(ISNUMBER(E32),ISTEXT(C32)),A31+1," ") | N32: 대지 | O32: =COUNTIF(C29:C48,"대") -> 0 | P32: / | Q32: =SUMIF(C29:C48,"대",E29:E48) -> 0 | R32: =COUNTIF(X29:X48,"대국") -> 0 | S32: / | T32: =SUMIF(X29:X48,"대국",E29:E48) -> 0 | U32: =O32-R32 -> 0 | V32: / | W32: =Q32-T32 -> 0 | X32: =CONCATENATE(C32,H32)
A33: =IF(OR(ISNUMBER(E33),ISTEXT(C33)),A32+1," ") | N33: 도로 | O33: =COUNTIF(C29:C48,"도") -> 0 | P33: / | Q33: =SUMIF(C29:C48,"도",E29:E48) -> 0 | R33: =COUNTIF(X29:X48,"도국") -> 0 | S33: / | T33: =SUMIF(X29:X48,"도국",E29:E48) -> 0 | U33: =O33-R33 -> 0 | V33: / | W33: =Q33-T33 -> 0 | X33: =CONCATENATE(C33,H33)
A34: =IF(OR(ISNUMBER(E34),ISTEXT(C34)),A33+1," ") | N34: 하천 | O34: =COUNTIF(C29:C48,"천") -> 0 | P34: / | Q34: =SUMIF(C29:C48,"천",E29:E48) -> 0 | R34: =COUNTIF(X29:X48,"천국") -> 0 | S34: / | T34: =SUMIF(X29:X48,"천국",E29:E48) -> 0 | U34: =O34-R34 -> 0 | V34: / | W34: =Q34-T34 -> 0 | X34: =CONCATENATE(C34,H34)
A35: =IF(OR(ISNUMBER(E35),ISTEXT(C35)),A34+1," ") | N35: 구거 | O35: =COUNTIF(C29:C48,"구") -> 0 | P35: / | Q35: =SUMIF(C29:C48,"구",E29:E48) -> 0 | R35: =COUNTIF(X29:X48,"구국") -> 0 | S35: / | T35: =SUMIF(X29:X48,"구국",E29:E48) -> 0 | U35: =O35-R35 -> 0 | V35: / | W35: =Q35-T35 -> 0 | X35: =CONCATENATE(C35,H35)
A36: =IF(OR(ISNUMBER(E36),ISTEXT(C36)),A35+1," ") | N36: 제방 | O36: =COUNTIF(C29:C48,"제") -> 0 | P36: / | Q36: =SUMIF(C29:C48,"제",E29:E48) -> 0 | R36: =COUNTIF(X29:X48,"제국") -> 0 | S36: / | T36: =SUMIF(X29:X48,"제국",E29:E48) -> 0 | U36: =O36-R36 -> 0 | V36: / | W36: =Q36-T36 -> 0 | X36: =CONCATENATE(C36,H36)
A37: =IF(OR(ISNUMBER(E37),ISTEXT(C37)),A36+1," ") | N37: 유지 | O37: =COUNTIF(C29:C48,"유") -> 0 | P37: / | Q37: =SUMIF(C29:C48,"유",E29:E48) -> 0 | R37: =COUNTIF(X29:X48,"유국") -> 0 | S37: / | T37: =SUMIF(X29:X48,"유국",E29:E48) -> 0 | U37: =O37-R37 -> 0 | V37: / | W37: =Q37-T37 -> 0 | X37: =CONCATENATE(C37,H37)
A38: =IF(OR(ISNUMBER(E38),ISTEXT(C38)),A37+1," ") | N38: 과수원 | O38: =COUNTIF(C29:C48,"과") -> 0 | P38: / | Q38: =SUMIF(C29:C48,"과",E29:E48) -> 0 | R38: =COUNTIF(X29:X48,"과국") -> 0 | S38: / | T38: =SUMIF(X29:X48,"과국",E29:E48) -> 0 | U38: =O38-R38 -> 0 | V38: / | W38: =Q38-T38 -> 0 | X38: =CONCATENATE(C38,H38)
A39: =IF(OR(ISNUMBER(E39),ISTEXT(C39)),A38+1," ") | N39: 묘지 | O39: =COUNTIF(C29:C48,"묘") -> 0 | P39: / | Q39: =SUMIF(C29:C48,"묘",E29:E48) -> 0 | R39: =COUNTIF(X29:X48,"묘국") -> 0 | S39: / | T39: =SUMIF(X29:X48,"묘국",E29:E48) -> 0 | U39: =O39-R39 -> 0 | V39: / | W39: =Q39-T39 -> 0 | X39: =CONCATENATE(C39,H39)
A40: =IF(OR(ISNUMBER(E40),ISTEXT(C40)),A39+1," ") | N40: 목장 | O40: =COUNTIF(C29:C48,"목") -> 0 | P40: / | Q40: =SUMIF(C29:C48,"목",E29:E48) -> 0 | R40: =COUNTIF(X29:X48,"목국") -> 0 | S40: / | T40: =SUMIF(X29:X48,"목국",E29:E48) -> 0 | U40: =O40-R40 -> 0 | V40: / | W40: =Q40-T40 -> 0 | X40: =CONCATENATE(C40,H40)
A41: =IF(OR(ISNUMBER(E41),ISTEXT(C41)),A40+1," ") | N41: 잡종지 | O41: =COUNTIF(C29:C48,"잡") -> 0 | P41: / | Q41: =SUMIF(C29:C48,"잡",E29:E48) -> 0 | R41: =COUNTIF(X29:X48,"잡국") -> 0 | S41: / | T41: =SUMIF(X29:X48,"잡국",E29:E48) -> 0 | U41: =O41-R41 -> 0 | V41: / | W41: =Q41-T41 -> 0 | X41: =CONCATENATE(C41,H41)
A42: =IF(OR(ISNUMBER(E42),ISTEXT(C42)),A41+1," ") | N42: 학교용지 | O42: =COUNTIF(C29:C48,"학") -> 0 | P42: / | Q42: =SUMIF(C29:C48,"학",E29:E48) -> 0 | R42: =COUNTIF(X29:X48,"학국") -> 0 | S42: / | T42: =SUMIF(X29:X48,"학국",E29:E48) -> 0 | U42: =O42-R42 -> 0 | V42: / | W42: =Q42-T42 -> 0 | X42: =CONCATENATE(C42,H42)
A43: =IF(OR(ISNUMBER(E43),ISTEXT(C43)),A42+1," ") | N43: 수도 | O43: =COUNTIF(C29:C48,"수") -> 0 | P43: / | Q43: =SUMIF(C29:C48,"수",E29:E48) -> 0 | R43: =COUNTIF(X29:X48,"수국") -> 0 | S43: / | T43: =SUMIF(X29:X48,"수국",E29:E48) -> 0 | U43: =O43-R43 -> 0 | V43: / | W43: =Q43-T43 -> 0 | X43: =CONCATENATE(C43,H43)
A44: =IF(OR(ISNUMBER(E44),ISTEXT(C44)),A43+1," ") | N44: 공장 | O44: =COUNTIF(C29:C48,"장") -> 0 | P44: / | Q44: =SUMIF(C29:C48,"장",E29:E48) -> 0 | R44: =COUNTIF(X29:X48,"장국") -> 0 | S44: / | T44: =SUMIF(X29:X48,"장국",E29:E48) -> 0 | U44: =O44-R44 -> 0 | V44: / | W44: =Q44-T44 -> 0 | X44: =CONCATENATE(C44,H44)
...

Sheet 용지조서(14)
A1: 용 지 조 서
A6: 일련 | B6: 지 번 | C6: 지목 | D6: 지 적 | E6: 편입면적 | F6: 실제이용상황 | H6: 소 유 자 | J6: 관 계 인 | M6: 비고
A7: 번호 | D7: ( ㎡ ) | E7: ( ㎡ ) | F7: 지목 | G7: 면 적 | H7: 성 명 | I7: 주 소 | J7: 성 명 | K7: 주 소 | L7: 권리관계
A8: =IF(OR(ISNUMBER(E8),ISTEXT(C8)),1," ") | N8: 전 | O8: =COUNTIF(C8:C27,"전") -> 0 | P8: / | Q8: =SUMIF(C8:C27,"전",E8:E27) -> 0 | R8: =COUNTIF(X8:X27,"전국") -> 0 | S8: / | T8: =SUMIF(X8:X27,"전국",E8:E27) -> 0 | U8: =O8-R8 -> 0 | V8: / | W8: =Q8-T8 -> 0 | X8: =CONCATENATE(C8,H8)
A9: =IF(OR(ISNUMBER(E9),ISTEXT(C9)),A8+1," ") | N9: 답 | O9: =COUNTIF(C8:C27,"답") -> 0 | P9: / | Q9: =SUMIF(C8:C27,"답",E8:E27) -> 0 | R9: =COUNTIF(X8:X27,"답국") -> 0 | S9: / | T9: =SUMIF(X8:X27,"답국",E8:E27) -> 0 | U9: =O9-R9 -> 0 | V9: / | W9: =Q9-T9 -> 0 | X9: =CONCATENATE(C9,H9)
A10: =IF(OR(ISNUMBER(E10),ISTEXT(C10)),A9+1," ") | N10: 임야 | O10: =COUNTIF(C8:C27,"임") -> 0 | P10: / | Q10: =SUMIF(C8:C27,"임",E8:E27) -> 0 | R10: =COUNTIF(X8:X27,"임국") -> 0 | S10: / | T10: =SUMIF(X8:X27,"임국",E8:E27) -> 0 | U10: =O10-R10 -> 0 | V10: / | W10: =Q10-T10 -> 0 | X10: =CONCATENATE(C10,H10)
A11: =IF(OR(ISNUMBER(E11),ISTEXT(C11)),A10+1," ") | N11: 대지 | O11: =COUNTIF(C8:C27,"대") -> 0 | P11: / | Q11: =SUMIF(C8:C27,"대",E8:E27) -> 0 | R11: =COUNTIF(X8:X27,"대국") -> 0 | S11: / | T11: =SUMIF(X8:X27,"대국",E8:E27) -> 0 | U11: =O11-R11 -> 0 | V11: / | W11: =Q11-T11 -> 0 | X11: =CONCATENATE(C11,H11)
A12: =IF(OR(ISNUMBER(E12),ISTEXT(C12)),A11+1," ") | N12: 도로 | O12: =COUNTIF(C8:C27,"도") -> 0 | P12: / | Q12: =SUMIF(C8:C27,"도",E8:E27) -> 0 | R12: =COUNTIF(X8:X27,"도국") -> 0 | S12: / | T12: =SUMIF(X8:X27,"도국",E8:E27) -> 0 | U12: =O12-R12 -> 0 | V12: / | W12: =Q12-T12 -> 0 | X12: =CONCATENATE(C12,H12)
A13: =IF(OR(ISNUMBER(E13),ISTEXT(C13)),A12+1," ") | N13: 하천 | O13: =COUNTIF(C8:C27,"천") -> 0 | P13: / | Q13: =SUMIF(C8:C27,"천",E8:E27) -> 0 | R13: =COUNTIF(X8:X27,"천국") -> 0 | S13: / | T13: =SUMIF(X8:X27,"천국",E8:E27) -> 0 | U13: =O13-R13 -> 0 | V13: / | W13: =Q13-T13 -> 0 | X13: =CONCATENATE(C13,H13)
A14: =IF(OR(ISNUMBER(E14),ISTEXT(C14)),A13+1," ") | N14: 구거 | O14: =COUNTIF(C8:C27,"구") -> 0 | P14: / | Q14: =SUMIF(C8:C27,"구",E8:E27) -> 0 | R14: =COUNTIF(X8:X27,"구국") -> 0 | S14: / | T14: =SUMIF(X8:X27,"구국",E8:E27) -> 0 | U14: =O14-R14 -> 0 | V14: / | W14: =Q14-T14 -> 0 | X14: =CONCATENATE(C14,H14)
A15: =IF(OR(ISNUMBER(E15),ISTEXT(C15)),A14+1," ") | N15: 제방 | O15: =COUNTIF(C8:C27,"제") -> 0 | P15: / | Q15: =SUMIF(C8:C27,"제",E8:E27) -> 0 | R15: =COUNTIF(X8:X27,"제국") -> 0 | S15: / | T15: =SUMIF(X8:X27,"제국",E8:E27) -> 0 | U15: =O15-R15 -> 0 | V15: / | W15: =Q15-T15 -> 0 | X15: =CONCATENATE(C15,H15)
A16: =IF(OR(ISNUMBER(E16),ISTEXT(C16)),A15+1," ") | N16: 유지 | O16: =COUNTIF(C8:C27,"유") -> 0 | P16: / | Q16: =SUMIF(C8:C27,"유",E8:E27) -> 0 | R16: =COUNTIF(X8:X27,"유국") -> 0 | S16: / | T16: =SUMIF(X8:X27,"유국",E8:E27) -> 0 | U16: =O16-R16 -> 0 | V16: / | W16: =Q16-T16 -> 0 | X16: =CONCATENATE(C16,H16)
A17: =IF(OR(ISNUMBER(E17),ISTEXT(C17)),A16+1," ") | N17: 과수원 | O17: =COUNTIF(C8:C27,"과") -> 0 | P17: / | Q17: =SUMIF(C8:C27,"과",E8:E27) -> 0 | R17: =COUNTIF(X8:X27,"과국") -> 0 | S17: / | T17: =SUMIF(X8:X27,"과국",E8:E27) -> 0 | U17: =O17-R17 -> 0 | V17: / | W17: =Q17-T17 -> 0 | X17: =CONCATENATE(C17,H17)
A18: =IF(OR(ISNUMBER(E18),ISTEXT(C18)),A17+1," ") | N18: 묘지 | O18: =COUNTIF(C8:C27,"묘") -> 0 | P18: / | Q18: =SUMIF(C8:C27,"묘",E8:E27) -> 0 | R18: =COUNTIF(X8:X27,"묘국") -> 0 | S18: / | T18: =SUMIF(X8:X27,"묘국",E8:E27) -> 0 | U18: =O18-R18 -> 0 | V18: / | W18: =Q18-T18 -> 0 | X18: =CONCATENATE(C18,H18)
A19: =IF(OR(ISNUMBER(E19),ISTEXT(C19)),A18+1," ") | N19: 목장 | O19: =COUNTIF(C8:C27,"목") -> 0 | P19: / | Q19: =SUMIF(C8:C27,"목",E8:E27) -> 0 | R19: =COUNTIF(X8:X27,"목국") -> 0 | S19: / | T19: =SUMIF(X8:X27,"목국",E8:E27) -> 0 | U19: =O19-R19 -> 0 | V19: / | W19: =Q19-T19 -> 0 | X19: =CONCATENATE(C19,H19)
A20: =IF(OR(ISNUMBER(E20),ISTEXT(C20)),A19+1," ") | N20: 잡종지 | O20: =COUNTIF(C8:C27,"잡") -> 0 | P20: / | Q20: =SUMIF(C8:C27,"잡",E8:E27) -> 0 | R20: =COUNTIF(X8:X27,"잡국") -> 0 | S20: / | T20: =SUMIF(X8:X27,"잡국",E8:E27) -> 0 | U20: =O20-R20 -> 0 | V20: / | W20: =Q20-T20 -> 0 | X20: =CONCATENATE(C20,H20)
A21: =IF(OR(ISNUMBER(E21),ISTEXT(C21)),A20+1," ") | N21: 학교용지 | O21: =COUNTIF(C8:C27,"학") -> 0 | P21: / | Q21: =SUMIF(C8:C27,"학",E8:E27) -> 0 | R21: =COUNTIF(X8:X27,"학국") -> 0 | S21: / | T21: =SUMIF(X8:X27,"학국",E8:E27) -> 0 | U21: =O21-R21 -> 0 | V21: / | W21: =Q21-T21 -> 0 | X21: =CONCATENATE(C21,H21)
A22: =IF(OR(ISNUMBER(E22),ISTEXT(C22)),A21+1," ") | N22: 수도 | O22: =COUNTIF(C8:C27,"수") -> 0 | P22: / | Q22: =SUMIF(C8:C27,"수",E8:E27) -> 0 | R22: =COUNTIF(X8:X27,"수국") -> 0 | S22: / | T22: =SUMIF(X8:X27,"수국",E8:E27) -> 0 | U22: =O22-R22 -> 0 | V22: / | W22: =Q22-T22 -> 0 | X22: =CONCATENATE(C22,H22)
A23: =IF(OR(ISNUMBER(E23),ISTEXT(C23)),A22+1," ") | N23: 공장 | O23: =COUNTIF(C8:C27,"장") -> 0 | P23: / | Q23: =SUMIF(C8:C27,"장",E8:E27) -> 0 | R23: =COUNTIF(X8:X27,"장국") -> 0 | S23: / | T23: =SUMIF(X8:X27,"장국",E8:E27) -> 0 | U23: =O23-R23 -> 0 | V23: / | W23: =Q23-T23 -> 0 | X23: =CONCATENATE(C23,H23)
A24: =IF(OR(ISNUMBER(E24),ISTEXT(C24)),A23+1," ") | X24: =CONCATENATE(C24,H24)
A25: =IF(OR(ISNUMBER(E25),ISTEXT(C25)),A24+1," ") | X25: =CONCATENATE(C25,H25)
A26: =IF(OR(ISNUMBER(E26),ISTEXT(C26)),A25+1," ") | X26: =CONCATENATE(C26,H26)
A27: =IF(OR(ISNUMBER(E27),ISTEXT(C27)),A26+1," ") | N27: 기타 | O27: =COUNTIF(C8:C27," ") -> 0 | P27: / | Q27: =SUMIF(C8:C27," ",E8:E27) -> 0 | S27: / | U27: =O27 -> 0 | V27: / | W27: =Q27 -> 0 | X27: =CONCATENATE(C27,H27)
A28: 소 계 | E28: =SUM(E8:E27) -> 0 | N28: 계 | O28: =SUM(O8:O27) -> 0 | P28: / | Q28: =SUM(Q8:Q27) -> 0 | R28: =SUM(R8:R27) -> 0 | S28: / | T28: =SUM(T8:T27) -> 0 | U28: =SUM(U8:U27) -> 0 | V28: / | W28: =SUM(W8:W27) -> 0 | X28: =CONCATENATE(C28,H28)
A29: =IF(OR(ISNUMBER(E29),ISTEXT(C29)),A27+1," ") | N29: 전 | O29: =COUNTIF(C29:C48,"전") -> 0 | P29: / | Q29: =SUMIF(C29:C48,"전",E29:E48) -> 0 | R29: =COUNTIF(X29:X48,"전국") -> 0 | S29: / | T29: =SUMIF(X29:X48,"전국",E29:E48) -> 0 | U29: =O29-R29 -> 0 | V29: / | W29: =Q29-T29 -> 0 | X29: =CONCATENATE(C29,H29)
A30: =IF(OR(ISNUMBER(E30),ISTEXT(C30)),A29+1," ") | N30: 답 | O30: =COUNTIF(C29:C48,"답") -> 0 | P30: / | Q30: =SUMIF(C29:C48,"답",E29:E48) -> 0 | R30: =COUNTIF(X29:X48,"답국") -> 0 | S30: / | T30: =SUMIF(X29:X48,"답국",E29:E48) -> 0 | U30: =O30-R30 -> 0 | V30: / | W30: =Q30-T30 -> 0 | X30: =CONCATENATE(C30,H30)
A31: =IF(OR(ISNUMBER(E31),ISTEXT(C31)),A30+1," ") | N31: 임야 | O31: =COUNTIF(C29:C48,"임") -> 0 | P31: / | Q31: =SUMIF(C29:C48,"임",E29:E48) -> 0 | R31: =COUNTIF(X29:X48,"임국") -> 0 | S31: / | T31: =SUMIF(X29:X48,"임국",E29:E48) -> 0 | U31: =O31-R31 -> 0 | V31: / | W31: =Q31-T31 -> 0 | X31: =CONCATENATE(C31,H31)
A32: =IF(OR(ISNUMBER(E32),ISTEXT(C32)),A31+1," ") | N32: 대지 | O32: =COUNTIF(C29:C48,"대") -> 0 | P32: / | Q32: =SUMIF(C29:C48,"대",E29:E48) -> 0 | R32: =COUNTIF(X29:X48,"대국") -> 0 | S32: / | T32: =SUMIF(X29:X48,"대국",E29:E48) -> 0 | U32: =O32-R32 -> 0 | V32: / | W32: =Q32-T32 -> 0 | X32: =CONCATENATE(C32,H32)
A33: =IF(OR(ISNUMBER(E33),ISTEXT(C33)),A32+1," ") | N33: 도로 | O33: =COUNTIF(C29:C48,"도") -> 0 | P33: / | Q33: =SUMIF(C29:C48,"도",E29:E48) -> 0 | R33: =COUNTIF(X29:X48,"도국") -> 0 | S33: / | T33: =SUMIF(X29:X48,"도국",E29:E48) -> 0 | U33: =O33-R33 -> 0 | V33: / | W33: =Q33-T33 -> 0 | X33: =CONCATENATE(C33,H33)
A34: =IF(OR(ISNUMBER(E34),ISTEXT(C34)),A33+1," ") | N34: 하천 | O34: =COUNTIF(C29:C48,"천") -> 0 | P34: / | Q34: =SUMIF(C29:C48,"천",E29:E48) -> 0 | R34: =COUNTIF(X29:X48,"천국") -> 0 | S34: / | T34: =SUMIF(X29:X48,"천국",E29:E48) -> 0 | U34: =O34-R34 -> 0 | V34: / | W34: =Q34-T34 -> 0 | X34: =CONCATENATE(C34,H34)
A35: =IF(OR(ISNUMBER(E35),ISTEXT(C35)),A34+1," ") | N35: 구거 | O35: =COUNTIF(C29:C48,"구") -> 0 | P35: / | Q35: =SUMIF(C29:C48,"구",E29:E48) -> 0 | R35: =COUNTIF(X29:X48,"구국") -> 0 | S35: / | T35: =SUMIF(X29:X48,"구국",E29:E48) -> 0 | U35: =O35-R35 -> 0 | V35: / | W35: =Q35-T35 -> 0 | X35: =CONCATENATE(C35,H35)
A36: =IF(OR(ISNUMBER(E36),ISTEXT(C36)),A35+1," ") | N36: 제방 | O36: =COUNTIF(C29:C48,"제") -> 0 | P36: / | Q36: =SUMIF(C29:C48,"제",E29:E48) -> 0 | R36: =COUNTIF(X29:X48,"제국") -> 0 | S36: / | T36: =SUMIF(X29:X48,"제국",E29:E48) -> 0 | U36: =O36-R36 -> 0 | V36: / | W36: =Q36-T36 -> 0 | X36: =CONCATENATE(C36,H36)
A37: =IF(OR(ISNUMBER(E37),ISTEXT(C37)),A36+1," ") | N37: 유지 | O37: =COUNTIF(C29:C48,"유") -> 0 | P37: / | Q37: =SUMIF(C29:C48,"유",E29:E48) -> 0 | R37: =COUNTIF(X29:X48,"유국") -> 0 | S37: / | T37: =SUMIF(X29:X48,"유국",E29:E48) -> 0 | U37: =O37-R37 -> 0 | V37: / | W37: =Q37-T37 -> 0 | X37: =CONCATENATE(C37,H37)
A38: =IF(OR(ISNUMBER(E38),ISTEXT(C38)),A37+1," ") | N38: 과수원 | O38: =COUNTIF(C29:C48,"과") -> 0 | P38: / | Q38: =SUMIF(C29:C48,"과",E29:E48) -> 0 | R38: =COUNTIF(X29:X48,"과국") -> 0 | S38: / | T38: =SUMIF(X29:X48,"과국",E29:E48) -> 0 | U38: =O38-R38 -> 0 | V38: / | W38: =Q38-T38 -> 0 | X38: =CONCATENATE(C38,H38)
A39: =IF(OR(ISNUMBER(E39),ISTEXT(C39)),A38+1," ") | N39: 묘지 | O39: =COUNTIF(C29:C48,"묘") -> 0 | P39: / | Q39: =SUMIF(C29:C48,"묘",E29:E48) -> 0 | R39: =COUNTIF(X29:X48,"묘국") -> 0 | S39: / | T39: =SUMIF(X29:X48,"묘국",E29:E48) -> 0 | U39: =O39-R39 -> 0 | V39: / | W39: =Q39-T39 -> 0 | X39: =CONCATENATE(C39,H39)
A40: =IF(OR(ISNUMBER(E40),ISTEXT(C40)),A39+1," ") | N40: 목장 | O40: =COUNTIF(C29:C48,"목") -> 0 | P40: / | Q40: =SUMIF(C29:C48,"목",E29:E48) -> 0 | R40: =COUNTIF(X29:X48,"목국") -> 0 | S40: / | T40: =SUMIF(X29:X48,"목국",E29:E48) -> 0 | U40: =O40-R40 -> 0 | V40: / | W40: =Q40-T40 -> 0 | X40: =CONCATENATE(C40,H40)
A41: =IF(OR(ISNUMBER(E41),ISTEXT(C41)),A40+1," ") | N41: 잡종지 | O41: =COUNTIF(C29:C48,"잡") -> 0 | P41: / | Q41: =SUMIF(C29:C48,"잡",E29:E48) -> 0 | R41: =COUNTIF(X29:X48,"잡국") -> 0 | S41: / | T41: =SUMIF(X29:X48,"잡국",E29:E48) -> 0 | U41: =O41-R41 -> 0 | V41: / | W41: =Q41-T41 -> 0 | X41: =CONCATENATE(C41,H41)
A42: =IF(OR(ISNUMBER(E42),ISTEXT(C42)),A41+1," ") | N42: 학교용지 | O42: =COUNTIF(C29:C48,"학") -> 0 | P42: / | Q42: =SUMIF(C29:C48,"학",E29:E48) -> 0 | R42: =COUNTIF(X29:X48,"학국") -> 0 | S42: / | T42: =SUMIF(X29:X48,"학국",E29:E48) -> 0 | U42: =O42-R42 -> 0 | V42: / | W42: =Q42-T42 -> 0 | X42: =CONCATENATE(C42,H42)
A43: =IF(OR(ISNUMBER(E43),ISTEXT(C43)),A42+1," ") | N43: 수도 | O43: =COUNTIF(C29:C48,"수") -> 0 | P43: / | Q43: =SUMIF(C29:C48,"수",E29:E48) -> 0 | R43: =COUNTIF(X29:X48,"수국") -> 0 | S43: / | T43: =SUMIF(X29:X48,"수국",E29:E48) -> 0 | U43: =O43-R43 -> 0 | V43: / | W43: =Q43-T43 -> 0 | X43: =CONCATENATE(C43,H43)
A44: =IF(OR(ISNUMBER(E44),ISTEXT(C44)),A43+1," ") | N44: 공장 | O44: =COUNTIF(C29:C48,"장") -> 0 | P44: / | Q44: =SUMIF(C29:C48,"장",E29:E48) -> 0 | R44: =COUNTIF(X29:X48,"장국") -> 0 | S44: / | T44: =SUMIF(X29:X48,"장국",E29:E48) -> 0 | U44: =O44-R44 -> 0 | V44: / | W44: =Q44-T44 -> 0 | X44: =CONCATENATE(C44,H44)
...

Sheet 용지조서(15)
A1: 용 지 조 서
A6: 일련 | B6: 지 번 | C6: 지목 | D6: 지 적 | E6: 편입면적 | F6: 실제이용상황 | H6: 소 유 자 | J6: 관 계 인 | M6: 비고
A7: 번호 | D7: ( ㎡ ) | E7: ( ㎡ ) | F7: 지목 | G7: 면 적 | H7: 성 명 | I7: 주 소 | J7: 성 명 | K7: 주 소 | L7: 권리관계
A8: =IF(OR(ISNUMBER(E8),ISTEXT(C8)),1," ") | N8: 전 | O8: =COUNTIF(C8:C27,"전") -> 0 | P8: / | Q8: =SUMIF(C8:C27,"전",E8:E27) -> 0 | R8: =COUNTIF(X8:X27,"전국") -> 0 | S8: / | T8: =SUMIF(X8:X27,"전국",E8:E27) -> 0 | U8: =O8-R8 -> 0 | V8: / | W8: =Q8-T8 -> 0 | X8: =CONCATENATE(C8,H8)
A9: =IF(OR(ISNUMBER(E9),ISTEXT(C9)),A8+1," ") | N9: 답 | O9: =COUNTIF(C8:C27,"답") -> 0 | P9: / | Q9: =SUMIF(C8:C27,"답",E8:E27) -> 0 | R9: =COUNTIF(X8:X27,"답국") -> 0 | S9: / | T9: =SUMIF(X8:X27,"답국",E8:E27) -> 0 | U9: =O9-R9 -> 0 | V9: / | W9: =Q9-T9 -> 0 | X9: =CONCATENATE(C9,H9)
A10: =IF(OR(ISNUMBER(E10),ISTEXT(C10)),A9+1," ") | N10: 임야 | O10: =COUNTIF(C8:C27,"임") -> 0 | P10: / | Q10: =SUMIF(C8:C27,"임",E8:E27) -> 0 | R10: =COUNTIF(X8:X27,"임국") -> 0 | S10: / | T10: =SUMIF(X8:X27,"임국",E8:E27) -> 0 | U10: =O10-R10 -> 0 | V10: / | W10: =Q10-T10 -> 0 | X10: =CONCATENATE(C10,H10)
A11: =IF(OR(ISNUMBER(E11),ISTEXT(C11)),A10+1," ") | N11: 대지 | O11: =COUNTIF(C8:C27,"대") -> 0 | P11: / | Q11: =SUMIF(C8:C27,"대",E8:E27) -> 0 | R11: =COUNTIF(X8:X27,"대국") -> 0 | S11: / | T11: =SUMIF(X8:X27,"대국",E8:E27) -> 0 | U11: =O11-R11 -> 0 | V11: / | W11: =Q11-T11 -> 0 | X11: =CONCATENATE(C11,H11)
A12: =IF(OR(ISNUMBER(E12),ISTEXT(C12)),A11+1," ") | N12: 도로 | O12: =COUNTIF(C8:C27,"도") -> 0 | P12: / | Q12: =SUMIF(C8:C27,"도",E8:E27) -> 0 | R12: =COUNTIF(X8:X27,"도국") -> 0 | S12: / | T12: =SUMIF(X8:X27,"도국",E8:E27) -> 0 | U12: =O12-R12 -> 0 | V12: / | W12: =Q12-T12 -> 0 | X12: =CONCATENATE(C12,H12)
A13: =IF(OR(ISNUMBER(E13),ISTEXT(C13)),A12+1," ") | N13: 하천 | O13: =COUNTIF(C8:C27,"천") -> 0 | P13: / | Q13: =SUMIF(C8:C27,"천",E8:E27) -> 0 | R13: =COUNTIF(X8:X27,"천국") -> 0 | S13: / | T13: =SUMIF(X8:X27,"천국",E8:E27) -> 0 | U13: =O13-R13 -> 0 | V13: / | W13: =Q13-T13 -> 0 | X13: =CONCATENATE(C13,H13)
A14: =IF(OR(ISNUMBER(E14),ISTEXT(C14)),A13+1," ") | N14: 구거 | O14: =COUNTIF(C8:C27,"구") -> 0 | P14: / | Q14: =SUMIF(C8:C27,"구",E8:E27) -> 0 | R14: =COUNTIF(X8:X27,"구국") -> 0 | S14: / | T14: =SUMIF(X8:X27,"구국",E8:E27) -> 0 | U14: =O14-R14 -> 0 | V14: / | W14: =Q14-T14 -> 0 | X14: =CONCATENATE(C14,H14)
A15: =IF(OR(ISNUMBER(E15),ISTEXT(C15)),A14+1," ") | N15: 제방 | O15: =COUNTIF(C8:C27,"제") -> 0 | P15: / | Q15: =SUMIF(C8:C27,"제",E8:E27) -> 0 | R15: =COUNTIF(X8:X27,"제국") -> 0 | S15: / | T15: =SUMIF(X8:X27,"제국",E8:E27) -> 0 | U15: =O15-R15 -> 0 | V15: / | W15: =Q15-T15 -> 0 | X15: =CONCATENATE(C15,H15)
A16: =IF(OR(ISNUMBER(E16),ISTEXT(C16)),A15+1," ") | N16: 유지 | O16: =COUNTIF(C8:C27,"유") -> 0 | P16: / | Q16: =SUMIF(C8:C27,"유",E8:E27) -> 0 | R16: =COUNTIF(X8:X27,"유국") -> 0 | S16: / | T16: =SUMIF(X8:X27,"유국",E8:E27) -> 0 | U16: =O16-R16 -> 0 | V16: / | W16: =Q16-T16 -> 0 | X16: =CONCATENATE(C16,H16)
A17: =IF(OR(ISNUMBER(E17),ISTEXT(C17)),A16+1," ") | N17: 과수원 | O17: =COUNTIF(C8:C27,"과") -> 0 | P17: / | Q17: =SUMIF(C8:C27,"과",E8:E27) -> 0 | R17: =COUNTIF(X8:X27,"과국") -> 0 | S17: / | T17: =SUMIF(X8:X27,"과국",E8:E27) -> 0 | U17: =O17-R17 -> 0 | V17: / | W17: =Q17-T17 -> 0 | X17: =CONCATENATE(C17,H17)
A18: =IF(OR(ISNUMBER(E18),ISTEXT(C18)),A17+1," ") | N18: 묘지 | O18: =COUNTIF(C8:C27,"묘") -> 0 | P18: / | Q18: =SUMIF(C8:C27,"묘",E8:E27) -> 0 | R18: =COUNTIF(X8:X27,"묘국") -> 0 | S18: / | T18: =SUMIF(X8:X27,"묘국",E8:E27) -> 0 | U18: =O18-R18 -> 0 | V18: / | W18: =Q18-T18 -> 0 | X18: =CONCATENATE(C18,H18)
A19: =IF(OR(ISNUMBER(E19),ISTEXT(C19)),A18+1," ") | N19: 목장 | O19: =COUNTIF(C8:C27,"목") -> 0 | P19: / | Q19: =SUMIF(C8:C27,"목",E8:E27) -> 0 | R19: =COUNTIF(X8:X27,"목국") -> 0 | S19: / | T19: =SUMIF(X8:X27,"목국",E8:E27) -> 0 | U19: =O19-R19 -> 0 | V19: / | W19: =Q19-T19 -> 0 | X19: =CONCATENATE(C19,H19)
A20: =IF(OR(ISNUMBER(E20),ISTEXT(C20)),A19+1," ") | N20: 잡종지 | O20: =COUNTIF(C8:C27,"잡") -> 0 | P20: / | Q20: =SUMIF(C8:C27,"잡",E8:E27) -> 0 | R20: =COUNTIF(X8:X27,"잡국") -> 0 | S20: / | T20: =SUMIF(X8:X27,"잡국",E8:E27) -> 0 | U20: =O20-R20 -> 0 | V20: / | W20: =Q20-T20 -> 0 | X20: =CONCATENATE(C20,H20)
A21: =IF(OR(ISNUMBER(E21),ISTEXT(C21)),A20+1," ") | N21: 학교용지 | O21: =COUNTIF(C8:C27,"학") -> 0 | P21: / | Q21: =SUMIF(C8:C27,"학",E8:E27) -> 0 | R21: =COUNTIF(X8:X27,"학국") -> 0 | S21: / | T21: =SUMIF(X8:X27,"학국",E8:E27) -> 0 | U21: =O21-R21 -> 0 | V21: / | W21: =Q21-T21 -> 0 | X21: =CONCATENATE(C21,H21)
A22: =IF(OR(ISNUMBER(E22),ISTEXT(C22)),A21+1," ") | N22: 수도 | O22: =COUNTIF(C8:C27,"수") -> 0 | P22: / | Q22: =SUMIF(C8:C27,"수",E8:E27) -> 0 | R22: =COUNTIF(X8:X27,"수국") -> 0 | S22: / | T22: =SUMIF(X8:X27,"수국",E8:E27) -> 0 | U22: =O22-R22 -> 0 | V22: / | W22: =Q22-T22 -> 0 | X22: =CONCATENATE(C22,H22)
A23: =IF(OR(ISNUMBER(E23),ISTEXT(C23)),A22+1," ") | N23: 공장 | O23: =COUNTIF(C8:C27,"장") -> 0 | P23: / | Q23: =SUMIF(C8:C27,"장",E8:E27) -> 0 | R23: =COUNTIF(X8:X27,"장국") -> 0 | S23: / | T23: =SUMIF(X8:X27,"장국",E8:E27) -> 0 | U23: =O23-R23 -> 0 | V23: / | W23: =Q23-T23 -> 0 | X23: =CONCATENATE(C23,H23)
A24: =IF(OR(ISNUMBER(E24),ISTEXT(C24)),A23+1," ") | X24: =CONCATENATE(C24,H24)
A25: =IF(OR(ISNUMBER(E25),ISTEXT(C25)),A24+1," ") | X25: =CONCATENATE(C25,H25)
A26: =IF(OR(ISNUMBER(E26),ISTEXT(C26)),A25+1," ") | X26: =CONCATENATE(C26,H26)
A27: =IF(OR(ISNUMBER(E27),ISTEXT(C27)),A26+1," ") | N27: 기타 | O27: =COUNTIF(C8:C27," ") -> 0 | P27: / | Q27: =SUMIF(C8:C27," ",E8:E27) -> 0 | S27: / | U27: =O27 -> 0 | V27: / | W27: =Q27 -> 0 | X27: =CONCATENATE(C27,H27)
A28: 소 계 | E28: =SUM(E8:E27) -> 0 | N28: 계 | O28: =SUM(O8:O27) -> 0 | P28: / | Q28: =SUM(Q8:Q27) -> 0 | R28: =SUM(R8:R27) -> 0 | S28: / | T28: =SUM(T8:T27) -> 0 | U28: =SUM(U8:U27) -> 0 | V28: / | W28: =SUM(W8:W27) -> 0 | X28: =CONCATENATE(C28,H28)
A29: =IF(OR(ISNUMBER(E29),ISTEXT(C29)),A27+1," ") | N29: 전 | O29: =COUNTIF(C29:C48,"전") -> 0 | P29: / | Q29: =SUMIF(C29:C48,"전",E29:E48) -> 0 | R29: =COUNTIF(X29:X48,"전국") -> 0 | S29: / | T29: =SUMIF(X29:X48,"전국",E29:E48) -> 0 | U29: =O29-R29 -> 0 | V29: / | W29: =Q29-T29 -> 0 | X29: =CONCATENATE(C29,H29)
A30: =IF(OR(ISNUMBER(E30),ISTEXT(C30)),A29+1," ") | N30: 답 | O30: =COUNTIF(C29:C48,"답") -> 0 | P30: / | Q30: =SUMIF(C29:C48,"답",E29:E48) -> 0 | R30: =COUNTIF(X29:X48,"답국") -> 0 | S30: / | T30: =SUMIF(X29:X48,"답국",E29:E48) -> 0 | U30: =O30-R30 -> 0 | V30: / | W30: =Q30-T30 -> 0 | X30: =CONCATENATE(C30,H30)
