Workbook

Sheet 무의동
A1: 용 지 조 서
G2: 인천시 중구 무의동
A4: 일련 | B4: 지 번 | C4: 지목 | D4: 지 적 | E4: 편입면적 | F4: 소 유 자 | H4: 관 계 인 | K4: 비고
A5: 번호 | D5: ( ㎡ ) | E5: ( ㎡ ) | F5: 성 명 | G5: 주 소 | H5: 성 명 | I5: 주 소 | J5: 권리관계
A7: 1 | B7: 297-19 | C7: 유 | D7: 458 | E7: 46 | F7: 공 | G7: 인천광역시
A8: 2 | B8: 297-20 | C8: 유 | D8: 1118 | E8: 18 | F8: 공 | G8: 인천광역시
A9: 3 | B9: 297-22 | C9: 구 | D9: 127 | E9: 7 | F9: 국 | G9: 농림축산식품부
A10: 4 | B10: 297-21 | C10: 구 | D10: 38 | E10: 24 | F10: 국 | G10: 농림축산식품부
A11: 5 | B11: 297-11 | C11: 유 | D11: 23 | E11: 9 | F11: 박*애 | G11: 인천시 중구 무의동 ***-*
F12: 신*철 | G12: 서울 성북구 종암동 **-**
F13: 신*석 | G13: 서울 송파구 잠실동 ***-* *층 ***호
F14: 신***라 | G14: 서울 성북구 하월곡동 **-***
A15: 6 | B15: 297-2 | C15: 도 | D15: 228 | E15: 20 | F15: 국 | G15: 국토교통부
A16: 7 | B16: 297-7 | C16: 잡 | D16: 383 | E16: 110 | F16: 박*애 | G16: 인천시 중구 대무의로 **-*(무의동)
F17: 농협협동 조합중앙회 | G17: 서울 중구 충정로*가 ** | K17: 근저당권 지상권
A18: 8 | B18: 297-14 | C18: 구 | D18: 172 | E18: 135 | F18: 국 | G18: 농림축산식품부
A19: 11 | B19: 837 | C19: 구 | D19: 2896 | E19: 1163 | F19: 국 | G19: 농림축산식품부
A20: 12 | B20: 571 | C20: 전 | D20: 1792 | E20: 862 | F20: 차*교 | G20: 인천시 중구 큰무리로 *-* (무의동)
F21: 오정농업 협동조합 | G21: 경기도 부천시 소사로 ***(원종동) (삼정지점) | K21: 근저당권
A22: 13 | B22: 570 | C22: 대 | D22: 650 | E22: 9 | F22: 이*국 | G22: 인천시 중구 대무의로 **-* (무의동)
A23: 14 | B23: 573-1 | C23: 전 | D23: 714 | E23: 11 | F23: 차*교 | G23: 인천시 중구 큰무리로 *-* (무의동)
F24: 오정농업 협동조합 | G24: 경기도 부천시 소사로 ***(원종동) (삼정지점) | K24: 근저당권
A25: 15 | B25: 554 | C25: 전 | D25: 496 | E25: 8 | F25: 차*훈 | G25: 인천광역시 연수구 아트센터대로**번길 **,****동****호(송도동,송도더샵하버뷰* **단지)
A26: 16 | B26: 574 | C26: 답 | D26: 278 | E26: 207 | F26: 차*일 | G26: 인천시 중구 큰무리로 ***-** (무의동)
A27: 17 | B27: 575 | C27: 답 | D27: 357 | E27: 173 | F27: 김*숙 | G27: 인천시 중구 큰무리로 ** (무의동)
F28: 중구농업 협동조합 | G28: 인천시 중구 운남로 *** (운남동) (용유지점) | K28: 근저당권
A29: 18 | B29: 576 | C29: 전 | D29: 932 | E29: 141 | F29: 차*일 | G29: 인천시 중구 큰무리로 ***-** (무의동)
A30: 19 | B30: 577 | C30: 전 | D30: 215 | E30: 78 | F30: 차*일 | G30: 인천시 중구 큰무리로 ***-** (무의동)
A31: 20 | B31: 580 | C31: 전 | D31: 268 | E31: 201 | F31: 이*영 | G31: 인천시 중구 큰무리로*번길 **
A32: 21 | B32: 550 | C32: 답 | D32: 235 | E32: 62 | F32: 김*철 | G32: 인천광역시 중구 큰무리로**번길 **(무의동)
A33: 22 | B33: 581 | C33: 전 | D33: 102 | E33: 73 | F33: 이*국 | G33: 인천시 중구 무의동 ***
A34: 23 | B34: 549 | C34: 전 | D34: 618 | E34: 23 | F34: 김*숙 | G34: 인천광역시 중구 큰무리로 **(무의동)
F35: 중구농업 협동조합 | G35: 인천 중구 운남로 *** (운남동) (용유지점) | K35: 근저당권
A36: 24 | B36: 582 | C36: 전 | D36: 106 | E36: 102 | F36: 차*교 | G36: 인천시 중구 무의동 ***
A37: 25 | B37: 587 | C37: 전 | D37: 66 | E37: 1 | K37: 미등기
A38: 26 | B38: 586 | C38: 전 | D38: 440 | E38: 11 | F38: 이*분 | G38: 인천광역시 중구 대무의로 *** (무의동)
F39: 중구농업 협동조합 | G39: 인천 중구 운남동 ****-* (용유지점) | K39: 근저당권 지상권
A40: 27 | B40: 836 | C40: 도 | D40: 66 | E40: 11 | F40: 국 | G40: 농립축산식품부
A41: 28 | B41: 585 | C41: 전 | D41: 1332 | E41: 99 | F41: 박*경 | G41: 서울 서초구 반포동 **-* 한양아파트*동***호 | K41: 근저당권
F42: 박*희 | G42: 서울 송파구 가락동 ***-* | K42: 근저당권
A43: 29 | B43: 583 | C43: 전 | D43: 129 | E43: 129 | F43: 장*섭 | G43: 인천시 중구 무의동 ***
A44: 30 | B44: 517 | C44: 전 | D44: 416 | E44: 156 | F44: 장*섭 | G44: 인천시 중구 무의동 ***
A45: 31 | B45: 516 | C45: 전 | D45: 20 | E45: 20 | F45: 윤*석 | G45: 서울시 서대문구 수색로 ***, ***동 ****호(북가좌동, 디엠씨래미안이편한세상아파트)
A46: 32 | B46: 625 | C46: 전 | D46: 36 | E46: 5 | F46: 김*원 | G46: 인천광역시 중구 대무의로 **-**(무의동)
A47: 33 | B47: 624 | C47: 전 | D47: 691 | E47: 27 | F47: 김*숙 | G47: 인천광역시 중구 큰무리로 **(무의동)
F48: 중구농업 협동조합 | G48: 인천 중구 운남로 *** (운남동) (용유지점) | K48: 근저당권
A49: 34 | B49: 623 | C49: 전 | D49: 96 | E49: 20 | F49: 차*섭 | G49: 인천시 중구 무의동 ***
A50: 35 | B50: 654-2 | C50: 전 | D50: 42 | E50: 42 | F50: 박*옥 | G50: 인천시 서구 당하동 원당지구 ***블럭 *롯트 금호어울림*차아파트 ***-***
A51: 36 | B51: 654 | C51: 전 | D51: 713 | E51: 310 | F51: 박*옥 | G51: 인천시 서구 당하동 원당지구 ***블럭 *롯트 금호어울림*차아파트 ***-***
A52: 37 | B52: 654-1 | C52: 전 | D52: 52 | E52: 52 | F52: 박*옥 | G52: 인천시 서구 당하동 원당지구 ***블럭 *롯트 금호어울림*차아파트 ***-***
A53: 38 | B53: 652 | C53: 전 | D53: 218 | E53: 218 | F53: 김*원 | G53: 인천시 중구 무의동 ***
A54: 39 | B54: 653 | C54: 답 | D54: 456 | E54: 43 | F54: 차*교 | G54: 인천시 중구 무의동 산***-**
A55: 40 | B55: 658 | C55: 과 | D55: 635 | E55: 122 | F55: 신*남 | G55: 인천시 중구 무의동 ***-*
A56: 41 | B56: 661 | C56: 과 | D56: 891 | E56: 611 | F56: 신*남 | G56: 인천시 중구 무의동 ***-*
A57: 42 | B57: 648-2 | C57: 도 | D57: 63 | E57: 11 | F57: 유*영 | G57: 인천시 중구 무의동 ***
A58: 43 | B58: 648 | C58: 대 | D58: 629 | E58: 44 | F58: 윤*구 | G58: 인천시 중구 큰무리로 *** (무의동)
A59: 44 | B59: 661-2 | C59: 전 | D59: 143 | E59: 143 | F59: 신*남 | G59: 인천시 중구 무의동 ***-*
A60: 45 | B60: 648-5 | C60: 전 | D60: 719 | E60: 178 | F60: 유*영 | G60: 인천시 중구 무의동 ***
A61: 46 | B61: 648-1 | C61: 도 | D61: 77 | E61: 77 | F61: 윤*구 | G61: 인천시 중구 큰무리로 *** (무의동)
A62: 47 | B62: 648-6 | C62: 도 | D62: 104 | E62: 24 | F62: 유*영 | G62: 인천시 중구 무의동 ***
A63: 48 | B63: 651 | C63: 답 | D63: 426 | E63: 97 | F63: 차*교 | G63: 인천시 중구 무의동 산***-**
A64: 49 | B64: 637 | C64: 전 | D64: 83 | E64: 30 | F64: 차*교 | G64: 인천시 중구 무의동 산***-**
A65: 50 | B65: 661-1 | C65: 전 | D65: 113 | E65: 113 | F65: 신*남 | G65: 인천시 중구 무의동 ***-*
A66: 51 | B66: 835 | C66: 도 | D66: 3690 | E66: 950 | F66: 국 | G66: 농림축산식품부
A67: 52 | B67: 635-4 | C67: 전 | D67: 621 | E67: 93 | F67: 노*선 | G67: 인천시 중구 큰무리로*번길 **-**(무의동)
A68: 53 | B68: 635-1 | C68: 전 | D68: 16 | E68: 16 | F68: 김*윤 | G68: 인천시 중구 큰무리로 ***(무의동)
F69: 성곡새마을금고 | G69: 경기도 부천시 오정구 소사로 ***(원종동) | K69: 근저당권
A70: 54 | B70: 635-2 | C70: 전 | D70: 331 | E70: 83 | F70: 김*윤 | G70: 인천시 중구 큰무리로 ***(무의동)
F71: 성곡새마을금고 | G71: 경기도 부천시 오정구 소사로 ***(원종동) | K71: 근저당권
A72: 55 | B72: 634 | C72: 전 | D72: 461 | E72: 82 | F72: 한*득 | G72: 인천 남구 관교동 **-* 삼환아파트 ***-****
A73: 56 | B73: 634-1 | C73: 전 | D73: 38 | E73: 38 | F73: 한*득 | G73: 인천 남구 관교동 **-* 삼환아파트 ***-****
A74: 57 | B74: 632-1 | C74: 전 | D74: 23 | E74: 23 | F74: 한*득 | G74: 인천 남구 관교동 **-* 삼환아파트 ***-****
A75: 58 | B75: 631-1 | C75: 전 | D75: 5 | E75: 5 | F75: 한*득 | G75: 인천 남구 관교동 **-* 삼환아파트 ***-****
A76: 59 | B76: 631-6 | C76: 도 | D76: 7 | E76: 7 | F76: 한*득 | G76: 인천 남구 관교동 **-* 삼환아파트 ***-****
A77: 60 | B77: 631 | C77: 대 | D77: 582 | E77: 194 | F77: 공 | G77: 인천시 중구
A78: 61 | B78: 631-2 | C78: 전 | D78: 22 | E78: 22 | F78: 한*득 | G78: 인천 남구 관교동 **-* 삼환아파트 ***-****
A79: 62 | B79: 631-5 | C79: 도 | D79: 5 | E79: 5 | F79: 한*득 | G79: 인천 남구 관교동 **-* 삼환아파트 ***-****
A80: 63 | B80: 631-4 | C80: 전 | D80: 206 | E80: 73 | F80: 한*득 | G80: 인천 남구 관교동 **-* 삼환아파트 ***-****
A81: 64 | B81: 631-3 | C81: 전 | D81: 7 | E81: 7 | F81: 한*득 | G81: 인천 남구 관교동 **-* 삼환아파트 ***-****
A82: 65 | B82: 627-1 | C82: 전 | D82: 38 | E82: 38 | F82: 나*현 | G82: 인천광역시 미추홀구 독정이로**번길 **-**(숭의동)
A83: 66 | B83: 627 | C83: 전 | D83: 25 | E83: 25 | F83: 오*근 | G83: 인천광역시 중구 큰무리로 ***(무의동)
A84: 67 | B84: 626-1 | C84: 전 | D84: 7 | E84: 7 | F84: 차*섭 | G84: 서울시 영등포구 대림동 ***-**
A85: 68 | B85: 626 | C85: 전 | D85: 6 | E85: 6 | F85: 차*섭 | G85: 서울시 영등포구 대림동 ***-**
A86: 69 | B86: 628 | C86: 전 | D86: 254 | E86: 76 | F86: 차*덕 | G86: 인천시 중구 무의동 ***
F87: 중구농업 협동조합 | G87: 인천 중구 운남동 ***-* (용유지점) | K87: 근저당권 지상권
A88: 70 | B88: 514 | C88: 전 | D88: 190 | E88: 47 | F88: 이*문 | G88: 인천시 부평구 갈산동 ***-*
A89: 71 | B89: 514-1 | C89: 전 | D89: 51 | E89: 51 | F89: 이*문 | G89: 인천시 부평구 갈산동 ***-*
A90: 72 | B90: 515-1 | C90: 전 | D90: 88 | E90: 41 | F90: 이*문 | G90: 인천시 부평구 갈산동 ***-*
A91: 73 | B91: 515 | C91: 전 | D91: 54 | E91: 4 | F91: 이*문 | G91: 인천시 부평구 갈산동 ***-*
A92: 74 | B92: 520 | C92: 전 | D92: 526 | E92: 112 | F92: 이*경 | G92: 서울시 은평구 연서로**길 **, ***동 ***호(진관동, 은평뉴타운 제각말)
A93: 75 | B93: 519-2 | C93: 도 | D93: 43 | E93: 39 | F93: 홍*향 | G93: 인천시 중구 운서동 ****-* 영종주공스카이빌아파트 ****-***
A94: 76 | B94: 519 | C94: 대 | D94: 959 | E94: 73 | F94: 홍*향 | G94: 인천광역시 중구 무의동 ***-*
A95: 77 | B95: 537 | C95: 답 | D95: 241 | E95: 38 | F95: 이*복 | G95: 인천시 중구 무의동 ***
A96: 78 | B96: 547-1 | C96: 전 | D96: 592 | E96: 13 | F96: 차*교 | G96: 인천시 중구 큰무리로 ***(무의동)
A97: 79 | B97: 547 | C97: 전 | D97: 1014 | E97: 6 | F97: 차*희 | G97: 인천시 연수구 한나루로***번길 **,***동****호(옥련동,현대아파트)
F98: 중구농업 협동조합 | G98: 인천시 중구 운남로 *** (운남동) (신흥지점) | K98: 근저당권
A99: 80 | B99: 537-3 | C99: 도 | D99: 5 | E99: 5 | F99: 이*례 | G99: 인천시 중구 무의동 *** ***호
F100: 이*호 | G100: 인천시 중구 무의동 *** ***호
F101: 김*복 | G101: 인천시 중구 무의동 *** ***호
F102: 김*서 | G102: 인천시 중구 무의동 *** ***호
...

Sheet 마전리
A1: 용 지 조 서
H2: 충청남도 예산군 대술면 마전리
A4: 일련 | B4: 지 번 | C4: 지목 | D4: 지 적 | E4: 편입면적 | F4: 소 유 자 | H4: 관 계 인 | K4: 비고
A5: 번호 | D5: ( ㎡ ) | E5: ( ㎡ ) | F5: 성 명 | G5: 주 소 | H5: 성 명 | I5: 주 소 | J5: 권리관계 | N5: 면적확인 | O5: 국계법 | P5: 용도지역 | Q5: 공시지가
A6: 1 | M6: =CONCATENATE(C6,F6) | N6: =D6-E6 -> 0
A7: 2 | M7: =CONCATENATE(C7,F7) | N7: =D7-E7 -> 0 | S7: 보전관리지역 | T7: 계획관리지역 | U7: 농림지역 | V7: 자연녹지지역 | W7: 생산관리지역 | Y7: 합계
A8: 3 | M8: =CONCATENATE(C8,F8) | N8: =D8-E8 -> 0 | S8: =COUNTIF($O$6:$O$246,"보전관리지역") -> 0 | T8: =COUNTIF($O$6:$O$246,"계획관리지역") -> 0 | U8: =COUNTIF($O$6:$O$246,"농림지역") -> 0 | V8: =COUNTIF($O$6:$O$246,"자연녹지지역") -> 0 | W8: =COUNTIF($O$6:$O$246,"생산관리지역") -> 0 | X8: 필지 | Y8: =SUM(S8:W8) -> 0
A9: 4 | M9: =CONCATENATE(C9,F9) | N9: =D9-E9 -> 0 | S9: =SUMIF($O$6:$O$247,"보전관리지역",$E$6:$E$405) -> 0 | T9: =SUMIF($O$6:$O$247,"계획관리지역",$E$6:$E$405) -> 0 | U9: =SUMIF($O$6:$O$247,"농림지역",$E$6:$E$405) -> 0 | V9: =SUMIF($O$6:$O$247,"자연녹지지역",$E$6:$E$405) -> 0 | W9: =SUMIF($O$6:$O$247,"생산관리지역",$E$6:$E$405) -> 0 | X9: 면적 | Y9: =SUM(S9:W9) -> 0
A10: 5 | M10: =CONCATENATE(C10,F10) | N10: =D10-E10 -> 0
A11: 6 | M11: =CONCATENATE(C11,F11) | N11: =D11-E11 -> 0
A12: 7 | M12: =CONCATENATE(C12,F12) | N12: =D12-E12 -> 0
A13: 8 | M13: =CONCATENATE(C13,F13) | N13: =D13-E13 -> 0
A14: 9 | M14: =CONCATENATE(C14,F14) | N14: =D14-E14 -> 0
A15: 10 | M15: =CONCATENATE(C15,F15) | N15: =D15-E15 -> 0
A16: 11 | M16: =CONCATENATE(C16,F16) | N16: =D16-E16 -> 0
A17: 12 | M17: =CONCATENATE(C17,F17) | N17: =D17-E17 -> 0
A18: 13 | M18: =CONCATENATE(C18,F18) | N18: =D18-E18 -> 0
A19: 14 | M19: =CONCATENATE(C19,F19) | N19: =D19-E19 -> 0
A20: 15 | M20: =CONCATENATE(C20,F20) | N20: =D20-E20 -> 0
A21: 16 | M21: =CONCATENATE(C21,F21) | N21: =D21-E21 -> 0
... A25: 20 | M25: =CONCATENATE(C25,F25) | N25: =D25-E25 -> 0
B26: 소 계 | D26: =SUM(D6:D25) -> 0 | E26: =SUM(E6:E25) -> 0 | M26: =CONCATENATE(C26,F26) | N26: =D26-E26 -> 0
A27: 21 | M27: =CONCATENATE(C27,F27) | N27: =D27-E27 -> 0
A28: 22 | M28: =CONCATENATE(C28,F28) | N28: =D28-E28 -> 0
A29: 23 | M29: =CONCATENATE(C29,F29) | N29: =D29-E29 -> 0
A30: 24 | M30: =CONCATENATE(C30,F30) | N30: =D30-E30 -> 0
A31: 25 | M31: =CONCATENATE(C31,F31) | N31: =D31-E31 -> 0
A32: 26 | M32: =CONCATENATE(C32,F32) | N32: =D32-E32 -> 0
A33: 27 | M33: =CONCATENATE(C33,F33) | N33: =D33-E33 -> 0
A34: 28 | M34: =CONCATENATE(C34,F34) | N34: =D34-E34 -> 0
A35: 29 | M35: =CONCATENATE(C35,F35) | N35: =D35-E35 -> 0
A36: 30 | M36: =CONCATENATE(C36,F36) | N36: =D36-E36 -> 0
A37: 31 | M37: =CONCATENATE(C37,F37) | N37: =D37-E37 -> 0
A38: 32 | M38: =CONCATENATE(C38,F38) | N38: =D38-E38 -> 0
... A46: 40 | M46: =CONCATENATE(C46,F46) | N46: =D46-E46 -> 0
B47: 소 계 | D47: =SUM(D27:D46) -> 0 | E47: =SUM(E27:E46) -> 0 | M47: =CONCATENATE(C47,F47) | N47: =D47-E47 -> 0
A48: 41 | M48: =CONCATENATE(C48,F48) | N48: =D48-E48 -> 0
A49: 42 | M49: =CONCATENATE(C49,F49) | N49: =D49-E49 -> 0
A50: 43 | M50: =CONCATENATE(C50,F50) | N50: =D50-E50 -> 0
A51: 44 | M51: =CONCATENATE(C51,F51) | N51: =D51-E51 -> 0
A52: 45 | M52: =CONCATENATE(C52,F52) | N52: =D52-E52 -> 0
A53: 46 | M53: =CONCATENATE(C53,F53) | N53: =D53-E53 -> 0
A54: 47 | M54: =CONCATENATE(C54,F54) | N54: =D54-E54 -> 0
A55: 48 | M55: =CONCATENATE(C55,F55) | N55: =D55-E55 -> 0
A56: 49 | M56: =CONCATENATE(C56,F56) | N56: =D56-E56 -> 0
A57: 50 | M57: =CONCATENATE(C57,F57) | N57: =D57-E57 -> 0
A58: 51 | M58: =CONCATENATE(C58,F58) | N58: =D58-E58 -> 0
A59: 52 | M59: =CONCATENATE(C59,F59) | N59: =D59-E59 -> 0
... A67: 60 | M67: =CONCATENATE(C67,F67) | N67: =D67-E67 -> 0
B68: 소 계 | D68: =SUM(D48:D67) -> 0 | E68: =SUM(E48:E67) -> 0 | M68: =CONCATENATE(C68,F68) | N68: =D68-E68 -> 0
A69: 61 | M69: =CONCATENATE(C69,F69) | N69: =D69-E69 -> 0
A70: 62 | M70: =CONCATENATE(C70,F70) | N70: =D70-E70 -> 0
A71: 63 | M71: =CONCATENATE(C71,F71) | N71: =D71-E71 -> 0
A72: 64 | M72: =CONCATENATE(C72,F72) | N72: =D72-E72 -> 0
A73: 65 | M73: =CONCATENATE(C73,F73) | N73: =D73-E73 -> 0
A74: 66 | M74: =CONCATENATE(C74,F74) | N74: =D74-E74 -> 0
A75: 67 | M75: =CONCATENATE(C75,F75) | N75: =D75-E75 -> 0
M76: =CONCATENATE(C76,F76) | N76: =D76-E76 -> 0
M77: =CONCATENATE(C77,F77) | N77: =D77-E77 -> 0
M78: =CONCATENATE(C78,F78) | N78: =D78-E78 -> 0
M79: =CONCATENATE(C79,F79) | N79: =D79-E79 -> 0
M80: =CONCATENATE(C80,F80) | N80: =D80-E80 -> 0
M81: =CONCATENATE(C81,F81) | N81: =D81-E81 -> 0
M82: =CONCATENATE(C82,F82) | N82: =D82-E82 -> 0
M83: =CONCATENATE(C83,F83) | N83: =D83-E83 -> 0
M84: =CONCATENATE(C84,F84) | N84: =D84-E84 -> 0
M85: =CONCATENATE(C85,F85) | N85: =D85-E85 -> 0
M87: =CONCATENATE(C87,F87) | N87: =D87-E87 -> 0
M88: =CONCATENATE(C88,F88) | N88: =D88-E88 -> 0
B89: 소 계 | D89: =SUM(D69:D88) -> 0 | E89: =SUM(E69:E88) -> 0 | M89: =CONCATENATE(C89,F89) | N89: =D89-E89 -> 0
B90: 합 계 | D90: =SUM(D89,D69,D48,D27) -> 0 | E90: =SUM(E89,E68,E47,E26) -> 0 | M90: =CONCATENATE(C90,F90) | N90: =D90-E90 -> 0
N91: =D91-E91 -> 0
N92: =D92-E92 -> 0
N93: =D93-E93 -> 0
N94: =D94-E94 -> 0
N95: =D95-E95 -> 0
N96: =D96-E96 -> 0
N97: =D97-E97 -> 0
N98: =D98-E98 -> 0
N99: =D99-E99 -> 0
N100: =D100-E100 -> 0
N101: =D101-E101 -> 0
N102: =D102-E102 -> 0
... N130: =D130-E130 -> 0

Sheet 이티리
A1: 용 지 조 서
H2: 충청남도 예산군 대술면 이티리
A4: 일련 | B4: 지 번 | C4: 지목 | D4: 지 적 | E4: 편입면적 | F4: 소 유 자 | H4: 관 계 인 | K4: 비고
A5: 번호 | D5: ( ㎡ ) | E5: ( ㎡ ) | F5: 성 명 | G5: 주소 | H5: 성 명 | I5: 주 소 | J5: 권리관계 | N5: 면적확인 | O5: 국계법 | P5: 용도지역 | Q5: 공시지가
A6: 1 | M6: =CONCATENATE(C6,F6) | N6: =D6-E6 -> 0
A7: 2 | M7: =CONCATENATE(C7,F7) | N7: =D7-E7 -> 0 | S7: 보전관리지역 | T7: 계획관리지역 | U7: 농림지역 | V7: 자연녹지지역 | W7: 생산관리지역 | Y7: 합계
A8: 3 | M8: =CONCATENATE(C8,F8) | N8: =D8-E8 -> 0 | S8: =COUNTIF($O$6:$O$307,"보전관리지역") -> 0 | T8: =COUNTIF($O$6:$O$307,"계획관리지역") -> 0 | U8: =COUNTIF($O$6:$O$307,"농림지역") -> 0 | V8: =COUNTIF($O$6:$O$307,"자연녹지지역") -> 0 | W8: =COUNTIF($O$6:$O$307,"생산관리지역") -> 0 | X8: 필지 | Y8: =SUM(S8:W8) -> 0
A9: 4 | M9: =CONCATENATE(C9,F9) | N9: =D9-E9 -> 0 | S9: =SUMIF($O$6:$O$308,"보전관리지역",$E$6:$E$466) -> 0 | T9: =SUMIF($O$6:$O$308,"계획관리지역",$E$6:$E$466) -> 0 | U9: =SUMIF($O$6:$O$308,"농림지역",$E$6:$E$466) -> 0 | V9: =SUMIF($O$6:$O$308,"자연녹지지역",$E$6:$E$466) -> 0 | W9: =SUMIF($O$6:$O$308,"생산관리지역",$E$6:$E$466) -> 0 | X9: 면적 | Y9: =SUM(S9:W9) -> 0
A10: 5 | M10: =CONCATENATE(C10,F10) | N10: =D10-E10 -> 0
A11: 6 | M11: =CONCATENATE(C11,F11) | N11: =D11-E11 -> 0
A12: 7 | M12: =CONCATENATE(C12,F12) | N12: =D12-E12 -> 0
A13: 8 | M13: =CONCATENATE(C13,F13) | N13: =D13-E13 -> 0
A14: 9 | M14: =CONCATENATE(C14,F14) | N14: =D14-E14 -> 0
A15: 10 | M15: =CONCATENATE(C15,F15) | N15: =D15-E15 -> 0
A16: 11 | M16: =CONCATENATE(C16,F16) | N16: =D16-E16 -> 0
A17: 12 | M17: =CONCATENATE(C17,F17) | N17: =D17-E17 -> 0
A18: 13 | M18: =CONCATENATE(C18,F18) | N18: =D18-E18 -> 0
A19: 14 | M19: =CONCATENATE(C19,F19) | N19: =D19-E19 -> 0
A20: 15 | M20: =CONCATENATE(C20,F20) | N20: =D20-E20 -> 0
A21: 16 | M21: =CONCATENATE(C21,F21) | N21: =D21-E21 -> 0
... A25: 20 | M25: =CONCATENATE(C25,F25) | N25: =D25-E25 -> 0
B26: 소 계 | D26: =SUM(D6:D25) -> 0 | E26: =SUM(E6:E25) -> 0 | M26: =CONCATENATE(C26,F26) | N26: =D26-E26 -> 0
A27: 21 | M27: =CONCATENATE(C27,F27) | N27: =D27-E27 -> 0
A28: 22 | M28: =CONCATENATE(C28,F28) | N28: =D28-E28 -> 0
A29: 23 | M29: =CONCATENATE(C29,F29) | N29: =D29-E29 -> 0
A30: 24 | M30: =CONCATENATE(C30,F30) | N30: =D30-E30 -> 0
A31: 25 | M31: =CONCATENATE(C31,F31) | N31: =D31-E31 -> 0
A32: 26 | M32: =CONCATENATE(C32,F32) | N32: =D32-E32 -> 0
A33: 27 | M33: =CONCATENATE(C33,F33) | N33: =D33-E33 -> 0
A34: 28 | M34: =CONCATENATE(C34,F34) | N34: =D34-E34 -> 0
A35: 29 | M35: =CONCATENATE(C35,F35) | N35: =D35-E35 -> 0
A36: 30 | M36: =CONCATENATE(C36,F36) | N36: =D36-E36 -> 0
A37: 31 | M37: =CONCATENATE(C37,F37) | N37: =D37-E37 -> 0
A38: 32 | M38: =CONCATENATE(C38,F38) | N38: =D38-E38 -> 0
... A46: 40 | M46: =CONCATENATE(C46,F46) | N46: =D46-E46 -> 0
B47: 소 계 | D47: =SUM(D27:D46) -> 0 | E47: =SUM(E27:E46) -> 0 | M47: =CONCATENATE(C47,F47) | N47: =D47-E47 -> 0
A48: 41 | M48: =CONCATENATE(C48,F48) | N48: =D48-E48 -> 0
A49: 42 | M49: =CONCATENATE(C49,F49) | N49: =D49-E49 -> 0
A50: 43 | M50: =CONCATENATE(C50,F50) | N50: =D50-E50 -> 0
A51: 44 | M51: =CONCATENATE(C51,F51) | N51: =D51-E51 -> 0
A52: 45 | M52: =CONCATENATE(C52,F52) | N52: =D52-E52 -> 0
A53: 46 | M53: =CONCATENATE(C53,F53) | N53: =D53-E53 -> 0
A54: 47 | M54: =CONCATENATE(C54,F54) | N54: =D54-E54 -> 0
A55: 48 | M55: =CONCATENATE(C55,F55) | N55: =D55-E55 -> 0
A56: 49 | M56: =CONCATENATE(C56,F56) | N56: =D56-E56 -> 0
A57: 50 | M57: =CONCATENATE(C57,F57) | N57: =D57-E57 -> 0
A58: 51 | M58: =CONCATENATE(C58,F58) | N58: =D58-E58 -> 0
A59: 52 | M59: =CONCATENATE(C59,F59) | N59: =D59-E59 -> 0
... A66: 59 | M66: =CONCATENATE(C66,F66) | N66: =D66-E66 -> 0
A67: 60 | M67: =CONCATENATE(C67,F67) | N67: =D67-E67 -> 0
B68: 소 계 | D68: =SUM(D48:D67) -> 0 | E68: =SUM(E48:E67) -> 0 | M68: =CONCATENATE(C68,F68) | N68: =D68-E68 -> 0
A69: 61 | M69: =CONCATENATE(C69,F69) | N69: =D69-E69 -> 0
A70: 62 | M70: =CONCATENATE(C70,F70) | N70: =D70-E70 -> 0
A71: 63 | M71: =CONCATENATE(C71,F71) | N71: =D71-E71 -> 0
A72: 64 | M72: =CONCATENATE(C72,F72) | N72: =D72-E72 -> 0
A73: 65 | M73: =CONCATENATE(C73,F73) | N73: =D73-E73 -> 0
A74: 66 | M74: =CONCATENATE(C74,F74) | N74: =D74-E74 -> 0
A75: 67 | M75: =CONCATENATE(C75,F75) | N75: =D75-E75 -> 0
A76: 68 | M76: =CONCATENATE(C76,F76) | N76: =D76-E76 -> 0
A77: 69 | M77: =CONCATENATE(C77,F77) | N77: =D77-E77 -> 0
A78: 70 | M78: =CONCATENATE(C78,F78) | N78: =D78-E78 -> 0
A79: 71 | M79: =CONCATENATE(C79,F79) | N79: =D79-E79 -> 0
A80: 72 | M80: =CONCATENATE(C80,F80) | N80: =D80-E80 -> 0
... A88: 80 | M88: =CONCATENATE(C88,F88) | N88: =D88-E88 -> 0
B89: 소 계 | D89: =SUM(D69:D88) -> 0 | E89: =SUM(E69:E88) -> 0 | M89: =CONCATENATE(C89,F89) | N89: =D89-E89 -> 0
A90: 81 | M90: =CONCATENATE(C90,F90) | N90: =D90-E90 -> 0
A91: 82 | M91: =CONCATENATE(C91,F91) | N91: =D91-E91 -> 0
A92: 83 | M92: =CONCATENATE(C92,F92) | N92: =D92-E92 -> 0 | R92: 지적면적
A93: 84 | M93: =CONCATENATE(C93,F93) | N93: =D93-E93 -> 0
A94: 85 | M94: =CONCATENATE(C94,F94) | N94: =D94-E94 -> 0
A95: 86 | M95: =CONCATENATE(C95,F95) | N95: =D95-E95 -> 0
A96: 87 | M96: =CONCATENATE(C96,F96) | N96: =D96-E96 -> 0
A97: 88 | M97: =CONCATENATE(C97,F97) | N97: =D97-E97 -> 0
A98: 89 | M98: =CONCATENATE(C98,F98) | N98: =D98-E98 -> 0
A99: 90 | M99: =CONCATENATE(C99,F99) | N99: =D99-E99 -> 0
A100: 91 | M100: =CONCATENATE(C100,F100) | N100: =D100-E100 -> 0
A101: 92 | M101: =CONCATENATE(C101,F101) | N101: =D101-E101 -> 0
A102: 93 | M102: =CONCATENATE(C102,F102) | N102: =D102-E102 -> 0
A103: 94 | M103: =CONCATENATE(C103,F103) | N103: =D103-E103 -> 0
A104: 95 | M104: =CONCATENATE(C104,F104) | N104: =D104-E104 -> 0
... A109: 100 | M109: =CONCATENATE(C109,F109) | N109: =D109-E109 -> 0
B110: 소 계 | D110: =SUM(D90:D109) -> 0 | E110: =SUM(E90:E109) -> 0 | M110: =CONCATENATE(C110,F110) | N110: =D110-E110 -> 0
A111: 101 | M111: =CONCATENATE(C111,F111) | N111: =D111-E111 -> 0
A112: 102 | M112: =CONCATENATE(C112,F112) | N112: =D112-E112 -> 0
A113: 103 | M113: =CONCATENATE(C113,F113) | N113: =D113-E113 -> 0
A114: 104 | M114: =CONCATENATE(C114,F114) | N114: =D114-E114 -> 0
A115: 105 | M115: =CONCATENATE(C115,F115) | N115: =D115-E115 -> 0
A116: 106 | M116: =CONCATENATE(C116,F116) | N116: =D116-E116 -> 0
A117: 107 | M117: =CONCATENATE(C117,F117) | N117: =D117-E117 -> 0
A118: 108 | M118: =CONCATENATE(C118,F118) | N118: =D118-E118 -> 0
A119: 109 | M119: =CONCATENATE(C119,F119) | N119: =D119-E119 -> 0
A120: 110 | M120: =CONCATENATE(C120,F120) | N120: =D120-E120 -> 0
A121: 111 | M121: =CONCATENATE(C121,F121) | N121: =D121-E121 -> 0
A122: 112 | M122: =CONCATENATE(C122,F122) | N122: =D122-E122 -> 0
... A130: 120 | M130: =CONCATENATE(C130,F130) | N130: =D130-E130 -> 0
B131: 소 계 | D131: =SUM(D111:D130) -> 0 | E131: =SUM(E111:E130) -> 0 | M131: =CONCATENATE(C131,F131) | N131: =D131-E131 -> 0
A132: 121 | M132: =CONCATENATE(C132,F132) | N132: =D132-E132 -> 0
A133: 122 | M133: =CONCATENATE(C133,F133) | N133: =D133-E133 -> 0
A134: 123 | M134: =CONCATENATE(C134,F134) | N134: =D134-E134 -> 0
A135: 124 | M135: =CONCATENATE(C135,F135) | N135: =D135-E135 -> 0
...

Sheet 용도지역현황
F9: 보전관리지역 | G9: 계획관리지역 | H9: 농림지역 | I9: 자연녹지지역 | J9: 생산관리지역
E10: 필지 | F10: =무의동!S10+마전리!S8+이티리!S8 -> 0 | G10: =무의동!T10+마전리!T8+이티리!T8 -> 0 | H10: =무의동!U10+마전리!U8+이티리!U8 -> 0 | I10: =무의동!V10+마전리!V8+이티리!V8 -> 0 | J10: =무의동!W10+마전리!W8+이티리!W8 -> 0
E11: 면적 | F11: =무의동!S11+마전리!S9+이티리!S9 -> 0 | G11: =무의동!T11+마전리!T9+이티리!T9 -> 0 | H11: =무의동!U11+마전리!U9+이티리!U9 -> 0 | I11: =무의동!V11+마전리!V9+이티리!V9 -> 0 | J11: =무의동!W11+마전리!W9+이티리!W9 -> 0

Sheet 123
A1: 용 지 조 서
K2: 대구광역시 북구 관음동
A4: 일련 | B4: 지 번 | C4: 지목 | D4: 지 적 | E4: 편입면적 | F4: 실제이용상황 | H4: 소 유 자 | J4: 관 계 인 | M4: 비고
A5: 번호 | D5: ( ㎡ ) | E5: ( ㎡ ) | F5: 지목 | G5: 면 적 | H5: 성 명 | I5: 주 소 | J5: 성 명 | K5: 주 소 | L5: 권리관계
N6: =CONCATENATE(C6,H6)
N7: =CONCATENATE(C7,H7)
N8: =CONCATENATE(C8,H8)
N9: =CONCATENATE(C9,H9)
N10: =CONCATENATE(C10,H10)
N11: =CONCATENATE(C11,H11)
N12: =CONCATENATE(C12,H12)
N13: =CONCATENATE(C13,H13)
N14: =CONCATENATE(C14,H14)
N15: =CONCATENATE(C15,H15)
N16: =CONCATENATE(C16,H16)
N17: =CONCATENATE(C17,H17)
... N172: =CONCATENATE(C172,H172)
A173: 소 계 | E173: =SUM(E153:E172) -> 0 | N173: =CONCATENATE(C173,H173)
E174: =SUM(E173,E152,E131,E110,E89,E68,E47,E26) -> 0

Sheet 태전동
A1: 용 지 조 서
K2: 대구광역시 북구 태전동
A4: 일련 | B4: 지 번 | C4: 지목 | D4: 지 적 | E4: 편입면적 | F4: 실제이용상황 | H4: 소 유 자 | J4: 관 계 인 | M4: 비고
A5: 번호 | D5: ( ㎡ ) | E5: ( ㎡ ) | F5: 지목 | G5: 면 적 | H5: 성 명 | I5: 주 소 | J5: 성 명 | K5: 주 소 | L5: 권리관계
N6: =CONCATENATE(C6,H6)
N7: =CONCATENATE(C7,H7)
N8: =CONCATENATE(C8,H8)
N9: =CONCATENATE(C9,H9)
N10: =CONCATENATE(C10,H10)
N11: =CONCATENATE(C11,H11)
N12: =CONCATENATE(C12,H12)
N13: =CONCATENATE(C13,H13)
N14: =CONCATENATE(C14,H14)
N15: =CONCATENATE(C15,H15)
N16: =CONCATENATE(C16,H16)
N17: =CONCATENATE(C17,H17)
... N187: =CONCATENATE(C187,H187)

Sheet 0

Sheet 용지조서(6)

Sheet 용지조서(7)

Sheet 용지조서(8)

Sheet 용지조서(9)

Sheet 용지조서(10)
A1: 용 지 조 서
A6: 일련 | B6: 지 번 | C6: 지목 | D6: 지 적 | E6: 편입면적 | F6: 실제이용상황 | H6: 소 유 자 | J6: 관 계 인 | M6: 비고
A7: 번호 | D7: ( ㎡ ) | E7: ( ㎡ ) | F7: 지목 | G7: 면 적 | H7: 성 명 | I7: 주 소 | J7: 성 명 | K7: 주 소 | L7: 권리관계
A8: =IF(OR(ISNUMBER(E8),ISTEXT(C8)),1," ") | N8: 전 | O8: =COUNTIF(C8:C27,"전") -> 0 | P8: / | Q8: =SUMIF(C8:C27,"전",E8:E27) -> 0 | R8: =COUNTIF(X8:X27,"전국") -> 0 | S8: / | T8: =SUMIF(X8:X27,"전국",E8:E27) -> 0 | U8: =O8-R8 -> 0 | V8: / | W8: =Q8-T8 -> 0 | X8: =CONCATENATE(C8,H8)
A9: =IF(OR(ISNUMBER(E9),ISTEXT(C9)),A8+1," ") | N9: 답 | O9: =COUNTIF(C8:C27,"답") -> 0 | P9: / | Q9: =SUMIF(C8:C27,"답",E8:E27) -> 0 | R9: =COUNTIF(X8:X27,"답국") -> 0 | S9: / | T9: =SUMIF(X8:X27,"답국",E8:E27) -> 0 | U9: =O9-R9 -> 0 | V9: / | W9: =Q9-T9 -> 0 | X9: =CONCATENATE(C9,H9)
A10: =IF(OR(ISNUMBER(E10),ISTEXT(C10)),A9+1," ") | N10: 임야 | O10: =COUNTIF(C8:C27,"임") -> 0 | P10: / | Q10: =SUMIF(C8:C27,"임",E8:E27) -> 0 | R10: =COUNTIF(X8:X27,"임국") -> 0 | S10: / | T10: =SUMIF(X8:X27,"임국",E8:E27) -> 0 | U10: =O10-R10 -> 0 | V10: / | W10: =Q10-T10 -> 0 | X10: =CONCATENATE(C10,H10)
A11: =IF(OR(ISNUMBER(E11),ISTEXT(C11)),A10+1," ") | N11: 대지 | O11: =COUNTIF(C8:C27,"대") -> 0 | P11: / | Q11: =SUMIF(C8:C27,"대",E8:E27) -> 0 | R11: =COUNTIF(X8:X27,"대국") -> 0 | S11: / | T11: =SUMIF(X8:X27,"대국",E8:E27) -> 0 | U11: =O11-R11 -> 0 | V11: / | W11: =Q11-T11 -> 0 | X11: =CONCATENATE(C11,H11)
A12: =IF(OR(ISNUMBER(E12),ISTEXT(C12)),A11+1," ") | N12: 도로 | O12: =COUNTIF(C8:C27,"도") -> 0 | P12: / | Q12: =SUMIF(C8:C27,"도",E8:E27) -> 0 | R12: =COUNTIF(X8:X27,"도국") -> 0 | S12: / | T12: =SUMIF(X8:X27,"도국",E8:E27) -> 0 | U12: =O12-R12 -> 0 | V12: / | W12: =Q12-T12 -> 0 | X12: =CONCATENATE(C12,H12)
A13: =IF(OR(ISNUMBER(E13),ISTEXT(C13)),A12+1," ") | N13: 하천 | O13: =COUNTIF(C8:C27,"천") -> 0 | P13: / | Q13: =SUMIF(C8:C27,"천",E8:E27) -> 0 | R13: =COUNTIF(X8:X27,"천국") -> 0 | S13: / | T13: =SUMIF(X8:X27,"천국",E8:E27) -> 0 | U13: =O13-R13 -> 0 | V13: / | W13: =Q13-T13 -> 0 | X13: =CONCATENATE(C13,H13)
A14: =IF(OR(ISNUMBER(E14),ISTEXT(C14)),A13+1," ") | N14: 구거 | O14: =COUNTIF(C8:C27,"구") -> 0 | P14: / | Q14: =SUMIF(C8:C27,"구",E8:E27) -> 0 | R14: =COUNTIF(X8:X27,"구국") -> 0 | S14: / | T14: =SUMIF(X8:X27,"구국",E8:E27) -> 0 | U14: =O14-R14 -> 0 | V14: / | W14: =Q14-T14 -> 0 | X14: =CONCATENATE(C14,H14)
A15: =IF(OR(ISNUMBER(E15),ISTEXT(C15)),A14+1," ") | N15: 제방 | O15: =COUNTIF(C8:C27,"제") -> 0 | P15: / | Q15: =SUMIF(C8:C27,"제",E8:E27) -> 0 | R15: =COUNTIF(X8:X27,"제국") -> 0 | S15: / | T15: =SUMIF(X8:X27,"제국",E8:E27) -> 0 | U15: =O15-R15 -> 0 | V15: / | W15: =Q15-T15 -> 0 | X15: =CONCATENATE(C15,H15)
A16: =IF(OR(ISNUMBER(E16),ISTEXT(C16)),A15+1," ") | N16: 유지 | O16: =COUNTIF(C8:C27,"유") -> 0 | P16: / | Q16: =SUMIF(C8:C27,"유",E8:E27) -> 0 | R16: =COUNTIF(X8:X27,"유국") -> 0 | S16: / | T16: =SUMIF(X8:X27,"유국",E8:E27) -> 0 | U16: =O16-R16 -> 0 | V16: / | W16: =Q16-T16 -> 0 | X16: =CONCATENATE(C16,H16)
A17: =IF(OR(ISNUMBER(E17),ISTEXT(C17)),A16+1," ") | N17: 과수원 | O17: =COUNTIF(C8:C27,"과") -> 0 | P17: / | Q17: =SUMIF(C8:C27,"과",E8:E27) -> 0 | R17: =COUNTIF(X8:X27,"과국") -> 0 | S17: / | T17: =SUMIF(X8:X27,"과국",E8:E27) -> 0 | U17: =O17-R17 -> 0 | V17: / | W17: =Q17-T17 -> 0 | X17: =CONCATENATE(C17,H17)
A18: =IF(OR(ISNUMBER(E18),ISTEXT(C18)),A17+1," ") | N18: 묘지 | O18: =COUNTIF(C8:C27,"묘") -> 0 | P18: / | Q18: =SUMIF(C8:C27,"묘",E8:E27) -> 0 | R18: =COUNTIF(X8:X27,"묘국") -> 0 | S18: / | T18: =SUMIF(X8:X27,"묘국",E8:E27) -> 0 | U18: =O18-R18 -> 0 | V18: / | W18: =Q18-T18 -> 0 | X18: =CONCATENATE(C18,H18)
A19: =IF(OR(ISNUMBER(E19),ISTEXT(C19)),A18+1," ") | N19: 목장 | O19: =COUNTIF(C8:C27,"목") -> 0 | P19: / | Q19: =SUMIF(C8:C27,"목",E8:E27) -> 0 | R19: =COUNTIF(X8:X27,"목국") -> 0 | S19: / | T19: =SUMIF(X8:X27,"목국",E8:E27) -> 0 | U19: =O19-R19 -> 0 | V19: / | W19: =Q19-T19 -> 0 | X19: =CONCATENATE(C19,H19)
A20: =IF(OR(ISNUMBER(E20),ISTEXT(C20)),A19+1," ") | N20: 잡종지 | O20: =COUNTIF(C8:C27,"잡") -> 0 | P20: / | Q20: =SUMIF(C8:C27,"잡",E8:E27) -> 0 | R20: =COUNTIF(X8:X27,"잡국") -> 0 | S20: / | T20: =SUMIF(X8:X27,"잡국",E8:E27) -> 0 | U20: =O20-R20 -> 0 | V20: / | W20: =Q20-T20 -> 0 | X20: =CONCATENATE(C20,H20)
A21: =IF(OR(ISNUMBER(E21),ISTEXT(C21)),A20+1," ") | N21: 학교용지 | O21: =COUNTIF(C8:C27,"학") -> 0 | P21: / | Q21: =SUMIF(C8:C27,"학",E8:E27) -> 0 | R21: =COUNTIF(X8:X27,"학국") -> 0 | S21: / | T21: =SUMIF(X8:X27,"학국",E8:E27) -> 0 | U21: =O21-R21 -> 0 | V21: / | W21: =Q21-T21 -> 0 | X21: =CONCATENATE(C21,H21)
A22: =IF(OR(ISNUMBER(E22),ISTEXT(C22)),A21+1," ") | N22: 수도 | O22: =COUNTIF(C8:C27,"수") -> 0 | P22: / | Q22: =SUMIF(C8:C27,"수",E8:E27) -> 0 | R22: =COUNTIF(X8:X27,"수국") -> 0 | S22: / | T22: =SUMIF(X8:X27,"수국",E8:E27) -> 0 | U22: =O22-R22 -> 0 | V22: / | W22: =Q22-T22 -> 0 | X22: =CONCATENATE(C22,H22)
A23: =IF(OR(ISNUMBER(E23),ISTEXT(C23)),A22+1," ") | N23: 공장 | O23: =COUNTIF(C8:C27,"장") -> 0 | P23: / | Q23: =SUMIF(C8:C27,"장",E8:E27) -> 0 | R23: =COUNTIF(X8:X27,"장국") -> 0 | S23: / | T23: =SUMIF(X8:X27,"장국",E8:E27) -> 0 | U23: =O23-R23 -> 0 | V23: / | W23: =Q23-T23 -> 0 | X23: =CONCATENATE(C23,H23)
A24: =IF(OR(ISNUMBER(E24),ISTEXT(C24)),A23+1," ") | X24: =CONCATENATE(C24,H24)
A25: =IF(OR(ISNUMBER(E25),ISTEXT(C25)),A24+1," ") | X25: =CONCATENATE(C25,H25)
A26: =IF(OR(ISNUMBER(E26),ISTEXT(C26)),A25+1," ") | X26: =CONCATENATE(C26,H26)
A27: =IF(OR(ISNUMBER(E27),ISTEXT(C27)),A26+1," ") | N27: 기타 | O27: =COUNTIF(C8:C27," ") -> 0 | P27: / | Q27: =SUMIF(C8:C27," ",E8:E27) -> 0 | S27: / | U27: =O27 -> 0 | V27: / | W27: =Q27 -> 0 | X27: =CONCATENATE(C27,H27)
A28: 소 계 | E28: =SUM(E8:E27) -> 0 | N28: 계 | O28: =SUM(O8:O27) -> 0 | P28: / | Q28: =SUM(Q8:Q27) -> 0 | R28: =SUM(R8:R27) -> 0 | S28: / | T28: =SUM(T8:T27) -> 0 | U28: =SUM(U8:U27) -> 0 | V28: / | W28: =SUM(W8:W27) -> 0 | X28: =CONCATENATE(C28,H28)
A29: =IF(OR(ISNUMBER(E29),ISTEXT(C29)),A27+1," ") | N29: 전 | O29: =COUNTIF(C29:C48,"전") -> 0 | P29: / | Q29: =SUMIF(C29:C48,"전",E29:E48) -> 0 | R29: =COUNTIF(X29:X48,"전국") -> 0 | S29: / | T29: =SUMIF(X29:X48,"전국",E29:E48) -> 0 | U29: =O29-R29 -> 0 | V29: / | W29: =Q29-T29 -> 0 | X29: =CONCATENATE(C29,H29)
A30: =IF(OR(ISNUMBER(E30),ISTEXT(C30)),A29+1," ") | N30: 답 | O30: =COUNTIF(C29:C48,"답") -> 0 | P30: / | Q30: =SUMIF(C29:C48,"답",E29:E48) -> 0 | R30: =COUNTIF(X29:X48,"답국") -> 0 | S30: / | T30: =SUMIF(X29:X48,"답국",E29:E48) -> 0 | U30: =O30-R30 -> 0 | V30: / | W30: =Q30-T30 -> 0 | X30: =CONCATENATE(C30,H30)
A31: =IF(OR(ISNUMBER(E31),ISTEXT(C31)),A30+1," ") | N31: 임야 | O31: =COUNTIF(C29:C48,"임") -> 0 | P31: / | Q31: =SUMIF(C29:C48,"임",E29:E48) -> 0 | R31: =COUNTIF(X29:X48,"임국") -> 0 | S31: / | T31: =SUMIF(X29:X48,"임국",E29:E48) -> 0 | U31: =O31-R31 -> 0 | V31: / | W31: =Q31-T31 -> 0 | X31: =CONCATENATE(C31,H31)
A32: =IF(OR(ISNUMBER(E32),ISTEXT(C32)),A31+1," ") | N32: 대지 | O32: =COUNTIF(C29:C48,"대") -> 0 | P32: / | Q32: =SUMIF(C29:C48,"대",E29:E48) -> 0 | R32: =COUNTIF(X29:X48,"대국") -> 0 | S32: / | T32: =SUMIF(X29:X48,"대국",E29:E48) -> 0 | U32: =O32-R32 -> 0 | V32: / | W32: =Q32-T32 -> 0 | X32: =CONCATENATE(C32,H32)
A33: =IF(OR(ISNUMBER(E33),ISTEXT(C33)),A32+1," ") | N33: 도로 | O33: =COUNTIF(C29:C48,"도") -> 0 | P33: / | Q33: =SUMIF(C29:C48,"도",E29:E48) -> 0 | R33: =COUNTIF(X29:X48,"도국") -> 0 | S33: / | T33: =SUMIF(X29:X48,"도국",E29:E48) -> 0 | U33: =O33-R33 -> 0 | V33: / | W33: =Q33-T33 -> 0 | X33: =CONCATENATE(C33,H33)
A34: =IF(OR(ISNUMBER(E34),ISTEXT(C34)),A33+1," ") | N34: 하천 | O34: =COUNTIF(C29:C48,"천") -> 0 | P34: / | Q34: =SUMIF(C29:C48,"천",E29:E48) -> 0 | R34: =COUNTIF(X29:X48,"천국") -> 0 | S34: / | T34: =SUMIF(X29:X48,"천국",E29:E48) -> 0 | U34: =O34-R34 -> 0 | V34: / | W34: =Q34-T34 -> 0 | X34: =CONCATENATE(C34,H34)
A35: =IF(OR(ISNUMBER(E35),ISTEXT(C35)),A34+1," ") | N35: 구거 | O35: =COUNTIF(C29:C48,"구") -> 0 | P35: / | Q35: =SUMIF(C29:C48,"구",E29:E48) -> 0 | R35: =COUNTIF(X29:X48,"구국") -> 0 | S35: / | T35: =SUMIF(X29:X48,"구국",E29:E48) -> 0 | U35: =O35-R35 -> 0 | V35: / | W35: =Q35-T35 -> 0 | X35: =CONCATENATE(C35,H35)
A36: =IF(OR(ISNUMBER(E36),ISTEXT(C36)),A35+1," ") | N36: 제방 | O36: =COUNTIF(C29:C48,"제") -> 0 | P36: / | Q36: =SUMIF(C29:C48,"제",E29:E48) -> 0 | R36: =COUNTIF(X29:X48,"제국") -> 0 | S36: / | T36: =SUMIF(X29:X48,"제국",E29:E48) -> 0 | U36: =O36-R36 -> 0 | V36: / | W36: =Q36-T36 -> 0 | X36: =CONCATENATE(C36,H36)
A37: =IF(OR(ISNUMBER(E37),ISTEXT(C37)),A36+1," ") | N37: 유지 | O37: =COUNTIF(C29:C48,"유") -> 0 | P37: / | Q37: =SUMIF(C29:C48,"유",E29:E48) -> 0 | R37: =COUNTIF(X29:X48,"유국") -> 0 | S37: / | T37: =SUMIF(X29:X48,"유국",E29:E48) -> 0 | U37: =O37-R37 -> 0 | V37: / | W37: =Q37-T37 -> 0 | X37: =CONCATENATE(C37,H37)
A38: =IF(OR(ISNUMBER(E38),ISTEXT(C38)),A37+1," ") | N38: 과수원 | O38: =COUNTIF(C29:C48,"과") -> 0 | P38: / | Q38: =SUMIF(C29:C48,"과",E29:E48) -> 0 | R38: =COUNTIF(X29:X48,"과국") -> 0 | S38: / | T38: =SUMIF(X29:X48,"과국",E29:E48) -> 0 | U38: =O38-R38 -> 0 | V38: / | W38: =Q38-T38 -> 0 | X38: =CONCATENATE(C38,H38)
A39: =IF(OR(ISNUMBER(E39),ISTEXT(C39)),A38+1," ") | N39: 묘지 | O39: =COUNTIF(C29:C48,"묘") -> 0 | P39: / | Q39: =SUMIF(C29:C48,"묘",E29:E48) -> 0 | R39: =COUNTIF(X29:X48,"묘국") -> 0 | S39: / | T39: =SUMIF(X29:X48,"묘국",E29:E48) -> 0 | U39: =O39-R39 -> 0 | V39: / | W39: =Q39-T39 -> 0 | X39: =CONCATENATE(C39,H39)
A40: =IF(OR(ISNUMBER(E40),ISTEXT(C40)),A39+1," ") | N40: 목장 | O40: =COUNTIF(C29:C48,"목") -> 0 | P40: / | Q40: =SUMIF(C29:C48,"목",E29:E48) -> 0 | R40: =COUNTIF(X29:X48,"목국") -> 0 | S40: / | T40: =SUMIF(X29:X48,"목국",E29:E48) -> 0 | U40: =O40-R40 -> 0 | V40: / | W40: =Q40-T40 -> 0 | X40: =CONCATENATE(C40,H40)
A41: =IF(OR(ISNUMBER(E41),ISTEXT(C41)),A40+1," ") | N41: 잡종지 | O41: =COUNTIF(C29:C48,"잡") -> 0 | P41: / | Q41: =SUMIF(C29:C48,"잡",E29:E48) -> 0 | R41: =COUNTIF(X29:X48,"잡국") -> 0 | S41: / | T41: =SUMIF(X29:X48,"잡국",E29:E48) -> 0 | U41: =O41-R41 -> 0 | V41: / | W41: =Q41-T41 -> 0 | X41: =CONCATENATE(C41,H41)
A42: =IF(OR(ISNUMBER(E42),ISTEXT(C42)),A41+1," ") | N42: 학교용지 | O42: =COUNTIF(C29:C48,"학") -> 0 | P42: / | Q42: =SUMIF(C29:C48,"학",E29:E48) -> 0 | R42: =COUNTIF(X29:X48,"학국") -> 0 | S42: / | T42: =SUMIF(X29:X48,"학국",E29:E48) -> 0 | U42: =O42-R42 -> 0 | V42: / | W42: =Q42-T42 -> 0 | X42: =CONCATENATE(C42,H42)
A43: =IF(OR(ISNUMBER(E43),ISTEXT(C43)),A42+1," ") | N43: 수도 | O43: =COUNTIF(C29:C48,"수") -> 0 | P43: / | Q43: =SUMIF(C29:C48,"수",E29:E48) -> 0 | R43: =COUNTIF(X29:X48,"수국") -> 0 | S43: / | T43: =SUMIF(X29:X48,"수국",E29:E48) -> 0 | U43: =O43-R43 -> 0 | V43: / | W43: =Q43-T43 -> 0 | X43: =CONCATENATE(C43,H43)
A44: =IF(OR(ISNUMBER(E44),ISTEXT(C44)),A43+1," ") | N44: 공장 | O44: =COUNTIF(C29:C48,"장") -> 0 | P44: / | Q44: =SUMIF(C29:C48,"장",E29:E48) -> 0 | R44: =COUNTIF(X29:X48,"장국") -> 0 | S44: / | T44: =SUMIF(X29:X48,"장국",E29:E48) -> 0 | U44: =O44-R44 -> 0 | V44: / | W44: =Q44-T44 -> 0 | X44: =CONCATENATE(C44,H44)
A45: =IF(OR(ISNUMBER(E45),ISTEXT(C45)),A44+1," ") | X45: =CONCATENATE(C45,H45)
A46: =IF(OR(ISNUMBER(E46),ISTEXT(C46)),A45+1," ") | X46: =CONCATENATE(C46,H46)
A47: =IF(OR(ISNUMBER(E47),ISTEXT(C47)),A46+1," ") | X47: =CONCATENATE(C47,H47)
A48: =IF(OR(ISNUMBER(E48),ISTEXT(C48)),A47+1," ") | N48: 기타 | O48: =COUNTIF(C29:C48," ") -> 0 | P48: / | Q48: =SUMIF(C29:C48," ",E29:E48) -> 0 | S48: / | U48: =O48 -> 0 | V48: / | W48: =Q48 -> 0 | X48: =CONCATENATE(C48,H48)
A49: 소 계 | E49: =SUM(E29:E48) -> 0 | N49: 계 | O49: =SUM(O29:O48) -> 0 | P49: / | Q49: =SUM(Q29:Q48) -> 0 | R49: =SUM(R29:R48) -> 0 | S49: / | T49: =SUM(T29:T48) -> 0 | U49: =SUM(U29:U48) -> 0 | V49: / | W49: =SUM(W29:W48) -> 0 | X49: =CONCATENATE(C49,H49)
A50: =IF(OR(ISNUMBER(E50),ISTEXT(C50)),A48+1," ") | N50: 전 | O50: =COUNTIF(C50:C69,"전") -> 0 | P50: / | Q50: =SUMIF(C50:C69,"전",E50:E69) -> 0 | R50: =COUNTIF(X50:X69,"전국") -> 0 | S50: / | T50: =SUMIF(X50:X69,"전국",E50:E69) -> 0 | U50: =O50-R50 -> 0 | V50: / | W50: =Q50-T50 -> 0 | X50: =CONCATENATE(C50,H50)
A51: =IF(OR(ISNUMBER(E51),ISTEXT(C51)),A50+1," ") | N51: 답 | O51: =COUNTIF(C50:C69,"답") -> 0 | P51: / | Q51: =SUMIF(C50:C69,"답",E50:E69) -> 0 | R51: =COUNTIF(X50:X69,"답국") -> 0 | S51: / | T51: =SUMIF(X50:X69,"답국",E50:E69) -> 0 | U51: =O51-R51 -> 0 | V51: / | W51: =Q51-T51 -> 0 | X51: =CONCATENATE(C51,H51)
A52: =IF(OR(ISNUMBER(E52),ISTEXT(C52)),A51+1," ") | N52: 임야 | O52: =COUNTIF(C50:C69,"임") -> 0 | P52: / | Q52: =SUMIF(C50:C69,"임",E50:E69) -> 0 | R52: =COUNTIF(X50:X69,"임국") -> 0 | S52: / | T52: =SUMIF(X50:X69,"임국",E50:E69) -> 0 | U52: =O52-R52 -> 0 | V52: / | W52: =Q52-T52 -> 0 | X52: =CONCATENATE(C52,H52)
A53: =IF(OR(ISNUMBER(E53),ISTEXT(C53)),A52+1," ") | N53: 대지 | O53: =COUNTIF(C50:C69,"대") -> 0 | P53: / | Q53: =SUMIF(C50:C69,"대",E50:E69) -> 0 | R53: =COUNTIF(X50:X69,"대국") -> 0 | S53: / | T53: =SUMIF(X50:X69,"대국",E50:E69) -> 0 | U53: =O53-R53 -> 0 | V53: / | W53: =Q53-T53 -> 0 | X53: =CONCATENATE(C53,H53)
A54: =IF(OR(ISNUMBER(E54),ISTEXT(C54)),A53+1," ") | N54: 도로 | O54: =COUNTIF(C50:C69,"도") -> 0 | P54: / | Q54: =SUMIF(C50:C69,"도",E50:E69) -> 0 | R54: =COUNTIF(X50:X69,"도국") -> 0 | S54: / | T54: =SUMIF(X50:X69,"도국",E50:E69) -> 0 | U54: =O54-R54 -> 0 | V54: / | W54: =Q54-T54 -> 0 | X54: =CONCATENATE(C54,H54)
A55: =IF(OR(ISNUMBER(E55),ISTEXT(C55)),A54+1," ") | N55: 하천 | O55: =COUNTIF(C50:C69,"천") -> 0 | P55: / | Q55: =SUMIF(C50:C69,"천",E50:E69) -> 0 | R55: =COUNTIF(X50:X69,"천국") -> 0 | S55: / | T55: =SUMIF(X50:X69,"천국",E50:E69) -> 0 | U55: =O55-R55 -> 0 | V55: / | W55: =Q55-T55 -> 0 | X55: =CONCATENATE(C55,H55)
A56: =IF(OR(ISNUMBER(E56),ISTEXT(C56)),A55+1," ") | N56: 구거 | O56: =COUNTIF(C50:C69,"구") -> 0 | P56: / | Q56: =SUMIF(C50:C69,"구",E50:E69) -> 0 | R56: =COUNTIF(X50:X69,"구국") -> 0 | S56: / | T56: =SUMIF(X50:X69,"구국",E50:E69) -> 0 | U56: =O56-R56 -> 0 | V56: / | W56: =Q56-T56 -> 0 | X56: =CONCATENATE(C56,H56)
A57: =IF(OR(ISNUMBER(E57),ISTEXT(C57)),A56+1," ") | N57: 제방 | O57: =COUNTIF(C50:C69,"제") -> 0 | P57: / | Q57: =SUMIF(C50:C69,"제",E50:E69) -> 0 | R57: =COUNTIF(X50:X69,"제국") -> 0 | S57: / | T57: =SUMIF(X50:X69,"제국",E50:E69) -> 0 | U57: =O57-R57 -> 0 | V57: / | W57: =Q57-T57 -> 0 | X57: =CONCATENATE(C57,H57)
A58: =IF(OR(ISNUMBER(E58),ISTEXT(C58)),A57+1," ") | N58: 유지 | O58: =COUNTIF(C50:C69,"유") -> 0 | P58: / | Q58: =SUMIF(C50:C69,"유",E50:E69) -> 0 | R58: =COUNTIF(X50:X69,"유국") -> 0 | S58: / | T58: =SUMIF(X50:X69,"유국",E50:E69) -> 0 | U58: =O58-R58 -> 0 | V58: / | W58: =Q58-T58 -> 0 | X58: =CONCATENATE(C58,H58)
A59: =IF(OR(ISNUMBER(E59),ISTEXT(C59)),A58+1," ") | N59: 과수원 | O59: =COUNTIF(C50:C69,"과") -> 0 | P59: / | Q59: =SUMIF(C50:C69,"과",E50:E69) -> 0 | R59: =COUNTIF(X50:X69,"과국") -> 0 | S59: / | T59: =SUMIF(X50:X69,"과국",E50:E69) -> 0 | U59: =O59-R59 -> 0 | V59: / | W59: =Q59-T59 -> 0 | X59: =CONCATENATE(C59,H59)
A60: =IF(OR(ISNUMBER(E60),ISTEXT(C60)),A59+1," ") | N60: 묘지 | O60: =COUNTIF(C50:C69,"묘") -> 0 | P60: / | Q60: =SUMIF(C50:C69,"묘",E50:E69) -> 0 | R60: =COUNTIF(X50:X69,"묘국") -> 0 | S60: / | T60: =SUMIF(X50:X69,"묘국",E50:E69) -> 0 | U60: =O60-R60 -> 0 | V60: / | W60: =Q60-T60 -> 0 | X60: =CONCATENATE(C60,H60)
A61: =IF(OR(ISNUMBER(E61),ISTEXT(C61)),A60+1," ") | N61: 목장 | O61: =COUNTIF(C50:C69,"목") -> 0 | P61: / | Q61: =SUMIF(C50:C69,"목",E50:E69) -> 0 | R61: =COUNTIF(X50:X69,"목국") -> 0 | S61: / | T61: =SUMIF(X50:X69,"목국",E50:E69) -> 0 | U61: =O61-R61 -> 0 | V61: / | W61: =Q61-T61 -> 0 | X61: =CONCATENATE(C61,H61)
A62: =IF(OR(ISNUMBER(E62),ISTEXT(C62)),A61+1," ") | N62: 잡종지 | O62: =COUNTIF(C50:C69,"잡") -> 0 | P62: / | Q62: =SUMIF(C50:C69,"잡",E50:E69) -> 0 | R62: =COUNTIF(X50:X69,"잡국") -> 0 | S62: / | T62: =SUMIF(X50:X69,"잡국",E50:E69) -> 0 | U62: =O62-R62 -> 0 | V62: / | W62: =Q62-T62 -> 0 | X62: =CONCATENATE(C62,H62)
A63: =IF(OR(ISNUMBER(E63),ISTEXT(C63)),A62+1," ") | N63: 학교용지 | O63: =COUNTIF(C50:C69,"학") -> 0 | P63: / | Q63: =SUMIF(C50:C69,"학",E50:E69) -> 0 | R63: =COUNTIF(X50:X69,"학국") -> 0 | S63: / | T63: =SUMIF(X50:X69,"학국",E50:E69) -> 0 | U63: =O63-R63 -> 0 | V63: / | W63: =Q63-T63 -> 0 | X63: =CONCATENATE(C63,H63)
A64: =IF(OR(ISNUMBER(E64),ISTEXT(C64)),A63+1," ") | N64: 수도 | O64: =COUNTIF(C50:C69,"수") -> 0 | P64: / | Q64: =SUMIF(C50:C69,"수",E50:E69) -> 0 | R64: =COUNTIF(X50:X69,"수국") -> 0 | S64: / | T64: =SUMIF(X50:X69,"수국",E50:E69) -> 0 | U64: =O64-R64 -> 0 | V64: / | W64: =Q64-T64 -> 0 | X64: =CONCATENATE(C64,H64)
A65: =IF(OR(ISNUMBER(E65),ISTEXT(C65)),A64+1," ") | N65: 공장 | O65: =COUNTIF(C50:C69,"장") -> 0 | P65: / | Q65: =SUMIF(C50:C69,"장",E50:E69) -> 0 | R65: =COUNTIF(X50:X69,"장국") -> 0 | S65: / | T65: =SUMIF(X50:X69,"장국",E50:E69) -> 0 | U65: =O65-R65 -> 0 | V65: / | W65: =Q65-T65 -> 0 | X65: =CONCATENATE(C65,H65)
A66: =IF(OR(ISNUMBER(E66),ISTEXT(C66)),A65+1," ") | X66: =CONCATENATE(C66,H66)
A67: =IF(OR(ISNUMBER(E67),ISTEXT(C67)),A66+1," ") | X67: =CONCATENATE(C67,H67)
A68: =IF(OR(ISNUMBER(E68),ISTEXT(C68)),A67+1," ") | X68: =CONCATENATE(C68,H68)
A69: =IF(OR(ISNUMBER(E69),ISTEXT(C69)),A68+1," ") | N69: 기타 | O69: =COUNTIF(C50:C69," ") -> 0 | P69: / | Q69: =SUMIF(C50:C69," ",E50:E69) -> 0 | S69: / | U69: =O69 -> 0 | V69: / | W69: =Q69 -> 0 | X69: =CONCATENATE(C69,H69)
A70: 소 계 | E70: =SUM(E50:E69) -> 0 | N70: 계 | O70: =SUM(O50:O69) -> 0 | P70: / | Q70: =SUM(Q50:Q69) -> 0 | R70: =SUM(R50:R69) -> 0 | S70: / | T70: =SUM(T50:T69) -> 0 | U70: =SUM(U50:U69) -> 0 | V70: / | W70: =SUM(W50:W69) -> 0 | X70: =CONCATENATE(C70,H70)
A71: =IF(OR(ISNUMBER(E71),ISTEXT(C71)),A69+1," ") | N71: 전 | O71: =COUNTIF(C71:C90,"전") -> 0 | P71: / | Q71: =SUMIF(C71:C90,"전",E71:E90) -> 0 | R71: =COUNTIF(X71:X90,"전국") -> 0 | S71: / | T71: =SUMIF(X71:X90,"전국",E71:E90) -> 0 | U71: =O71-R71 -> 0 | V71: / | W71: =Q71-T71 -> 0 | X71: =CONCATENATE(C71,H71)
A72: =IF(OR(ISNUMBER(E72),ISTEXT(C72)),A71+1," ") | N72: 답 | O72: =COUNTIF(C71:C90,"답") -> 0 | P72: / | Q72: =SUMIF(C71:C90,"답",E71:E90) -> 0 | R72: =COUNTIF(X71:X90,"답국") -> 0 | S72: / | T72: =SUMIF(X71:X90,"답국",E71:E90) -> 0 | U72: =O72-R72 -> 0 | V72: / | W72: =Q72-T72 -> 0 | X72: =CONCATENATE(C72,H72)
A73: =IF(OR(ISNUMBER(E73),ISTEXT(C73)),A72+1," ") | N73: 임야 | O73: =COUNTIF(C71:C90,"임") -> 0 | P73: / | Q73: =SUMIF(C71:C90,"임",E71:E90) -> 0 | R73: =COUNTIF(X71:X90,"임국") -> 0 | S73: / | T73: =SUMIF(X71:X90,"임국",E71:E90) -> 0 | U73: =O73-R73 -> 0 | V73: / | W73: =Q73-T73 -> 0 | X73: =CONCATENATE(C73,H73)
A74: =IF(OR(ISNUMBER(E74),ISTEXT(C74)),A73+1," ") | N74: 대지 | O74: =COUNTIF(C71:C90,"대") -> 0 | P74: / | Q74: =SUMIF(C71:C90,"대",E71:E90) -> 0 | R74: =COUNTIF(X71:X90,"대국") -> 0 | S74: / | T74: =SUMIF(X71:X90,"대국",E71:E90) -> 0 | U74: =O74-R74 -> 0 | V74: / | W74: =Q74-T74 -> 0 | X74: =CONCATENATE(C74,H74)
A75: =IF(OR(ISNUMBER(E75),ISTEXT(C75)),A74+1," ") | N75: 도로 | O75: =COUNTIF(C71:C90,"도") -> 0 | P75: / | Q75: =SUMIF(C71:C90,"도",E71:E90) -> 0 | R75: =COUNTIF(X71:X90,"도국") -> 0 | S75: / | T75: =SUMIF(X71:X90,"도국",E71:E90) -> 0 | U75: =O75-R75 -> 0 | V75: / | W75: =Q75-T75 -> 0 | X75: =CONCATENATE(C75,H75)
A76: =IF(OR(ISNUMBER(E76),ISTEXT(C76)),A75+1," ") | N76: 하천 | O76: =COUNTIF(C71:C90,"천") -> 0 | P76: / | Q76: =SUMIF(C71:C90,"천",E71:E90) -> 0 | R76: =COUNTIF(X71:X90,"천국") -> 0 | S76: / | T76: =SUMIF(X71:X90,"천국",E71:E90) -> 0 | U76: =O76-R76 -> 0 | V76: / | W76: =Q76-T76 -> 0 | X76: =CONCATENATE(C76,H76)
A77: =IF(OR(ISNUMBER(E77),ISTEXT(C77)),A76+1," ") | N77: 구거 | O77: =COUNTIF(C71:C90,"구") -> 0 | P77: / | Q77: =SUMIF(C71:C90,"구",E71:E90) -> 0 | R77: =COUNTIF(X71:X90,"구국") -> 0 | S77: / | T77: =SUMIF(X71:X90,"구국",E71:E90) -> 0 | U77: =O77-R77 -> 0 | V77: / | W77: =Q77-T77 -> 0 | X77: =CONCATENATE(C77,H77)
A78: =IF(OR(ISNUMBER(E78),ISTEXT(C78)),A77+1," ") | N78: 제방 | O78: =COUNTIF(C71:C90,"제") -> 0 | P78: / | Q78: =SUMIF(C71:C90,"제",E71:E90) -> 0 | R78: =COUNTIF(X71:X90,"제국") -> 0 | S78: / | T78: =SUMIF(X71:X90,"제국",E71:E90) -> 0 | U78: =O78-R78 -> 0 | V78: / | W78: =Q78-T78 -> 0 | X78: =CONCATENATE(C78,H78)
A79: =IF(OR(ISNUMBER(E79),ISTEXT(C79)),A78+1," ") | N79: 유지 | O79: =COUNTIF(C71:C90,"유") -> 0 | P79: / | Q79: =SUMIF(C71:C90,"유",E71:E90) -> 0 | R79: =COUNTIF(X71:X90,"유국") -> 0 | S79: / | T79: =SUMIF(X71:X90,"유국",E71:E90) -> 0 | U79: =O79-R79 -> 0 | V79: / | W79: =Q79-T79 -> 0 | X79: =CONCATENATE(C79,H79)
A80: =IF(OR(ISNUMBER(E80),ISTEXT(C80)),A79+1," ") | N80: 과수원 | O80: =COUNTIF(C71:C90,"과") -> 0 | P80: / | Q80: =SUMIF(C71:C90,"과",E71:E90) -> 0 | R80: =COUNTIF(X71:X90,"과국") -> 0 | S80: / | T80: =SUMIF(X71:X90,"과국",E71:E90) -> 0 | U80: =O80-R80 -> 0 | V80: / | W80: =Q80-T80 -> 0 | X80: =CONCATENATE(C80,H80)
A81: =IF(OR(ISNUMBER(E81),ISTEXT(C81)),A80+1," ") | N81: 묘지 | O81: =COUNTIF(C71:C90,"묘") -> 0 | P81: / | Q81: =SUMIF(C71:C90,"묘",E71:E90) -> 0 | R81: =COUNTIF(X71:X90,"묘국") -> 0 | S81: / | T81: =SUMIF(X71:X90,"묘국",E71:E90) -> 0 | U81: =O81-R81 -> 0 | V81: / | W81: =Q81-T81 -> 0 | X81: =CONCATENATE(C81,H81)
A82: =IF(OR(ISNUMBER(E82),ISTEXT(C82)),A81+1," ") | N82: 목장 | O82: =COUNTIF(C71:C90,"목") -> 0 | P82: / | Q82: =SUMIF(C71:C90,"목",E71:E90) -> 0 | R82: =COUNTIF(X71:X90,"목국") -> 0 | S82: / | T82: =SUMIF(X71:X90,"목국",E71:E90) -> 0 | U82: =O82-R82 -> 0 | V82: / | W82: =Q82-T82 -> 0 | X82: =CONCATENATE(C82,H82)
A83: =IF(OR(ISNUMBER(E83),ISTEXT(C83)),A82+1," ") | N83: 잡종지 | O83: =COUNTIF(C71:C90,"잡") -> 0 | P83: / | Q83: =SUMIF(C71:C90,"잡",E71:E90) -> 0 | R83: =COUNTIF(X71:X90,"잡국") -> 0 | S83: / | T83: =SUMIF(X71:X90,"잡국",E71:E90) -> 0 | U83: =O83-R83 -> 0 | V83: / | W83: =Q83-T83 -> 0 | X83: =CONCATENATE(C83,H83)
A84: =IF(OR(ISNUMBER(E84),ISTEXT(C84)),A83+1," ") | N84: 학교용지 | O84: =COUNTIF(C71:C90,"학") -> 0 | P84: / | Q84: =SUMIF(C71:C90,"학",E71:E90) -> 0 | R84: =COUNTIF(X71:X90,"학국") -> 0 | S84: / | T84: =SUMIF(X71:X90,"학국",E71:E90) -> 0 | U84: =O84-R84 -> 0 | V84: / | W84: =Q84-T84 -> 0 | X84: =CONCATENATE(C84,H84)
A85: =IF(OR(ISNUMBER(E85),ISTEXT(C85)),A84+1," ") | N85: 수도 | O85: =COUNTIF(C71:C90,"수") -> 0 | P85: / | Q85: =SUMIF(C71:C90,"수",E71:E90) -> 0 | R85: =COUNTIF(X71:X90,"수국") -> 0 | S85: / | T85: =SUMIF(X71:X90,"수국",E71:E90) -> 0 | U85: =O85-R85 -> 0 | V85: / | W85: =Q85-T85 -> 0 | X85: =CONCATENATE(C85,H85)
A86: =IF(OR(ISNUMBER(E86),ISTEXT(C86)),A85+1," ") | N86: 공장 | O86: =COUNTIF(C71:C90,"장") -> 0 | P86: / | Q86: =SUMIF(C71:C90,"장",E71:E90) -> 0 | R86: =COUNTIF(X71:X90,"장국") -> 0 | S86: / | T86: =SUMIF(X71:X90,"장국",E71:E90) -> 0 | U86: =O86-R86 -> 0 | V86: / | W86: =Q86-T86 -> 0 | X86: =CONCATENATE(C86,H86)
A87: =IF(OR(ISNUMBER(E87),ISTEXT(C87)),A86+1," ") | X87: =CONCATENATE(C87,H87)
A88: =IF(OR(ISNUMBER(E88),ISTEXT(C88)),A87+1," ") | X88: =CONCATENATE(C88,H88)
A89: =IF(OR(ISNUMBER(E89),ISTEXT(C89)),A88+1," ") | X89: =CONCATENATE(C89,H89)
A90: =IF(OR(ISNUMBER(E90),ISTEXT(C90)),A89+1," ") | N90: 기타 | O90: =COUNTIF(C71:C90," ") -> 0 | P90: / | Q90: =SUMIF(C71:C90," ",E71:E90) -> 0 | S90: / | U90: =O90 -> 0 | V90: / | W90: =Q90 -> 0 | X90: =CONCATENATE(C90,H90)
A91: 소 계 | E91: =SUM(E71:E90) -> 0 | N91: 계 | O91: =SUM(O71:O90) -> 0 | P91: / | Q91: =SUM(Q71:Q90) -> 0 | R91: =SUM(R71:R90) -> 0 | S91: / | T91: =SUM(T71:T90) -> 0 | U91: =SUM(U71:U90) -> 0 | V91: / | W91: =SUM(W71:W90) -> 0 | X91: =CONCATENATE(C91,H91)
A92: =IF(OR(ISNUMBER(E92),ISTEXT(C92)),A90+1," ") | N92: 전 | O92: =COUNTIF(C92:C111,"전") -> 0 | P92: / | Q92: =SUMIF(C92:C111,"전",E92:E111) -> 0 | R92: =COUNTIF(X92:X111,"전국") -> 0 | S92: / | T92: =SUMIF(X92:X111,"전국",E92:E111) -> 0 | U92: =O92-R92 -> 0 | V92: / | W92: =Q92-T92 -> 0 | X92: =CONCATENATE(C92,H92)
A93: =IF(OR(ISNUMBER(E93),ISTEXT(C93)),A92+1," ") | N93: 답 | O93: =COUNTIF(C92:C111,"답") -> 0 | P93: / | Q93: =SUMIF(C92:C111,"답",E92:E111) -> 0 | R93: =COUNTIF(X92:X111,"답국") -> 0 | S93: / | T93: =SUMIF(X92:X111,"답국",E92:E111) -> 0 | U93: =O93-R93 -> 0 | V93: / | W93: =Q93-T93 -> 0 | X93: =CONCATENATE(C93,H93)
A94: =IF(OR(ISNUMBER(E94),ISTEXT(C94)),A93+1," ") | N94: 임야 | O94: =COUNTIF(C92:C111,"임") -> 0 | P94: / | Q94: =SUMIF(C92:C111,"임",E92:E111) -> 0 | R94: =COUNTIF(X92:X111,"임국") -> 0 | S94: / | T94: =SUMIF(X92:X111,"임국",E92:E111) -> 0 | U94: =O94-R94 -> 0 | V94: / | W94: =Q94-T94 -> 0 | X94: =CONCATENATE(C94,H94)
A95: =IF(OR(ISNUMBER(E95),ISTEXT(C95)),A94+1," ") | N95: 대지 | O95: =COUNTIF(C92:C111,"대") -> 0 | P95: / | Q95: =SUMIF(C92:C111,"대",E92:E111) -> 0 | R95: =COUNTIF(X92:X111,"대국") -> 0 | S95: / | T95: =SUMIF(X92:X111,"대국",E92:E111) -> 0 | U95: =O95-R95 -> 0 | V95: / | W95: =Q95-T95 -> 0 | X95: =CONCATENATE(C95,H95)
A96: =IF(OR(ISNUMBER(E96),ISTEXT(C96)),A95+1," ") | N96: 도로 | O96: =COUNTIF(C92:C111,"도") -> 0 | P96: / | Q96: =SUMIF(C92:C111,"도",E92:E111) -> 0 | R96: =COUNTIF(X92:X111,"도국") -> 0 | S96: / | T96: =SUMIF(X92:X111,"도국",E92:E111) -> 0 | U96: =O96-R96 -> 0 | V96: / | W96: =Q96-T96 -> 0 | X96: =CONCATENATE(C96,H96)
A97: =IF(OR(ISNUMBER(E97),ISTEXT(C97)),A96+1," ") | N97: 하천 | O97: =COUNTIF(C92:C111,"천") -> 0 | P97: / | Q97: =SUMIF(C92:C111,"천",E92:E111) -> 0 | R97: =COUNTIF(X92:X111,"천국") -> 0 | S97: / | T97: =SUMIF(X92:X111,"천국",E92:E111) -> 0 | U97: =O97-R97 -> 0 | V97: / | W97: =Q97-T97 -> 0 | X97: =CONCATENATE(C97,H97)
A98: =IF(OR(ISNUMBER(E98),ISTEXT(C98)),A97+1," ") | N98: 구거 | O98: =COUNTIF(C92:C111,"구") -> 0 | P98: / | Q98: =SUMIF(C92:C111,"구",E92:E111) -> 0 | R98: =COUNTIF(X92:X111,"구국") -> 0 | S98: / | T98: =SUMIF(X92:X111,"구국",E92:E111) -> 0 | U98: =O98-R98 -> 0 | V98: / | W98: =Q98-T98 -> 0 | X98: =CONCATENATE(C98,H98)
A99: =IF(OR(ISNUMBER(E99),ISTEXT(C99)),A98+1," ") | N99: 제방 | O99: =COUNTIF(C92:C111,"제") -> 0 | P99: / | Q99: =SUMIF(C92:C111,"제",E92:E111) -> 0 | R99: =COUNTIF(X92:X111,"제국") -> 0 | S99: / | T99: =SUMIF(X92:X111,"제국",E92:E111) -> 0 | U99: =O99-R99 -> 0 | V99: / | W99: =Q99-T99 -> 0 | X99: =CONCATENATE(C99,H99)
A100: =IF(OR(ISNUMBER(E100),ISTEXT(C100)),A99+1," ") | N100: 유지 | O100: =COUNTIF(C92:C111,"유") -> 0 | P100: / | Q100: =SUMIF(C92:C111,"유",E92:E111) -> 0 | R100: =COUNTIF(X92:X111,"유국") -> 0 | S100: / | T100: =SUMIF(X92:X111,"유국",E92:E111) -> 0 | U100: =O100-R100 -> 0 | V100: / | W100: =Q100-T100 -> 0 | X100: =CONCATENATE(C100,H100)
A101: =IF(OR(ISNUMBER(E101),ISTEXT(C101)),A100+1," ") | N101: 과수원 | O101: =COUNTIF(C92:C111,"과") -> 0 | P101: / | Q101: =SUMIF(C92:C111,"과",E92:E111) -> 0 | R101: =COUNTIF(X92:X111,"과국") -> 0 | S101: / | T101: =SUMIF(X92:X111,"과국",E92:E111) -> 0 | U101: =O101-R101 -> 0 | V101: / | W101: =Q101-T101 -> 0 | X101: =CONCATENATE(C101,H101)
A102: =IF(OR(ISNUMBER(E102),ISTEXT(C102)),A101+1," ") | N102: 묘지 | O102: =COUNTIF(C92:C111,"묘") -> 0 | P102: / | Q102: =SUMIF(C92:C111,"묘",E92:E111) -> 0 | R102: =COUNTIF(X92:X111,"묘국") -> 0 | S102: / | T102: =SUMIF(X92:X111,"묘국",E92:E111) -> 0 | U102: =O102-R102 -> 0 | V102: / | W102: =Q102-T102 -> 0 | X102: =CONCATENATE(C102,H102)
A103: =IF(OR(ISNUMBER(E103),ISTEXT(C103)),A102+1," ") | N103: 목장 | O103: =COUNTIF(C92:C111,"목") -> 0 | P103: / | Q103: =SUMIF(C92:C111,"목",E92:E111) -> 0 | R103: =COUNTIF(X92:X111,"목국") -> 0 | S103: / | T103: =SUMIF(X92:X111,"목국",E92:E111) -> 0 | U103: =O103-R103 -> 0 | V103: / | W103: =Q103-T103 -> 0 | X103: =CONCATENATE(C103,H103)
A104: =IF(OR(ISNUMBER(E104),ISTEXT(C104)),A103+1," ") | N104: 잡종지 | O104: =COUNTIF(C92:C111,"잡") -> 0 | P104: / | Q104: =SUMIF(C92:C111,"잡",E92:E111) -> 0 | R104: =COUNTIF(X92:X111,"잡국") -> 0 | S104: / | T104: =SUMIF(X92:X111,"잡국",E92:E111) -> 0 | U104: =O104-R104 -> 0 | V104: / | W104: =Q104-T104 -> 0 | X104: =CONCATENATE(C104,H104)
...

Sheet 용지조서(11)

Sheet 용지조서(12)
A1: 용 지 조 서
A6: 일련 | B6: 지 번 | C6: 지목 | D6: 지 적 | E6: 편입면적 | F6: 실제이용상황 | H6: 소 유 자 | J6: 관 계 인 | M6: 비고
A7: 번호 | D7: ( ㎡ ) | E7: ( ㎡ ) | F7: 지목 | G7: 면 적 | H7: 성 명 | I7: 주 소 | J7: 성 명 | K7: 주 소 | L7: 권리관계
A8: =IF(OR(ISNUMBER(E8),ISTEXT(C8)),1," ") | N8: 전 | O8: =COUNTIF(C8:C27,"전") -> 0 | P8: / | Q8: =SUMIF(C8:C27,"전",E8:E27) -> 0 | R8: =COUNTIF(X8:X27,"전국") -> 0 | S8: / | T8: =SUMIF(X8:X27,"전국",E8:E27) -> 0 | U8: =O8-R8 -> 0 | V8: / | W8: =Q8-T8 -> 0 | X8: =CONCATENATE(C8,H8)
A9: =IF(OR(ISNUMBER(E9),ISTEXT(C9)),A8+1," ") | N9: 답 | O9: =COUNTIF(C8:C27,"답") -> 0 | P9: / | Q9: =SUMIF(C8:C27,"답",E8:E27) -> 0 | R9: =COUNTIF(X8:X27,"답국") -> 0 | S9: / | T9: =SUMIF(X8:X27,"답국",E8:E27) -> 0 | U9: =O9-R9 -> 0 | V9: / | W9: =Q9-T9 -> 0 | X9: =CONCATENATE(C9,H9)
A10: =IF(OR(ISNUMBER(E10),ISTEXT(C10)),A9+1," ") | N10: 임야 | O10: =COUNTIF(C8:C27,"임") -> 0 | P10: / | Q10: =SUMIF(C8:C27,"임",E8:E27) -> 0 | R10: =COUNTIF(X8:X27,"임국") -> 0 | S10: / | T10: =SUMIF(X8:X27,"임국",E8:E27) -> 0 | U10: =O10-R10 -> 0 | V10: / | W10: =Q10-T10 -> 0 | X10: =CONCATENATE(C10,H10)
A11: =IF(OR(ISNUMBER(E11),ISTEXT(C11)),A10+1," ") | N11: 대지 | O11: =COUNTIF(C8:C27,"대") -> 0 | P11: / | Q11: =SUMIF(C8:C27,"대",E8:E27) -> 0 | R11: =COUNTIF(X8:X27,"대국") -> 0 | S11: / | T11: =SUMIF(X8:X27,"대국",E8:E27) -> 0 | U11: =O11-R11 -> 0 | V11: / | W11: =Q11-T11 -> 0 | X11: =CONCATENATE(C11,H11)
A12: =IF(OR(ISNUMBER(E12),ISTEXT(C12)),A11+1," ") | N12: 도로 | O12: =COUNTIF(C8:C27,"도") -> 0 | P12: / | Q12: =SUMIF(C8:C27,"도",E8:E27) -> 0 | R12: =COUNTIF(X8:X27,"도국") -> 0 | S12: / | T12: =SUMIF(X8:X27,"도국",E8:E27) -> 0 | U12: =O12-R12 -> 0 | V12: / | W12: =Q12-T12 -> 0 | X12: =CONCATENATE(C12,H12)
A13: =IF(OR(ISNUMBER(E13),ISTEXT(C13)),A12+1," ") | N13: 하천 | O13: =COUNTIF(C8:C27,"천") -> 0 | P13: / | Q13: =SUMIF(C8:C27,"천",E8:E27) -> 0 | R13: =COUNTIF(X8:X27,"천국") -> 0 | S13: / | T13: =SUMIF(X8:X27,"천국",E8:E27) -> 0 | U13: =O13-R13 -> 0 | V13: / | W13: =Q13-T13 -> 0 | X13: =CONCATENATE(C13,H13)
A14: =IF(OR(ISNUMBER(E14),ISTEXT(C14)),A13+1," ") | N14: 구거 | O14: =COUNTIF(C8:C27,"구") -> 0 | P14: / | Q14: =SUMIF(C8:C27,"구",E8:E27) -> 0 | R14: =COUNTIF(X8:X27,"구국") -> 0 | S14: / | T14: =SUMIF(X8:X27,"구국",E8:E27) -> 0 | U14: =O14-R14 -> 0 | V14: / | W14: =Q14-T14 -> 0 | X14: =CONCATENATE(C14,H14)
A15: =IF(OR(ISNUMBER(E15),ISTEXT(C15)),A14+1," ") | N15: 제방 | O15: =COUNTIF(C8:C27,"제") -> 0 | P15: / | Q15: =SUMIF(C8:C27,"제",E8:E27) -> 0 | R15: =COUNTIF(X8:X27,"제국") -> 0 | S15: / | T15: =SUMIF(X8:X27,"제국",E8:E27) -> 0 | U15: =O15-R15 -> 0 | V15: / | W15: =Q15-T15 -> 0 | X15: =CONCATENATE(C15,H15)
A16: =IF(OR(ISNUMBER(E16),ISTEXT(C16)),A15+1," ") | N16: 유지 | O16: =COUNTIF(C8:C27,"유") -> 0 | P16: / | Q16: =SUMIF(C8:C27,"유",E8:E27) -> 0 | R16: =COUNTIF(X8:X27,"유국") -> 0 | S16: / | T16: =SUMIF(X8:X27,"유국",E8:E27) -> 0 | U16: =O16-R16 -> 0 | V16: / | W16: =Q16-T16 -> 0 | X16: =CONCATENATE(C16,H16)
A17: =IF(OR(ISNUMBER(E17),ISTEXT(C17)),A16+1," ") | N17: 과수원 | O17: =COUNTIF(C8:C27,"과") -> 0 | P17: / | Q17: =SUMIF(C8:C27,"과",E8:E27) -> 0 | R17: =COUNTIF(X8:X27,"과국") -> 0 | S17: / | T17: =SUMIF(X8:X27,"과국",E8:E27) -> 0 | U17: =O17-R17 -> 0 | V17: / | W17: =Q17-T17 -> 0 | X17: =CONCATENATE(C17,H17)
A18: =IF(OR(ISNUMBER(E18),ISTEXT(C18)),A17+1," ") | N18: 묘지 | O18: =COUNTIF(C8:C27,"묘") -> 0 | P18: / | Q18: =SUMIF(C8:C27,"묘",E8:E27) -> 0 | R18: =COUNTIF(X8:X27,"묘국") -> 0 | S18: / | T18: =SUMIF(X8:X27,"묘국",E8:E27) -> 0 | U18: =O18-R18 -> 0 | V18: / | W18: =Q18-T18 -> 0 | X18: =CONCATENATE(C18,H18)
A19: =IF(OR(ISNUMBER(E19),ISTEXT(C19)),A18+1," ") | N19: 목장 | O19: =COUNTIF(C8:C27,"목") -> 0 | P19: / | Q19: =SUMIF(C8:C27,"목",E8:E27) -> 0 | R19: =COUNTIF(X8:X27,"목국") -> 0 | S19: / | T19: =SUMIF(X8:X27,"목국",E8:E27) -> 0 | U19: =O19-R19 -> 0 | V19: / | W19: =Q19-T19 -> 0 | X19: =CONCATENATE(C19,H19)
A20: =IF(OR(ISNUMBER(E20),ISTEXT(C20)),A19+1," ") | N20: 잡종지 | O20: =COUNTIF(C8:C27,"잡") -> 0 | P20: / | Q20: =SUMIF(C8:C27,"잡",E8:E27) -> 0 | R20: =COUNTIF(X8:X27,"잡국") -> 0 | S20: / | T20: =SUMIF(X8:X27,"잡국",E8:E27) -> 0 | U20: =O20-R20 -> 0 | V20: / | W20: =Q20-T20 -> 0 | X20: =CONCATENATE(C20,H20)
A21: =IF(OR(ISNUMBER(E21),ISTEXT(C21)),A20+1," ") | N21: 학교용지 | O21: =COUNTIF(C8:C27,"학") -> 0 | P21: / | Q21: =SUMIF(C8:C27,"학",E8:E27) -> 0 | R21: =COUNTIF(X8:X27,"학국") -> 0 | S21: / | T21: =SUMIF(X8:X27,"학국",E8:E27) -> 0 | U21: =O21-R21 -> 0 | V21: / | W21: =Q21-T21 -> 0 | X21: =CONCATENATE(C21,H21)
A22: =IF(OR(ISNUMBER(E22),ISTEXT(C22)),A21+1," ") | N22: 수도 | O22: =COUNTIF(C8:C27,"수") -> 0 | P22: / | Q22: =SUMIF(C8:C27,"수",E8:E27) -> 0 | R22: =COUNTIF(X8:X27,"수국") -> 0 | S22: / | T22: =SUMIF(X8:X27,"수국",E8:E27) -> 0 | U22: =O22-R22 -> 0 | V22: / | W22: =Q22-T22 -> 0 | X22: =CONCATENATE(C22,H22)
A23: =IF(OR(ISNUMBER(E23),ISTEXT(C23)),A22+1," ") | N23: 공장 | O23: =COUNTIF(C8:C27,"장") -> 0 | P23: / | Q23: =SUMIF(C8:C27,"장",E8:E27) -> 0 | R23: =COUNTIF(X8:X27,"장국") -> 0 | S23: / | T23: =SUMIF(X8:X27,"장국",E8:E27) -> 0 | U23: =O23-R23 -> 0 | V23: / | W23: =Q23-T23 -> 0 | X23: =CONCATENATE(C23,H23)
A24: =IF(OR(ISNUMBER(E24),ISTEXT(C24)),A23+1," ") | X24: =CONCATENATE(C24,H24)
A25: =IF(OR(ISNUMBER(E25),ISTEXT(C25)),A24+1," ") | X25: =CONCATENATE(C25,H25)
A26: =IF(OR(ISNUMBER(E26),ISTEXT(C26)),A25+1," ") | X26: =CONCATENATE(C26,H26)
A27: =IF(OR(ISNUMBER(E27),ISTEXT(C27)),A26+1," ") | N27: 기타 | O27: =COUNTIF(C8:C27," ") -> 0 | P27: / | Q27: =SUMIF(C8:C27," ",E8:E27) -> 0 | S27: / | U27: =O27 -> 0 | V27: / | W27: =Q27 -> 0 | X27: =CONCATENATE(C27,H27)
A28: 소 계 | E28: =SUM(E8:E27) -> 0 | N28: 계 | O28: =SUM(O8:O27) -> 0 | P28: / | Q28: =SUM(Q8:Q27) -> 0 | R28: =SUM(R8:R27) -> 0 | S28: / | T28: =SUM(T8:T27) -> 0 | U28: =SUM(U8:U27) -> 0 | V28: / | W28: =SUM(W8:W27) -> 0 | X28: =CONCATENATE(C28,H28)
A29: =IF(OR(ISNUMBER(E29),ISTEXT(C29)),A27+1," ") | N29: 전 | O29: =COUNTIF(C29:C48,"전") -> 0 | P29: / | Q29: =SUMIF(C29:C48,"전",E29:E48) -> 0 | R29: =COUNTIF(X29:X48,"전국") -> 0 | S29: / | T29: =SUMIF(X29:X48,"전국",E29:E48) -> 0 | U29: =O29-R29 -> 0 | V29: / | W29: =Q29-T29 -> 0 | X29: =CONCATENATE(C29,H29)
A30: =IF(OR(ISNUMBER(E30),ISTEXT(C30)),A29+1," ") | N30: 답 | O30: =COUNTIF(C29:C48,"답") -> 0 | P30: / | Q30: =SUMIF(C29:C48,"답",E29:E48) -> 0 | R30: =COUNTIF(X29:X48,"답국") -> 0 | S30: / | T30: =SUMIF(X29:X48,"답국",E29:E48) -> 0 | U30: =O30-R30 -> 0 | V30: / | W30: =Q30-T30 -> 0 | X30: =CONCATENATE(C30,H30)
A31: =IF(OR(ISNUMBER(E31),ISTEXT(C31)),A30+1," ") | N31: 임야 | O31: =COUNTIF(C29:C48,"임") -> 0 | P31: / | Q31: =SUMIF(C29:C48,"임",E29:E48) -> 0 | R31: =COUNTIF(X29:X48,"임국") -> 0 | S31: / | T31: =SUMIF(X29:X48,"임국",E29:E48) -> 0 | U31: =O31-R31 -> 0 | V31: / | W31: =Q31-T31 -> 0 | X31: =CONCATENATE(C31,H31)
A32: =IF(OR(ISNUMBER(E32),ISTEXT(C32)),A31+1," ") | N32: 대지 | O32: =COUNTIF(C29:C48,"대") -> 0 | P32: / | Q32: =SUMIF(C29:C48,"대",E29:E48) -> 0 | R32: =COUNTIF(X29:X48,"대국") -> 0 | S32: / | T32: =SUMIF(X29:X48,"대국",E29:E48) -> 0 | U32: =O32-R32 -> 0 | V32: / | W32: =Q32-T32 -> 0 | X32: =CONCATENATE(C32,H32)
A33: =IF(OR(ISNUMBER(E33),ISTEXT(C33)),A32+1," ") | N33: 도로 | O33: =COUNTIF(C29:C48,"도") -> 0 | P33: / | Q33: =SUMIF(C29:C48,"도",E29:E48) -> 0 | R33: =COUNTIF(X29:X48,"도국") -> 0 | S33: / | T33: =SUMIF(X29:X48,"도국",E29:E48) -> 0 | U33: =O33-R33 -> 0 | V33: / | W33: =Q33-T33 -> 0 | X33: =CONCATENATE(C33,H33)
A34: =IF(OR(ISNUMBER(E34),ISTEXT(C34)),A33+1," ") | N34: 하천 | O34: =COUNTIF(C29:C48,"천") -> 0 | P34: / | Q34: =SUMIF(C29:C48,"천",E29:E48) -> 0 | R34: =COUNTIF(X29:X48,"천국") -> 0 | S34: / | T34: =SUMIF(X29:X48,"천국",E29:E48) -> 0 | U34: =O34-R34 -> 0 | V34: / | W34: =Q34-T34 -> 0 | X34: =CONCATENATE(C34,H34)
A35: =IF(OR(ISNUMBER(E35),ISTEXT(C35)),A34+1," ") | N35: 구거 | O35: =COUNTIF(C29:C48,"구") -> 0 | P35: / | Q35: =SUMIF(C29:C48,"구",E29:E48) -> 0 | R35: =COUNTIF(X29:X48,"구국") -> 0 | S35: / | T35: =SUMIF(X29:X48,"구국",E29:E48) -> 0 | U35: =O35-R35 -> 0 | V35: / | W35: =Q35-T35 -> 0 | X35: =CONCATENATE(C35,H35)
A36: =IF(OR(ISNUMBER(E36),ISTEXT(C36)),A35+1," ") | N36: 제방 | O36: =COUNTIF(C29:C48,"제") -> 0 | P36: / | Q36: =SUMIF(C29:C48,"제",E29:E48) -> 0 | R36: =COUNTIF(X29:X48,"제국") -> 0 | S36: / | T36: =SUMIF(X29:X48,"제국",E29:E48) -> 0 | U36: =O36-R36 -> 0 | V36: / | W36: =Q36-T36 -> 0 | X36: =CONCATENATE(C36,H36)
A37: =IF(OR(ISNUMBER(E37),ISTEXT(C37)),A36+1," ") | N37: 유지 | O37: =COUNTIF(C29:C48,"유") -> 0 | P37: / | Q37: =SUMIF(C29:C48,"유",E29:E48) -> 0 | R37: =COUNTIF(X29:X48,"유국") -> 0 | S37: / | T37: =SUMIF(X29:X48,"유국",E29:E48) -> 0 | U37: =O37-R37 -> 0 | V37: / | W37: =Q37-T37 -> 0 | X37: =CONCATENATE(C37,H37)
A38: =IF(OR(ISNUMBER(E38),ISTEXT(C38)),A37+1," ") | N38: 과수원 | O38: =COUNTIF(C29:C48,"과") -> 0 | P38: / | Q38: =SUMIF(C29:C48,"과",E29:E48) -> 0 | R38: =COUNTIF(X29:X48,"과국") -> 0 | S38: / | T38: =SUMIF(X29:X48,"과국",E29:E48) -> 0 | U38: =O38-R38 -> 0 | V38: / | W38: =Q38-T38 -> 0 | X38: =CONCATENATE(C38,H38)
A39: =IF(OR(ISNUMBER(E39),ISTEXT(C39)),A38+1," ") | N39: 묘지 | O39: =COUNTIF(C29:C48,"묘") -> 0 | P39: / | Q39: =SUMIF(C29:C48,"묘",E29:E48) -> 0 | R39: =COUNTIF(X29:X48,"묘국") -> 0 | S39: / | T39: =SUMIF(X29:X48,"묘국",E29:E48) -> 0 | U39: =O39-R39 -> 0 | V39: / | W39: =Q39-T39 -> 0 | X39: =CONCATENATE(C39,H39)
A40: =IF(OR(ISNUMBER(E40),ISTEXT(C40)),A39+1," ") | N40: 목장 | O40: =COUNTIF(C29:C48,"목") -> 0 | P40: / | Q40: =SUMIF(C29:C48,"목",E29:E48) -> 0 | R40: =COUNTIF(X29:X48,"목국") -> 0 | S40: / | T40: =SUMIF(X29:X48,"목국",E29:E48) -> 0 | U40: =O40-R40 -> 0 | V40: / | W40: =Q40-T40 -> 0 | X40: =CONCATENATE(C40,H40)
A41: =IF(OR(ISNUMBER(E41),ISTEXT(C41)),A40+1," ") | N41: 잡종지 | O41: =COUNTIF(C29:C48,"잡") -> 0 | P41: / | Q41: =SUMIF(C29:C48,"잡",E29:E48) -> 0 | R41: =COUNTIF(X29:X48,"잡국") -> 0 | S41: / | T41: =SUMIF(X29:X48,"잡국",E29:E48) -> 0 | U41: =O41-R41 -> 0 | V41: / | W41: =Q41-T41 -> 0 | X41: =CONCATENATE(C41,H41)
A42: =IF(OR(ISNUMBER(E42),ISTEXT(C42)),A41+1," ") | N42: 학교용지 | O42: =COUNTIF(C29:C48,"학") -> 0 | P42: / | Q42: =SUMIF(C29:C48,"학",E29:E48) -> 0 | R42: =COUNTIF(X29:X48,"학국") -> 0 | S42: / | T42: =SUMIF(X29:X48,"학국",E29:E48) -> 0 | U42: =O42-R42 -> 0 | V42: / | W42: =Q42-T42 -> 0 | X42: =CONCATENATE(C42,H42)
A43: =IF(OR(ISNUMBER(E43),ISTEXT(C43)),A42+1," ") | N43: 수도 | O43: =COUNTIF(C29:C48,"수") -> 0 | P43: / | Q43: =SUMIF(C29:C48,"수",E29:E48) -> 0 | R43: =COUNTIF(X29:X48,"수국") -> 0 | S43: / | T43: =SUMIF(X29:X48,"수국",E29:E48) -> 0 | U43: =O43-R43 -> 0 | V43: / | W43: =Q43-T43 -> 0 | X43: =CONCATENATE(C43,H43)
A44: =IF(OR(ISNUMBER(E44),ISTEXT(C44)),A43+1," ") | N44: 공장 | O44: =COUNTIF(C29:C48,"장") -> 0 | P44: / | Q44: =SUMIF(C29:C48,"장",E29:E48) -> 0 | R44: =COUNTIF(X29:X48,"장국") -> 0 | S44: / | T44: =SUMIF(X29:X48,"장국",E29:E48) -> 0 | U44: =O44-R44 -> 0 | V44: / | W44: =Q44-T44 -> 0 | X44: =CONCATENATE(C44,H44)
A45: =IF(OR(ISNUMBER(E45),ISTEXT(C45)),A44+1," ") | X45: =CONCATENATE(C45,H45)
A46: =IF(OR(ISNUMBER(E46),ISTEXT(C46)),A45+1," ") | X46: =CONCATENATE(C46,H46)
A47: =IF(OR(ISNUMBER(E47),ISTEXT(C47)),A46+1," ") | X47: =CONCATENATE(C47,H47)
A48: =IF(OR(ISNUMBER(E48),ISTEXT(C48)),A47+1," ") | N48: 기타 | O48: =COUNTIF(C29:C48," ") -> 0 | P48: / | Q48: =SUMIF(C29:C48," ",E29:E48) -> 0 | S48: / | U48: =O48 -> 0 | V48: / | W48: =Q48 -> 0 | X48: =CONCATENATE(C48,H48)
A49: 소 계 | E49: =SUM(E29:E48) -> 0 | N49: 계 | O49: =SUM(O29:O48) -> 0 | P49: / | Q49: =SUM(Q29:Q48) -> 0 | R49: =SUM(R29:R48) -> 0 | S49: / | T49: =SUM(T29:T48) -> 0 | U49: =SUM(U29:U48) -> 0 | V49: / | W49: =SUM(W29:W48) -> 0 | X49: =CONCATENATE(C49,H49)
A50: =IF(OR(ISNUMBER(E50),ISTEXT(C50)),A48+1," ") | N50: 전 | O50: =COUNTIF(C50:C69,"전") -> 0 | P50: / | Q50: =SUMIF(C50:C69,"전",E50:E69) -> 0 | R50: =COUNTIF(X50:X69,"전국") -> 0 | S50: / | T50: =SUMIF(X50:X69,"전국",E50:E69) -> 0 | U50: =O50-R50 -> 0 | V50: / | W50: =Q50-T50 -> 0 | X50: =CONCATENATE(C50,H50)
A51: =IF(OR(ISNUMBER(E51),ISTEXT(C51)),A50+1," ") | N51: 답 | O51: =COUNTIF(C50:C69,"답") -> 0 | P51: / | Q51: =SUMIF(C50:C69,"답",E50:E69) -> 0 | R51: =COUNTIF(X50:X69,"답국") -> 0 | S51: / | T51: =SUMIF(X50:X69,"답국",E50:E69) -> 0 | U51: =O51-R51 -> 0 | V51: / | W51: =Q51-T51 -> 0 | X51: =CONCATENATE(C51,H51)
A52: =IF(OR(ISNUMBER(E52),ISTEXT(C52)),A51+1," ") | N52: 임야 | O52: =COUNTIF(C50:C69,"임") -> 0 | P52: / | Q52: =SUMIF(C50:C69,"임",E50:E69) -> 0 | R52: =COUNTIF(X50:X69,"임국") -> 0 | S52: / | T52: =SUMIF(X50:X69,"임국",E50:E69) -> 0 | U52: =O52-R52 -> 0 | V52: / | W52: =Q52-T52 -> 0 | X52: =CONCATENATE(C52,H52)
A53: =IF(OR(ISNUMBER(E53),ISTEXT(C53)),A52+1," ") | N53: 대지 | O53: =COUNTIF(C50:C69,"대") -> 0 | P53: / | Q53: =SUMIF(C50:C69,"대",E50:E69) -> 0 | R53: =COUNTIF(X50:X69,"대국") -> 0 | S53: / | T53: =SUMIF(X50:X69,"대국",E50:E69) -> 0 | U53: =O53-R53 -> 0 | V53: / | W53: =Q53-T53 -> 0 | X53: =CONCATENATE(C53,H53)
A54: =IF(OR(ISNUMBER(E54),ISTEXT(C54)),A53+1," ") | N54: 도로 | O54: =COUNTIF(C50:C69,"도") -> 0 | P54: / | Q54: =SUMIF(C50:C69,"도",E50:E69) -> 0 | R54: =COUNTIF(X50:X69,"도국") -> 0 | S54: / | T54: =SUMIF(X50:X69,"도국",E50:E69) -> 0 | U54: =O54-R54 -> 0 | V54: / | W54: =Q54-T54 -> 0 | X54: =CONCATENATE(C54,H54)
A55: =IF(OR(ISNUMBER(E55),ISTEXT(C55)),A54+1," ") | N55: 하천 | O55: =COUNTIF(C50:C69,"천") -> 0 | P55: / | Q55: =SUMIF(C50:C69,"천",E50:E69) -> 0 | R55: =COUNTIF(X50:X69,"천국") -> 0 | S55: / | T55: =SUMIF(X50:X69,"천국",E50:E69) -> 0 | U55: =O55-R55 -> 0 | V55: / | W55: =Q55-T55 -> 0 | X55: =CONCATENATE(C55,H55)
A56: =IF(OR(ISNUMBER(E56),ISTEXT(C56)),A55+1," ") | N56: 구거 | O56: =COUNTIF(C50:C69,"구") -> 0 | P56: / | Q56: =SUMIF(C50:C69,"구",E50:E69) -> 0 | R56: =COUNTIF(X50:X69,"구국") -> 0 | S56: / | T56: =SUMIF(X50:X69,"구국",E50:E69) -> 0 | U56: =O56-R56 -> 0 | V56: / | W56: =Q56-T56 -> 0 | X56: =CONCATENATE(C56,H56)
A57: =IF(OR(ISNUMBER(E57),ISTEXT(C57)),A56+1," ") | N57: 제방 | O57: =COUNTIF(C50:C69,"제") -> 0 | P57: / | Q57: =SUMIF(C50:C69,"제",E50:E69) -> 0 | R57: =COUNTIF(X50:X69,"제국") -> 0 | S57: / | T57: =SUMIF(X50:X69,"제국",E50:E69) -> 0 | U57: =O57-R57 -> 0 | V57: / | W57: =Q57-T57 -> 0 | X57: =CONCATENATE(C57,H57)
A58: =IF(OR(ISNUMBER(E58),ISTEXT(C58)),A57+1," ") | N58: 유지 | O58: =COUNTIF(C50:C69,"유") -> 0 | P58: / | Q58: =SUMIF(C50:C69,"유",E50:E69) -> 0 | R58: =COUNTIF(X50:X69,"유국") -> 0 | S58: / | T58: =SUMIF(X50:X69,"유국",E50:E69) -> 0 | U58: =O58-R58 -> 0 | V58: / | W58: =Q58-T58 -> 0 | X58: =CONCATENATE(C58,H58)
A59: =IF(OR(ISNUMBER(E59),ISTEXT(C59)),A58+1," ") | N59: 과수원 | O59: =COUNTIF(C50:C69,"과") -> 0 | P59: / | Q59: =SUMIF(C50:C69,"과",E50:E69) -> 0 | R59: =COUNTIF(X50:X69,"과국") -> 0 | S59: / | T59: =SUMIF(X50:X69,"과국",E50:E69) -> 0 | U59: =O59-R59 -> 0 | V59: / | W59: =Q59-T59 -> 0 | X59: =CONCATENATE(C59,H59)
A60: =IF(OR(ISNUMBER(E60),ISTEXT(C60)),A59+1," ") | N60: 묘지 | O60: =COUNTIF(C50:C69,"묘") -> 0 | P60: / | Q60: =SUMIF(C50:C69,"묘",E50:E69) -> 0 | R60: =COUNTIF(X50:X69,"묘국") -> 0 | S60: / | T60: =SUMIF(X50:X69,"묘국",E50:E69) -> 0 | U60: =O60-R60 -> 0 | V60: / | W60: =Q60-T60 -> 0 | X60: =CONCATENATE(C60,H60)
A61: =IF(OR(ISNUMBER(E61),ISTEXT(C61)),A60+1," ") | N61: 목장 | O61: =COUNTIF(C50:C69,"목") -> 0 | P61: / | Q61: =SUMIF(C50:C69,"목",E50:E69) -> 0 | R61: =COUNTIF(X50:X69,"목국") -> 0 | S61: / | T61: =SUMIF(X50:X69,"목국",E50:E69) -> 0 | U61: =O61-R61 -> 0 | V61: / | W61: =Q61-T61 -> 0 | X61: =CONCATENATE(C61,H61)
A62: =IF(OR(ISNUMBER(E62),ISTEXT(C62)),A61+1," ") | N62: 잡종지 | O62: =COUNTIF(C50:C69,"잡") -> 0 | P62: / | Q62: =SUMIF(C50:C69,"잡",E50:E69) -> 0 | R62: =COUNTIF(X50:X69,"잡국") -> 0 | S62: / | T62: =SUMIF(X50:X69,"잡국",E50:E69) -> 0 | U62: =O62-R62 -> 0 | V62: / | W62: =Q62-T62 -> 0 | X62: =CONCATENATE(C62,H62)
A63: =IF(OR(ISNUMBER(E63),ISTEXT(C63)),A62+1," ") | N63: 학교용지 | O63: =COUNTIF(C50:C69,"학") -> 0 | P63: / | Q63: =SUMIF(C50:C69,"학",E50:E69) -> 0 | R63: =COUNTIF(X50:X69,"학국") -> 0 | S63: / | T63: =SUMIF(X50:X69,"학국",E50:E69) -> 0 | U63: =O63-R63 -> 0 | V63: / | W63: =Q63-T63 -> 0 | X63: =CONCATENATE(C63,H63)
A64: =IF(OR(ISNUMBER(E64),ISTEXT(C64)),A63+1," ") | N64: 수도 | O64: =COUNTIF(C50:C69,"수") -> 0 | P64: / | Q64: =SUMIF(C50:C69,"수",E50:E69) -> 0 | R64: =COUNTIF(X50:X69,"수국") -> 0 | S64: / | T64: =SUMIF(X50:X69,"수국",E50:E69) -> 0 | U64: =O64-R64 -> 0 | V64: / | W64: =Q64-T64 -> 0 | X64: =CONCATENATE(C64,H64)
A65: =IF(OR(ISNUMBER(E65),ISTEXT(C65)),A64+1," ") | N65: 공장 | O65: =COUNTIF(C50:C69,"장") -> 0 | P65: / | Q65: =SUMIF(C50:C69,"장",E50:E69) -> 0 | R65: =COUNTIF(X50:X69,"장국") -> 0 | S65: / | T65: =SUMIF(X50:X69,"장국",E50:E69) -> 0 | U65: =O65-R65 -> 0 | V65: / | W65: =Q65-T65 -> 0 | X65: =CONCATENATE(C65,H65)
A66: =IF(OR(ISNUMBER(E66),ISTEXT(C66)),A65+1," ") | X66: =CONCATENATE(C66,H66)
A67: =IF(OR(ISNUMBER(E67),ISTEXT(C67)),A66+1," ") | X67: =CONCATENATE(C67,H67)
A68: =IF(OR(ISNUMBER(E68),ISTEXT(C68)),A67+1," ") | X68: =CONCATENATE(C68,H68)
A69: =IF(OR(ISNUMBER(E69),ISTEXT(C69)),A68+1," ") | N69: 기타 | O69: =COUNTIF(C50:C69," ") -> 0 | P69: / | Q69: =SUMIF(C50:C69," ",E50:E69) -> 0 | S69: / | U69: =O69 -> 0 | V69: / | W69: =Q69 -> 0 | X69: =CONCATENATE(C69,H69)
A70: 소 계 | E70: =SUM(E50:E69) -> 0 | N70: 계 | O70: =SUM(O50:O69) -> 0 | P70: / | Q70: =SUM(Q50:Q69) -> 0 | R70: =SUM(R50:R69) -> 0 | S70: / | T70: =SUM(T50:T69) -> 0 | U70: =SUM(U50:U69) -> 0 | V70: / | W70: =SUM(W50:W69) -> 0 | X70: =CONCATENATE(C70,H70)
A71: =IF(OR(ISNUMBER(E71),ISTEXT(C71)),A69+1," ") | N71: 전 | O71: =COUNTIF(C71:C90,"전") -> 0 | P71: / | Q71: =SUMIF(C71:C90,"전",E71:E90) -> 0 | R71: =COUNTIF(X71:X90,"전국") -> 0 | S71: / | T71: =SUMIF(X71:X90,"전국",E71:E90) -> 0 | U71: =O71-R71 -> 0 | V71: / | W71: =Q71-T71 -> 0 | X71: =CONCATENATE(C71,H71)
A72: =IF(OR(ISNUMBER(E72),ISTEXT(C72)),A71+1," ") | N72: 답 | O72: =COUNTIF(C71:C90,"답") -> 0 | P72: / | Q72: =SUMIF(C71:C90,"답",E71:E90) -> 0 | R72: =COUNTIF(X71:X90,"답국") -> 0 | S72: / | T72: =SUMIF(X71:X90,"답국",E71:E90) -> 0 | U72: =O72-R72 -> 0 | V72: / | W72: =Q72-T72 -> 0 | X72: =CONCATENATE(C72,H72)
A73: =IF(OR(ISNUMBER(E73),ISTEXT(C73)),A72+1," ") | N73: 임야 | O73: =COUNTIF(C71:C90,"임") -> 0 | P73: / | Q73: =SUMIF(C71:C90,"임",E71:E90) -> 0 | R73: =COUNTIF(X71:X90,"임국") -> 0 | S73: / | T73: =SUMIF(X71:X90,"임국",E71:E90) -> 0 | U73: =O73-R73 -> 0 | V73: / | W73: =Q73-T73 -> 0 | X73: =CONCATENATE(C73,H73)
A74: =IF(OR(ISNUMBER(E74),ISTEXT(C74)),A73+1," ") | N74: 대지 | O74: =COUNTIF(C71:C90,"대") -> 0 | P74: / | Q74: =SUMIF(C71:C90,"대",E71:E90) -> 0 | R74: =COUNTIF(X71:X90,"대국") -> 0 | S74: / | T74: =SUMIF(X71:X90,"대국",E71:E90) -> 0 | U74: =O74-R74 -> 0 | V74: / | W74: =Q74-T74 -> 0 | X74: =CONCATENATE(C74,H74)
A75: =IF(OR(ISNUMBER(E75),ISTEXT(C75)),A74+1," ") | N75: 도로 | O75: =COUNTIF(C71:C90,"도") -> 0 | P75: / | Q75: =SUMIF(C71:C90,"도",E71:E90) -> 0 | R75: =COUNTIF(X71:X90,"도국") -> 0 | S75: / | T75: =SUMIF(X71:X90,"도국",E71:E90) -> 0 | U75: =O75-R75 -> 0 | V75: / | W75: =Q75-T75 -> 0 | X75: =CONCATENATE(C75,H75)
A76: =IF(OR(ISNUMBER(E76),ISTEXT(C76)),A75+1," ") | N76: 하천 | O76: =COUNTIF(C71:C90,"천") -> 0 | P76: / | Q76: =SUMIF(C71:C90,"천",E71:E90) -> 0 | R76: =COUNTIF(X71:X90,"천국") -> 0 | S76: / | T76: =SUMIF(X71:X90,"천국",E71:E90) -> 0 | U76: =O76-R76 -> 0 | V76: / | W76: =Q76-T76 -> 0 | X76: =CONCATENATE(C76,H76)
A77: =IF(OR(ISNUMBER(E77),ISTEXT(C77)),A76+1," ") | N77: 구거 | O77: =COUNTIF(C71:C90,"구") -> 0 | P77: / | Q77: =SUMIF(C71:C90,"구",E71:E90) -> 0 | R77: =COUNTIF(X71:X90,"구국") -> 0 | S77: / | T77: =SUMIF(X71:X90,"구국",E71:E90) -> 0 | U77: =O77-R77 -> 0 | V77: / | W77: =Q77-T77 -> 0 | X77: =CONCATENATE(C77,H77)
A78: =IF(OR(ISNUMBER(E78),ISTEXT(C78)),A77+1," ") | N78: 제방 | O78: =COUNTIF(C71:C90,"제") -> 0 | P78: / | Q78: =SUMIF(C71:C90,"제",E71:E90) -> 0 | R78: =COUNTIF(X71:X90,"제국") -> 0 | S78: / | T78: =SUMIF(X71:X90,"제국",E71:E90) -> 0 | U78: =O78-R78 -> 0 | V78: / | W78: =Q78-T78 -> 0 | X78: =CONCATENATE(C78,H78)
A79: =IF(OR(ISNUMBER(E79),ISTEXT(C79)),A78+1," ") | N79: 유지 | O79: =COUNTIF(C71:C90,"유") -> 0 | P79: / | Q79: =SUMIF(C71:C90,"유",E71:E90) -> 0 | R79: =COUNTIF(X71:X90,"유국") -> 0 | S79: / | T79: =SUMIF(X71:X90,"유국",E71:E90) -> 0 | U79: =O79-R79 -> 0 | V79: / | W79: =Q79-T79 -> 0 | X79: =CONCATENATE(C79,H79)
A80: =IF(OR(ISNUMBER(E80),ISTEXT(C80)),A79+1," ") | N80: 과수원 | O80: =COUNTIF(C71:C90,"과") -> 0 | P80: / | Q80: =SUMIF(C71:C90,"과",E71:E90) -> 0 | R80: =COUNTIF(X71:X90,"과국") -> 0 | S80: / | T80: =SUMIF(X71:X90,"과국",E71:E90) -> 0 | U80: =O80-R80 -> 0 | V80: / | W80: =Q80-T80 -> 0 | X80: =CONCATENATE(C80,H80)
A81: =IF(OR(ISNUMBER(E81),ISTEXT(C81)),A80+1," ") | N81: 묘지 | O81: =COUNTIF(C71:C90,"묘") -> 0 | P81: / | Q81: =SUMIF(C71:C90,"묘",E71:E90) -> 0 | R81: =COUNTIF(X71:X90,"묘국") -> 0 | S81: / | T81: =SUMIF(X71:X90,"묘국",E71:E90) -> 0 | U81: =O81-R81 -> 0 | V81: / | W81: =Q81-T81 -> 0 | X81: =CONCATENATE(C81,H81)
A82: =IF(OR(ISNUMBER(E82),ISTEXT(C82)),A81+1," ") | N82: 목장 | O82: =COUNTIF(C71:C90,"목") -> 0 | P82: / | Q82: =SUMIF(C71:C90,"목",E71:E90) -> 0 | R82: =COUNTIF(X71:X90,"목국") -> 0 | S82: / | T82: =SUMIF(X71:X90,"목국",E71:E90) -> 0 | U82: =O82-R82 -> 0 | V82: / | W82: =Q82-T82 -> 0 | X82: =CONCATENATE(C82,H82)
A83: =IF(OR(ISNUMBER(E83),ISTEXT(C83)),A82+1," ") | N83: 잡종지 | O83: =COUNTIF(C71:C90,"잡") -> 0 | P83: / | Q83: =SUMIF(C71:C90,"잡",E71:E90) -> 0 | R83: =COUNTIF(X71:X90,"잡국") -> 0 | S83: / | T83: =SUMIF(X71:X90,"잡국",E71:E90) -> 0 | U83: =O83-R83 -> 0 | V83: / | W83: =Q83-T83 -> 0 | X83: =CONCATENATE(C83,H83)
A84: =IF(OR(ISNUMBER(E84),ISTEXT(C84)),A83+1," ") | N84: 학교용지 | O84: =COUNTIF(C71:C90,"학") -> 0 | P84: / | Q84: =SUMIF(C71:C90,"학",E71:E90) -> 0 | R84: =COUNTIF(X71:X90,"학국") -> 0 | S84: / | T84: =SUMIF(X71:X90,"학국",E71:E90) -> 0 | U84: =O84-R84 -> 0 | V84: / | W84: =Q84-T84 -> 0 | X84: =CONCATENATE(C84,H84)
A85: =IF(OR(ISNUMBER(E85),ISTEXT(C85)),A84+1," ") | N85: 수도 | O85: =COUNTIF(C71:C90,"수") -> 0 | P85: / | Q85: =SUMIF(C71:C90,"수",E71:E90) -> 0 | R85: =COUNTIF(X71:X90,"수국") -> 0 | S85: / | T85: =SUMIF(X71:X90,"수국",E71:E90) -> 0 | U85: =O85-R85 -> 0 | V85: / | W85: =Q85-T85 -> 0 | X85: =CONCATENATE(C85,H85)
A86: =IF(OR(ISNUMBER(E86),ISTEXT(C86)),A85+1," ") | N86: 공장 | O86: =COUNTIF(C71:C90,"장") -> 0 | P86: / | Q86: =SUMIF(C71:C90,"장",E71:E90) -> 0 | R86: =COUNTIF(X71:X90,"장국") -> 0 | S86: / | T86: =SUMIF(X71:X90,"장국",E71:E90) -> 0 | U86: =O86-R86 -> 0 | V86: / | W86: =Q86-T86 -> 0 | X86: =CONCATENATE(C86,H86)
A87: =IF(OR(ISNUMBER(E87),ISTEXT(C87)),A86+1," ") | X87: =CONCATENATE(C87,H87)
A88: =IF(OR(ISNUMBER(E88),ISTEXT(C88)),A87+1," ") | X88: =CONCATENATE(C88,H88)
A89: =IF(OR(ISNUMBER(E89),ISTEXT(C89)),A88+1," ") | X89: =CONCATENATE(C89,H89)
A90: =IF(OR(ISNUMBER(E90),ISTEXT(C90)),A89+1," ") | N90: 기타 | O90: =COUNTIF(C71:C90," ") -> 0 | P90: / | Q90: =SUMIF(C71:C90," ",E71:E90) -> 0 | S90: / | U90: =O90 -> 0 | V90: / | W90: =Q90 -> 0 | X90: =CONCATENATE(C90,H90)
A91: 소 계 | E91: =SUM(E71:E90) -> 0 | N91: 계 | O91: =SUM(O71:O90) -> 0 | P91: / | Q91: =SUM(Q71:Q90) -> 0 | R91: =SUM(R71:R90) -> 0 | S91: / | T91: =SUM(T71:T90) -> 0 | U91: =SUM(U71:U90) -> 0 | V91: / | W91: =SUM(W71:W90) -> 0 | X91: =CONCATENATE(C91,H91)
A92: =IF(OR(ISNUMBER(E92),ISTEXT(C92)),A90+1," ") | N92: 전 | O92: =COUNTIF(C92:C111,"전") -> 0 | P92: / | Q92: =SUMIF(C92:C111,"전",E92:E111) -> 0 | R92: =COUNTIF(X92:X111,"전국") -> 0 | S92: / | T92: =SUMIF(X92:X111,"전국",E92:E111) -> 0 | U92: =O92-R92 -> 0 | V92: / | W92: =Q92-T92 -> 0 | X92: =CONCATENATE(C92,H92)
A93: =IF(OR(ISNUMBER(E93),ISTEXT(C93)),A92+1," ") | N93: 답 | O93: =COUNTIF(C92:C111,"답") -> 0 | P93: / | Q93: =SUMIF(C92:C111,"답",E92:E111) -> 0 | R93: =COUNTIF(X92:X111,"답국") -> 0 | S93: / | T93: =SUMIF(X92:X111,"답국",E92:E111) -> 0 | U93: =O93-R93 -> 0 | V93: / | W93: =Q93-T93 -> 0 | X93: =CONCATENATE(C93,H93)
A94: =IF(OR(ISNUMBER(E94),ISTEXT(C94)),A93+1," ") | N94: 임야 | O94: =COUNTIF(C92:C111,"임") -> 0 | P94: / | Q94: =SUMIF(C92:C111,"임",E92:E111) -> 0 | R94: =COUNTIF(X92:X111,"임국") -> 0 | S94: / | T94: =SUMIF(X92:X111,"임국",E92:E111) -> 0 | U94: =O94-R94 -> 0 | V94: / | W94: =Q94-T94 -> 0 | X94: =CONCATENATE(C94,H94)
A95: =IF(OR(ISNUMBER(E95),ISTEXT(C95)),A94+1," ") | N95: 대지 | O95: =COUNTIF(C92:C111,"대") -> 0 | P95: / | Q95: =SUMIF(C92:C111,"대",E92:E111) -> 0 | R95: =COUNTIF(X92:X111,"대국") -> 0 | S95: / | T95: =SUMIF(X92:X111,"대국",E92:E111) -> 0 | U95: =O95-R95 -> 0 | V95: / | W95: =Q95-T95 -> 0 | X95: =CONCATENATE(C95,H95)
A96: =IF(OR(ISNUMBER(E96),ISTEXT(C96)),A95+1," ") | N96: 도로 | O96: =COUNTIF(C92:C111,"도") -> 0 | P96: / | Q96: =SUMIF(C92:C111,"도",E92:E111) -> 0 | R96: =COUNTIF(X92:X111,"도국") -> 0 | S96: / | T96: =SUMIF(X92:X111,"도국",E92:E111) -> 0 | U96: =O96-R96 -> 0 | V96: / | W96: =Q96-T96 -> 0 | X96: =CONCATENATE(C96,H96)
A97: =IF(OR(ISNUMBER(E97),ISTEXT(C97)),A96+1," ") | N97: 하천 | O97: =COUNTIF(C92:C111,"천") -> 0 | P97: / | Q97: =SUMIF(C92:C111,"천",E92:E111) -> 0 | R97: =COUNTIF(X92:X111,"천국") -> 0 | S97: / | T97: =SUMIF(X92:X111,"천국",E92:E111) -> 0 | U97: =O97-R97 -> 0 | V97: / | W97: =Q97-T97 -> 0 | X97: =CONCATENATE(C97,H97)
A98: =IF(OR(ISNUMBER(E98),ISTEXT(C98)),A97+1," ") | N98: 구거 | O98: =COUNTIF(C92:C111,"구") -> 0 | P98: / | Q98: =SUMIF(C92:C111,"구",E92:E111) -> 0 | R98: =COUNTIF(X92:X111,"구국") -> 0 | S98: / | T98: =SUMIF(X92:X111,"구국",E92:E111) -> 0 | U98: =O98-R98 -> 0 | V98: / | W98: =Q98-T98 -> 0 | X98: =CONCATENATE(C98,H98)
A99: =IF(OR(ISNUMBER(E99),ISTEXT(C99)),A98+1," ") | N99: 제방 | O99: =COUNTIF(C92:C111,"제") -> 0 | P99: / | Q99: =SUMIF(C92:C111,"제",E92:E111) -> 0 | R99: =COUNTIF(X92:X111,"제국") -> 0 | S99: / | T99: =SUMIF(X92:X111,"제국",E92:E111) -> 0 | U99: =O99-R99 -> 0 | V99: / | W99: =Q99-T99 -> 0 | X99: =CONCATENATE(C99,H99)
A100: =IF(OR(ISNUMBER(E100),ISTEXT(C100)),A99+1," ") | N100: 유지 | O100: =COUNTIF(C92:C111,"유") -> 0 | P100: / | Q100: =SUMIF(C92:C111,"유",E92:E111) -> 0 | R100: =COUNTIF(X92:X111,"유국") -> 0 | S100: / | T100: =SUMIF(X92:X111,"유국",E92:E111) -> 0 | U100: =O100-R100 -> 0 | V100: / | W100: =Q100-T100 -> 0 | X100: =CONCATENATE(C100,H100)
A101: =IF(OR(ISNUMBER(E101),ISTEXT(C101)),A100+1," ") | N101: 과수원 | O101: =COUNTIF(C92:C111,"과") -> 0 | P101: / | Q101: =SUMIF(C92:C111,"과",E92:E111) -> 0 | R101: =COUNTIF(X92:X111,"과국") -> 0 | S101: / | T101: =SUMIF(X92:X111,"과국",E92:E111) -> 0 | U101: =O101-R101 -> 0 | V101: / | W101: =Q101-T101 -> 0 | X101: =CONCATENATE(C101,H101)
A102: =IF(OR(ISNUMBER(E102),ISTEXT(C102)),A101+1," ") | N102: 묘지 | O102: =COUNTIF(C92:C111,"묘") -> 0 | P102: / | Q102: =SUMIF(C92:C111,"묘",E92:E111) -> 0 | R102: =COUNTIF(X92:X111,"묘국") -> 0 | S102: / | T102: =SUMIF(X92:X111,"묘국",E92:E111) -> 0 | U102: =O102-R102 -> 0 | V102: / | W102: =Q102-T102 -> 0 | X102: =CONCATENATE(C102,H102)
A103: =IF(OR(ISNUMBER(E103),ISTEXT(C103)),A102+1," ") | N103: 목장 | O103: =COUNTIF(C92:C111,"목") -> 0 | P103: / | Q103: =SUMIF(C92:C111,"목",E92:E111) -> 0 | R103: =COUNTIF(X92:X111,"목국") -> 0 | S103: / | T103: =SUMIF(X92:X111,"목국",E92:E111) -> 0 | U103: =O103-R103 -> 0 | V103: / | W103: =Q103-T103 -> 0 | X103: =CONCATENATE(C103,H103)
A104: =IF(OR(ISNUMBER(E104),ISTEXT(C104)),A103+1," ") | N104: 잡종지 | O104: =COUNTIF(C92:C111,"잡") -> 0 | P104: / | Q104: =SUMIF(C92:C111,"잡",E92:E111) -> 0 | R104: =COUNTIF(X92:X111,"잡국") -> 0 | S104: / | T104: =SUMIF(X92:X111,"잡국",E92:E111) -> 0 | U104: =O104-R104 -> 0 | V104: / | W104: =Q104-T104 -> 0 | X104: =CONCATENATE(C104,H104)
...

Sheet 용지조서(13)
A1: 용 지 조 서
A6: 일련 | B6: 지 번 | C6: 지목 | D6: 지 적 | E6: 편입면적 | F6: 실제이용상황 | H6: 소 유 자 | J6: 관 계 인 | M6: 비고
A7: 번호 | D7: ( ㎡ ) | E7: ( ㎡ ) | F7: 지목 | G7: 면 적 | H7: 성 명 | I7: 주 소 | J7: 성 명 | K7: 주 소 | L7: 권리관계
A8: =IF(OR(ISNUMBER(E8),ISTEXT(C8)),1," ") | N8: 전 | O8: =COUNTIF(C8:C27,"전") -> 0 | P8: / | Q8: =SUMIF(C8:C27,"전",E8:E27) -> 0 | R8: =COUNTIF(X8:X27,"전국") -> 0 | S8: / | T8: =SUMIF(X8:X27,"전국",E8:E27) -> 0 | U8: =O8-R8 -> 0 | V8: / | W8: =Q8-T8 -> 0 | X8: =CONCATENATE(C8,H8)
A9: =IF(OR(ISNUMBER(E9),ISTEXT(C9)),A8+1," ") | N9: 답 | O9: =COUNTIF(C8:C27,"답") -> 0 | P9: / | Q9: =SUMIF(C8:C27,"답",E8:E27) -> 0 | R9: =COUNTIF(X8:X27,"답국") -> 0 | S9: / | T9: =SUMIF(X8:X27,"답국",E8:E27) -> 0 | U9: =O9-R9 -> 0 | V9: / | W9: =Q9-T9 -> 0 | X9: =CONCATENATE(C9,H9)
A10: =IF(OR(ISNUMBER(E10),ISTEXT(C10)),A9+1," ") | N10: 임야 | O10: =COUNTIF(C8:C27,"임") -> 0 | P10: / | Q10: =SUMIF(C8:C27,"임",E8:E27) -> 0 | R10: =COUNTIF(X8:X27,"임국") -> 0 | S10: / | T10: =SUMIF(X8:X27,"임국",E8:E27) -> 0 | U10: =O10-R10 -> 0 | V10: / | W10: =Q10-T10 -> 0 | X10: =CONCATENATE(C10,H10)
A11: =IF(OR(ISNUMBER(E11),ISTEXT(C11)),A10+1," ") | N11: 대지 | O11: =COUNTIF(C8:C27,"대") -> 0 | P11: / | Q11: =SUMIF(C8:C27,"대",E8:E27) -> 0 | R11: =COUNTIF(X8:X27,"대국") -> 0 | S11: / | T11: =SUMIF(X8:X27,"대국",E8:E27) -> 0 | U11: =O11-R11 -> 0 | V11: / | W11: =Q11-T11 -> 0 | X11: =CONCATENATE(C11,H11)
A12: =IF(OR(ISNUMBER(E12),ISTEXT(C12)),A11+1," ") | N12: 도로 | O12: =COUNTIF(C8:C27,"도") -> 0 | P12: / | Q12: =SUMIF(C8:C27,"도",E8:E27) -> 0 | R12: =COUNTIF(X8:X27,"도국") -> 0 | S12: / | T12: =SUMIF(X8:X27,"도국",E8:E27) -> 0 | U12: =O12-R12 -> 0 | V12: / | W12: =Q12-T12 -> 0 | X12: =CONCATENATE(C12,H12)
A13: =IF(OR(ISNUMBER(E13),ISTEXT(C13)),A12+1," ") | N13: 하천 | O13: =COUNTIF(C8:C27,"천") -> 0 | P13: / | Q13: =SUMIF(C8:C27,"천",E8:E27) -> 0 | R13: =COUNTIF(X8:X27,"천국") -> 0 | S13: / | T13: =SUMIF(X8:X27,"천국",E8:E27) -> 0 | U13: =O13-R13 -> 0 | V13: / | W13: =Q13-T13 -> 0 | X13: =CONCATENATE(C13,H13)
A14: =IF(OR(ISNUMBER(E14),ISTEXT(C14)),A13+1," ") | N14: 구거 | O14: =COUNTIF(C8:C27,"구") -> 0 | P14: / | Q14: =SUMIF(C8:C27,"구",E8:E27) -> 0 | R14: =COUNTIF(X8:X27,"구국") -> 0 | S14: / | T14: =SUMIF(X8:X27,"구국",E8:E27) -> 0 | U14: =O14-R14 -> 0 | V14: / | W14: =Q14-T14 -> 0 | X14: =CONCATENATE(C14,H14)
A15: =IF(OR(ISNUMBER(E15),ISTEXT(C15)),A14+1," ") | N15: 제방 | O15: =COUNTIF(C8:C27,"제") -> 0 | P15: / | Q15: =SUMIF(C8:C27,"제",E8:E27) -> 0 | R15: =COUNTIF(X8:X27,"제국") -> 0 | S15: / | T15: =SUMIF(X8:X27,"제국",E8:E27) -> 0 | U15: =O15-R15 -> 0 | V15: / | W15: =Q15-T15 -> 0 | X15: =CONCATENATE(C15,H15)
A16: =IF(OR(ISNUMBER(E16),ISTEXT(C16)),A15+1," ") | N16: 유지 | O16: =COUNTIF(C8:C27,"유") -> 0 | P16: / | Q16: =SUMIF(C8:C27,"유",E8:E27) -> 0 | R16: =COUNTIF(X8:X27,"유국") -> 0 | S16: / | T16: =SUMIF(X8:X27,"유국",E8:E27) -> 0 | U16: =O16-R16 -> 0 | V16: / | W16: =Q16-T16 -> 0 | X16: =CONCATENATE(C16,H16)
A17: =IF(OR(ISNUMBER(E17),ISTEXT(C17)),A16+1," ") | N17: 과수원 | O17: =COUNTIF(C8:C27,"과") -> 0 | P17: / | Q17: =SUMIF(C8:C27,"과",E8:E27) -> 0 | R17: =COUNTIF(X8:X27,"과국") -> 0 | S17: / | T17: =SUMIF(X8:X27,"과국",E8:E27) -> 0 | U17: =O17-R17 -> 0 | V17: / | W17: =Q17-T17 -> 0 | X17: =CONCATENATE(C17,H17)
A18: =IF(OR(ISNUMBER(E18),ISTEXT(C18)),A17+1," ") | N18: 묘지 | O18: =COUNTIF(C8:C27,"묘") -> 0 | P18: / | Q18: =SUMIF(C8:C27,"묘",E8:E27) -> 0 | R18: =COUNTIF(X8:X27,"묘국") -> 0 | S18: / | T18: =SUMIF(X8:X27,"묘국",E8:E27) -> 0 | U18: =O18-R18 -> 0 | V18: / | W18: =Q18-T18 -> 0 | X18: =CONCATENATE(C18,H18)
A19: =IF(OR(ISNUMBER(E19),ISTEXT(C19)),A18+1," ") | N19: 목장 | O19: =COUNTIF(C8:C27,"목") -> 0 | P19: / | Q19: =SUMIF(C8:C27,"목",E8:E27) -> 0 | R19: =COUNTIF(X8:X27,"목국") -> 0 | S19: / | T19: =SUMIF(X8:X27,"목국",E8:E27) -> 0 | U19: =O19-R19 -> 0 | V19: / | W19: =Q19-T19 -> 0 | X19: =CONCATENATE(C19,H19)
A20: =IF(OR(ISNUMBER(E20),ISTEXT(C20)),A19+1," ") | N20: 잡종지 | O20: =COUNTIF(C8:C27,"잡") -> 0 | P20: / | Q20: =SUMIF(C8:C27,"잡",E8:E27) -> 0 | R20: =COUNTIF(X8:X27,"잡국") -> 0 | S20: / | T20: =SUMIF(X8:X27,"잡국",E8:E27) -> 0 | U20: =O20-R20 -> 0 | V20: / | W20: =Q20-T20 -> 0 | X20: =CONCATENATE(C20,H20)
A21: =IF(OR(ISNUMBER(E21),ISTEXT(C21)),A20+1," ") | N21: 학교용지 | O21: =COUNTIF(C8:C27,"학") -> 0 | P21: / | Q21: =SUMIF(C8:C27,"학",E8:E27) -> 0 | R21: =COUNTIF(X8:X27,"학국") -> 0 | S21: / | T21: =SUMIF(X8:X27,"학국",E8:E27) -> 0 | U21: =O21-R21 -> 0 | V21: / | W21: =Q21-T21 -> 0 | X21: =CONCATENATE(C21,H21)
A22: =IF(OR(ISNUMBER(E22),ISTEXT(C22)),A21+1," ") | N22: 수도 | O22: =COUNTIF(C8:C27,"수") -> 0 | P22: / | Q22: =SUMIF(C8:C27,"수",E8:E27) -> 0 | R22: =COUNTIF(X8:X27,"수국") -> 0 | S22: / | T22: =SUMIF(X8:X27,"수국",E8:E27) -> 0 | U22: =O22-R22 -> 0 | V22: / | W22: =Q22-T22 -> 0 | X22: =CONCATENATE(C22,H22)
A23: =IF(OR(ISNUMBER(E23),ISTEXT(C23)),A22+1," ") | N23: 공장 | O23: =COUNTIF(C8:C27,"장") -> 0 | P23: / | Q23: =SUMIF(C8:C27,"장",E8:E27) -> 0 | R23: =COUNTIF(X8:X27,"장국") -> 0 | S23: / | T23: =SUMIF(X8:X27,"장국",E8:E27) -> 0 | U23: =O23-R23 -> 0 | V23: / | W23: =Q23-T23 -> 0 | X23: =CONCATENATE(C23,H23)
A24: =IF(OR(ISNUMBER(E24),ISTEXT(C24)),A23+1," ") | X24: =CONCATENATE(C24,H24)
A25: =IF(OR(ISNUMBER(E25),ISTEXT(C25)),A24+1," ") | X25: =CONCATENATE(C25,H25)
A26: =IF(OR(ISNUMBER(E26),ISTEXT(C26)),A25+1," ") | X26: =CONCATENATE(C26,H26)
A27: =IF(OR(ISNUMBER(E27),ISTEXT(C27)),A26+1," ") | N27: 기타 | O27: =COUNTIF(C8:C27," ") -> 0 | P27: / | Q27: =SUMIF(C8:C27," ",E8:E27) -> 0 | S27: / | U27: =O27 -> 0 | V27: / | W27: =Q27 -> 0 | X27: =CONCATENATE(C27,H27)
A28: 소 계 | E28: =SUM(E8:E27) -> 0 | N28: 계 | O28: =SUM(O8:O27) -> 0 | P28: / | Q28: =SUM(Q8:Q27) -> 0 | R28: =SUM(R8:R27) -> 0 | S28: / | T28: =SUM(T8:T27) -> 0 | U28: =SUM(U8:U27) -> 0 | V28: / | W28: =SUM(W8:W27) -> 0 | X28: =CONCATENATE(C28,H28)
A29: =IF(OR(ISNUMBER(E29),ISTEXT(C29)),A27+1," ") | N29: 전 | O29: =COUNTIF(C29:C48,"전") -> 0 | P29: / | Q29: =SUMIF(C29:C48,"전",E29:E48) -> 0 | R29: =COUNTIF(X29:X48,"전국") -> 0 | S29: / | T29: =SUMIF(X29:X48,"전국",E29:E48) -> 0 | U29: =O29-R29 -> 0 | V29: / | W29: =Q29-T29 -> 0 | X29: =CONCATENATE(C29,H29)
A30: =IF(OR(ISNUMBER(E30),ISTEXT(C30)),A29+1," ") | N30: 답 | O30: =COUNTIF(C29:C48,"답") -> 0 | P30: / | Q30: =SUMIF(C29:C48,"답",E29:E48) -> 0 | R30: =COUNTIF(X29:X48,"답국") -> 0 | S30: / | T30: =SUMIF(X29:X48,"답국",E29:E48) -> 0 | U30: =O30-R30 -> 0 | V30: / | W30: =Q30-T30 -> 0 | X30: =CONCATENATE(C30,H30)
A31: =IF(OR(ISNUMBER(E31),ISTEXT(C31)),A30+1," ") | N31: 임야 | O31: =COUNTIF(C29:C48,"임") -> 0 | P31: / | Q31: =SUMIF(C29:C48,"임",E29:E48) -> 0 | R31: =COUNTIF(X29:X48,"임국") -> 0 | S31: / | T31: =SUMIF(X29:X48,"임국",E29:E48) -> 0 | U31: =O31-R31 -> 0 | V31: / | W31: =Q31-T31 -> 0 | X31: =CONCATENATE(C31,H31)
A32: =IF(OR(ISNUMBER(E32),ISTEXT(C32)),A31+1," ") | N32: 대지 | O32: =COUNTIF(C29:C48,"대") -> 0 | P32: / | Q32: =SUMIF(C29:C48,"대",E29:E48) -> 0 | R32: =COUNTIF(X29:X48,"대국") -> 0 | S32: / | T32: =SUMIF(X29:X48,"대국",E29:E48) -> 0 | U32: =O32-R32 -> 0 | V32: / | W32: =Q32-T32 -> 0 | X32: =CONCATENATE(C32,H32)
A33: =IF(OR(ISNUMBER(E33),ISTEXT(C33)),A32+1," ") | N33: 도로 | O33: =COUNTIF(C29:C48,"도") -> 0 | P33: / | Q33: =SUMIF(C29:C48,"도",E29:E48) -> 0 | R33: =COUNTIF(X29:X48,"도국") -> 0 | S33: / | T33: =SUMIF(X29:X48,"도국",E29:E48) -> 0 | U33: =O33-R33 -> 0 | V33: / | W33: =Q33-T33 -> 0 | X33: =CONCATENATE(C33,H33)
A34: =IF(OR(ISNUMBER(E34),ISTEXT(C34)),A33+1," ") | N34: 하천 | O34: =COUNTIF(C29:C48,"천") -> 0 | P34: / | Q34: =SUMIF(C29:C48,"천",E29:E48) -> 0 | R34: =COUNTIF(X29:X48,"천국") -> 0 | S34: / | T34: =SUMIF(X29:X48,"천국",E29:E48) -> 0 | U34: =O34-R34 -> 0 | V34: / | W34: =Q34-T34 -> 0 | X34: =CONCATENATE(C34,H34)
A35: =IF(OR(ISNUMBER(E35),ISTEXT(C35)),A34+1," ") | N35: 구거 | O35: =COUNTIF(C29:C48,"구") -> 0 | P35: / | Q35: =SUMIF(C29:C48,"구",E29:E48) -> 0 | R35: =COUNTIF(X29:X48,"구국") -> 0 | S35: / | T35: =SUMIF(X29:X48,"구국",E29:E48) -> 0 | U35: =O35-R35 -> 0 | V35: / | W35: =Q35-T35 -> 0 | X35: =CONCATENATE(C35,H35)
A36: =IF(OR(ISNUMBER(E36),ISTEXT(C36)),A35+1," ") | N36: 제방 | O36: =COUNTIF(C29:C48,"제") -> 0 | P36: / | Q36: =SUMIF(C29:C48,"제",E29:E48) -> 0 | R36: =COUNTIF(X29:X48,"제국") -> 0 | S36: / | T36: =SUMIF(X29:X48,"제국",E29:E48) -> 0 | U36: =O36-R36 -> 0 | V36: / | W36: =Q36-T36 -> 0 | X36: =CONCATENATE(C36,H36)
A37: =IF(OR(ISNUMBER(E37),ISTEXT(C37)),A36+1," ") | N37: 유지 | O37: =COUNTIF(C29:C48,"유") -> 0 | P37: / | Q37: =SUMIF(C29:C48,"유",E29:E48) -> 0 | R37: =COUNTIF(X29:X48,"유국") -> 0 | S37: / | T37: =SUMIF(X29:X48,"유국",E29:E48) -> 0 | U37: =O37-R37 -> 0 | V37: / | W37: =Q37-T37 -> 0 | X37: =CONCATENATE(C37,H37)
A38: =IF(OR(ISNUMBER(E38),ISTEXT(C38)),A37+1," ") | N38: 과수원 | O38: =COUNTIF(C29:C48,"과") -> 0 | P38: / | Q38: =SUMIF(C29:C48,"과",E29:E48) -> 0 | R38: =COUNTIF(X29:X48,"과국") -> 0 | S38: / | T38: =SUMIF(X29:X48,"과국",E29:E48) -> 0 | U38: =O38-R38 -> 0 | V38: / | W38: =Q38-T38 -> 0 | X38: =CONCATENATE(C38,H38)
A39: =IF(OR(ISNUMBER(E39),ISTEXT(C39)),A38+1," ") | N39: 묘지 | O39: =COUNTIF(C29:C48,"묘") -> 0 | P39: / | Q39: =SUMIF(C29:C48,"묘",E29:E48) -> 0 | R39: =COUNTIF(X29:X48,"묘국") -> 0 | S39: / | T39: =SUMIF(X29:X48,"묘국",E29:E48) -> 0 | U39: =O39-R39 -> 0 | V39: / | W39: =Q39-T39 -> 0 | X39: =CONCATENATE(C39,H39)
A40: =IF(OR(ISNUMBER(E40),ISTEXT(C40)),A39+1," ") | N40: 목장 | O40: =COUNTIF(C29:C48,"목") -> 0 | P40: / | Q40: =SUMIF(C29:C48,"목",E29:E48) -> 0 | R40: =COUNTIF(X29:X48,"목국") -> 0 | S40: / | T40: =SUMIF(X29:X48,"목국",E29:E48) -> 0 | U40: =O40-R40 -> 0 | V40: / | W40: =Q40-T40 -> 0 | X40: =CONCATENATE(C40,H40)
A41: =IF(OR(ISNUMBER(E41),ISTEXT(C41)),A40+1," ") | N41: 잡종지 | O41: =COUNTIF(C29:C48,"잡") -> 0 | P41: / | Q41: =SUMIF(C29:C48,"잡",E29:E48) -> 0 | R41: =COUNTIF(X29:X48,"잡국") -> 0 | S41: / | T41: =SUMIF(X29:X48,"잡국",E29:E48) -> 0 | U41: =O41-R41 -> 0 | V41: / | W41: =Q41-T41 -> 0 | X41: =CONCATENATE(C41,H41)
A42: =IF(OR(ISNUMBER(E42),ISTEXT(C42)),A41+1," ") | N42: 학교용지 | O42: =COUNTIF(C29:C48,"학") -> 0 | P42: / | Q42: =SUMIF(C29:C48,"학",E29:E48) -> 0 | R42: =COUNTIF(X29:X48,"학국") -> 0 | S42: / | T42: =SUMIF(X29:X48,"학국",E29:E48) -> 0 | U42: =O42-R42 -> 0 | V42: / | W42: =Q42-T42 -> 0 | X42: =CONCATENATE(C42,H42)
A43: =IF(OR(ISNUMBER(E43),ISTEXT(C43)),A42+1," ") | N43: 수도 | O43: =COUNTIF(C29:C48,"수") -> 0 | P43: / | Q43: =SUMIF(C29:C48,"수",E29:E48) -> 0 | R43: =COUNTIF(X29:X48,"수국") -> 0 | S43: / | T43: =SUMIF(X29:X48,"수국",E29:E48) -> 0 | U43: =O43-R43 -> 0 | V43: / | W43: =Q43-T43 -> 0 | X43: =CONCATENATE(C43,H43)
A44: =IF(OR(ISNUMBER(E44),ISTEXT(C44)),A43+1," ") | N44: 공장 | O44: =COUNTIF(C29:C48,"장") -> 0 | P44: / | Q44: =SUMIF(C29:C48,"장",E29:E48) -> 0 | R44: =COUNTIF(X29:X48,"장국") -> 0 | S44: / | T44: =SUMIF(X29:X48,"장국",E29:E48) -> 0 | U44: =O44-R44 -> 0 | V44: / | W44: =Q44-T44 -> 0 | X44: =CONCATENATE(C44,H44)
A45: =IF(OR(ISNUMBER(E45),ISTEXT(C45)),A44+1," ") | X45: =CONCATENATE(C45,H45)
A46: =IF(OR(ISNUMBER(E46),ISTEXT(C46)),A45+1," ") | X46: =CONCATENATE(C46,H46)
A47: =IF(OR(ISNUMBER(E47),ISTEXT(C47)),A46+1," ") | X47: =CONCATENATE(C47,H47)
A48: =IF(OR(ISNUMBER(E48),ISTEXT(C48)),A47+1," ") | N48: 기타 | O48: =COUNTIF(C29:C48," ") -> 0 | P48: / | Q48: =SUMIF(C29:C48," ",E29:E48) -> 0 | S48: / | U48: =O48 -> 0 | V48: / | W48: =Q48 -> 0 | X48: =CONCATENATE(C48,H48)
A49: 소 계 | E49: =SUM(E29:E48) -> 0 | N49: 계 | O49: =SUM(O29:O48) -> 0 | P49: / | Q49: =SUM(Q29:Q48) -> 0 | R49: =SUM(R29:R48) -> 0 | S49: / | T49: =SUM(T29:T48) -> 0 | U49: =SUM(U29:U48) -> 0 | V49: / | W49: =SUM(W29:W48) -> 0 | X49: =CONCATENATE(C49,H49)
A50: =IF(OR(ISNUMBER(E50),ISTEXT(C50)),A48+1," ") | N50: 전 | O50: =COUNTIF(C50:C69,"전") -> 0 | P50: / | Q50: =SUMIF(C50:C69,"전",E50:E69) -> 0 | R50: =COUNTIF(X50:X69,"전국") -> 0 | S50: / | T50: =SUMIF(X50:X69,"전국",E50:E69) -> 0 | U50: =O50-R50 -> 0 | V50: / | W50: =Q50-T50 -> 0 | X50: =CONCATENATE(C50,H50)
A51: =IF(OR(ISNUMBER(E51),ISTEXT(C51)),A50+1," ") | N51: 답 | O51: =COUNTIF(C50:C69,"답") -> 0 | P51: / | Q51: =SUMIF(C50:C69,"답",E50:E69) -> 0 | R51: =COUNTIF(X50:X69,"답국") -> 0 | S51: / | T51: =SUMIF(X50:X69,"답국",E50:E69) -> 0 | U51: =O51-R51 -> 0 | V51: / | W51: =Q51-T51 -> 0 | X51: =CONCATENATE(C51,H51)
A52: =IF(OR(ISNUMBER(E52),ISTEXT(C52)),A51+1," ") | N52: 임야 | O52: =COUNTIF(C50:C69,"임") -> 0 | P52: / | Q52: =SUMIF(C50:C69,"임",E50:E69) -> 0 | R52: =COUNTIF(X50:X69,"임국") -> 0 | S52: / | T52: =SUMIF(X50:X69,"임국",E50:E69) -> 0 | U52: =O52-R52 -> 0 | V52: / | W52: =Q52-T52 -> 0 | X52: =CONCATENATE(C52,H52)
A53: =IF(OR(ISNUMBER(E53),ISTEXT(C53)),A52+1," ") | N53: 대지 | O53: =COUNTIF(C50:C69,"대") -> 0 | P53: / | Q53: =SUMIF(C50:C69,"대",E50:E69) -> 0 | R53: =COUNTIF(X50:X69,"대국") -> 0 | S53: / | T53: =SUMIF(X50:X69,"대국",E50:E69) -> 0 | U53: =O53-R53 -> 0 | V53: / | W53: =Q53-T53 -> 0 | X53: =CONCATENATE(C53,H53)
A54: =IF(OR(ISNUMBER(E54),ISTEXT(C54)),A53+1," ") | N54: 도로 | O54: =COUNTIF(C50:C69,"도") -> 0 | P54: / | Q54: =SUMIF(C50:C69,"도",E50:E69) -> 0 | R54: =COUNTIF(X50:X69,"도국") -> 0 | S54: / | T54: =SUMIF(X50:X69,"도국",E50:E69) -> 0 | U54: =O54-R54 -> 0 | V54: / | W54: =Q54-T54 -> 0 | X54: =CONCATENATE(C54,H54)
A55: =IF(OR(ISNUMBER(E55),ISTEXT(C55)),A54+1," ") | N55: 하천 | O55: =COUNTIF(C50:C69,"천") -> 0 | P55: / | Q55: =SUMIF(C50:C69,"천",E50:E69) -> 0 | R55: =COUNTIF(X50:X69,"천국") -> 0 | S55: / | T55: =SUMIF(X50:X69,"천국",E50:E69) -> 0 | U55: =O55-R55 -> 0 | V55: / | W55: =Q55-T55 -> 0 | X55: =CONCATENATE(C55,H55)
A56: =IF(OR(ISNUMBER(E56),ISTEXT(C56)),A55+1," ") | N56: 구거 | O56: =COUNTIF(C50:C69,"구") -> 0 | P56: / | Q56: =SUMIF(C50:C69,"구",E50:E69) -> 0 | R56: =COUNTIF(X50:X69,"구국") -> 0 | S56: / | T56: =SUMIF(X50:X69,"구국",E50:E69) -> 0 | U56: =O56-R56 -> 0 | V56: / | W56: =Q56-T56 -> 0 | X56: =CONCATENATE(C56,H56)
A57: =IF(OR(ISNUMBER(E57),ISTEXT(C57)),A56+1," ") | N57: 제방 | O57: =COUNTIF(C50:C69,"제") -> 0 | P57: / | Q57: =SUMIF(C50:C69,"제",E50:E69) -> 0 | R57: =COUNTIF(X50:X69,"제국") -> 0 | S57: / | T57: =SUMIF(X50:X69,"제국",E50:E69) -> 0 | U57: =O57-R57 -> 0 | V57: / | W57: =Q57-T57 -> 0 | X57: =CONCATENATE(C57,H57)
A58: =IF(OR(ISNUMBER(E58),ISTEXT(C58)),A57+1," ") | N58: 유지 | O58: =COUNTIF(C50:C69,"유") -> 0 | P58: / | Q58: =SUMIF(C50:C69,"유",E50:E69) -> 0 | R58: =COUNTIF(X50:X69,"유국") -> 0 | S58: / | T58: =SUMIF(X50:X69,"유국",E50:E69) -> 0 | U58: =O58-R58 -> 0 | V58: / | W58: =Q58-T58 -> 0 | X58: =CONCATENATE(C58,H58)
A59: =IF(OR(ISNUMBER(E59),ISTEXT(C59)),A58+1," ") | N59: 과수원 | O59: =COUNTIF(C50:C69,"과") -> 0 | P59: / | Q59: =SUMIF(C50:C69,"과",E50:E69) -> 0 | R59: =COUNTIF(X50:X69,"과국") -> 0 | S59: / | T59: =SUMIF(X50:X69,"과국",E50:E69) -> 0 | U59: =O59-R59 -> 0 | V59: / | W59: =Q59-T59 -> 0 | X59: =CONCATENATE(C59,H59)
A60: =IF(OR(ISNUMBER(E60),ISTEXT(C60)),A59+1," ") | N60: 묘지 | O60: =COUNTIF(C50:C69,"묘") -> 0 | P60: / | Q60: =SUMIF(C50:C69,"묘",E50:E69) -> 0 | R60: =COUNTIF(X50:X69,"묘국") -> 0 | S60: / | T60: =SUMIF(X50:X69,"묘국",E50:E69) -> 0 | U60: =O60-R60 -> 0 | V60: / | W60: =Q60-T60 -> 0 | X60: =CONCATENATE(C60,H60)
A61: =IF(OR(ISNUMBER(E61),ISTEXT(C61)),A60+1," ") | N61: 목장 | O61: =COUNTIF(C50:C69,"목") -> 0 | P61: / | Q61: =SUMIF(C50:C69,"목",E50:E69) -> 0 | R61: =COUNTIF(X50:X69,"목국") -> 0 | S61: / | T61: =SUMIF(X50:X69,"목국",E50:E69) -> 0 | U61: =O61-R61 -> 0 | V61: / | W61: =Q61-T61 -> 0 | X61: =CONCATENATE(C61,H61)
A62: =IF(OR(ISNUMBER(E62),ISTEXT(C62)),A61+1," ") | N62: 잡종지 | O62: =COUNTIF(C50:C69,"잡") -> 0 | P62: / | Q62: =SUMIF(C50:C69,"잡",E50:E69) -> 0 | R62: =COUNTIF(X50:X69,"잡국") -> 0 | S62: / | T62: =SUMIF(X50:X69,"잡국",E50:E69) -> 0 | U62: =O62-R62 -> 0 | V62: / | W62: =Q62-T62 -> 0 | X62: =CONCATENATE(C62,H62)
A63: =IF(OR(ISNUMBER(E63),ISTEXT(C63)),A62+1," ") | N63: 학교용지 | O63: =COUNTIF(C50:C69,"학") -> 0 | P63: / | Q63: =SUMIF(C50:C69,"학",E50:E69) -> 0 | R63: =COUNTIF(X50:X69,"학국") -> 0 | S63: / | T63: =SUMIF(X50:X69,"학국",E50:E69) -> 0 | U63: =O63-R63 -> 0 | V63: / | W63: =Q63-T63 -> 0 | X63: =CONCATENATE(C63,H63)
A64: =IF(OR(ISNUMBER(E64),ISTEXT(C64)),A63+1," ") | N64: 수도 | O64: =COUNTIF(C50:C69,"수") -> 0 | P64: / | Q64: =SUMIF(C50:C69,"수",E50:E69) -> 0 | R64: =COUNTIF(X50:X69,"수국") -> 0 | S64: / | T64: =SUMIF(X50:X69,"수국",E50:E69) -> 0 | U64: =O64-R64 -> 0 | V64: / | W64: =Q64-T64 -> 0 | X64: =CONCATENATE(C64,H64)
A65: =IF(OR(ISNUMBER(E65),ISTEXT(C65)),A64+1," ") | N65: 공장 | O65: =COUNTIF(C50:C69,"장") -> 0 | P65: / | Q65: =SUMIF(C50:C69,"장",E50:E69) -> 0 | R65: =COUNTIF(X50:X69,"장국") -> 0 | S65: / | T65: =SUMIF(X50:X69,"장국",E50:E69) -> 0 | U65: =O65-R65 -> 0 | V65: / | W65: =Q65-T65 -> 0 | X65: =CONCATENATE(C65,H65)
A66: =IF(OR(ISNUMBER(E66),ISTEXT(C66)),A65+1," ") | X66: =CONCATENATE(C66,H66)
A67: =IF(OR(ISNUMBER(E67),ISTEXT(C67)),A66+1," ") | X67: =CONCATENATE(C67,H67)
A68: =IF(OR(ISNUMBER(E68),ISTEXT(C68)),A67+1," ") | X68: =CONCATENATE(C68,H68)
A69: =IF(OR(ISNUMBER(E69),ISTEXT(C69)),A68+1," ") | N69: 기타 | O69: =COUNTIF(C50:C69," ") -> 0 | P69: / | Q69: =SUMIF(C50:C69," ",E50:E69) -> 0 | S69: / | U69: =O69 -> 0 | V69: / | W69: =Q69 -> 0 | X69: =CONCATENATE(C69,H69)
A70: 소 계 | E70: =SUM(E50:E69) -> 0 | N70: 계 | O70: =SUM(O50:O69) -> 0 | P70: / | Q70: =SUM(Q50:Q69) -> 0 | R70: =SUM(R50:R69) -> 0 | S70: / | T70: =SUM(T50:T69) -> 0 | U70: =SUM(U50:U69) -> 0 | V70: / | W70: =SUM(W50:W69) -> 0 | X70: =CONCATENATE(C70,H70)
A71: =IF(OR(ISNUMBER(E71),ISTEXT(C71)),A69+1," ") | N71: 전 | O71: =COUNTIF(C71:C90,"전") -> 0 | P71: / | Q71: =SUMIF(C71:C90,"전",E71:E90) -> 0 | R71: =COUNTIF(X71:X90,"전국") -> 0 | S71: / | T71: =SUMIF(X71:X90,"전국",E71:E90) -> 0 | U71: =O71-R71 -> 0 | V71: / | W71: =Q71-T71 -> 0 | X71: =CONCATENATE(C71,H71)
A72: =IF(OR(ISNUMBER(E72),ISTEXT(C72)),A71+1," ") | N72: 답 | O72: =COUNTIF(C71:C90,"답") -> 0 | P72: / | Q72: =SUMIF(C71:C90,"답",E71:E90) -> 0 | R72: =COUNTIF(X71:X90,"답국") -> 0 | S72: / | T72: =SUMIF(X71:X90,"답국",E71:E90) -> 0 | U72: =O72-R72 -> 0 | V72: / | W72: =Q72-T72 -> 0 | X72: =CONCATENATE(C72,H72)
A73: =IF(OR(ISNUMBER(E73),ISTEXT(C73)),A72+1," ") | N73: 임야 | O73: =COUNTIF(C71:C90,"임") -> 0 | P73: / | Q73: =SUMIF(C71:C90,"임",E71:E90) -> 0 | R73: =COUNTIF(X71:X90,"임국") -> 0 | S73: / | T73: =SUMIF(X71:X90,"임국",E71:E90) -> 0 | U73: =O73-R73 -> 0 | V73: / | W73: =Q73-T73 -> 0 | X73: =CONCATENATE(C73,H73)
A74: =IF(OR(ISNUMBER(E74),ISTEXT(C74)),A73+1," ") | N74: 대지 | O74: =COUNTIF(C71:C90,"대") -> 0 | P74: / | Q74: =SUMIF(C71:C90,"대",E71:E90) -> 0 | R74: =COUNTIF(X71:X90,"대국") -> 0 | S74: / | T74: =SUMIF(X71:X90,"대국",E71:E90) -> 0 | U74: =O74-R74 -> 0 | V74: / | W74: =Q74-T74 -> 0 | X74: =CONCATENATE(C74,H74)
A75: =IF(OR(ISNUMBER(E75),ISTEXT(C75)),A74+1," ") | N75: 도로 | O75: =COUNTIF(C71:C90,"도") -> 0 | P75: / | Q75: =SUMIF(C71:C90,"도",E71:E90) -> 0 | R75: =COUNTIF(X71:X90,"도국") -> 0 | S75: / | T75: =SUMIF(X71:X90,"도국",E71:E90) -> 0 | U75: =O75-R75 -> 0 | V75: / | W75: =Q75-T75 -> 0 | X75: =CONCATENATE(C75,H75)
A76: =IF(OR(ISNUMBER(E76),ISTEXT(C76)),A75+1," ") | N76: 하천 | O76: =COUNTIF(C71:C90,"천") -> 0 | P76: / | Q76: =SUMIF(C71:C90,"천",E71:E90) -> 0 | R76: =COUNTIF(X71:X90,"천국") -> 0 | S76: / | T76: =SUMIF(X71:X90,"천국",E71:E90) -> 0 | U76: =O76-R76 -> 0 | V76: / | W76: =Q76-T76 -> 0 | X76: =CONCATENATE(C76,H76)
A77: =IF(OR(ISNUMBER(E77),ISTEXT(C77)),A76+1," ") | N77: 구거 | O77: =COUNTIF(C71:C90,"구") -> 0 | P77: / | Q77: =SUMIF(C71:C90,"구",E71:E90) -> 0 | R77: =COUNTIF(X71:X90,"구국") -> 0 | S77: / | T77: =SUMIF(X71:X90,"구국",E71:E90) -> 0 | U77: =O77-R77 -> 0 | V77: / | W77: =Q77-T77 -> 0 | X77: =CONCATENATE(C77,H77)
A78: =IF(OR(ISNUMBER(E78),ISTEXT(C78)),A77+1," ") | N78: 제방 | O78: =COUNTIF(C71:C90,"제") -> 0 | P78: / | Q78: =SUMIF(C71:C90,"제",E71:E90) -> 0 | R78: =COUNTIF(X71:X90,"제국") -> 0 | S78: / | T78: =SUMIF(X71:X90,"제국",E71:E90) -> 0 | U78: =O78-R78 -> 0 | V78: / | W78: =Q78-T78 -> 0 | X78: =CONCATENATE(C78,H78)
A79: =IF(OR(ISNUMBER(E79),ISTEXT(C79)),A78+1," ") | N79: 유지 | O79: =COUNTIF(C71:C90,"유") -> 0 | P79: / | Q79: =SUMIF(C71:C90,"유",E71:E90) -> 0 | R79: =COUNTIF(X71:X90,"유국") -> 0 | S79: / | T79: =SUMIF(X71:X90,"유국",E71:E90) -> 0 | U79: =O79-R79 -> 0 | V79: / | W79: =Q79-T79 -> 0 | X79: =CONCATENATE(C79,H79)
A80: =IF(OR(ISNUMBER(E80),ISTEXT(C80)),A79+1," ") | N80: 과수원 | O80: =COUNTIF(C71:C90,"과") -> 0 | P80: / | Q80: =SUMIF(C71:C90,"과",E71:E90) -> 0 | R80: =COUNTIF(X71:X90,"과국") -> 0 | S80: / | T80: =SUMIF(X71:X90,"과국",E71:E90) -> 0 | U80: =O80-R80 -> 0 | V80: / | W80: =Q80-T80 -> 0 | X80: =CONCATENATE(C80,H80)
A81: =IF(OR(ISNUMBER(E81),ISTEXT(C81)),A80+1," ") | N81: 묘지 | O81: =COUNTIF(C71:C90,"묘") -> 0 | P81: / | Q81: =SUMIF(C71:C90,"묘",E71:E90) -> 0 | R81: =COUNTIF(X71:X90,"묘국") -> 0 | S81: / | T81: =SUMIF(X71:X90,"묘국",E71:E90) -> 0 | U81: =O81-R81 -> 0 | V81: / | W81: =Q81-T81 -> 0 | X81: =CONCATENATE(C81,H81)
A82: =IF(OR(ISNUMBER(E82),ISTEXT(C82)),A81+1," ") | N82: 목장 | O82: =COUNTIF(C71:C90,"목") -> 0 | P82: / | Q82: =SUMIF(C71:C90,"목",E71:E90) -> 0 | R82: =COUNTIF(X71:X90,"목국") -> 0 | S82: / | T82: =SUMIF(X71:X90,"목국",E71:E90) -> 0 | U82: =O82-R82 -> 0 | V82: / | W82: =Q82-T82 -> 0 | X82: =CONCATENATE(C82,H82)
A83: =IF(OR(ISNUMBER(E83),ISTEXT(C83)),A82+1," ") | N83: 잡종지 | O83: =COUNTIF(C71:C90,"잡") -> 0 | P83: / | Q83: =SUMIF(C71:C90,"잡",E71:E90) -> 0 | R83: =COUNTIF(X71:X90,"잡국") -> 0 | S83: / | T83: =SUMIF(X71:X90,"잡국",E71:E90) -> 0 | U83: =O83-R83 -> 0 | V83: / | W83: =Q83-T83 -> 0 | X83: =CONCATENATE(C83,H83)
A84: =IF(OR(ISNUMBER(E84),ISTEXT(C84)),A83+1," ") | N84: 학교용지 | O84: =COUNTIF(C71:C90,"학") -> 0 | P84: / | Q84: =SUMIF(C71:C90,"학",E71:E90) -> 0 | R84: =COUNTIF(X71:X90,"학국") -> 0 | S84: / | T84: =SUMIF(X71:X90,"학국",E71:E90) -> 0 | U84: =O84-R84 -> 0 | V84: / | W84: =Q84-T84 -> 0 | X84: =CONCATENATE(C84,H84)
A85: =IF(OR(ISNUMBER(E85),ISTEXT(C85)),A84+1," ") | N85: 수도 | O85: =COUNTIF(C71:C90,"수") -> 0 | P85: / | Q85: =SUMIF(C71:C90,"수",E71:E90) -> 0 | R85: =COUNTIF(X71:X90,"수국") -> 0 | S85: / | T85: =SUMIF(X71:X90,"수국",E71:E90) -> 0 | U85: =O85-R85 -> 0 | V85: / | W85: =Q85-T85 -> 0 | X85: =CONCATENATE(C85,H85)
A86: =IF(OR(ISNUMBER(E86),ISTEXT(C86)),A85+1," ") | N86: 공장 | O86: =COUNTIF(C71:C90,"장") -> 0 | P86: / | Q86: =SUMIF(C71:C90,"장",E71:E90) -> 0 | R86: =COUNTIF(X71:X90,"장국") -> 0 | S86: / | T86: =SUMIF(X71:X90,"장국",E71:E90) -> 0 | U86: =O86-R86 -> 0 | V86: / | W86: =Q86-T86 -> 0 | X86: =CONCATENATE(C86,H86)
A87: =IF(OR(ISNUMBER(E87),ISTEXT(C87)),A86+1," ") | X87: =CONCATENATE(C87,H87)
A88: =IF(OR(ISNUMBER(E88),ISTEXT(C88)),A87+1," ") | X88: =CONCATENATE(C88,H88)
A89: =IF(OR(ISNUMBER(E89),ISTEXT(C89)),A88+1," ") | X89: =CONCATENATE(C89,H89)
A90: =IF(OR(ISNUMBER(E90),ISTEXT(C90)),A89+1," ") | N90: 기타 | O90: =COUNTIF(C71:C90," ") -> 0 | P90: / | Q90: =SUMIF(C71:C90," ",E71:E90) -> 0 | S90: / | U90: =O90 -> 0 | V90: / | W90: =Q90 -> 0 | X90: =CONCATENATE(C90,H90)
A91: 소 계 | E91: =SUM(E71:E90) -> 0 | N91: 계 | O91: =SUM(O71:O90) -> 0 | P91: / | Q91: =SUM(Q71:Q90) -> 0 | R91: =SUM(R71:R90) -> 0 | S91: / | T91: =SUM(T71:T90) -> 0 | U91: =SUM(U71:U90) -> 0 | V91: / | W91: =SUM(W71:W90) -> 0 | X91: =CONCATENATE(C91,H91)
A92: =IF(OR(ISNUMBER(E92),ISTEXT(C92)),A90+1," ") | N92: 전 | O92: =COUNTIF(C92:C111,"전") -> 0 | P92: / | Q92: =SUMIF(C92:C111,"전",E92:E111) -> 0 | R92: =COUNTIF(X92:X111,"전국") -> 0 | S92: / | T92: =SUMIF(X92:X111,"전국",E92:E111) -> 0 | U92: =O92-R92 -> 0 | V92: / | W92: =Q92-T92 -> 0 | X92: =CONCATENATE(C92,H92)
A93: =IF(OR(ISNUMBER(E93),ISTEXT(C93)),A92+1," ") | N93: 답 | O93: =COUNTIF(C92:C111,"답") -> 0 | P93: / | Q93: =SUMIF(C92:C111,"답",E92:E111) -> 0 | R93: =COUNTIF(X92:X111,"답국") -> 0 | S93: / | T93: =SUMIF(X92:X111,"답국",E92:E111) -> 0 | U93: =O93-R93 -> 0 | V93: / | W93: =Q93-T93 -> 0 | X93: =CONCATENATE(C93,H93)
A94: =IF(OR(ISNUMBER(E94),ISTEXT(C94)),A93+1," ") | N94: 임야 | O94: =COUNTIF(C92:C111,"임") -> 0 | P94: / | Q94: =SUMIF(C92:C111,"임",E92:E111) -> 0 | R94: =COUNTIF(X92:X111,"임국") -> 0 | S94: / | T94: =SUMIF(X92:X111,"임국",E92:E111) -> 0 | U94: =O94-R94 -> 0 | V94: / | W94: =Q94-T94 -> 0 | X94: =CONCATENATE(C94,H94)
A95: =IF(OR(ISNUMBER(E95),ISTEXT(C95)),A94+1," ") | N95: 대지 | O95: =COUNTIF(C92:C111,"대") -> 0 | P95: / | Q95: =SUMIF(C92:C111,"대",E92:E111) -> 0 | R95: =COUNTIF(X92:X111,"대국") -> 0 | S95: / | T95: =SUMIF(X92:X111,"대국",E92:E111) -> 0 | U95: =O95-R95 -> 0 | V95: / | W95: =Q95-T95 -> 0 | X95: =CONCATENATE(C95,H95)
A96: =IF(OR(ISNUMBER(E96),ISTEXT(C96)),A95+1," ") | N96: 도로 | O96: =COUNTIF(C92:C111,"도") -> 0 | P96: / | Q96: =SUMIF(C92:C111,"도",E92:E111) -> 0 | R96: =COUNTIF(X92:X111,"도국") -> 0 | S96: / | T96: =SUMIF(X92:X111,"도국",E92:E111) -> 0 | U96: =O96-R96 -> 0 | V96: / | W96: =Q96-T96 -> 0 | X96: =CONCATENATE(C96,H96)
A97: =IF(OR(ISNUMBER(E97),ISTEXT(C97)),A96+1," ") | N97: 하천 | O97: =COUNTIF(C92:C111,"천") -> 0 | P97: / | Q97: =SUMIF(C92:C111,"천",E92:E111) -> 0 | R97: =COUNTIF(X92:X111,"천국") -> 0 | S97: / | T97: =SUMIF(X92:X111,"천국",E92:E111) -> 0 | U97: =O97-R97 -> 0 | V97: / | W97: =Q97-T97 -> 0 | X97: =CONCATENATE(C97,H97)
A98: =IF(OR(ISNUMBER(E98),ISTEXT(C98)),A97+1," ") | N98: 구거 | O98: =COUNTIF(C92:C111,"구") -> 0 | P98: / | Q98: =SUMIF(C92:C111,"구",E92:E111) -> 0 | R98: =COUNTIF(X92:X111,"구국") -> 0 | S98: / | T98: =SUMIF(X92:X111,"구국",E92:E111) -> 0 | U98: =O98-R98 -> 0 | V98: / | W98: =Q98-T98 -> 0 | X98: =CONCATENATE(C98,H98)
A99: =IF(OR(ISNUMBER(E99),ISTEXT(C99)),A98+1," ") | N99: 제방 | O99: =COUNTIF(C92:C111,"제") -> 0 | P99: / | Q99: =SUMIF(C92:C111,"제",E92:E111) -> 0 | R99: =COUNTIF(X92:X111,"제국") -> 0 | S99: / | T99: =SUMIF(X92:X111,"제국",E92:E111) -> 0 | U99: =O99-R99 -> 0 | V99: / | W99: =Q99-T99 -> 0 | X99: =CONCATENATE(C99,H99)
A100: =IF(OR(ISNUMBER(E100),ISTEXT(C100)),A99+1," ") | N100: 유지 | O100: =COUNTIF(C92:C111,"유") -> 0 | P100: / | Q100: =SUMIF(C92:C111,"유",E92:E111) -> 0 | R100: =COUNTIF(X92:X111,"유국") -> 0 | S100: / | T100: =SUMIF(X92:X111,"유국",E92:E111) -> 0 | U100: =O100-R100 -> 0 | V100: / | W100: =Q100-T100 -> 0 | X100: =CONCATENATE(C100,H100)
A101: =IF(OR(ISNUMBER(E101),ISTEXT(C101)),A100+1," ") | N101: 과수원 | O101: =COUNTIF(C92:C111,"과") -> 0 | P101: / | Q101: =SUMIF(C92:C111,"과",E92:E111) -> 0 | R101: =COUNTIF(X92:X111,"과국") -> 0 | S101: / | T101: =SUMIF(X92:X111,"과국",E92:E111) -> 0 | U101: =O101-R101 -> 0 | V101: / | W101: =Q101-T101 -> 0 | X101: =CONCATENATE(C101,H101)
A102: =IF(OR(ISNUMBER(E102),ISTEXT(C102)),A101+1," ") | N102: 묘지 | O102: =COUNTIF(C92:C111,"묘") -> 0 | P102: / | Q102: =SUMIF(C92:C111,"묘",E92:E111) -> 0 | R102: =COUNTIF(X92:X111,"묘국") -> 0 | S102: / | T102: =SUMIF(X92:X111,"묘국",E92:E111) -> 0 | U102: =O102-R102 -> 0 | V102: / | W102: =Q102-T102 -> 0 | X102: =CONCATENATE(C102,H102)
A103: =IF(OR(ISNUMBER(E103),ISTEXT(C103)),A102+1," ") | N103: 목장 | O103: =COUNTIF(C92:C111,"목") -> 0 | P103: / | Q103: =SUMIF(C92:C111,"목",E92:E111) -> 0 | R103: =COUNTIF(X92:X111,"목국") -> 0 | S103: / | T103: =SUMIF(X92:X111,"목국",E92:E111) -> 0 | U103: =O103-R103 -> 0 | V103: / | W103: =Q103-T103 -> 0 | X103: =CONCATENATE(C103,H103)
A104: =IF(OR(ISNUMBER(E104),ISTEXT(C104)),A103+1," ") | N104: 잡종지 | O104: =COUNTIF(C92:C111,"잡") -> 0 | P104: / | Q104: =SUMIF(C92:C111,"잡",E92:E111) -> 0 | R104: =COUNTIF(X92:X111,"잡국") -> 0 | S104: / | T104: =SUMIF(X92:X111,"잡국",E92:E111) -> 0 | U104: =O104-R104 -> 0 | V104: / | W104: =Q104-T104 -> 0 | X104: =CONCATENATE(C104,H104)
...

Sheet 용지조서(14)
A1: 용 지 조 서
A6: 일련 | B6: 지 번 | C6: 지목 | D6: 지 적 | E6: 편입면적 | F6: 실제이용상황 | H6: 소 유 자 | J6: 관 계 인 | M6: 비고
A7: 번호 | D7: ( ㎡ ) | E7: ( ㎡ ) | F7: 지목 | G7: 면 적 | H7: 성 명 | I7: 주 소 | J7: 성 명 | K7: 주 소 | L7: 권리관계
A8: =IF(OR(ISNUMBER(E8),ISTEXT(C8)),1," ") | N8: 전 | O8: =COUNTIF(C8:C27,"전") -> 0 | P8: / | Q8: =SUMIF(C8:C27,"전",E8:E27) -> 0 | R8: =COUNTIF(X8:X27,"전국") -> 0 | S8: / | T8: =SUMIF(X8:X27,"전국",E8:E27) -> 0 | U8: =O8-R8 -> 0 | V8: / | W8: =Q8-T8 -> 0 | X8: =CONCATENATE(C8,H8)
A9: =IF(OR(ISNUMBER(E9),ISTEXT(C9)),A8+1," ") | N9: 답 | O9: =COUNTIF(C8:C27,"답") -> 0 | P9: / | Q9: =SUMIF(C8:C27,"답",E8:E27) -> 0 | R9: =COUNTIF(X8:X27,"답국") -> 0 | S9: / | T9: =SUMIF(X8:X27,"답국",E8:E27) -> 0 | U9: =O9-R9 -> 0 | V9: / | W9: =Q9-T9 -> 0 | X9: =CONCATENATE(C9,H9)
A10: =IF(OR(ISNUMBER(E10),ISTEXT(C10)),A9+1," ") | N10: 임야 | O10: =COUNTIF(C8:C27,"임") -> 0 | P10: / | Q10: =SUMIF(C8:C27,"임",E8:E27) -> 0 | R10: =COUNTIF(X8:X27,"임국") -> 0 | S10: / | T10: =SUMIF(X8:X27,"임국",E8:E27) -> 0 | U10: =O10-R10 -> 0 | V10: / | W10: =Q10-T10 -> 0 | X10: =CONCATENATE(C10,H10)
A11: =IF(OR(ISNUMBER(E11),ISTEXT(C11)),A10+1," ") | N11: 대지 | O11: =COUNTIF(C8:C27,"대") -> 0 | P11: / | Q11: =SUMIF(C8:C27,"대",E8:E27) -> 0 | R11: =COUNTIF(X8:X27,"대국") -> 0 | S11: / | T11: =SUMIF(X8:X27,"대국",E8:E27) -> 0 | U11: =O11-R11 -> 0 | V11: / | W11: =Q11-T11 -> 0 | X11: =CONCATENATE(C11,H11)
A12: =IF(OR(ISNUMBER(E12),ISTEXT(C12)),A11+1," ") | N12: 도로 | O12: =COUNTIF(C8:C27,"도") -> 0 | P12: / | Q12: =SUMIF(C8:C27,"도",E8:E27) -> 0 | R12: =COUNTIF(X8:X27,"도국") -> 0 | S12: / | T12: =SUMIF(X8:X27,"도국",E8:E27) -> 0 | U12: =O12-R12 -> 0 | V12: / | W12: =Q12-T12 -> 0 | X12: =CONCATENATE(C12,H12)
A13: =IF(OR(ISNUMBER(E13),ISTEXT(C13)),A12+1," ") | N13: 하천 | O13: =COUNTIF(C8:C27,"천") -> 0 | P13: / | Q13: =SUMIF(C8:C27,"천",E8:E27) -> 0 | R13: =COUNTIF(X8:X27,"천국") -> 0 | S13: / | T13: =SUMIF(X8:X27,"천국",E8:E27) -> 0 | U13: =O13-R13 -> 0 | V13: / | W13: =Q13-T13 -> 0 | X13: =CONCATENATE(C13,H13)
A14: =IF(OR(ISNUMBER(E14),ISTEXT(C14)),A13+1," ") | N14: 구거 | O14: =COUNTIF(C8:C27,"구") -> 0 | P14: / | Q14: =SUMIF(C8:C27,"구",E8:E27) -> 0 | R14: =COUNTIF(X8:X27,"구국") -> 0 | S14: / | T14: =SUMIF(X8:X27,"구국",E8:E27) -> 0 | U14: =O14-R14 -> 0 | V14: / | W14: =Q14-T14 -> 0 | X14: =CONCATENATE(C14,H14)
A15: =IF(OR(ISNUMBER(E15),ISTEXT(C15)),A14+1," ") | N15: 제방 | O15: =COUNTIF(C8:C27,"제") -> 0 | P15: / | Q15: =SUMIF(C8:C27,"제",E8:E27) -> 0 | R15: =COUNTIF(X8:X27,"제국") -> 0 | S15: / | T15: =SUMIF(X8:X27,"제국",E8:E27) -> 0 | U15: =O15-R15 -> 0 | V15: / | W15: =Q15-T15 -> 0 | X15: =CONCATENATE(C15,H15)
A16: =IF(OR(ISNUMBER(E16),ISTEXT(C16)),A15+1," ") | N16: 유지 | O16: =COUNTIF(C8:C27,"유") -> 0 | P16: / | Q16: =SUMIF(C8:C27,"유",E8:E27) -> 0 | R16: =COUNTIF(X8:X27,"유국") -> 0 | S16: / | T16: =SUMIF(X8:X27,"유국",E8:E27) -> 0 | U16: =O16-R16 -> 0 | V16: / | W16: =Q16-T16 -> 0 | X16: =CONCATENATE(C16,H16)
A17: =IF(OR(ISNUMBER(E17),ISTEXT(C17)),A16+1," ") | N17: 과수원 | O17: =COUNTIF(C8:C27,"과") -> 0 | P17: / | Q17: =SUMIF(C8:C27,"과",E8:E27) -> 0 | R17: =COUNTIF(X8:X27,"과국") -> 0 | S17: / | T17: =SUMIF(X8:X27,"과국",E8:E27) -> 0 | U17: =O17-R17 -> 0 | V17: / | W17: =Q17-T17 -> 0 | X17: =CONCATENATE(C17,H17)
A18: =IF(OR(ISNUMBER(E18),ISTEXT(C18)),A17+1," ") | N18: 묘지 | O18: =COUNTIF(C8:C27,"묘") -> 0 | P18: / | Q18: =SUMIF(C8:C27,"묘",E8:E27) -> 0 | R18: =COUNTIF(X8:X27,"묘국") -> 0 | S18: / | T18: =SUMIF(X8:X27,"묘국",E8:E27) -> 0 | U18: =O18-R18 -> 0 | V18: / | W18: =Q18-T18 -> 0 | X18: =CONCATENATE(C18,H18)
A19: =IF(OR(ISNUMBER(E19),ISTEXT(C19)),A18+1," ") | N19: 목장 | O19: =COUNTIF(C8:C27,"목") -> 0 | P19: / | Q19: =SUMIF(C8:C27,"목",E8:E27) -> 0 | R19: =COUNTIF(X8:X27,"목국") -> 0 | S19: / | T19: =SUMIF(X8:X27,"목국",E8:E27) -> 0 | U19: =O19-R19 -> 0 | V19: / | W19: =Q19-T19 -> 0 | X19: =CONCATENATE(C19,H19)
A20: =IF(OR(ISNUMBER(E20),ISTEXT(C20)),A19+1," ") | N20: 잡종지 | O20: =COUNTIF(C8:C27,"잡") -> 0 | P20: / | Q20: =SUMIF(C8:C27,"잡",E8:E27) -> 0 | R20: =COUNTIF(X8:X27,"잡국") -> 0 | S20: / | T20: =SUMIF(X8:X27,"잡국",E8:E27) -> 0 | U20: =O20-R20 -> 0 | V20: / | W20: =Q20-T20 -> 0 | X20: =CONCATENATE(C20,H20)
A21: =IF(OR(ISNUMBER(E21),ISTEXT(C21)),A20+1," ") | N21: 학교용지 | O21: =COUNTIF(C8:C27,"학") -> 0 | P21: / | Q21: =SUMIF(C8:C27,"학",E8:E27) -> 0 | R21: =COUNTIF(X8:X27,"학국") -> 0 | S21: / | T21: =SUMIF(X8:X27,"학국",E8:E27) -> 0 | U21: =O21-R21 -> 0 | V21: / | W21: =Q21-T21 -> 0 | X21: =CONCATENATE(C21,H21)
A22: =IF(OR(ISNUMBER(E22),ISTEXT(C22)),A21+1," ") | N22: 수도 | O22: =COUNTIF(C8:C27,"수") -> 0 | P22: / | Q22: =SUMIF(C8:C27,"수",E8:E27) -> 0 | R22: =COUNTIF(X8:X27,"수국") -> 0 | S22: / | T22: =SUMIF(X8:X27,"수국",E8:E27) -> 0 | U22: =O22-R22 -> 0 | V22: / | W22: =Q22-T22 -> 0 | X22: =CONCATENATE(C22,H22)
A23: =IF(OR(ISNUMBER(E23),ISTEXT(C23)),A22+1," ") | N23: 공장 | O23: =COUNTIF(C8:C27,"장") -> 0 | P23: / | Q23: =SUMIF(C8:C27,"장",E8:E27) -> 0 | R23: =COUNTIF(X8:X27,"장국") -> 0 | S23: / | T23: =SUMIF(X8:X27,"장국",E8:E27) -> 0 | U23: =O23-R23 -> 0 | V23: / | W23: =Q23-T23 -> 0 | X23: =CONCATENATE(C23,H23)
A24: =IF(OR(ISNUMBER(E24),ISTEXT(C24)),A23+1," ") | X24: =CONCATENATE(C24,H24)
A25: =IF(OR(ISNUMBER(E25),ISTEXT(C25)),A24+1," ") | X25: =CONCATENATE(C25,H25)
A26: =IF(OR(ISNUMBER(E26),ISTEXT(C26)),A25+1," ") | X26: =CONCATENATE(C26,H26)
A27: =IF(OR(ISNUMBER(E27),ISTEXT(C27)),A26+1," ") | N27: 기타 | O27: =COUNTIF(C8:C27," ") -> 0 | P27: / | Q27: =SUMIF(C8:C27," ",E8:E27) -> 0 | S27: / | U27: =O27 -> 0 | V27: / | W27: =Q27 -> 0 | X27: =CONCATENATE(C27,H27)
A28: 소 계 | E28: =SUM(E8:E27) -> 0 | N28: 계 | O28: =SUM(O8:O27) -> 0 | P28: / | Q28: =SUM(Q8:Q27) -> 0 | R28: =SUM(R8:R27) -> 0 | S28: / | T28: =SUM(T8:T27) -> 0 | U28: =SUM(U8:U27) -> 0 | V28: / | W28: =SUM(W8:W27) -> 0 | X28: =CONCATENATE(C28,H28)
A29: =IF(OR(ISNUMBER(E29),ISTEXT(C29)),A27+1," ") | N29: 전 | O29: =COUNTIF(C29:C48,"전") -> 0 | P29: / | Q29: =SUMIF(C29:C48,"전",E29:E48) -> 0 | R29: =COUNTIF(X29:X48,"전국") -> 0 | S29: / | T29: =SUMIF(X29:X48,"전국",E29:E48) -> 0 | U29: =O29-R29 -> 0 | V29: / | W29: =Q29-T29 -> 0 | X29: =CONCATENATE(C29,H29)
A30: =IF(OR(ISNUMBER(E30),ISTEXT(C30)),A29+1," ") | N30: 답 | O30: =COUNTIF(C29:C48,"답") -> 0 | P30: / | Q30: =SUMIF(C29:C48,"답",E29:E48) -> 0 | R30: =COUNTIF(X29:X48,"답국") -> 0 | S30: / | T30: =SUMIF(X29:X48,"답국",E29:E48) -> 0 | U30: =O30-R30 -> 0 | V30: / | W30: =Q30-T30 -> 0 | X30: =CONCATENATE(C30,H30)
A31: =IF(OR(ISNUMBER(E31),ISTEXT(C31)),A30+1," ") | N31: 임야 | O31: =COUNTIF(C29:C48,"임") -> 0 | P31: / | Q31: =SUMIF(C29:C48,"임",E29:E48) -> 0 | R31: =COUNTIF(X29:X48,"임국") -> 0 | S31: / | T31: =SUMIF(X29:X48,"임국",E29:E48) -> 0 | U31: =O31-R31 -> 0 | V31: / | W31: =Q31-T31 -> 0 | X31: =CONCATENATE(C31,H31)
A32: =IF(OR(ISNUMBER(E32),ISTEXT(C32)),A31+1," ") | N32: 대지 | O32: =COUNTIF(C29:C48,"대") -> 0 | P32: / | Q32: =SUMIF(C29:C48,"대",E29:E48) -> 0 | R32: =COUNTIF(X29:X48,"대국") -> 0 | S32: / | T32: =SUMIF(X29:X48,"대국",E29:E48) -> 0 | U32: =O32-R32 -> 0 | V32: / | W32: =Q32-T32 -> 0 | X32: =CONCATENATE(C32,H32)
A33: =IF(OR(ISNUMBER(E33),ISTEXT(C33)),A32+1," ") | N33: 도로 | O33: =COUNTIF(C29:C48,"도") -> 0 | P33: / | Q33: =SUMIF(C29:C48,"도",E29:E48) -> 0 | R33: =COUNTIF(X29:X48,"도국") -> 0 | S33: / | T33: =SUMIF(X29:X48,"도국",E29:E48) -> 0 | U33: =O33-R33 -> 0 | V33: / | W33: =Q33-T33 -> 0 | X33: =CONCATENATE(C33,H33)
A34: =IF(OR(ISNUMBER(E34),ISTEXT(C34)),A33+1," ") | N34: 하천 | O34: =COUNTIF(C29:C48,"천") -> 0 | P34: / | Q34: =SUMIF(C29:C48,"천",E29:E48) -> 0 | R34: =COUNTIF(X29:X48,"천국") -> 0 | S34: / | T34: =SUMIF(X29:X48,"천국",E29:E48) -> 0 | U34: =O34-R34 -> 0 | V34: / | W34: =Q34-T34 -> 0 | X34: =CONCATENATE(C34,H34)
A35: =IF(OR(ISNUMBER(E35),ISTEXT(C35)),A34+1," ") | N35: 구거 | O35: =COUNTIF(C29:C48,"구") -> 0 | P35: / | Q35: =SUMIF(C29:C48,"구",E29:E48) -> 0 | R35: =COUNTIF(X29:X48,"구국") -> 0 | S35: / | T35: =SUMIF(X29:X48,"구국",E29:E48) -> 0 | U35: =O35-R35 -> 0 | V35: / | W35: =Q35-T35 -> 0 | X35: =CONCATENATE(C35,H35)
A36: =IF(OR(ISNUMBER(E36),ISTEXT(C36)),A35+1," ") | N36: 제방 | O36: =COUNTIF(C29:C48,"제") -> 0 | P36: / | Q36: =SUMIF(C29:C48,"제",E29:E48) -> 0 | R36: =COUNTIF(X29:X48,"제국") -> 0 | S36: / | T36: =SUMIF(X29:X48,"제국",E29:E48) -> 0 | U36: =O36-R36 -> 0 | V36: / | W36: =Q36-T36 -> 0 | X36: =CONCATENATE(C36,H36)
A37: =IF(OR(ISNUMBER(E37),ISTEXT(C37)),A36+1," ") | N37: 유지 | O37: =COUNTIF(C29:C48,"유") -> 0 | P37: / | Q37: =SUMIF(C29:C48,"유",E29:E48) -> 0 | R37: =COUNTIF(X29:X48,"유국") -> 0 | S37: / | T37: =SUMIF(X29:X48,"유국",E29:E48) -> 0 | U37: =O37-R37 -> 0 | V37: / | W37: =Q37-T37 -> 0 | X37: =CONCATENATE(C37,H37)
A38: =IF(OR(ISNUMBER(E38),ISTEXT(C38)),A37+1," ") | N38: 과수원 | O38: =COUNTIF(C29:C48,"과") -> 0 | P38: / | Q38: =SUMIF(C29:C48,"과",E29:E48) -> 0 | R38: =COUNTIF(X29:X48,"과국") -> 0 | S38: / | T38: =SUMIF(X29:X48,"과국",E29:E48) -> 0 | U38: =O38-R38 -> 0 | V38: / | W38: =Q38-T38 -> 0 | X38: =CONCATENATE(C38,H38)
A39: =IF(OR(ISNUMBER(E39),ISTEXT(C39)),A38+1," ") | N39: 묘지 | O39: =COUNTIF(C29:C48,"묘") -> 0 | P39: / | Q39: =SUMIF(C29:C48,"묘",E29:E48) -> 0 | R39: =COUNTIF(X29:X48,"묘국") -> 0 | S39: / | T39: =SUMIF(X29:X48,"묘국",E29:E48) -> 0 | U39: =O39-R39 -> 0 | V39: / | W39: =Q39-T39 -> 0 | X39: =CONCATENATE(C39,H39)
A40: =IF(OR(ISNUMBER(E40),ISTEXT(C40)),A39+1," ") | N40: 목장 | O40: =COUNTIF(C29:C48,"목") -> 0 | P40: / | Q40: =SUMIF(C29:C48,"목",E29:E48) -> 0 | R40: =COUNTIF(X29:X48,"목국") -> 0 | S40: / | T40: =SUMIF(X29:X48,"목국",E29:E48) -> 0 | U40: =O40-R40 -> 0 | V40: / | W40: =Q40-T40 -> 0 | X40: =CONCATENATE(C40,H40)
A41: =IF(OR(ISNUMBER(E41),ISTEXT(C41)),A40+1," ") | N41: 잡종지 | O41: =COUNTIF(C29:C48,"잡") -> 0 | P41: / | Q41: =SUMIF(C29:C48,"잡",E29:E48) -> 0 | R41: =COUNTIF(X29:X48,"잡국") -> 0 | S41: / | T41: =SUMIF(X29:X48,"잡국",E29:E48) -> 0 | U41: =O41-R41 -> 0 | V41: / | W41: =Q41-T41 -> 0 | X41: =CONCATENATE(C41,H41)
A42: =IF(OR(ISNUMBER(E42),ISTEXT(C42)),A41+1," ") | N42: 학교용지 | O42: =COUNTIF(C29:C48,"학") -> 0 | P42: / | Q42: =SUMIF(C29:C48,"학",E29:E48) -> 0 | R42: =COUNTIF(X29:X48,"학국") -> 0 | S42: / | T42: =SUMIF(X29:X48,"학국",E29:E48) -> 0 | U42: =O42-R42 -> 0 | V42: / | W42: =Q42-T42 -> 0 | X42: =CONCATENATE(C42,H42)
A43: =IF(OR(ISNUMBER(E43),ISTEXT(C43)),A42+1," ") | N43: 수도 | O43: =COUNTIF(C29:C48,"수") -> 0 | P43: / | Q43: =SUMIF(C29:C48,"수",E29:E48) -> 0 | R43: =COUNTIF(X29:X48,"수국") -> 0 | S43: / | T43: =SUMIF(X29:X48,"수국",E29:E48) -> 0 | U43: =O43-R43 -> 0 | V43: / | W43: =Q43-T43 -> 0 | X43: =CONCATENATE(C43,H43)
A44: =IF(OR(ISNUMBER(E44),ISTEXT(C44)),A43+1," ") | N44: 공장 | O44: =COUNTIF(C29:C48,"장") -> 0 | P44: / | Q44: =SUMIF(C29:C48,"장",E29:E48) -> 0 | R44: =COUNTIF(X29:X48,"장국") -> 0 | S44: / | T44: =SUMIF(X29:X48,"장국",E29:E48) -> 0 | U44: =O44-R44 -> 0 | V44: / | W44: =Q44-T44 -> 0 | X44: =CONCATENATE(C44,H44)
A45: =IF(OR(ISNUMBER(E45),ISTEXT(C45)),A44+1," ") | X45: =CONCATENATE(C45,H45)
A46: =IF(OR(ISNUMBER(E46),ISTEXT(C46)),A45+1," ") | X46: =CONCATENATE(C46,H46)
A47: =IF(OR(ISNUMBER(E47),ISTEXT(C47)),A46+1," ") | X47: =CONCATENATE(C47,H47)
A48: =IF(OR(ISNUMBER(E48),ISTEXT(C48)),A47+1," ") | N48: 기타 | O48: =COUNTIF(C29:C48," ") -> 0 | P48: / | Q48: =SUMIF(C29:C48," ",E29:E48) -> 0 | S48: / | U48: =O48 -> 0 | V48: / | W48: =Q48 -> 0 | X48: =CONCATENATE(C48,H48)
A49: 소 계 | E49: =SUM(E29:E48) -> 0 | N49: 계 | O49: =SUM(O29:O48) -> 0 | P49: / | Q49: =SUM(Q29:Q48) -> 0 | R49: =SUM(R29:R48) -> 0 | S49: / | T49: =SUM(T29:T48) -> 0 | U49: =SUM(U29:U48) -> 0 | V49: / | W49: =SUM(W29:W48) -> 0 | X49: =CONCATENATE(C49,H49)
A50: =IF(OR(ISNUMBER(E50),ISTEXT(C50)),A48+1," ") | N50: 전 | O50: =COUNTIF(C50:C69,"전") -> 0 | P50: / | Q50: =SUMIF(C50:C69,"전",E50:E69) -> 0 | R50: =COUNTIF(X50:X69,"전국") -> 0 | S50: / | T50: =SUMIF(X50:X69,"전국",E50:E69) -> 0 | U50: =O50-R50 -> 0 | V50: / | W50: =Q50-T50 -> 0 | X50: =CONCATENATE(C50,H50)
A51: =IF(OR(ISNUMBER(E51),ISTEXT(C51)),A50+1," ") | N51: 답 | O51: =COUNTIF(C50:C69,"답") -> 0 | P51: / | Q51: =SUMIF(C50:C69,"답",E50:E69) -> 0 | R51: =COUNTIF(X50:X69,"답국") -> 0 | S51: / | T51: =SUMIF(X50:X69,"답국",E50:E69) -> 0 | U51: =O51-R51 -> 0 | V51: / | W51: =Q51-T51 -> 0 | X51: =CONCATENATE(C51,H51)
A52: =IF(OR(ISNUMBER(E52),ISTEXT(C52)),A51+1," ") | N52: 임야 | O52: =COUNTIF(C50:C69,"임") -> 0 | P52: / | Q52: =SUMIF(C50:C69,"임",E50:E69) -> 0 | R52: =COUNTIF(X50:X69,"임국") -> 0 | S52: / | T52: =SUMIF(X50:X69,"임국",E50:E69) -> 0 | U52: =O52-R52 -> 0 | V52: / | W52: =Q52-T52 -> 0 | X52: =CONCATENATE(C52,H52)
A53: =IF(OR(ISNUMBER(E53),ISTEXT(C53)),A52+1," ") | N53: 대지 | O53: =COUNTIF(C50:C69,"대") -> 0 | P53: / | Q53: =SUMIF(C50:C69,"대",E50:E69) -> 0 | R53: =COUNTIF(X50:X69,"대국") -> 0 | S53: / | T53: =SUMIF(X50:X69,"대국",E50:E69) -> 0 | U53: =O53-R53 -> 0 | V53: / | W53: =Q53-T53 -> 0 | X53: =CONCATENATE(C53,H53)
A54: =IF(OR(ISNUMBER(E54),ISTEXT(C54)),A53+1," ") | N54: 도로 | O54: =COUNTIF(C50:C69,"도") -> 0 | P54: / | Q54: =SUMIF(C50:C69,"도",E50:E69) -> 0 | R54: =COUNTIF(X50:X69,"도국") -> 0 | S54: / | T54: =SUMIF(X50:X69,"도국",E50:E69) -> 0 | U54: =O54-R54 -> 0 | V54: / | W54: =Q54-T54 -> 0 | X54: =CONCATENATE(C54,H54)
A55: =IF(OR(ISNUMBER(E55),ISTEXT(C55)),A54+1," ") | N55: 하천 | O55: =COUNTIF(C50:C69,"천") -> 0 | P55: / | Q55: =SUMIF(C50:C69,"천",E50:E69) -> 0 | R55: =COUNTIF(X50:X69,"천국") -> 0 | S55: / | T55: =SUMIF(X50:X69,"천국",E50:E69) -> 0 | U55: =O55-R55 -> 0 | V55: / | W55: =Q55-T55 -> 0 | X55: =CONCATENATE(C55,H55)
A56: =IF(OR(ISNUMBER(E56),ISTEXT(C56)),A55+1," ") | N56: 구거 | O56: =COUNTIF(C50:C69,"구") -> 0 | P56: / | Q56: =SUMIF(C50:C69,"구",E50:E69) -> 0 | R56: =COUNTIF(X50:X69,"구국") -> 0 | S56: / | T56: =SUMIF(X50:X69,"구국",E50:E69) -> 0 | U56: =O56-R56 -> 0 | V56: / | W56: =Q56-T56 -> 0 | X56: =CONCATENATE(C56,H56)
A57: =IF(OR(ISNUMBER(E57),ISTEXT(C57)),A56+1," ") | N57: 제방 | O57: =COUNTIF(C50:C69,"제") -> 0 | P57: / | Q57: =SUMIF(C50:C69,"제",E50:E69) -> 0 | R57: =COUNTIF(X50:X69,"제국") -> 0 | S57: / | T57: =SUMIF(X50:X69,"제국",E50:E69) -> 0 | U57: =O57-R57 -> 0 | V57: / | W57: =Q57-T57 -> 0 | X57: =CONCATENATE(C57,H57)
A58: =IF(OR(ISNUMBER(E58),ISTEXT(C58)),A57+1," ") | N58: 유지 | O58: =COUNTIF(C50:C69,"유") -> 0 | P58: / | Q58: =SUMIF(C50:C69,"유",E50:E69) -> 0 | R58: =COUNTIF(X50:X69,"유국") -> 0 | S58: / | T58: =SUMIF(X50:X69,"유국",E50:E69) -> 0 | U58: =O58-R58 -> 0 | V58: / | W58: =Q58-T58 -> 0 | X58: =CONCATENATE(C58,H58)
A59: =IF(OR(ISNUMBER(E59),ISTEXT(C59)),A58+1," ") | N59: 과수원 | O59: =COUNTIF(C50:C69,"과") -> 0 | P59: / | Q59: =SUMIF(C50:C69,"과",E50:E69) -> 0 | R59: =COUNTIF(X50:X69,"과국") -> 0 | S59: / | T59: =SUMIF(X50:X69,"과국",E50:E69) -> 0 | U59: =O59-R59 -> 0 | V59: / | W59: =Q59-T59 -> 0 | X59: =CONCATENATE(C59,H59)
A60: =IF(OR(ISNUMBER(E60),ISTEXT(C60)),A59+1," ") | N60: 묘지 | O60: =COUNTIF(C50:C69,"묘") -> 0 | P60: / | Q60: =SUMIF(C50:C69,"묘",E50:E69) -> 0 | R60: =COUNTIF(X50:X69,"묘국") -> 0 | S60: / | T60: =SUMIF(X50:X69,"묘국",E50:E69) -> 0 | U60: =O60-R60 -> 0 | V60: / | W60: =Q60-T60 -> 0 | X60: =CONCATENATE(C60,H60)
A61: =IF(OR(ISNUMBER(E61),ISTEXT(C61)),A60+1," ") | N61: 목장 | O61: =COUNTIF(C50:C69,"목") -> 0 | P61: / | Q61: =SUMIF(C50:C69,"목",E50:E69) -> 0 | R61: =COUNTIF(X50:X69,"목국") -> 0 | S61: / | T61: =SUMIF(X50:X69,"목국",E50:E69) -> 0 | U61: =O61-R61 -> 0 | V61: / | W61: =Q61-T61 -> 0 | X61: =CONCATENATE(C61,H61)
A62: =IF(OR(ISNUMBER(E62),ISTEXT(C62)),A61+1," ") | N62: 잡종지 | O62: =COUNTIF(C50:C69,"잡") -> 0 | P62: / | Q62: =SUMIF(C50:C69,"잡",E50:E69) -> 0 | R62: =COUNTIF(X50:X69,"잡국") -> 0 | S62: / | T62: =SUMIF(X50:X69,"잡국",E50:E69) -> 0 | U62: =O62-R62 -> 0 | V62: / | W62: =Q62-T62 -> 0 | X62: =CONCATENATE(C62,H62)
A63: =IF(OR(ISNUMBER(E63),ISTEXT(C63)),A62+1," ") | N63: 학교용지 | O63: =COUNTIF(C50:C69,"학") -> 0 | P63: / | Q63: =SUMIF(C50:C69,"학",E50:E69) -> 0 | R63: =COUNTIF(X50:X69,"학국") -> 0 | S63: / | T63: =SUMIF(X50:X69,"학국",E50:E69) -> 0 | U63: =O63-R63 -> 0 | V63: / | W63: =Q63-T63 -> 0 | X63: =CONCATENATE(C63,H63)
A64: =IF(OR(ISNUMBER(E64),ISTEXT(C64)),A63+1," ") | N64: 수도 | O64: =COUNTIF(C50:C69,"수") -> 0 | P64: / | Q64: =SUMIF(C50:C69,"수",E50:E69) -> 0 | R64: =COUNTIF(X50:X69,"수국") -> 0 | S64: / | T64: =SUMIF(X50:X69,"수국",E50:E69) -> 0 | U64: =O64-R64 -> 0 | V64: / | W64: =Q64-T64 -> 0 | X64: =CONCATENATE(C64,H64)
A65: =IF(OR(ISNUMBER(E65),ISTEXT(C65)),A64+1," ") | N65: 공장 | O65: =COUNTIF(C50:C69,"장") -> 0 | P65: / | Q65: =SUMIF(C50:C69,"장",E50:E69) -> 0 | R65: =COUNTIF(X50:X69,"장국") -> 0 | S65: / | T65: =SUMIF(X50:X69,"장국",E50:E69) -> 0 | U65: =O65-R65 -> 0 | V65: / | W65: =Q65-T65 -> 0 | X65: =CONCATENATE(C65,H65)
A66: =IF(OR(ISNUMBER(E66),ISTEXT(C66)),A65+1," ") | X66: =CONCATENATE(C66,H66)
A67: =IF(OR(ISNUMBER(E67),ISTEXT(C67)),A66+1," ") | X67: =CONCATENATE(C67,H67)
A68: =IF(OR(ISNUMBER(E68),ISTEXT(C68)),A67+1," ") | X68: =CONCATENATE(C68,H68)
A69: =IF(OR(ISNUMBER(E69),ISTEXT(C69)),A68+1," ") | N69: 기타 | O69: =COUNTIF(C50:C69," ") -> 0 | P69: / | Q69: =SUMIF(C50:C69," ",E50:E69) -> 0 | S69: / | U69: =O69 -> 0 | V69: / | W69: =Q69 -> 0 | X69: =CONCATENATE(C69,H69)
A70: 소 계 | E70: =SUM(E50:E69) -> 0 | N70: 계 | O70: =SUM(O50:O69) -> 0 | P70: / | Q70: =SUM(Q50:Q69) -> 0 | R70: =SUM(R50:R69) -> 0 | S70: / | T70: =SUM(T50:T69) -> 0 | U70: =SUM(U50:U69) -> 0 | V70: / | W70: =SUM(W50:W69) -> 0 | X70: =CONCATENATE(C70,H70)
A71: =IF(OR(ISNUMBER(E71),ISTEXT(C71)),A69+1," ") | N71: 전 | O71: =COUNTIF(C71:C90,"전") -> 0 | P71: / | Q71: =SUMIF(C71:C90,"전",E71:E90) -> 0 | R71: =COUNTIF(X71:X90,"전국") -> 0 | S71: / | T71: =SUMIF(X71:X90,"전국",E71:E90) -> 0 | U71: =O71-R71 -> 0 | V71: / | W71: =Q71-T71 -> 0 | X71: =CONCATENATE(C71,H71)
A72: =IF(OR(ISNUMBER(E72),ISTEXT(C72)),A71+1," ") | N72: 답 | O72: =COUNTIF(C71:C90,"답") -> 0 | P72: / | Q72: =SUMIF(C71:C90,"답",E71:E90) -> 0 | R72: =COUNTIF(X71:X90,"답국") -> 0 | S72: / | T72: =SUMIF(X71:X90,"답국",E71:E90) -> 0 | U72: =O72-R72 -> 0 | V72: / | W72: =Q72-T72 -> 0 | X72: =CONCATENATE(C72,H72)
A73: =IF(OR(ISNUMBER(E73),ISTEXT(C73)),A72+1," ") | N73: 임야 | O73: =COUNTIF(C71:C90,"임") -> 0 | P73: / | Q73: =SUMIF(C71:C90,"임",E71:E90) -> 0 | R73: =COUNTIF(X71:X90,"임국") -> 0 | S73: / | T73: =SUMIF(X71:X90,"임국",E71:E90) -> 0 | U73: =O73-R73 -> 0 | V73: / | W73: =Q73-T73 -> 0 | X73: =CONCATENATE(C73,H73)
A74: =IF(OR(ISNUMBER(E74),ISTEXT(C74)),A73+1," ") | N74: 대지 | O74: =COUNTIF(C71:C90,"대") -> 0 | P74: / | Q74: =SUMIF(C71:C90,"대",E71:E90) -> 0 | R74: =COUNTIF(X71:X90,"대국") -> 0 | S74: / | T74: =SUMIF(X71:X90,"대국",E71:E90) -> 0 | U74: =O74-R74 -> 0 | V74: / | W74: =Q74-T74 -> 0 | X74: =CONCATENATE(C74,H74)
A75: =IF(OR(ISNUMBER(E75),ISTEXT(C75)),A74+1," ") | N75: 도로 | O75: =COUNTIF(C71:C90,"도") -> 0 | P75: / | Q75: =SUMIF(C71:C90,"도",E71:E90) -> 0 | R75: =COUNTIF(X71:X90,"도국") -> 0 | S75: / | T75: =SUMIF(X71:X90,"도국",E71:E90) -> 0 | U75: =O75-R75 -> 0 | V75: / | W75: =Q75-T75 -> 0 | X75: =CONCATENATE(C75,H75)
A76: =IF(OR(ISNUMBER(E76),ISTEXT(C76)),A75+1," ") | N76: 하천 | O76: =COUNTIF(C71:C90,"천") -> 0 | P76: / | Q76: =SUMIF(C71:C90,"천",E71:E90) -> 0 | R76: =COUNTIF(X71:X90,"천국") -> 0 | S76: / | T76: =SUMIF(X71:X90,"천국",E71:E90) -> 0 | U76: =O76-R76 -> 0 | V76: / | W76: =Q76-T76 -> 0 | X76: =CONCATENATE(C76,H76)
A77: =IF(OR(ISNUMBER(E77),ISTEXT(C77)),A76+1," ") | N77: 구거 | O77: =COUNTIF(C71:C90,"구") -> 0 | P77: / | Q77: =SUMIF(C71:C90,"구",E71:E90) -> 0 | R77: =COUNTIF(X71:X90,"구국") -> 0 | S77: / | T77: =SUMIF(X71:X90,"구국",E71:E90) -> 0 | U77: =O77-R77 -> 0 | V77: / | W77: =Q77-T77 -> 0 | X77: =CONCATENATE(C77,H77)
A78: =IF(OR(ISNUMBER(E78),ISTEXT(C78)),A77+1," ") | N78: 제방 | O78: =COUNTIF(C71:C90,"제") -> 0 | P78: / | Q78: =SUMIF(C71:C90,"제",E71:E90) -> 0 | R78: =COUNTIF(X71:X90,"제국") -> 0 | S78: / | T78: =SUMIF(X71:X90,"제국",E71:E90) -> 0 | U78: =O78-R78 -> 0 | V78: / | W78: =Q78-T78 -> 0 | X78: =CONCATENATE(C78,H78)
A79: =IF(OR(ISNUMBER(E79),ISTEXT(C79)),A78+1," ") | N79: 유지 | O79: =COUNTIF(C71:C90,"유") -> 0 | P79: / | Q79: =SUMIF(C71:C90,"유",E71:E90) -> 0 | R79: =COUNTIF(X71:X90,"유국") -> 0 | S79: / | T79: =SUMIF(X71:X90,"유국",E71:E90) -> 0 | U79: =O79-R79 -> 0 | V79: / | W79: =Q79-T79 -> 0 | X79: =CONCATENATE(C79,H79)
A80: =IF(OR(ISNUMBER(E80),ISTEXT(C80)),A79+1," ") | N80: 과수원 | O80: =COUNTIF(C71:C90,"과") -> 0 | P80: / | Q80: =SUMIF(C71:C90,"과",E71:E90) -> 0 | R80: =COUNTIF(X71:X90,"과국") -> 0 | S80: / | T80: =SUMIF(X71:X90,"과국",E71:E90) -> 0 | U80: =O80-R80 -> 0 | V80: / | W80: =Q80-T80 -> 0 | X80: =CONCATENATE(C80,H80)
A81: =IF(OR(ISNUMBER(E81),ISTEXT(C81)),A80+1," ") | N81: 묘지 | O81: =COUNTIF(C71:C90,"묘") -> 0 | P81: / | Q81: =SUMIF(C71:C90,"묘",E71:E90) -> 0 | R81: =COUNTIF(X71:X90,"묘국") -> 0 | S81: / | T81: =SUMIF(X71:X90,"묘국",E71:E90) -> 0 | U81: =O81-R81 -> 0 | V81: / | W81: =Q81-T81 -> 0 | X81: =CONCATENATE(C81,H81)
A82: =IF(OR(ISNUMBER(E82),ISTEXT(C82)),A81+1," ") | N82: 목장 | O82: =COUNTIF(C71:C90,"목") -> 0 | P82: / | Q82: =SUMIF(C71:C90,"목",E71:E90) -> 0 | R82: =COUNTIF(X71:X90,"목국") -> 0 | S82: / | T82: =SUMIF(X71:X90,"목국",E71:E90) -> 0 | U82: =O82-R82 -> 0 | V82: / | W82: =Q82-T82 -> 0 | X82: =CONCATENATE(C82,H82)
A83: =IF(OR(ISNUMBER(E83),ISTEXT(C83)),A82+1," ") | N83: 잡종지 | O83: =COUNTIF(C71:C90,"잡") -> 0 | P83: / | Q83: =SUMIF(C71:C90,"잡",E71:E90) -> 0 | R83: =COUNTIF(X71:X90,"잡국") -> 0 | S83: / | T83: =SUMIF(X71:X90,"잡국",E71:E90) -> 0 | U83: =O83-R83 -> 0 | V83: / | W83: =Q83-T83 -> 0 | X83: =CONCATENATE(C83,H83)
A84: =IF(OR(ISNUMBER(E84),ISTEXT(C84)),A83+1," ") | N84: 학교용지 | O84: =COUNTIF(C71:C90,"학") -> 0 | P84: / | Q84: =SUMIF(C71:C90,"학",E71:E90) -> 0 | R84: =COUNTIF(X71:X90,"학국") -> 0 | S84: / | T84: =SUMIF(X71:X90,"학국",E71:E90) -> 0 | U84: =O84-R84 -> 0 | V84: / | W84: =Q84-T84 -> 0 | X84: =CONCATENATE(C84,H84)
A85: =IF(OR(ISNUMBER(E85),ISTEXT(C85)),A84+1," ") | N85: 수도 | O85: =COUNTIF(C71:C90,"수") -> 0 | P85: / | Q85: =SUMIF(C71:C90,"수",E71:E90) -> 0 | R85: =COUNTIF(X71:X90,"수국") -> 0 | S85: / | T85: =SUMIF(X71:X90,"수국",E71:E90) -> 0 | U85: =O85-R85 -> 0 | V85: / | W85: =Q85-T85 -> 0 | X85: =CONCATENATE(C85,H85)
A86: =IF(OR(ISNUMBER(E86),ISTEXT(C86)),A85+1," ") | N86: 공장 | O86: =COUNTIF(C71:C90,"장") -> 0 | P86: / | Q86: =SUMIF(C71:C90,"장",E71:E90) -> 0 | R86: =COUNTIF(X71:X90,"장국") -> 0 | S86: / | T86: =SUMIF(X71:X90,"장국",E71:E90) -> 0 | U86: =O86-R86 -> 0 | V86: / | W86: =Q86-T86 -> 0 | X86: =CONCATENATE(C86,H86)
A87: =IF(OR(ISNUMBER(E87),ISTEXT(C87)),A86+1," ") | X87: =CONCATENATE(C87,H87)
A88: =IF(OR(ISNUMBER(E88),ISTEXT(C88)),A87+1," ") | X88: =CONCATENATE(C88,H88)
A89: =IF(OR(ISNUMBER(E89),ISTEXT(C89)),A88+1," ") | X89: =CONCATENATE(C89,H89)
A90: =IF(OR(ISNUMBER(E90),ISTEXT(C90)),A89+1," ") | N90: 기타 | O90: =COUNTIF(C71:C90," ") -> 0 | P90: / | Q90: =SUMIF(C71:C90," ",E71:E90) -> 0 | S90: / | U90: =O90 -> 0 | V90: / | W90: =Q90 -> 0 | X90: =CONCATENATE(C90,H90)
A91: 소 계 | E91: =SUM(E71:E90) -> 0 | N91: 계 | O91: =SUM(O71:O90) -> 0 | P91: / | Q91: =SUM(Q71:Q90) -> 0 | R91: =SUM(R71:R90) -> 0 | S91: / | T91: =SUM(T71:T90) -> 0 | U91: =SUM(U71:U90) -> 0 | V91: / | W91: =SUM(W71:W90) -> 0 | X91: =CONCATENATE(C91,H91)
A92: =IF(OR(ISNUMBER(E92),ISTEXT(C92)),A90+1," ") | N92: 전 | O92: =COUNTIF(C92:C111,"전") -> 0 | P92: / | Q92: =SUMIF(C92:C111,"전",E92:E111) -> 0 | R92: =COUNTIF(X92:X111,"전국") -> 0 | S92: / | T92: =SUMIF(X92:X111,"전국",E92:E111) -> 0 | U92: =O92-R92 -> 0 | V92: / | W92: =Q92-T92 -> 0 | X92: =CONCATENATE(C92,H92)
A93: =IF(OR(ISNUMBER(E93),ISTEXT(C93)),A92+1," ") | N93: 답 | O93: =COUNTIF(C92:C111,"답") -> 0 | P93: / | Q93: =SUMIF(C92:C111,"답",E92:E111) -> 0 | R93: =COUNTIF(X92:X111,"답국") -> 0 | S93: / | T93: =SUMIF(X92:X111,"답국",E92:E111) -> 0 | U93: =O93-R93 -> 0 | V93: / | W93: =Q93-T93 -> 0 | X93: =CONCATENATE(C93,H93)
A94: =IF(OR(ISNUMBER(E94),ISTEXT(C94)),A93+1," ") | N94: 임야 | O94: =COUNTIF(C92:C111,"임") -> 0 | P94: / | Q94: =SUMIF(C92:C111,"임",E92:E111) -> 0 | R94: =COUNTIF(X92:X111,"임국") -> 0 | S94: / | T94: =SUMIF(X92:X111,"임국",E92:E111) -> 0 | U94: =O94-R94 -> 0 | V94: / | W94: =Q94-T94 -> 0 | X94: =CONCATENATE(C94,H94)
A95: =IF(OR(ISNUMBER(E95),ISTEXT(C95)),A94+1," ") | N95: 대지 | O95: =COUNTIF(C92:C111,"대") -> 0 | P95: / | Q95: =SUMIF(C92:C111,"대",E92:E111) -> 0 | R95: =COUNTIF(X92:X111,"대국") -> 0 | S95: / | T95: =SUMIF(X92:X111,"대국",E92:E111) -> 0 | U95: =O95-R95 -> 0 | V95: / | W95: =Q95-T95 -> 0 | X95: =CONCATENATE(C95,H95)
A96: =IF(OR(ISNUMBER(E96),ISTEXT(C96)),A95+1," ") | N96: 도로 | O96: =COUNTIF(C92:C111,"도") -> 0 | P96: / | Q96: =SUMIF(C92:C111,"도",E92:E111) -> 0 | R96: =COUNTIF(X92:X111,"도국") -> 0 | S96: / | T96: =SUMIF(X92:X111,"도국",E92:E111) -> 0 | U96: =O96-R96 -> 0 | V96: / | W96: =Q96-T96 -> 0 | X96: =CONCATENATE(C96,H96)
A97: =IF(OR(ISNUMBER(E97),ISTEXT(C97)),A96+1," ") | N97: 하천 | O97: =COUNTIF(C92:C111,"천") -> 0 | P97: / | Q97: =SUMIF(C92:C111,"천",E92:E111) -> 0 | R97: =COUNTIF(X92:X111,"천국") -> 0 | S97: / | T97: =SUMIF(X92:X111,"천국",E92:E111) -> 0 | U97: =O97-R97 -> 0 | V97: / | W97: =Q97-T97 -> 0 | X97: =CONCATENATE(C97,H97)
A98: =IF(OR(ISNUMBER(E98),ISTEXT(C98)),A97+1," ") | N98: 구거 | O98: =COUNTIF(C92:C111,"구") -> 0 | P98: / | Q98: =SUMIF(C92:C111,"구",E92:E111) -> 0 | R98: =COUNTIF(X92:X111,"구국") -> 0 | S98: / | T98: =SUMIF(X92:X111,"구국",E92:E111) -> 0 | U98: =O98-R98 -> 0 | V98: / | W98: =Q98-T98 -> 0 | X98: =CONCATENATE(C98,H98)
A99: =IF(OR(ISNUMBER(E99),ISTEXT(C99)),A98+1," ") | N99: 제방 | O99: =COUNTIF(C92:C111,"제") -> 0 | P99: / | Q99: =SUMIF(C92:C111,"제",E92:E111) -> 0 | R99: =COUNTIF(X92:X111,"제국") -> 0 | S99: / | T99: =SUMIF(X92:X111,"제국",E92:E111) -> 0 | U99: =O99-R99 -> 0 | V99: / | W99: =Q99-T99 -> 0 | X99: =CONCATENATE(C99,H99)
A100: =IF(OR(ISNUMBER(E100),ISTEXT(C100)),A99+1," ") | N100: 유지 | O100: =COUNTIF(C92:C111,"유") -> 0 | P100: / | Q100: =SUMIF(C92:C111,"유",E92:E111) -> 0 | R100: =COUNTIF(X92:X111,"유국") -> 0 | S100: / | T100: =SUMIF(X92:X111,"유국",E92:E111) -> 0 | U100: =O100-R100 -> 0 | V100: / | W100: =Q100-T100 -> 0 | X100: =CONCATENATE(C100,H100)
A101: =IF(OR(ISNUMBER(E101),ISTEXT(C101)),A100+1," ") | N101: 과수원 | O101: =COUNTIF(C92:C111,"과") -> 0 | P101: / | Q101: =SUMIF(C92:C111,"과",E92:E111) -> 0 | R101: =COUNTIF(X92:X111,"과국") -> 0 | S101: / | T101: =SUMIF(X92:X111,"과국",E92:E111) -> 0 | U101: =O101-R101 -> 0 | V101: / | W101: =Q101-T101 -> 0 | X101: =CONCATENATE(C101,H101)
A102: =IF(OR(ISNUMBER(E102),ISTEXT(C102)),A101+1," ") | N102: 묘지 | O102: =COUNTIF(C92:C111,"묘") -> 0 | P102: / | Q102: =SUMIF(C92:C111,"묘",E92:E111) -> 0 | R102: =COUNTIF(X92:X111,"묘국") -> 0 | S102: / | T102: =SUMIF(X92:X111,"묘국",E92:E111) -> 0 | U102: =O102-R102 -> 0 | V102: / | W102: =Q102-T102 -> 0 | X102: =CONCATENATE(C102,H102)
A103: =IF(OR(ISNUMBER(E103),ISTEXT(C103)),A102+1," ") | N103: 목장 | O103: =COUNTIF(C92:C111,"목") -> 0 | P103: / | Q103: =SUMIF(C92:C111,"목",E92:E111) -> 0 | R103: =COUNTIF(X92:X111,"목국") -> 0 | S103: / | T103: =SUMIF(X92:X111,"목국",E92:E111) -> 0 | U103: =O103-R103 -> 0 | V103: / | W103: =Q103-T103 -> 0 | X103: =CONCATENATE(C103,H103)
A104: =IF(OR(ISNUMBER(E104),ISTEXT(C104)),A103+1," ") | N104: 잡종지 | O104: =COUNTIF(C92:C111,"잡") -> 0 | P104: / | Q104: =SUMIF(C92:C111,"잡",E92:E111) -> 0 | R104: =COUNTIF(X92:X111,"잡국") -> 0 | S104: / | T104: =SUMIF(X92:X111,"잡국",E92:E111) -> 0 | U104: =O104-R104 -> 0 | V104: / | W104: =Q104-T104 -> 0 | X104: =CONCATENATE(C104,H104)
...

Sheet 용지조서(15)
A1: 용 지 조 서
A6: 일련 | B6: 지 번 | C6: 지목 | D6: 지 적 | E6: 편입면적 | F6: 실제이용상황 | H6: 소 유 자 | J6: 관 계 인 | M6: 비고
A7: 번호 | D7: ( ㎡ ) | E7: ( ㎡ ) | F7: 지목 | G7: 면 적 | H7: 성 명 | I7: 주 소 | J7: 성 명 | K7: 주 소 | L7: 권리관계
A8: =IF(OR(ISNUMBER(E8),ISTEXT(C8)),1," ") | N8: 전 | O8: =COUNTIF(C8:C27,"전") -> 0 | P8: / | Q8: =SUMIF(C8:C27,"전",E8:E27) -> 0 | R8: =COUNTIF(X8:X27,"전국") -> 0 | S8: / | T8: =SUMIF(X8:X27,"전국",E8:E27) -> 0 | U8: =O8-R8 -> 0 | V8: / | W8: =Q8-T8 -> 0 | X8: =CONCATENATE(C8,H8)
A9: =IF(OR(ISNUMBER(E9),ISTEXT(C9)),A8+1," ") | N9: 답 | O9: =COUNTIF(C8:C27,"답") -> 0 | P9: / | Q9: =SUMIF(C8:C27,"답",E8:E27) -> 0 | R9: =COUNTIF(X8:X27,"답국") -> 0 | S9: / | T9: =SUMIF(X8:X27,"답국",E8:E27) -> 0 | U9: =O9-R9 -> 0 | V9: / | W9: =Q9-T9 -> 0 | X9: =CONCATENATE(C9,H9)
A10: =IF(OR(ISNUMBER(E10),ISTEXT(C10)),A9+1," ") | N10: 임야 | O10: =COUNTIF(C8:C27,"임") -> 0 | P10: / | Q10: =SUMIF(C8:C27,"임",E8:E27) -> 0 | R10: =COUNTIF(X8:X27,"임국") -> 0 | S10: / | T10: =SUMIF(X8:X27,"임국",E8:E27) -> 0 | U10: =O10-R10 -> 0 | V10: / | W10: =Q10-T10 -> 0 | X10: =CONCATENATE(C10,H10)
A11: =IF(OR(ISNUMBER(E11),ISTEXT(C11)),A10+1," ") | N11: 대지 | O11: =COUNTIF(C8:C27,"대") -> 0 | P11: / | Q11: =SUMIF(C8:C27,"대",E8:E27) -> 0 | R11: =COUNTIF(X8:X27,"대국") -> 0 | S11: / | T11: =SUMIF(X8:X27,"대국",E8:E27) -> 0 | U11: =O11-R11 -> 0 | V11: / | W11: =Q11-T11 -> 0 | X11: =CONCATENATE(C11,H11)
A12: =IF(OR(ISNUMBER(E12),ISTEXT(C12)),A11+1," ") | N12: 도로 | O12: =COUNTIF(C8:C27,"도") -> 0 | P12: / | Q12: =SUMIF(C8:C27,"도",E8:E27) -> 0 | R12: =COUNTIF(X8:X27,"도국") -> 0 | S12: / | T12: =SUMIF(X8:X27,"도국",E8:E27) -> 0 | U12: =O12-R12 -> 0 | V12: / | W12: =Q12-T12 -> 0 | X12: =CONCATENATE(C12,H12)
A13: =IF(OR(ISNUMBER(E13),ISTEXT(C13)),A12+1," ") | N13: 하천 | O13: =COUNTIF(C8:C27,"천") -> 0 | P13: / | Q13: =SUMIF(C8:C27,"천",E8:E27) -> 0 | R13: =COUNTIF(X8:X27,"천국") -> 0 | S13: / | T13: =SUMIF(X8:X27,"천국",E8:E27) -> 0 | U13: =O13-R13 -> 0 | V13: / | W13: =Q13-T13 -> 0 | X13: =CONCATENATE(C13,H13)
A14: =IF(OR(ISNUMBER(E14),ISTEXT(C14)),A13+1," ") | N14: 구거 | O14: =COUNTIF(C8:C27,"구") -> 0 | P14: / | Q14: =SUMIF(C8:C27,"구",E8:E27) -> 0 | R14: =COUNTIF(X8:X27,"구국") -> 0 | S14: / | T14: =SUMIF(X8:X27,"구국",E8:E27) -> 0 | U14: =O14-R14 -> 0 | V14: / | W14: =Q14-T14 -> 0 | X14: =CONCATENATE(C14,H14)
A15: =IF(OR(ISNUMBER(E15),ISTEXT(C15)),A14+1," ") | N15: 제방 | O15: =COUNTIF(C8:C27,"제") -> 0 | P15: / | Q15: =SUMIF(C8:C27,"제",E8:E27) -> 0 | R15: =COUNTIF(X8:X27,"제국") -> 0 | S15: / | T15: =SUMIF(X8:X27,"제국",E8:E27) -> 0 | U15: =O15-R15 -> 0 | V15: / | W15: =Q15-T15 -> 0 | X15: =CONCATENATE(C15,H15)
A16: =IF(OR(ISNUMBER(E16),ISTEXT(C16)),A15+1," ") | N16: 유지 | O16: =COUNTIF(C8:C27,"유") -> 0 | P16: / | Q16: =SUMIF(C8:C27,"유",E8:E27) -> 0 | R16: =COUNTIF(X8:X27,"유국") -> 0 | S16: / | T16: =SUMIF(X8:X27,"유국",E8:E27) -> 0 | U16: =O16-R16 -> 0 | V16: / | W16: =Q16-T16 -> 0 | X16: =CONCATENATE(C16,H16)
A17: =IF(OR(ISNUMBER(E17),ISTEXT(C17)),A16+1," ") | N17: 과수원 | O17: =COUNTIF(C8:C27,"과") -> 0 | P17: / | Q17: =SUMIF(C8:C27,"과",E8:E27) -> 0 | R17: =COUNTIF(X8:X27,"과국") -> 0 | S17: / | T17: =SUMIF(X8:X27,"과국",E8:E27) -> 0 | U17: =O17-R17 -> 0 | V17: / | W17: =Q17-T17 -> 0 | X17: =CONCATENATE(C17,H17)
A18: =IF(OR(ISNUMBER(E18),ISTEXT(C18)),A17+1," ") | N18: 묘지 | O18: =COUNTIF(C8:C27,"묘") -> 0 | P18: / | Q18: =SUMIF(C8:C27,"묘",E8:E27) -> 0 | R18: =COUNTIF(X8:X27,"묘국") -> 0 | S18: / | T18: =SUMIF(X8:X27,"묘국",E8:E27) -> 0 | U18: =O18-R18 -> 0 | V18: / | W18: =Q18-T18 -> 0 | X18: =CONCATENATE(C18,H18)
A19: =IF(OR(ISNUMBER(E19),ISTEXT(C19)),A18+1," ") | N19: 목장 | O19: =COUNTIF(C8:C27,"목") -> 0 | P19: / | Q19: =SUMIF(C8:C27,"목",E8:E27) -> 0 | R19: =COUNTIF(X8:X27,"목국") -> 0 | S19: / | T19: =SUMIF(X8:X27,"목국",E8:E27) -> 0 | U19: =O19-R19 -> 0 | V19: / | W19: =Q19-T19 -> 0 | X19: =CONCATENATE(C19,H19)
A20: =IF(OR(ISNUMBER(E20),ISTEXT(C20)),A19+1," ") | N20: 잡종지 | O20: =COUNTIF(C8:C27,"잡") -> 0 | P20: / | Q20: =SUMIF(C8:C27,"잡",E8:E27) -> 0 | R20: =COUNTIF(X8:X27,"잡국") -> 0 | S20: / | T20: =SUMIF(X8:X27,"잡국",E8:E27) -> 0 | U20: =O20-R20 -> 0 | V20: / | W20: =Q20-T20 -> 0 | X20: =CONCATENATE(C20,H20)
A21: =IF(OR(ISNUMBER(E21),ISTEXT(C21)),A20+1," ") | N21: 학교용지 | O21: =COUNTIF(C8:C27,"학") -> 0 | P21: / | Q21: =SUMIF(C8:C27,"학",E8:E27) -> 0 | R21: =COUNTIF(X8:X27,"학국") -> 0 | S21: / | T21: =SUMIF(X8:X27,"학국",E8:E27) -> 0 | U21: =O21-R21 -> 0 | V21: / | W21: =Q21-T21 -> 0 | X21: =CONCATENATE(C21,H21)
A22: =IF(OR(ISNUMBER(E22),ISTEXT(C22)),A21+1," ") | N22: 수도 | O22: =COUNTIF(C8:C27,"수") -> 0 | P22: / | Q22: =SUMIF(C8:C27,"수",E8:E27) -> 0 | R22: =COUNTIF(X8:X27,"수국") -> 0 | S22: / | T22: =SUMIF(X8:X27,"수국",E8:E27) -> 0 | U22: =O22-R22 -> 0 | V22: / | W22: =Q22-T22 -> 0 | X22: =CONCATENATE(C22,H22)
A23: =IF(OR(ISNUMBER(E23),ISTEXT(C23)),A22+1," ") | N23: 공장 | O23: =COUNTIF(C8:C27,"장") -> 0 | P23: / | Q23: =SUMIF(C8:C27,"장",E8:E27) -> 0 | R23: =COUNTIF(X8:X27,"장국") -> 0 | S23: / | T23: =SUMIF(X8:X27,"장국",E8:E27) -> 0 | U23: =O23-R23 -> 0 | V23: / | W23: =Q23-T23 -> 0 | X23: =CONCATENATE(C23,H23)
A24: =IF(OR(ISNUMBER(E24),ISTEXT(C24)),A23+1," ") | X24: =CONCATENATE(C24,H24)
A25: =IF(OR(ISNUMBER(E25),ISTEXT(C25)),A24+1," ") | X25: =CONCATENATE(C25,H25)
A26: =IF(OR(ISNUMBER(E26),ISTEXT(C26)),A25+1," ") | X26: =CONCATENATE(C26,H26)
A27: =IF(OR(ISNUMBER(E27),ISTEXT(C27)),A26+1," ") | N27: 기타 | O27: =COUNTIF(C8:C27," ") -> 0 | P27: / | Q27: =SUMIF(C8:C27," ",E8:E27) -> 0 | S27: / | U27: =O27 -> 0 | V27: / | W27: =Q27 -> 0 | X27: =CONCATENATE(C27,H27)
A28: 소 계 | E28: =SUM(E8:E27) -> 0 | N28: 계 | O28: =SUM(O8:O27) -> 0 | P28: / | Q28: =SUM(Q8:Q27) -> 0 | R28: =SUM(R8:R27) -> 0 | S28: / | T28: =SUM(T8:T27) -> 0 | U28: =SUM(U8:U27) -> 0 | V28: / | W28: =SUM(W8:W27) -> 0 | X28: =CONCATENATE(C28,H28)
A29: =IF(OR(ISNUMBER(E29),ISTEXT(C29)),A27+1," ") | N29: 전 | O29: =COUNTIF(C29:C48,"전") -> 0 | P29: / | Q29: =SUMIF(C29:C48,"전",E29:E48) -> 0 | R29: =COUNTIF(X29:X48,"전국") -> 0 | S29: / | T29: =SUMIF(X29:X48,"전국",E29:E48) -> 0 | U29: =O29-R29 -> 0 | V29: / | W29: =Q29-T29 -> 0 | X29: =CONCATENATE(C29,H29)
A30: =IF(OR(ISNUMBER(E30),ISTEXT(C30)),A29+1," ") | N30: 답 | O30: =COUNTIF(C29:C48,"답") -> 0 | P30: / | Q30: =SUMIF(C29:C48,"답",E29:E48) -> 0 | R30: =COUNTIF(X29:X48,"답국") -> 0 | S30: / | T30: =SUMIF(X29:X48,"답국",E29:E48) -> 0 | U30: =O30-R30 -> 0 | V30: / | W30: =Q30-T30 -> 0 | X30: =CONCATENATE(C30,H30)
A31: =IF(OR(ISNUMBER(E31),ISTEXT(C31)),A30+1," ") | N31: 임야 | O31: =COUNTIF(C29:C48,"임") -> 0 | P31: / | Q31: =SUMIF(C29:C48,"임",E29:E48) -> 0 | R31: =COUNTIF(X29:X48,"임국") -> 0 | S31: / | T31: =SUMIF(X29:X48,"임국",E29:E48) -> 0 | U31: =O31-R31 -> 0 | V31: / | W31: =Q31-T31 -> 0 | X31: =CONCATENATE(C31,H31)
A32: =IF(OR(ISNUMBER(E32),ISTEXT(C32)),A31+1," ") | N32: 대지 | O32: =COUNTIF(C29:C48,"대") -> 0 | P32: / | Q32: =SUMIF(C29:C48,"대",E29:E48) -> 0 | R32: =COUNTIF(X29:X48,"대국") -> 0 | S32: / | T32: =SUMIF(X29:X48,"대국",E29:E48) -> 0 | U32: =O32-R32 -> 0 | V32: / | W32: =Q32-T32 -> 0 | X32: =CONCATENATE(C32,H32)
A33: =IF(OR(ISNUMBER(E33),ISTEXT(C33)),A32+1," ") | N33: 도로 | O33: =COUNTIF(C29:C48,"도") -> 0 | P33: / | Q33: =SUMIF(C29:C48,"도",E29:E48) -> 0 | R33: =COUNTIF(X29:X48,"도국") -> 0 | S33: / | T33: =SUMIF(X29:X48,"도국",E29:E48) -> 0 | U33: =O33-R33 -> 0 | V33: / | W33: =Q33-T33 -> 0 | X33: =CONCATENATE(C33,H33)
A34: =IF(OR(ISNUMBER(E34),ISTEXT(C34)),A33+1," ") | N34: 하천 | O34: =COUNTIF(C29:C48,"천") -> 0 | P34: / | Q34: =SUMIF(C29:C48,"천",E29:E48) -> 0 | R34: =COUNTIF(X29:X48,"천국") -> 0 | S34: / | T34: =SUMIF(X29:X48,"천국",E29:E48) -> 0 | U34: =O34-R34 -> 0 | V34: / | W34: =Q34-T34 -> 0 | X34: =CONCATENATE(C34,H34)
A35: =IF(OR(ISNUMBER(E35),ISTEXT(C35)),A34+1," ") | N35: 구거 | O35: =COUNTIF(C29:C48,"구") -> 0 | P35: / | Q35: =SUMIF(C29:C48,"구",E29:E48) -> 0 | R35: =COUNTIF(X29:X48,"구국") -> 0 | S35: / | T35: =SUMIF(X29:X48,"구국",E29:E48) -> 0 | U35: =O35-R35 -> 0 | V35: / | W35: =Q35-T35 -> 0 | X35: =CONCATENATE(C35,H35)
A36: =IF(OR(ISNUMBER(E36),ISTEXT(C36)),A35+1," ") | N36: 제방 | O36: =COUNTIF(C29:C48,"제") -> 0 | P36: / | Q36: =SUMIF(C29:C48,"제",E29:E48) -> 0 | R36: =COUNTIF(X29:X48,"제국") -> 0 | S36: / | T36: =SUMIF(X29:X48,"제국",E29:E48) -> 0 | U36: =O36-R36 -> 0 | V36: / | W36: =Q36-T36 -> 0 | X36: =CONCATENATE(C36,H36)
A37: =IF(OR(ISNUMBER(E37),ISTEXT(C37)),A36+1," ") | N37: 유지 | O37: =COUNTIF(C29:C48,"유") -> 0 | P37: / | Q37: =SUMIF(C29:C48,"유",E29:E48) -> 0 | R37: =COUNTIF(X29:X48,"유국") -> 0 | S37: / | T37: =SUMIF(X29:X48,"유국",E29:E48) -> 0 | U37: =O37-R37 -> 0 | V37: / | W37: =Q37-T37 -> 0 | X37: =CONCATENATE(C37,H37)
A38: =IF(OR(ISNUMBER(E38),ISTEXT(C38)),A37+1," ") | N38: 과수원 | O38: =COUNTIF(C29:C48,"과") -> 0 | P38: / | Q38: =SUMIF(C29:C48,"과",E29:E48) -> 0 | R38: =COUNTIF(X29:X48,"과국") -> 0 | S38: / | T38: =SUMIF(X29:X48,"과국",E29:E48) -> 0 | U38: =O38-R38 -> 0 | V38: / | W38: =Q38-T38 -> 0 | X38: =CONCATENATE(C38,H38)
A39: =IF(OR(ISNUMBER(E39),ISTEXT(C39)),A38+1," ") | N39: 묘지 | O39: =COUNTIF(C29:C48,"묘") -> 0 | P39: / | Q39: =SUMIF(C29:C48,"묘",E29:E48) -> 0 | R39: =COUNTIF(X29:X48,"묘국") -> 0 | S39: / | T39: =SUMIF(X29:X48,"묘국",E29:E48) -> 0 | U39: =O39-R39 -> 0 | V39: / | W39: =Q39-T39 -> 0 | X39: =CONCATENATE(C39,H39)
A40: =IF(OR(ISNUMBER(E40),ISTEXT(C40)),A39+1," ") | N40: 목장 | O40: =COUNTIF(C29:C48,"목") -> 0 | P40: / | Q40: =SUMIF(C29:C48,"목",E29:E48) -> 0 | R40: =COUNTIF(X29:X48,"목국") -> 0 | S40: / | T40: =SUMIF(X29:X48,"목국",E29:E48) -> 0 | U40: =O40-R40 -> 0 | V40: / | W40: =Q40-T40 -> 0 | X40: =CONCATENATE(C40,H40)
A41: =IF(OR(ISNUMBER(E41),ISTEXT(C41)),A40+1," ") | N41: 잡종지 | O41: =COUNTIF(C29:C48,"잡") -> 0 | P41: / | Q41: =SUMIF(C29:C48,"잡",E29:E48) -> 0 | R41: =COUNTIF(X29:X48,"잡국") -> 0 | S41: / | T41: =SUMIF(X29:X48,"잡국",E29:E48) -> 0 | U41: =O41-R41 -> 0 | V41: / | W41: =Q41-T41 -> 0 | X41: =CONCATENATE(C41,H41)
A42: =IF(OR(ISNUMBER(E42),ISTEXT(C42)),A41+1," ") | N42: 학교용지 | O42: =COUNTIF(C29:C48,"학") -> 0 | P42: / | Q42: =SUMIF(C29:C48,"학",E29:E48) -> 0 | R42: =COUNTIF(X29:X48,"학국") -> 0 | S42: / | T42: =SUMIF(X29:X48,"학국",E29:E48) -> 0 | U42: =O42-R42 -> 0 | V42: / | W42: =Q42-T42 -> 0 | X42: =CONCATENATE(C42,H42)
A43: =IF(OR(ISNUMBER(E43),ISTEXT(C43)),A42+1," ") | N43: 수도 | O43: =COUNTIF(C29:C48,"수") -> 0 | P43: / | Q43: =SUMIF(C29:C48,"수",E29:E48) -> 0 | R43: =COUNTIF(X29:X48,"수국") -> 0 | S43: / | T43: =SUMIF(X29:X48,"수국",E29:E48) -> 0 | U43: =O43-R43 -> 0 | V43: / | W43: =Q43-T43 -> 0 | X43: =CONCATENATE(C43,H43)
A44: =IF(OR(ISNUMBER(E44),ISTEXT(C44)),A43+1," ") | N44: 공장 | O44: =COUNTIF(C29:C48,"장") -> 0 | P44: / | Q44: =SUMIF(C29:C48,"장",E29:E48) -> 0 | R44: =COUNTIF(X29:X48,"장국") -> 0 | S44: / | T44: =SUMIF(X29:X48,"장국",E29:E48) -> 0 | U44: =O44-R44 -> 0 | V44: / | W44: =Q44-T44 -> 0 | X44: =CONCATENATE(C44,H44)
A45: =IF(OR(ISNUMBER(E45),ISTEXT(C45)),A44+1," ") | X45: =CONCATENATE(C45,H45)
A46: =IF(OR(ISNUMBER(E46),ISTEXT(C46)),A45+1," ") | X46: =CONCATENATE(C46,H46)
A47: =IF(OR(ISNUMBER(E47),ISTEXT(C47)),A46+1," ") | X47: =CONCATENATE(C47,H47)
A48: =IF(OR(ISNUMBER(E48),ISTEXT(C48)),A47+1," ") | N48: 기타 | O48: =COUNTIF(C29:C48," ") -> 0 | P48: / | Q48: =SUMIF(C29:C48," ",E29:E48) -> 0 | S48: / | U48: =O48 -> 0 | V48: / | W48: =Q48 -> 0 | X48: =CONCATENATE(C48,H48)
A49: 소 계 | E49: =SUM(E29:E48) -> 0 | N49: 계 | O49: =SUM(O29:O48) -> 0 | P49: / | Q49: =SUM(Q29:Q48) -> 0 | R49: =SUM(R29:R48) -> 0 | S49: / | T49: =SUM(T29:T48) -> 0 | U49: =SUM(U29:U48) -> 0 | V49: / | W49: =SUM(W29:W48) -> 0 | X49: =CONCATENATE(C49,H49)
A50: =IF(OR(ISNUMBER(E50),ISTEXT(C50)),A48+1," ") | N50: 전 | O50: =COUNTIF(C50:C69,"전") -> 0 | P50: / | Q50: =SUMIF(C50:C69,"전",E50:E69) -> 0 | R50: =COUNTIF(X50:X69,"전국") -> 0 | S50: / | T50: =SUMIF(X50:X69,"전국",E50:E69) -> 0 | U50: =O50-R50 -> 0 | V50: / | W50: =Q50-T50 -> 0 | X50: =CONCATENATE(C50,H50)
A51: =IF(OR(ISNUMBER(E51),ISTEXT(C51)),A50+1," ") | N51: 답 | O51: =COUNTIF(C50:C69,"답") -> 0 | P51: / | Q51: =SUMIF(C50:C69,"답",E50:E69) -> 0 | R51: =COUNTIF(X50:X69,"답국") -> 0 | S51: / | T51: =SUMIF(X50:X69,"답국",E50:E69) -> 0 | U51: =O51-R51 -> 0 | V51: / | W51: =Q51-T51 -> 0 | X51: =CONCATENATE(C51,H51)
A52: =IF(OR(ISNUMBER(E52),ISTEXT(C52)),A51+1," ") | N52: 임야 | O52: =COUNTIF(C50:C69,"임") -> 0 | P52: / | Q52: =SUMIF(C50:C69,"임",E50:E69) -> 0 | R52: =COUNTIF(X50:X69,"임국") -> 0 | S52: / | T52: =SUMIF(X50:X69,"임국",E50:E69) -> 0 | U52: =O52-R52 -> 0 | V52: / | W52: =Q52-T52 -> 0 | X52: =CONCATENATE(C52,H52)
A53: =IF(OR(ISNUMBER(E53),ISTEXT(C53)),A52+1," ") | N53: 대지 | O53: =COUNTIF(C50:C69,"대") -> 0 | P53: / | Q53: =SUMIF(C50:C69,"대",E50:E69) -> 0 | R53: =COUNTIF(X50:X69,"대국") -> 0 | S53: / | T53: =SUMIF(X50:X69,"대국",E50:E69) -> 0 | U53: =O53-R53 -> 0 | V53: / | W53: =Q53-T53 -> 0 | X53: =CONCATENATE(C53,H53)
A54: =IF(OR(ISNUMBER(E54),ISTEXT(C54)),A53+1," ") | N54: 도로 | O54: =COUNTIF(C50:C69,"도") -> 0 | P54: / | Q54: =SUMIF(C50:C69,"도",E50:E69) -> 0 | R54: =COUNTIF(X50:X69,"도국") -> 0 | S54: / | T54: =SUMIF(X50:X69,"도국",E50:E69) -> 0 | U54: =O54-R54 -> 0 | V54: / | W54: =Q54-T54 -> 0 | X54: =CONCATENATE(C54,H54)
A55: =IF(OR(ISNUMBER(E55),ISTEXT(C55)),A54+1," ") | N55: 하천 | O55: =COUNTIF(C50:C69,"천") -> 0 | P55: / | Q55: =SUMIF(C50:C69,"천",E50:E69) -> 0 | R55: =COUNTIF(X50:X69,"천국") -> 0 | S55: / | T55: =SUMIF(X50:X69,"천국",E50:E69) -> 0 | U55: =O55-R55 -> 0 | V55: / | W55: =Q55-T55 -> 0 | X55: =CONCATENATE(C55,H55)
A56: =IF(OR(ISNUMBER(E56),ISTEXT(C56)),A55+1," ") | N56: 구거 | O56: =COUNTIF(C50:C69,"구") -> 0 | P56: / | Q56: =SUMIF(C50:C69,"구",E50:E69) -> 0 | R56: =COUNTIF(X50:X69,"구국") -> 0 | S56: / | T56: =SUMIF(X50:X69,"구국",E50:E69) -> 0 | U56: =O56-R56 -> 0 | V56: / | W56: =Q56-T56 -> 0 | X56: =CONCATENATE(C56,H56)
A57: =IF(OR(ISNUMBER(E57),ISTEXT(C57)),A56+1," ") | N57: 제방 | O57: =COUNTIF(C50:C69,"제") -> 0 | P57: / | Q57: =SUMIF(C50:C69,"제",E50:E69) -> 0 | R57: =COUNTIF(X50:X69,"제국") -> 0 | S57: / | T57: =SUMIF(X50:X69,"제국",E50:E69) -> 0 | U57: =O57-R57 -> 0 | V57: / | W57: =Q57-T57 -> 0 | X57: =CONCATENATE(C57,H57)
A58: =IF(OR(ISNUMBER(E58),ISTEXT(C58)),A57+1," ") | N58: 유지 | O58: =COUNTIF(C50:C69,"유") -> 0 | P58: / | Q58: =SUMIF(C50:C69,"유",E50:E69) -> 0 | R58: =COUNTIF(X50:X69,"유국") -> 0 | S58: / | T58: =SUMIF(X50:X69,"유국",E50:E69) -> 0 | U58: =O58-R58 -> 0 | V58: / | W58: =Q58-T58 -> 0 | X58: =CONCATENATE(C58,H58)
A59: =IF(OR(ISNUMBER(E59),ISTEXT(C59)),A58+1," ") | N59: 과수원 | O59: =COUNTIF(C50:C69,"과") -> 0 | P59: / | Q59: =SUMIF(C50:C69,"과",E50:E69) -> 0 | R59: =COUNTIF(X50:X69,"과국") -> 0 | S59: / | T59: =SUMIF(X50:X69,"과국",E50:E69) -> 0 | U59: =O59-R59 -> 0 | V59: / | W59: =Q59-T59 -> 0 | X59: =CONCATENATE(C59,H59)
A60: =IF(OR(ISNUMBER(E60),ISTEXT(C60)),A59+1," ") | N60: 묘지 | O60: =COUNTIF(C50:C69,"묘") -> 0 | P60: / | Q60: =SUMIF(C50:C69,"묘",E50:E69) -> 0 | R60: =COUNTIF(X50:X69,"묘국") -> 0 | S60: / | T60: =SUMIF(X50:X69,"묘국",E50:E69) -> 0 | U60: =O60-R60 -> 0 | V60: / | W60: =Q60-T60 -> 0 | X60: =CONCATENATE(C60,H60)
A61: =IF(OR(ISNUMBER(E61),ISTEXT(C61)),A60+1," ") | N61: 목장 | O61: =COUNTIF(C50:C69,"목") -> 0 | P61: / | Q61: =SUMIF(C50:C69,"목",E50:E69) -> 0 | R61: =COUNTIF(X50:X69,"목국") -> 0 | S61: / | T61: =SUMIF(X50:X69,"목국",E50:E69) -> 0 | U61: =O61-R61 -> 0 | V61: / | W61: =Q61-T61 -> 0 | X61: =CONCATENATE(C61,H61)
A62: =IF(OR(ISNUMBER(E62),ISTEXT(C62)),A61+1," ") | N62: 잡종지 | O62: =COUNTIF(C50:C69,"잡") -> 0 | P62: / | Q62: =SUMIF(C50:C69,"잡",E50:E69) -> 0 | R62: =COUNTIF(X50:X69,"잡국") -> 0 | S62: / | T62: =SUMIF(X50:X69,"잡국",E50:E69) -> 0 | U62: =O62-R62 -> 0 | V62: / | W62: =Q62-T62 -> 0 | X62: =CONCATENATE(C62,H62)
A63: =IF(OR(ISNUMBER(E63),ISTEXT(C63)),A62+1," ") | N63: 학교용지 | O63: =COUNTIF(C50:C69,"학") -> 0 | P63: / | Q63: =SUMIF(C50:C69,"학",E50:E69) -> 0 | R63: =COUNTIF(X50:X69,"학국") -> 0 | S63: / | T63: =SUMIF(X50:X69,"학국",E50:E69) -> 0 | U63: =O63-R63 -> 0 | V63: / | W63: =Q63-T63 -> 0 | X63: =CONCATENATE(C63,H63)
A64: =IF(OR(ISNUMBER(E64),ISTEXT(C64)),A63+1," ") | N64: 수도 | O64: =COUNTIF(C50:C69,"수") -> 0 | P64: / | Q64: =SUMIF(C50:C69,"수",E50:E69) -> 0 | R64: =COUNTIF(X50:X69,"수국") -> 0 | S64: / | T64: =SUMIF(X50:X69,"수국",E50:E69) -> 0 | U64: =O64-R64 -> 0 | V64: / | W64: =Q64-T64 -> 0 | X64: =CONCATENATE(C64,H64)
A65: =IF(OR(ISNUMBER(E65),ISTEXT(C65)),A64+1," ") | N65: 공장 | O65: =COUNTIF(C50:C69,"장") -> 0 | P65: / | Q65: =SUMIF(C50:C69,"장",E50:E69) -> 0 | R65: =COUNTIF(X50:X69,"장국") -> 0 | S65: / | T65: =SUMIF(X50:X69,"장국",E50:E69) -> 0 | U65: =O65-R65 -> 0 | V65: / | W65: =Q65-T65 -> 0 | X65: =CONCATENATE(C65,H65)
A66: =IF(OR(ISNUMBER(E66),ISTEXT(C66)),A65+1," ") | X66: =CONCATENATE(C66,H66)
A67: =IF(OR(ISNUMBER(E67),ISTEXT(C67)),A66+1," ") | X67: =CONCATENATE(C67,H67)
A68: =IF(OR(ISNUMBER(E68),ISTEXT(C68)),A67+1," ") | X68: =CONCATENATE(C68,H68)
A69: =IF(OR(ISNUMBER(E69),ISTEXT(C69)),A68+1," ") | N69: 기타 | O69: =COUNTIF(C50:C69," ") -> 0 | P69: / | Q69: =SUMIF(C50:C69," ",E50:E69) -> 0 | S69: / | U69: =O69 -> 0 | V69: / | W69: =Q69 -> 0 | X69: =CONCATENATE(C69,H69)
A70: 소 계 | E70: =SUM(E50:E69) -> 0 | N70: 계 | O70: =SUM(O50:O69) -> 0 | P70: / | Q70: =SUM(Q50:Q69) -> 0 | R70: =SUM(R50:R69) -> 0 | S70: / | T70: =SUM(T50:T69) -> 0 | U70: =SUM(U50:U69) -> 0 | V70: / | W70: =SUM(W50:W69) -> 0 | X70: =CONCATENATE(C70,H70)
A71: =IF(OR(ISNUMBER(E71),ISTEXT(C71)),A69+1," ") | N71: 전 | O71: =COUNTIF(C71:C90,"전") -> 0 | P71: / | Q71: =SUMIF(C71:C90,"전",E71:E90) -> 0 | R71: =COUNTIF(X71:X90,"전국") -> 0 | S71: / | T71: =SUMIF(X71:X90,"전국",E71:E90) -> 0 | U71: =O71-R71 -> 0 | V71: / | W71: =Q71-T71 -> 0 | X71: =CONCATENATE(C71,H71)
A72: =IF(OR(ISNUMBER(E72),ISTEXT(C72)),A71+1," ") | N72: 답 | O72: =COUNTIF(C71:C90,"답") -> 0 | P72: / | Q72: =SUMIF(C71:C90,"답",E71:E90) -> 0 | R72: =COUNTIF(X71:X90,"답국") -> 0 | S72: / | T72: =SUMIF(X71:X90,"답국",E71:E90) -> 0 | U72: =O72-R72 -> 0 | V72: / | W72: =Q72-T72 -> 0 | X72: =CONCATENATE(C72,H72)
A73: =IF(OR(ISNUMBER(E73),ISTEXT(C73)),A72+1," ") | N73: 임야 | O73: =COUNTIF(C71:C90,"임") -> 0 | P73: / | Q73: =SUMIF(C71:C90,"임",E71:E90) -> 0 | R73: =COUNTIF(X71:X90,"임국") -> 0 | S73: / | T73: =SUMIF(X71:X90,"임국",E71:E90) -> 0 | U73: =O73-R73 -> 0 | V73: / | W73: =Q73-T73 -> 0 | X73: =CONCATENATE(C73,H73)
A74: =IF(OR(ISNUMBER(E74),ISTEXT(C74)),A73+1," ") | N74: 대지 | O74: =COUNTIF(C71:C90,"대") -> 0 | P74: / | Q74: =SUMIF(C71:C90,"대",E71:E90) -> 0 | R74: =COUNTIF(X71:X90,"대국") -> 0 | S74: / | T74: =SUMIF(X71:X90,"대국",E71:E90) -> 0 | U74: =O74-R74 -> 0 | V74: / | W74: =Q74-T74 -> 0 | X74: =CONCATENATE(C74,H74)
A75: =IF(OR(ISNUMBER(E75),ISTEXT(C75)),A74+1," ") | N75: 도로 | O75: =COUNTIF(C71:C90,"도") -> 0 | P75: / | Q75: =SUMIF(C71:C90,"도",E71:E90) -> 0 | R75: =COUNTIF(X71:X90,"도국") -> 0 | S75: / | T75: =SUMIF(X71:X90,"도국",E71:E90) -> 0 | U75: =O75-R75 -> 0 | V75: / | W75: =Q75-T75 -> 0 | X75: =CONCATENATE(C75,H75)
A76: =IF(OR(ISNUMBER(E76),ISTEXT(C76)),A75+1," ") | N76: 하천 | O76: =COUNTIF(C71:C90,"천") -> 0 | P76: / | Q76: =SUMIF(C71:C90,"천",E71:E90) -> 0 | R76: =COUNTIF(X71:X90,"천국") -> 0 | S76: / | T76: =SUMIF(X71:X90,"천국",E71:E90) -> 0 | U76: =O76-R76 -> 0 | V76: / | W76: =Q76-T76 -> 0 | X76: =CONCATENATE(C76,H76)
A77: =IF(OR(ISNUMBER(E77),ISTEXT(C77)),A76+1," ") | N77: 구거 | O77: =COUNTIF(C71:C90,"구") -> 0 | P77: / | Q77: =SUMIF(C71:C90,"구",E71:E90) -> 0 | R77: =COUNTIF(X71:X90,"구국") -> 0 | S77: / | T77: =SUMIF(X71:X90,"구국",E71:E90) -> 0 | U77: =O77-R77 -> 0 | V77: / | W77: =Q77-T77 -> 0 | X77: =CONCATENATE(C77,H77)
A78: =IF(OR(ISNUMBER(E78),ISTEXT(C78)),A77+1," ") | N78: 제방 | O78: =COUNTIF(C71:C90,"제") -> 0 | P78: / | Q78: =SUMIF(C71:C90,"제",E71:E90) -> 0 | R78: =COUNTIF(X71:X90,"제국") -> 0 | S78: / | T78: =SUMIF(X71:X90,"제국",E71:E90) -> 0 | U78: =O78-R78 -> 0 | V78: / | W78: =Q78-T78 -> 0 | X78: =CONCATENATE(C78,H78)
A79: =IF(OR(ISNUMBER(E79),ISTEXT(C79)),A78+1," ") | N79: 유지 | O79: =COUNTIF(C71:C90,"유") -> 0 | P79: / | Q79: =SUMIF(C71:C90,"유",E71:E90) -> 0 | R79: =COUNTIF(X71:X90,"유국") -> 0 | S79: / | T79: =SUMIF(X71:X90,"유국",E71:E90) -> 0 | U79: =O79-R79 -> 0 | V79: / | W79: =Q79-T79 -> 0 | X79: =CONCATENATE(C79,H79)
A80: =IF(OR(ISNUMBER(E80),ISTEXT(C80)),A79+1," ") | N80: 과수원 | O80: =COUNTIF(C71:C90,"과") -> 0 | P80: / | Q80: =SUMIF(C71:C90,"과",E71:E90) -> 0 | R80: =COUNTIF(X71:X90,"과국") -> 0 | S80: / | T80: =SUMIF(X71:X90,"과국",E71:E90) -> 0 | U80: =O80-R80 -> 0 | V80: / | W80: =Q80-T80 -> 0 | X80: =CONCATENATE(C80,H80)
A81: =IF(OR(ISNUMBER(E81),ISTEXT(C81)),A80+1," ") | N81: 묘지 | O81: =COUNTIF(C71:C90,"묘") -> 0 | P81: / | Q81: =SUMIF(C71:C90,"묘",E71:E90) -> 0 | R81: =COUNTIF(X71:X90,"묘국") -> 0 | S81: / | T81: =SUMIF(X71:X90,"묘국",E71:E90) -> 0 | U81: =O81-R81 -> 0 | V81: / | W81: =Q81-T81 -> 0 | X81: =CONCATENATE(C81,H81)
A82: =IF(OR(ISNUMBER(E82),ISTEXT(C82)),A81+1," ") | N82: 목장 | O82: =COUNTIF(C71:C90,"목") -> 0 | P82: / | Q82: =SUMIF(C71:C90,"목",E71:E90) -> 0 | R82: =COUNTIF(X71:X90,"목국") -> 0 | S82: / | T82: =SUMIF(X71:X90,"목국",E71:E90) -> 0 | U82: =O82-R82 -> 0 | V82: / | W82: =Q82-T82 -> 0 | X82: =CONCATENATE(C82,H82)
A83: =IF(OR(ISNUMBER(E83),ISTEXT(C83)),A82+1," ") | N83: 잡종지 | O83: =COUNTIF(C71:C90,"잡") -> 0 | P83: / | Q83: =SUMIF(C71:C90,"잡",E71:E90) -> 0 | R83: =COUNTIF(X71:X90,"잡국") -> 0 | S83: / | T83: =SUMIF(X71:X90,"잡국",E71:E90) -> 0 | U83: =O83-R83 -> 0 | V83: / | W83: =Q83-T83 -> 0 | X83: =CONCATENATE(C83,H83)
A84: =IF(OR(ISNUMBER(E84),ISTEXT(C84)),A83+1," ") | N84: 학교용지 | O84: =COUNTIF(C71:C90,"학") -> 0 | P84: / | Q84: =SUMIF(C71:C90,"학",E71:E90) -> 0 | R84: =COUNTIF(X71:X90,"학국") -> 0 | S84: / | T84: =SUMIF(X71:X90,"학국",E71:E90) -> 0 | U84: =O84-R84 -> 0 | V84: / | W84: =Q84-T84 -> 0 | X84: =CONCATENATE(C84,H84)
A85: =IF(OR(ISNUMBER(E85),ISTEXT(C85)),A84+1," ") | N85: 수도 | O85: =COUNTIF(C71:C90,"수") -> 0 | P85: / | Q85: =SUMIF(C71:C90,"수",E71:E90) -> 0 | R85: =COUNTIF(X71:X90,"수국") -> 0 | S85: / | T85: =SUMIF(X71:X90,"수국",E71:E90) -> 0 | U85: =O85-R85 -> 0 | V85: / | W85: =Q85-T85 -> 0 | X85: =CONCATENATE(C85,H85)
A86: =IF(OR(ISNUMBER(E86),ISTEXT(C86)),A85+1," ") | N86: 공장 | O86: =COUNTIF(C71:C90,"장") -> 0 | P86: / | Q86: =SUMIF(C71:C90,"장",E71:E90) -> 0 | R86: =COUNTIF(X71:X90,"장국") -> 0 | S86: / | T86: =SUMIF(X71:X90,"장국",E71:E90) -> 0 | U86: =O86-R86 -> 0 | V86: / | W86: =Q86-T86 -> 0 | X86: =CONCATENATE(C86,H86)
A87: =IF(OR(ISNUMBER(E87),ISTEXT(C87)),A86+1," ") | X87: =CONCATENATE(C87,H87)
A88: =IF(OR(ISNUMBER(E88),ISTEXT(C88)),A87+1," ") | X88: =CONCATENATE(C88,H88)
A89: =IF(OR(ISNUMBER(E89),ISTEXT(C89)),A88+1," ") | X89: =CONCATENATE(C89,H89)
A90: =IF(OR(ISNUMBER(E90),ISTEXT(C90)),A89+1," ") | N90: 기타 | O90: =COUNTIF(C71:C90," ") -> 0 | P90: / | Q90: =SUMIF(C71:C90," ",E71:E90) -> 0 | S90: / | U90: =O90 -> 0 | V90: / | W90: =Q90 -> 0 | X90: =CONCATENATE(C90,H90)
A91: 소 계 | E91: =SUM(E71:E90) -> 0 | N91: 계 | O91: =SUM(O71:O90) -> 0 | P91: / | Q91: =SUM(Q71:Q90) -> 0 | R91: =SUM(R71:R90) -> 0 | S91: / | T91: =SUM(T71:T90) -> 0 | U91: =SUM(U71:U90) -> 0 | V91: / | W91: =SUM(W71:W90) -> 0 | X91: =CONCATENATE(C91,H91)
A92: =IF(OR(ISNUMBER(E92),ISTEXT(C92)),A90+1," ") | N92: 전 | O92: =COUNTIF(C92:C111,"전") -> 0 | P92: / | Q92: =SUMIF(C92:C111,"전",E92:E111) -> 0 | R92: =COUNTIF(X92:X111,"전국") -> 0 | S92: / | T92: =SUMIF(X92:X111,"전국",E92:E111) -> 0 | U92: =O92-R92 -> 0 | V92: / | W92: =Q92-T92 -> 0 | X92: =CONCATENATE(C92,H92)
A93: =IF(OR(ISNUMBER(E93),ISTEXT(C93)),A92+1," ") | N93: 답 | O93: =COUNTIF(C92:C111,"답") -> 0 | P93: / | Q93: =SUMIF(C92:C111,"답",E92:E111) -> 0 | R93: =COUNTIF(X92:X111,"답국") -> 0 | S93: / | T93: =SUMIF(X92:X111,"답국",E92:E111) -> 0 | U93: =O93-R93 -> 0 | V93: / | W93: =Q93-T93 -> 0 | X93: =CONCATENATE(C93,H93)
A94: =IF(OR(ISNUMBER(E94),ISTEXT(C94)),A93+1," ") | N94: 임야 | O94: =COUNTIF(C92:C111,"임") -> 0 | P94: / | Q94: =SUMIF(C92:C111,"임",E92:E111) -> 0 | R94: =COUNTIF(X92:X111,"임국") -> 0 | S94: / | T94: =SUMIF(X92:X111,"임국",E92:E111) -> 0 | U94: =O94-R94 -> 0 | V94: / | W94: =Q94-T94 -> 0 | X94: =CONCATENATE(C94,H94)
A95: =IF(OR(ISNUMBER(E95),ISTEXT(C95)),A94+1," ") | N95: 대지 | O95: =COUNTIF(C92:C111,"대") -> 0 | P95: / | Q95: =SUMIF(C92:C111,"대",E92:E111) -> 0 | R95: =COUNTIF(X92:X111,"대국") -> 0 | S95: / | T95: =SUMIF(X92:X111,"대국",E92:E111) -> 0 | U95: =O95-R95 -> 0 | V95: / | W95: =Q95-T95 -> 0 | X95: =CONCATENATE(C95,H95)
A96: =IF(OR(ISNUMBER(E96),ISTEXT(C96)),A95+1," ") | N96: 도로 | O96: =COUNTIF(C92:C111,"도") -> 0 | P96: / | Q96: =SUMIF(C92:C111,"도",E92:E111) -> 0 | R96: =COUNTIF(X92:X111,"도국") -> 0 | S96: / | T96: =SUMIF(X92:X111,"도국",E92:E111) -> 0 | U96: =O96-R96 -> 0 | V96: / | W96: =Q96-T96 -> 0 | X96: =CONCATENATE(C96,H96)
A97: =IF(OR(ISNUMBER(E97),ISTEXT(C97)),A96+1," ") | N97: 하천 | O97: =COUNTIF(C92:C111,"천") -> 0 | P97: / | Q97: =SUMIF(C92:C111,"천",E92:E111) -> 0 | R97: =COUNTIF(X92:X111,"천국") -> 0 | S97: / | T97: =SUMIF(X92:X111,"천국",E92:E111) -> 0 | U97: =O97-R97 -> 0 | V97: / | W97: =Q97-T97 -> 0 | X97: =CONCATENATE(C97,H97)
A98: =IF(OR(ISNUMBER(E98),ISTEXT(C98)),A97+1," ") | N98: 구거 | O98: =COUNTIF(C92:C111,"구") -> 0 | P98: / | Q98: =SUMIF(C92:C111,"구",E92:E111) -> 0 | R98: =COUNTIF(X92:X111,"구국") -> 0 | S98: / | T98: =SUMIF(X92:X111,"구국",E92:E111) -> 0 | U98: =O98-R98 -> 0 | V98: / | W98: =Q98-T98 -> 0 | X98: =CONCATENATE(C98,H98)
A99: =IF(OR(ISNUMBER(E99),ISTEXT(C99)),A98+1," ") | N99: 제방 | O99: =COUNTIF(C92:C111,"제") -> 0 | P99: / | Q99: =SUMIF(C92:C111,"제",E92:E111) -> 0 | R99: =COUNTIF(X92:X111,"제국") -> 0 | S99: / | T99: =SUMIF(X92:X111,"제국",E92:E111) -> 0 | U99: =O99-R99 -> 0 | V99: / | W99: =Q99-T99 -> 0 | X99: =CONCATENATE(C99,H99)
A100: =IF(OR(ISNUMBER(E100),ISTEXT(C100)),A99+1," ") | N100: 유지 | O100: =COUNTIF(C92:C111,"유") -> 0 | P100: / | Q100: =SUMIF(C92:C111,"유",E92:E111) -> 0 | R100: =COUNTIF(X92:X111,"유국") -> 0 | S100: / | T100: =SUMIF(X92:X111,"유국",E92:E111) -> 0 | U100: =O100-R100 -> 0 | V100: / | W100: =Q100-T100 -> 0 | X100: =CONCATENATE(C100,H100)
A101: =IF(OR(ISNUMBER(E101),ISTEXT(C101)),A100+1," ") | N101: 과수원 | O101: =COUNTIF(C92:C111,"과") -> 0 | P101: / | Q101: =SUMIF(C92:C111,"과",E92:E111) -> 0 | R101: =COUNTIF(X92:X111,"과국") -> 0 | S101: / | T101: =SUMIF(X92:X111,"과국",E92:E111) -> 0 | U101: =O101-R101 -> 0 | V101: / | W101: =Q101-T101 -> 0 | X101: =CONCATENATE(C101,H101)
A102: =IF(OR(ISNUMBER(E102),ISTEXT(C102)),A101+1," ") | N102: 묘지 | O102: =COUNTIF(C92:C111,"묘") -> 0 | P102: / | Q102: =SUMIF(C92:C111,"묘",E92:E111) -> 0 | R102: =COUNTIF(X92:X111,"묘국") -> 0 | S102: / | T102: =SUMIF(X92:X111,"묘국",E92:E111) -> 0 | U102: =O102-R102 -> 0 | V102: / | W102: =Q102-T102 -> 0 | X102: =CONCATENATE(C102,H102)
A103: =IF(OR(ISNUMBER(E103),ISTEXT(C103)),A102+1," ") | N103: 목장 | O103: =COUNTIF(C92:C111,"목") -> 0 | P103: / | Q103: =SUMIF(C92:C111,"목",E92:E111) -> 0 | R103: =COUNTIF(X92:X111,"목국") -> 0 | S103: / | T103: =SUMIF(X92:X111,"목국",E92:E111) -> 0 | U103: =O103-R103 -> 0 | V103: / | W103: =Q103-T103 -> 0 | X103: =CONCATENATE(C103,H103)
A104: =IF(OR(ISNUMBER(E104),ISTEXT(C104)),A103+1," ") | N104: 잡종지 | O104: =COUNTIF(C92:C111,"잡") -> 0 | P104: / | Q104: =SUMIF(C92:C111,"잡",E92:E111) -> 0 | R104: =COUNTIF(X92:X111,"잡국") -> 0 | S104: / | T104: =SUMIF(X92:X111,"잡국",E92:E111) -> 0 | U104: =O104-R104 -> 0 | V104: / | W104: =Q104-T104 -> 0 | X104: =CONCATENATE(C104,H104)
...

Sheet 용지조서(16)
A1: 용 지 조 서
A6: 일련 | B6: 지 번 | C6: 지목 | D6: 지 적 | E6: 편입면적 | F6: 실제이용상황 | H6: 소 유 자 | J6: 관 계 인 | M6: 비고
A7: 번호 | D7: ( ㎡ ) | E7: ( ㎡ ) | F7: 지목 | G7: 면 적 | H7: 성 명 | I7: 주 소 | J7: 성 명 | K7: 주 소 | L7: 권리관계
A8: =IF(OR(ISNUMBER(E8),ISTEXT(C8)),1," ") | N8: 전 | O8: =COUNTIF(C8:C27,"전") -> 0 | P8: / | Q8: =SUMIF(C8:C27,"전",E8:E27) -> 0 | R8: =COUNTIF(X8:X27,"전국") -> 0 | S8: / | T8: =SUMIF(X8:X27,"전국",E8:E27) -> 0 | U8: =O8-R8 -> 0 | V8: / | W8: =Q8-T8 -> 0 | X8: =CONCATENATE(C8,H8)
A9: =IF(OR(ISNUMBER(E9),ISTEXT(C9)),A8+1," ") | N9: 답 | O9: =COUNTIF(C8:C27,"답") -> 0 | P9: / | Q9: =SUMIF(C8:C27,"답",E8:E27) -> 0 | R9: =COUNTIF(X8:X27,"답국") -> 0 | S9: / | T9: =SUMIF(X8:X27,"답국",E8:E27) -> 0 | U9: =O9-R9 -> 0 | V9: / | W9: =Q9-T9 -> 0 | X9: =CONCATENATE(C9,H9)
A10: =IF(OR(ISNUMBER(E10),ISTEXT(C10)),A9+1," ") | N10: 임야 | O10: =COUNTIF(C8:C27,"임") -> 0 | P10: / | Q10: =SUMIF(C8:C27,"임",E8:E27) -> 0 | R10: =COUNTIF(X8:X27,"임국") -> 0 | S10: / | T10: =SUMIF(X8:X27,"임국",E8:E27) -> 0 | U10: =O10-R10 -> 0 | V10: / | W10: =Q10-T10 -> 0 | X10: =CONCATENATE(C10,H10)
A11: =IF(OR(ISNUMBER(E11),ISTEXT(C11)),A10+1," ") | N11: 대지 | O11: =COUNTIF(C8:C27,"대") -> 0 | P11: / | Q11: =SUMIF(C8:C27,"대",E8:E27) -> 0 | R11: =COUNTIF(X8:X27,"대국") -> 0 | S11: / | T11: =SUMIF(X8:X27,"대국",E8:E27) -> 0 | U11: =O11-R11 -> 0 | V11: / | W11: =Q11-T11 -> 0 | X11: =CONCATENATE(C11,H11)
A12: =IF(OR(ISNUMBER(E12),ISTEXT(C12)),A11+1," ") | N12: 도로 | O12: =COUNTIF(C8:C27,"도") -> 0 | P12: / | Q12: =SUMIF(C8:C27,"도",E8:E27) -> 0 | R12: =COUNTIF(X8:X27,"도국") -> 0 | S12: / | T12: =SUMIF(X8:X27,"도국",E8:E27) -> 0 | U12: =O12-R12 -> 0 | V12: / | W12: =Q12-T12 -> 0 | X12: =CONCATENATE(C12,H12)
A13: =IF(OR(ISNUMBER(E13),ISTEXT(C13)),A12+1," ") | N13: 하천 | O13: =COUNTIF(C8:C27,"천") -> 0 | P13: / | Q13: =SUMIF(C8:C27,"천",E8:E27) -> 0 | R13: =COUNTIF(X8:X27,"천국") -> 0 | S13: / | T13: =SUMIF(X8:X27,"천국",E8:E27) -> 0 | U13: =O13-R13 -> 0 | V13: / | W13: =Q13-T13 -> 0 | X13: =CONCATENATE(C13,H13)
A14: =IF(OR(ISNUMBER(E14),ISTEXT(C14)),A13+1," ") | N14: 구거 | O14: =COUNTIF(C8:C27,"구") -> 0 | P14: / | Q14: =SUMIF(C8:C27,"구",E8:E27) -> 0 | R14: =COUNTIF(X8:X27,"구국") -> 0 | S14: / | T14: =SUMIF(X8:X27,"구국",E8:E27) -> 0 | U14: =O14-R14 -> 0 | V14: / | W14: =Q14-T14 -> 0 | X14: =CONCATENATE(C14,H14)
A15: =IF(OR(ISNUMBER(E15),ISTEXT(C15)),A14+1," ") | N15: 제방 | O15: =COUNTIF(C8:C27,"제") -> 0 | P15: / | Q15: =SUMIF(C8:C27,"제",E8:E27) -> 0 | R15: =COUNTIF(X8:X27,"제국") -> 0 | S15: / | T15: =SUMIF(X8:X27,"제국",E8:E27) -> 0 | U15: =O15-R15 -> 0 | V15: / | W15: =Q15-T15 -> 0 | X15: =CONCATENATE(C15,H15)
A16: =IF(OR(ISNUMBER(E16),ISTEXT(C16)),A15+1," ") | N16: 유지 | O16: =COUNTIF(C8:C27,"유") -> 0 | P16: / | Q16: =SUMIF(C8:C27,"유",E8:E27) -> 0 | R16: =COUNTIF(X8:X27,"유국") -> 0 | S16: / | T16: =SUMIF(X8:X27,"유국",E8:E27) -> 0 | U16: =O16-R16 -> 0 | V16: / | W16: =Q16-T16 -> 0 | X16: =CONCATENATE(C16,H16)
A17: =IF(OR(ISNUMBER(E17),ISTEXT(C17)),A16+1," ") | N17: 과수원 | O17: =COUNTIF(C8:C27,"과") -> 0 | P17: / | Q17: =SUMIF(C8:C27,"과",E8:E27) -> 0 | R17: =COUNTIF(X8:X27,"과국") -> 0 | S17: / | T17: =SUMIF(X8:X27,"과국",E8:E27) -> 0 | U17: =O17-R17 -> 0 | V17: / | W17: =Q17-T17 -> 0 | X17: =CONCATENATE(C17,H17)
A18: =IF(OR(ISNUMBER(E18),ISTEXT(C18)),A17+1," ") | N18: 묘지 | O18: =COUNTIF(C8:C27,"묘") -> 0 | P18: / | Q18: =SUMIF(C8:C27,"묘",E8:E27) -> 0 | R18: =COUNTIF(X8:X27,"묘국") -> 0 | S18: / | T18: =SUMIF(X8:X27,"묘국",E8:E27) -> 0 | U18: =O18-R18 -> 0 | V18: / | W18: =Q18-T18 -> 0 | X18: =CONCATENATE(C18,H18)
A19: =IF(OR(ISNUMBER(E19),ISTEXT(C19)),A18+1," ") | N19: 목장 | O19: =COUNTIF(C8:C27,"목") -> 0 | P19: / | Q19: =SUMIF(C8:C27,"목",E8:E27) -> 0 | R19: =COUNTIF(X8:X27,"목국") -> 0 | S19: / | T19: =SUMIF(X8:X27,"목국",E8:E27) -> 0 | U19: =O19-R19 -> 0 | V19: / | W19: =Q19-T19 -> 0 | X19: =CONCATENATE(C19,H19)
A20: =IF(OR(ISNUMBER(E20),ISTEXT(C20)),A19+1," ") | N20: 잡종지 | O20: =COUNTIF(C8:C27,"잡") -> 0 | P20: / | Q20: =SUMIF(C8:C27,"잡",E8:E27) -> 0 | R20: =COUNTIF(X8:X27,"잡국") -> 0 | S20: / | T20: =SUMIF(X8:X27,"잡국",E8:E27) -> 0 | U20: =O20-R20 -> 0 | V20: / | W20: =Q20-T20 -> 0 | X20: =CONCATENATE(C20,H20)
A21: =IF(OR(ISNUMBER(E21),ISTEXT(C21)),A20+1," ") | N21: 학교용지 | O21: =COUNTIF(C8:C27,"학") -> 0 | P21: / | Q21: =SUMIF(C8:C27,"학",E8:E27) -> 0 | R21: =COUNTIF(X8:X27,"학국") -> 0 | S21: / | T21: =SUMIF(X8:X27,"학국",E8:E27) -> 0 | U21: =O21-R21 -> 0 | V21: / | W21: =Q21-T21 -> 0 | X21: =CONCATENATE(C21,H21)
A22: =IF(OR(ISNUMBER(E22),ISTEXT(C22)),A21+1," ") | N22: 수도 | O22: =COUNTIF(C8:C27,"수") -> 0 | P22: / | Q22: =SUMIF(C8:C27,"수",E8:E27) -> 0 | R22: =COUNTIF(X8:X27,"수국") -> 0 | S22: / | T22: =SUMIF(X8:X27,"수국",E8:E27) -> 0 | U22: =O22-R22 -> 0 | V22: / | W22: =Q22-T22 -> 0 | X22: =CONCATENATE(C22,H22)
A23: =IF(OR(ISNUMBER(E23),ISTEXT(C23)),A22+1," ") | N23: 공장 | O23: =COUNTIF(C8:C27,"장") -> 0 | P23: / | Q23: =SUMIF(C8:C27,"장",E8:E27) -> 0 | R23: =COUNTIF(X8:X27,"장국") -> 0 | S23: / | T23: =SUMIF(X8:X27,"장국",E8:E27) -> 0 | U23: =O23-R23 -> 0 | V23: / | W23: =Q23-T23 -> 0 | X23: =CONCATENATE(C23,H23)
A24: =IF(OR(ISNUMBER(E24),ISTEXT(C24)),A23+1," ") | X24: =CONCATENATE(C24,H24)
A25: =IF(OR(ISNUMBER(E25),ISTEXT(C25)),A24+1," ") | X25: =CONCATENATE(C25,H25)
A26: =IF(OR(ISNUMBER(E26),ISTEXT(C26)),A25+1," ") | X26: =CONCATENATE(C26,H26)
A27: =IF(OR(ISNUMBER(E27),ISTEXT(C27)),A26+1," ") | N27: 기타 | O27: =COUNTIF(C8:C27," ") -> 0 | P27: / | Q27: =SUMIF(C8:C27," ",E8:E27) -> 0 | S27: / | U27: =O27 -> 0 | V27: / | W27: =Q27 -> 0 | X27: =CONCATENATE(C27,H27)
A28: 소 계 | E28: =SUM(E8:E27) -> 0 | N28: 계 | O28: =SUM(O8:O27) -> 0 | P28: / | Q28: =SUM(Q8:Q27) -> 0 | R28: =SUM(R8:R27) -> 0 | S28: / | T28: =SUM(T8:T27) -> 0 | U28: =SUM(U8:U27) -> 0 | V28: / | W28: =SUM(W8:W27) -> 0 | X28: =CONCATENATE(C28,H28)
A29: =IF(OR(ISNUMBER(E29),ISTEXT(C29)),A27+1," ") | N29: 전 | O29: =COUNTIF(C29:C48,"전") -> 0 | P29: / | Q29: =SUMIF(C29:C48,"전",E29:E48) -> 0 | R29: =COUNTIF(X29:X48,"전국") -> 0 | S29: / | T29: =SUMIF(X29:X48,"전국",E29:E48) -> 0 | U29: =O29-R29 -> 0 | V29: / | W29: =Q29-T29 -> 0 | X29: =CONCATENATE(C29,H29)
A30: =IF(OR(ISNUMBER(E30),ISTEXT(C30)),A29+1," ") | N30: 답 | O30: =COUNTIF(C29:C48,"답") -> 0 | P30: / | Q30: =SUMIF(C29:C48,"답",E29:E48) -> 0 | R30: =COUNTIF(X29:X48,"답국") -> 0 | S30: / | T30: =SUMIF(X29:X48,"답국",E29:E48) -> 0 | U30: =O30-R30 -> 0 | V30: / | W30: =Q30-T30 -> 0 | X30: =CONCATENATE(C30,H30)
A31: =IF(OR(ISNUMBER(E31),ISTEXT(C31)),A30+1," ") | N31: 임야 | O31: =COUNTIF(C29:C48,"임") -> 0 | P31: / | Q31: =SUMIF(C29:C48,"임",E29:E48) -> 0 | R31: =COUNTIF(X29:X48,"임국") -> 0 | S31: / | T31: =SUMIF(X29:X48,"임국",E29:E48) -> 0 | U31: =O31-R31 -> 0 | V31: / | W31: =Q31-T31 -> 0 | X31: =CONCATENATE(C31,H31)
A32: =IF(OR(ISNUMBER(E32),ISTEXT(C32)),A31+1," ") | N32: 대지 | O32: =COUNTIF(C29:C48,"대") -> 0 | P32: / | Q32: =SUMIF(C29:C48,"대",E29:E48) -> 0 | R32: =COUNTIF(X29:X48,"대국") -> 0 | S32: / | T32: =SUMIF(X29:X48,"대국",E29:E48) -> 0 | U32: =O32-R32 -> 0 | V32: / | W32: =Q32-T32 -> 0 | X32: =CONCATENATE(C32,H32)
A33: =IF(OR(ISNUMBER(E33),ISTEXT(C33)),A32+1," ") | N33: 도로 | O33: =COUNTIF(C29:C48,"도") -> 0 | P33: / | Q33: =SUMIF(C29:C48,"도",E29:E48) -> 0 | R33: =COUNTIF(X29:X48,"도국") -> 0 | S33: / | T33: =SUMIF(X29:X48,"도국",E29:E48) -> 0 | U33: =O33-R33 -> 0 | V33: / | W33: =Q33-T33 -> 0 | X33: =CONCATENATE(C33,H33)
A34: =IF(OR(ISNUMBER(E34),ISTEXT(C34)),A33+1," ") | N34: 하천 | O34: =COUNTIF(C29:C48,"천") -> 0 | P34: / | Q34: =SUMIF(C29:C48,"천",E29:E48) -> 0 | R34: =COUNTIF(X29:X48,"천국") -> 0 | S34: / | T34: =SUMIF(X29:X48,"천국",E29:E48) -> 0 | U34: =O34-R34 -> 0 | V34: / | W34: =Q34-T34 -> 0 | X34: =CONCATENATE(C34,H34)
A35: =IF(OR(ISNUMBER(E35),ISTEXT(C35)),A34+1," ") | N35: 구거 | O35: =COUNTIF(C29:C48,"구") -> 0 | P35: / | Q35: =SUMIF(C29:C48,"구",E29:E48) -> 0 | R35: =COUNTIF(X29:X48,"구국") -> 0 | S35: / | T35: =SUMIF(X29:X48,"구국",E29:E48) -> 0 | U35: =O35-R35 -> 0 | V35: / | W35: =Q35-T35 -> 0 | X35: =CONCATENATE(C35,H35)
A36: =IF(OR(ISNUMBER(E36),ISTEXT(C36)),A35+1," ") | N36: 제방 | O36: =COUNTIF(C29:C48,"제") -> 0 | P36: / | Q36: =SUMIF(C29:C48,"제",E29:E48) -> 0 | R36: =COUNTIF(X29:X48,"제국") -> 0 | S36: / | T36: =SUMIF(X29:X48,"제국",E29:E48) -> 0 | U36: =O36-R36 -> 0 | V36: / | W36: =Q36-T36 -> 0 | X36: =CONCATENATE(C36,H36)
A37: =IF(OR(ISNUMBER(E37),ISTEXT(C37)),A36+1," ") | N37: 유지 | O37: =COUNTIF(C29:C48,"유") -> 0 | P37: / | Q37: =SUMIF(C29:C48,"유",E29:E48) -> 0 | R37: =COUNTIF(X29:X48,"유국") -> 0 | S37: / | T37: =SUMIF(X29:X48,"유국",E29:E48) -> 0 | U37: =O37-R37 -> 0 | V37: / | W37: =Q37-T37 -> 0 | X37: =CONCATENATE(C37,H37)
A38: =IF(OR(ISNUMBER(E38),ISTEXT(C38)),A37+1," ") | N38: 과수원 | O38: =COUNTIF(C29:C48,"과") -> 0 | P38: / | Q38: =SUMIF(C29:C48,"과",E29:E48) -> 0 | R38: =COUNTIF(X29:X48,"과국") -> 0 | S38: / | T38: =SUMIF(X29:X48,"과국",E29:E48) -> 0 | U38: =O38-R38 -> 0 | V38: / | W38: =Q38-T38 -> 0 | X38: =CONCATENATE(C38,H38)
A39: =IF(OR(ISNUMBER(E39),ISTEXT(C39)),A38+1," ") | N39: 묘지 | O39: =COUNTIF(C29:C48,"묘") -> 0 | P39: / | Q39: =SUMIF(C29:C48,"묘",E29:E48) -> 0 | R39: =COUNTIF(X29:X48,"묘국") -> 0 | S39: / | T39: =SUMIF(X29:X48,"묘국",E29:E48) -> 0 | U39: =O39-R39 -> 0 | V39: / | W39: =Q39-T39 -> 0 | X39: =CONCATENATE(C39,H39)
A40: =IF(OR(ISNUMBER(E40),ISTEXT(C40)),A39+1," ") | N40: 목장 | O40: =COUNTIF(C29:C48,"목") -> 0 | P40: / | Q40: =SUMIF(C29:C48,"목",E29:E48) -> 0 | R40: =COUNTIF(X29:X48,"목국") -> 0 | S40: / | T40: =SUMIF(X29:X48,"목국",E29:E48) -> 0 | U40: =O40-R40 -> 0 | V40: / | W40: =Q40-T40 -> 0 | X40: =CONCATENATE(C40,H40)
A41: =IF(OR(ISNUMBER(E41),ISTEXT(C41)),A40+1," ") | N41: 잡종지 | O41: =COUNTIF(C29:C48,"잡") -> 0 | P41: / | Q41: =SUMIF(C29:C48,"잡",E29:E48) -> 0 | R41: =COUNTIF(X29:X48,"잡국") -> 0 | S41: / | T41: =SUMIF(X29:X48,"잡국",E29:E48) -> 0 | U41: =O41-R41 -> 0 | V41: / | W41: =Q41-T41 -> 0 | X41: =CONCATENATE(C41,H41)
A42: =IF(OR(ISNUMBER(E42),ISTEXT(C42)),A41+1," ") | N42: 학교용지 | O42: =COUNTIF(C29:C48,"학") -> 0 | P42: / | Q42: =SUMIF(C29:C48,"학",E29:E48) -> 0 | R42: =COUNTIF(X29:X48,"학국") -> 0 | S42: / | T42: =SUMIF(X29:X48,"학국",E29:E48) -> 0 | U42: =O42-R42 -> 0 | V42: / | W42: =Q42-T42 -> 0 | X42: =CONCATENATE(C42,H42)
A43: =IF(OR(ISNUMBER(E43),ISTEXT(C43)),A42+1," ") | N43: 수도 | O43: =COUNTIF(C29:C48,"수") -> 0 | P43: / | Q43: =SUMIF(C29:C48,"수",E29:E48) -> 0 | R43: =COUNTIF(X29:X48,"수국") -> 0 | S43: / | T43: =SUMIF(X29:X48,"수국",E29:E48) -> 0 | U43: =O43-R43 -> 0 | V43: / | W43: =Q43-T43 -> 0 | X43: =CONCATENATE(C43,H43)
A44: =IF(OR(ISNUMBER(E44),ISTEXT(C44)),A43+1," ") | N44: 공장 | O44: =COUNTIF(C29:C48,"장") -> 0 | P44: / | Q44: =SUMIF(C29:C48,"장",E29:E48) -> 0 | R44: =COUNTIF(X29:X48,"장국") -> 0 | S44: / | T44: =SUMIF(X29:X48,"장국",E29:E48) -> 0 | U44: =O44-R44 -> 0 | V44: / | W44: =Q44-T44 -> 0 | X44: =CONCATENATE(C44,H44)
A45: =IF(OR(ISNUMBER(E45),ISTEXT(C45)),A44+1," ") | X45: =CONCATENATE(C45,H45)
A46: =IF(OR(ISNUMBER(E46),ISTEXT(C46)),A45+1," ") | X46: =CONCATENATE(C46,H46)
A47: =IF(OR(ISNUMBER(E47),ISTEXT(C47)),A46+1," ") | X47: =CONCATENATE(C47,H47)
A48: =IF(OR(ISNUMBER(E48),ISTEXT(C48)),A47+1," ") | N48: 기타 | O48: =COUNTIF(C29:C48," ") -> 0 | P48: / | Q48: =SUMIF(C29:C48," ",E29:E48) -> 0 | S48: / | U48: =O48 -> 0 | V48: / | W48: =Q48 -> 0 | X48: =CONCATENATE(C48,H48)
A49: 소 계 | E49: =SUM(E29:E48) -> 0 | N49: 계 | O49: =SUM(O29:O48) -> 0 | P49: / | Q49: =SUM(Q29:Q48) -> 0 | R49: =SUM(R29:R48) -> 0 | S49: / | T49: =SUM(T29:T48) -> 0 | U49: =SUM(U29:U48) -> 0 | V49: / | W49: =SUM(W29:W48) -> 0 | X49: =CONCATENATE(C49,H49)
A50: =IF(OR(ISNUMBER(E50),ISTEXT(C50)),A48+1," ") | N50: 전 | O50: =COUNTIF(C50:C69,"전") -> 0 | P50: / | Q50: =SUMIF(C50:C69,"전",E50:E69) -> 0 | R50: =COUNTIF(X50:X69,"전국") -> 0 | S50: / | T50: =SUMIF(X50:X69,"전국",E50:E69) -> 0 | U50: =O50-R50 -> 0 | V50: / | W50: =Q50-T50 -> 0 | X50: =CONCATENATE(C50,H50)
A51: =IF(OR(ISNUMBER(E51),ISTEXT(C51)),A50+1," ") | N51: 답 | O51: =COUNTIF(C50:C69,"답") -> 0 | P51: / | Q51: =SUMIF(C50:C69,"답",E50:E69) -> 0 | R51: =COUNTIF(X50:X69,"답국") -> 0 | S51: / | T51: =SUMIF(X50:X69,"답국",E50:E69) -> 0 | U51: =O51-R51 -> 0 | V51: / | W51: =Q51-T51 -> 0 | X51: =CONCATENATE(C51,H51)
A52: =IF(OR(ISNUMBER(E52),ISTEXT(C52)),A51+1," ") | N52: 임야 | O52: =COUNTIF(C50:C69,"임") -> 0 | P52: / | Q52: =SUMIF(C50:C69,"임",E50:E69) -> 0 | R52: =COUNTIF(X50:X69,"임국") -> 0 | S52: / | T52: =SUMIF(X50:X69,"임국",E50:E69) -> 0 | U52: =O52-R52 -> 0 | V52: / | W52: =Q52-T52 -> 0 | X52: =CONCATENATE(C52,H52)
A53: =IF(OR(ISNUMBER(E53),ISTEXT(C53)),A52+1," ") | N53: 대지 | O53: =COUNTIF(C50:C69,"대") -> 0 | P53: / | Q53: =SUMIF(C50:C69,"대",E50:E69) -> 0 | R53: =COUNTIF(X50:X69,"대국") -> 0 | S53: / | T53: =SUMIF(X50:X69,"대국",E50:E69) -> 0 | U53: =O53-R53 -> 0 | V53: / | W53: =Q53-T53 -> 0 | X53: =CONCATENATE(C53,H53)
A54: =IF(OR(ISNUMBER(E54),ISTEXT(C54)),A53+1," ") | N54: 도로 | O54: =COUNTIF(C50:C69,"도") -> 0 | P54: / | Q54: =SUMIF(C50:C69,"도",E50:E69) -> 0 | R54: =COUNTIF(X50:X69,"도국") -> 0 | S54: / | T54: =SUMIF(X50:X69,"도국",E50:E69) -> 0 | U54: =O54-R54 -> 0 | V54: / | W54: =Q54-T54 -> 0 | X54: =CONCATENATE(C54,H54)
A55: =IF(OR(ISNUMBER(E55),ISTEXT(C55)),A54+1," ") | N55: 하천 | O55: =COUNTIF(C50:C69,"천") -> 0 | P55: / | Q55: =SUMIF(C50:C69,"천",E50:E69) -> 0 | R55: =COUNTIF(X50:X69,"천국") -> 0 | S55: / | T55: =SUMIF(X50:X69,"천국",E50:E69) -> 0 | U55: =O55-R55 -> 0 | V55: / | W55: =Q55-T55 -> 0 | X55: =CONCATENATE(C55,H55)
A56: =IF(OR(ISNUMBER(E56),ISTEXT(C56)),A55+1," ") | N56: 구거 | O56: =COUNTIF(C50:C69,"구") -> 0 | P56: / | Q56: =SUMIF(C50:C69,"구",E50:E69) -> 0 | R56: =COUNTIF(X50:X69,"구국") -> 0 | S56: / | T56: =SUMIF(X50:X69,"구국",E50:E69) -> 0 | U56: =O56-R56 -> 0 | V56: / | W56: =Q56-T56 -> 0 | X56: =CONCATENATE(C56,H56)
A57: =IF(OR(ISNUMBER(E57),ISTEXT(C57)),A56+1," ") | N57: 제방 | O57: =COUNTIF(C50:C69,"제") -> 0 | P57: / | Q57: =SUMIF(C50:C69,"제",E50:E69) -> 0 | R57: =COUNTIF(X50:X69,"제국") -> 0 | S57: / | T57: =SUMIF(X50:X69,"제국",E50:E69) -> 0 | U57: =O57-R57 -> 0 | V57: / | W57: =Q57-T57 -> 0 | X57: =CONCATENATE(C57,H57)
A58: =IF(OR(ISNUMBER(E58),ISTEXT(C58)),A57+1," ") | N58: 유지 | O58: =COUNTIF(C50:C69,"유") -> 0 | P58: / | Q58: =SUMIF(C50:C69,"유",E50:E69) -> 0 | R58: =COUNTIF(X50:X69,"유국") -> 0 | S58: / | T58: =SUMIF(X50:X69,"유국",E50:E69) -> 0 | U58: =O58-R58 -> 0 | V58: / | W58: =Q58-T58 -> 0 | X58: =CONCATENATE(C58,H58)
A59: =IF(OR(ISNUMBER(E59),ISTEXT(C59)),A58+1," ") | N59: 과수원 | O59: =COUNTIF(C50:C69,"과") -> 0 | P59: / | Q59: =SUMIF(C50:C69,"과",E50:E69) -> 0 | R59: =COUNTIF(X50:X69,"과국") -> 0 | S59: / | T59: =SUMIF(X50:X69,"과국",E50:E69) -> 0 | U59: =O59-R59 -> 0 | V59: / | W59: =Q59-T59 -> 0 | X59: =CONCATENATE(C59,H59)
A60: =IF(OR(ISNUMBER(E60),ISTEXT(C60)),A59+1," ") | N60: 묘지 | O60: =COUNTIF(C50:C69,"묘") -> 0 | P60: / | Q60: =SUMIF(C50:C69,"묘",E50:E69) -> 0 | R60: =COUNTIF(X50:X69,"묘국") -> 0 | S60: / | T60: =SUMIF(X50:X69,"묘국",E50:E69) -> 0 | U60: =O60-R60 -> 0 | V60: / | W60: =Q60-T60 -> 0 | X60: =CONCATENATE(C60,H60)
A61: =IF(OR(ISNUMBER(E61),ISTEXT(C61)),A60+1," ") | N61: 목장 | O61: =COUNTIF(C50:C69,"목") -> 0 | P61: / | Q61: =SUMIF(C50:C69,"목",E50:E69) -> 0 | R61: =COUNTIF(X50:X69,"목국") -> 0 | S61: / | T61: =SUMIF(X50:X69,"목국",E50:E69) -> 0 | U61: =O61-R61 -> 0 | V61: / | W61: =Q61-T61 -> 0 | X61: =CONCATENATE(C61,H61)
A62: =IF(OR(ISNUMBER(E62),ISTEXT(C62)),A61+1," ") | N62: 잡종지 | O62: =COUNTIF(C50:C69,"잡") -> 0 | P62: / | Q62: =SUMIF(C50:C69,"잡",E50:E69) -> 0 | R62: =COUNTIF(X50:X69,"잡국") -> 0 | S62: / | T62: =SUMIF(X50:X69,"잡국",E50:E69) -> 0 | U62: =O62-R62 -> 0 | V62: / | W62: =Q62-T62 -> 0 | X62: =CONCATENATE(C62,H62)
A63: =IF(OR(ISNUMBER(E63),ISTEXT(C63)),A62+1," ") | N63: 학교용지 | O63: =COUNTIF(C50:C69,"학") -> 0 | P63: / | Q63: =SUMIF(C50:C69,"학",E50:E69) -> 0 | R63: =COUNTIF(X50:X69,"학국") -> 0 | S63: / | T63: =SUMIF(X50:X69,"학국",E50:E69) -> 0 | U63: =O63-R63 -> 0 | V63: / | W63: =Q63-T63 -> 0 | X63: =CONCATENATE(C63,H63)
A64: =IF(OR(ISNUMBER(E64),ISTEXT(C64)),A63+1," ") | N64: 수도 | O64: =COUNTIF(C50:C69,"수") -> 0 | P64: / | Q64: =SUMIF(C50:C69,"수",E50:E69) -> 0 | R64: =COUNTIF(X50:X69,"수국") -> 0 | S64: / | T64: =SUMIF(X50:X69,"수국",E50:E69) -> 0 | U64: =O64-R64 -> 0 | V64: / | W64: =Q64-T64 -> 0 | X64: =CONCATENATE(C64,H64)
A65: =IF(OR(ISNUMBER(E65),ISTEXT(C65)),A64+1," ") | N65: 공장 | O65: =COUNTIF(C50:C69,"장") -> 0 | P65: / | Q65: =SUMIF(C50:C69,"장",E50:E69) -> 0 | R65: =COUNTIF(X50:X69,"장국") -> 0 | S65: / | T65: =SUMIF(X50:X69,"장국",E50:E69) -> 0 | U65: =O65-R65 -> 0 | V65: / | W65: =Q65-T65 -> 0 | X65: =CONCATENATE(C65,H65)
A66: =IF(OR(ISNUMBER(E66),ISTEXT(C66)),A65+1," ") | X66: =CONCATENATE(C66,H66)
A67: =IF(OR(ISNUMBER(E67),ISTEXT(C67)),A66+1," ") | X67: =CONCATENATE(C67,H67)
A68: =IF(OR(ISNUMBER(E68),ISTEXT(C68)),A67+1," ") | X68: =CONCATENATE(C68,H68)
A69: =IF(OR(ISNUMBER(E69),ISTEXT(C69)),A68+1," ") | N69: 기타 | O69: =COUNTIF(C50:C69," ") -> 0 | P69: / | Q69: =SUMIF(C50:C69," ",E50:E69) -> 0 | S69: / | U69: =O69 -> 0 | V69: / | W69: =Q69 -> 0 | X69: =CONCATENATE(C69,H69)
A70: 소 계 | E70: =SUM(E50:E69) -> 0 | N70: 계 | O70: =SUM(O50:O69) -> 0 | P70: / | Q70: =SUM(Q50:Q69) -> 0 | R70: =SUM(R50:R69) -> 0 | S70: / | T70: =SUM(T50:T69) -> 0 | U70: =SUM(U50:U69) -> 0 | V70: / | W70: =SUM(W50:W69) -> 0 | X70: =CONCATENATE(C70,H70)
A71: =IF(OR(ISNUMBER(E71),ISTEXT(C71)),A69+1," ") | N71: 전 | O71: =COUNTIF(C71:C90,"전") -> 0 | P71: / | Q71: =SUMIF(C71:C90,"전",E71:E90) -> 0 | R71: =COUNTIF(X71:X90,"전국") -> 0 | S71: / | T71: =SUMIF(X71:X90,"전국",E71:E90) -> 0 | U71: =O71-R71 -> 0 | V71: / | W71: =Q71-T71 -> 0 | X71: =CONCATENATE(C71,H71)
A72: =IF(OR(ISNUMBER(E72),ISTEXT(C72)),A71+1," ") | N72: 답 | O72: =COUNTIF(C71:C90,"답") -> 0 | P72: / | Q72: =SUMIF(C71:C90,"답",E71:E90) -> 0 | R72: =COUNTIF(X71:X90,"답국") -> 0 | S72: / | T72: =SUMIF(X71:X90,"답국",E71:E90) -> 0 | U72: =O72-R72 -> 0 | V72: / | W72: =Q72-T72 -> 0 | X72: =CONCATENATE(C72,H72)
A73: =IF(OR(ISNUMBER(E73),ISTEXT(C73)),A72+1," ") | N73: 임야 | O73: =COUNTIF(C71:C90,"임") -> 0 | P73: / | Q73: =SUMIF(C71:C90,"임",E71:E90) -> 0 | R73: =COUNTIF(X71:X90,"임국") -> 0 | S73: / | T73: =SUMIF(X71:X90,"임국",E71:E90) -> 0 | U73: =O73-R73 -> 0 | V73: / | W73: =Q73-T73 -> 0 | X73: =CONCATENATE(C73,H73)
A74: =IF(OR(ISNUMBER(E74),ISTEXT(C74)),A73+1," ") | N74: 대지 | O74: =COUNTIF(C71:C90,"대") -> 0 | P74: / | Q74: =SUMIF(C71:C90,"대",E71:E90) -> 0 | R74: =COUNTIF(X71:X90,"대국") -> 0 | S74: / | T74: =SUMIF(X71:X90,"대국",E71:E90) -> 0 | U74: =O74-R74 -> 0 | V74: / | W74: =Q74-T74 -> 0 | X74: =CONCATENATE(C74,H74)
A75: =IF(OR(ISNUMBER(E75),ISTEXT(C75)),A74+1," ") | N75: 도로 | O75: =COUNTIF(C71:C90,"도") -> 0 | P75: / | Q75: =SUMIF(C71:C90,"도",E71:E90) -> 0 | R75: =COUNTIF(X71:X90,"도국") -> 0 | S75: / | T75: =SUMIF(X71:X90,"도국",E71:E90) -> 0 | U75: =O75-R75 -> 0 | V75: / | W75: =Q75-T75 -> 0 | X75: =CONCATENATE(C75,H75)
A76: =IF(OR(ISNUMBER(E76),ISTEXT(C76)),A75+1," ") | N76: 하천 | O76: =COUNTIF(C71:C90,"천") -> 0 | P76: / | Q76: =SUMIF(C71:C90,"천",E71:E90) -> 0 | R76: =COUNTIF(X71:X90,"천국") -> 0 | S76: / | T76: =SUMIF(X71:X90,"천국",E71:E90) -> 0 | U76: =O76-R76 -> 0 | V76: / | W76: =Q76-T76 -> 0 | X76: =CONCATENATE(C76,H76)
A77: =IF(OR(ISNUMBER(E77),ISTEXT(C77)),A76+1," ") | N77: 구거 | O77: =COUNTIF(C71:C90,"구") -> 0 | P77: / | Q77: =SUMIF(C71:C90,"구",E71:E90) -> 0 | R77: =COUNTIF(X71:X90,"구국") -> 0 | S77: / | T77: =SUMIF(X71:X90,"구국",E71:E90) -> 0 | U77: =O77-R77 -> 0 | V77: / | W77: =Q77-T77 -> 0 | X77: =CONCATENATE(C77,H77)
A78: =IF(OR(ISNUMBER(E78),ISTEXT(C78)),A77+1," ") | N78: 제방 | O78: =COUNTIF(C71:C90,"제") -> 0 | P78: / | Q78: =SUMIF(C71:C90,"제",E71:E90) -> 0 | R78: =COUNTIF(X71:X90,"제국") -> 0 | S78: / | T78: =SUMIF(X71:X90,"제국",E71:E90) -> 0 | U78: =O78-R78 -> 0 | V78: / | W78: =Q78-T78 -> 0 | X78: =CONCATENATE(C78,H78)
A79: =IF(OR(ISNUMBER(E79),ISTEXT(C79)),A78+1," ") | N79: 유지 | O79: =COUNTIF(C71:C90,"유") -> 0 | P79: / | Q79: =SUMIF(C71:C90,"유",E71:E90) -> 0 | R79: =COUNTIF(X71:X90,"유국") -> 0 | S79: / | T79: =SUMIF(X71:X90,"유국",E71:E90) -> 0 | U79: =O79-R79 -> 0 | V79: / | W79: =Q79-T79 -> 0 | X79: =CONCATENATE(C79,H79)
A80: =IF(OR(ISNUMBER(E80),ISTEXT(C80)),A79+1," ") | N80: 과수원 | O80: =COUNTIF(C71:C90,"과") -> 0 | P80: / | Q80: =SUMIF(C71:C90,"과",E71:E90) -> 0 | R80: =COUNTIF(X71:X90,"과국") -> 0 | S80: / | T80: =SUMIF(X71:X90,"과국",E71:E90) -> 0 | U80: =O80-R80 -> 0 | V80: / | W80: =Q80-T80 -> 0 | X80: =CONCATENATE(C80,H80)
A81: =IF(OR(ISNUMBER(E81),ISTEXT(C81)),A80+1," ") | N81: 묘지 | O81: =COUNTIF(C71:C90,"묘") -> 0 | P81: / | Q81: =SUMIF(C71:C90,"묘",E71:E90) -> 0 | R81: =COUNTIF(X71:X90,"묘국") -> 0 | S81: / | T81: =SUMIF(X71:X90,"묘국",E71:E90) -> 0 | U81: =O81-R81 -> 0 | V81: / | W81: =Q81-T81 -> 0 | X81: =CONCATENATE(C81,H81)
A82: =IF(OR(ISNUMBER(E82),ISTEXT(C82)),A81+1," ") | N82: 목장 | O82: =COUNTIF(C71:C90,"목") -> 0 | P82: / | Q82: =SUMIF(C71:C90,"목",E71:E90) -> 0 | R82: =COUNTIF(X71:X90,"목국") -> 0 | S82: / | T82: =SUMIF(X71:X90,"목국",E71:E90) -> 0 | U82: =O82-R82 -> 0 | V82: / | W82: =Q82-T82 -> 0 | X82: =CONCATENATE(C82,H82)
A83: =IF(OR(ISNUMBER(E83),ISTEXT(C83)),A82+1," ") | N83: 잡종지 | O83: =COUNTIF(C71:C90,"잡") -> 0 | P83: / | Q83: =SUMIF(C71:C90,"잡",E71:E90) -> 0 | R83: =COUNTIF(X71:X90,"잡국") -> 0 | S83: / | T83: =SUMIF(X71:X90,"잡국",E71:E90) -> 0 | U83: =O83-R83 -> 0 | V83: / | W83: =Q83-T83 -> 0 | X83: =CONCATENATE(C83,H83)
A84: =IF(OR(ISNUMBER(E84),ISTEXT(C84)),A83+1," ") | N84: 학교용지 | O84: =COUNTIF(C71:C90,"학") -> 0 | P84: / | Q84: =SUMIF(C71:C90,"학",E71:E90) -> 0 | R84: =COUNTIF(X71:X90,"학국") -> 0 | S84: / | T84: =SUMIF(X71:X90,"학국",E71:E90) -> 0 | U84: =O84-R84 -> 0 | V84: / | W84: =Q84-T84 -> 0 | X84: =CONCATENATE(C84,H84)
A85: =IF(OR(ISNUMBER(E85),ISTEXT(C85)),A84+1," ") | N85: 수도 | O85: =COUNTIF(C71:C90,"수") -> 0 | P85: / | Q85: =SUMIF(C71:C90,"수",E71:E90) -> 0 | R85: =COUNTIF(X71:X90,"수국") -> 0 | S85: / | T85: =SUMIF(X71:X90,"수국",E71:E90) -> 0 | U85: =O85-R85 -> 0 | V85: / | W85: =Q85-T85 -> 0 | X85: =CONCATENATE(C85,H85)
A86: =IF(OR(ISNUMBER(E86),ISTEXT(C86)),A85+1," ") | N86: 공장 | O86: =COUNTIF(C71:C90,"장") -> 0 | P86: / | Q86: =SUMIF(C71:C90,"장",E71:E90) -> 0 | R86: =COUNTIF(X71:X90,"장국") -> 0 | S86: / | T86: =SUMIF(X71:X90,"장국",E71:E90) -> 0 | U86: =O86-R86 -> 0 | V86: / | W86: =Q86-T86 -> 0 | X86: =CONCATENATE(C86,H86)
A87: =IF(OR(ISNUMBER(E87),ISTEXT(C87)),A86+1," ") | X87: =CONCATENATE(C87,H87)
A88: =IF(OR(ISNUMBER(E88),ISTEXT(C88)),A87+1," ") | X88: =CONCATENATE(C88,H88)
A89: =IF(OR(ISNUMBER(E89),ISTEXT(C89)),A88+1," ") | X89: =CONCATENATE(C89,H89)
A90: =IF(OR(ISNUMBER(E90),ISTEXT(C90)),A89+1," ") | N90: 기타 | O90: =COUNTIF(C71:C90," ") -> 0 | P90: / | Q90: =SUMIF(C71:C90," ",E71:E90) -> 0 | S90: / | U90: =O90 -> 0 | V90: / | W90: =Q90 -> 0 | X90: =CONCATENATE(C90,H90)
A91: 소 계 | E91: =SUM(E71:E90) -> 0 | N91: 계 | O91: =SUM(O71:O90) -> 0 | P91: / | Q91: =SUM(Q71:Q90) -> 0 | R91: =SUM(R71:R90) -> 0 | S91: / | T91: =SUM(T71:T90) -> 0 | U91: =SUM(U71:U90) -> 0 | V91: / | W91: =SUM(W71:W90) -> 0 | X91: =CONCATENATE(C91,H91)
A92: =IF(OR(ISNUMBER(E92),ISTEXT(C92)),A90+1," ") | N92: 전 | O92: =COUNTIF(C92:C111,"전") -> 0 | P92: / | Q92: =SUMIF(C92:C111,"전",E92:E111) -> 0 | R92: =COUNTIF(X92:X111,"전국") -> 0 | S92: / | T92: =SUMIF(X92:X111,"전국",E92:E111) -> 0 | U92: =O92-R92 -> 0 | V92: / | W92: =Q92-T92 -> 0 | X92: =CONCATENATE(C92,H92)
A93: =IF(OR(ISNUMBER(E93),ISTEXT(C93)),A92+1," ") | N93: 답 | O93: =COUNTIF(C92:C111,"답") -> 0 | P93: / | Q93: =SUMIF(C92:C111,"답",E92:E111) -> 0 | R93: =COUNTIF(X92:X111,"답국") -> 0 | S93: / | T93: =SUMIF(X92:X111,"답국",E92:E111) -> 0 | U93: =O93-R93 -> 0 | V93: / | W93: =Q93-T93 -> 0 | X93: =CONCATENATE(C93,H93)
A94: =IF(OR(ISNUMBER(E94),ISTEXT(C94)),A93+1," ") | N94: 임야 | O94: =COUNTIF(C92:C111,"임") -> 0 | P94: / | Q94: =SUMIF(C92:C111,"임",E92:E111) -> 0 | R94: =COUNTIF(X92:X111,"임국") -> 0 | S94: / | T94: =SUMIF(X92:X111,"임국",E92:E111) -> 0 | U94: =O94-R94 -> 0 | V94: / | W94: =Q94-T94 -> 0 | X94: =CONCATENATE(C94,H94)
A95: =IF(OR(ISNUMBER(E95),ISTEXT(C95)),A94+1," ") | N95: 대지 | O95: =COUNTIF(C92:C111,"대") -> 0 | P95: / | Q95: =SUMIF(C92:C111,"대",E92:E111) -> 0 | R95: =COUNTIF(X92:X111,"대국") -> 0 | S95: / | T95: =SUMIF(X92:X111,"대국",E92:E111) -> 0 | U95: =O95-R95 -> 0 | V95: / | W95: =Q95-T95 -> 0 | X95: =CONCATENATE(C95,H95)
A96: =IF(OR(ISNUMBER(E96),ISTEXT(C96)),A95+1," ") | N96: 도로 | O96: =COUNTIF(C92:C111,"도") -> 0 | P96: / | Q96: =SUMIF(C92:C111,"도",E92:E111) -> 0 | R96: =COUNTIF(X92:X111,"도국") -> 0 | S96: / | T96: =SUMIF(X92:X111,"도국",E92:E111) -> 0 | U96: =O96-R96 -> 0 | V96: / | W96: =Q96-T96 -> 0 | X96: =CONCATENATE(C96,H96)
A97: =IF(OR(ISNUMBER(E97),ISTEXT(C97)),A96+1," ") | N97: 하천 | O97: =COUNTIF(C92:C111,"천") -> 0 | P97: / | Q97: =SUMIF(C92:C111,"천",E92:E111) -> 0 | R97: =COUNTIF(X92:X111,"천국") -> 0 | S97: / | T97: =SUMIF(X92:X111,"천국",E92:E111) -> 0 | U97: =O97-R97 -> 0 | V97: / | W97: =Q97-T97 -> 0 | X97: =CONCATENATE(C97,H97)
A98: =IF(OR(ISNUMBER(E98),ISTEXT(C98)),A97+1," ") | N98: 구거 | O98: =COUNTIF(C92:C111,"구") -> 0 | P98: / | Q98: =SUMIF(C92:C111,"구",E92:E111) -> 0 | R98: =COUNTIF(X92:X111,"구국") -> 0 | S98: / | T98: =SUMIF(X92:X111,"구국",E92:E111) -> 0 | U98: =O98-R98 -> 0 | V98: / | W98: =Q98-T98 -> 0 | X98: =CONCATENATE(C98,H98)
A99: =IF(OR(ISNUMBER(E99),ISTEXT(C99)),A98+1," ") | N99: 제방 | O99: =COUNTIF(C92:C111,"제") -> 0 | P99: / | Q99: =SUMIF(C92:C111,"제",E92:E111) -> 0 | R99: =COUNTIF(X92:X111,"제국") -> 0 | S99: / | T99: =SUMIF(X92:X111,"제국",E92:E111) -> 0 | U99: =O99-R99 -> 0 | V99: / | W99: =Q99-T99 -> 0 | X99: =CONCATENATE(C99,H99)
A100: =IF(OR(ISNUMBER(E100),ISTEXT(C100)),A99+1," ") | N100: 유지 | O100: =COUNTIF(C92:C111,"유") -> 0 | P100: / | Q100: =SUMIF(C92:C111,"유",E92:E111) -> 0 | R100: =COUNTIF(X92:X111,"유국") -> 0 | S100: / | T100: =SUMIF(X92:X111,"유국",E92:E111) -> 0 | U100: =O100-R100 -> 0 | V100: / | W100: =Q100-T100 -> 0 | X100: =CONCATENATE(C100,H100)
A101: =IF(OR(ISNUMBER(E101),ISTEXT(C101)),A100+1," ") | N101: 과수원 | O101: =COUNTIF(C92:C111,"과") -> 0 | P101: / | Q101: =SUMIF(C92:C111,"과",E92:E111) -> 0 | R101: =COUNTIF(X92:X111,"과국") -> 0 | S101: / | T101: =SUMIF(X92:X111,"과국",E92:E111) -> 0 | U101: =O101-R101 -> 0 | V101: / | W101: =Q101-T101 -> 0 | X101: =CONCATENATE(C101,H101)
A102: =IF(OR(ISNUMBER(E102),ISTEXT(C102)),A101+1," ") | N102: 묘지 | O102: =COUNTIF(C92:C111,"묘") -> 0 | P102: / | Q102: =SUMIF(C92:C111,"묘",E92:E111) -> 0 | R102: =COUNTIF(X92:X111,"묘국") -> 0 | S102: / | T102: =SUMIF(X92:X111,"묘국",E92:E111) -> 0 | U102: =O102-R102 -> 0 | V102: / | W102: =Q102-T102 -> 0 | X102: =CONCATENATE(C102,H102)
A103: =IF(OR(ISNUMBER(E103),ISTEXT(C103)),A102+1," ") | N103: 목장 | O103: =COUNTIF(C92:C111,"목") -> 0 | P103: / | Q103: =SUMIF(C92:C111,"목",E92:E111) -> 0 | R103: =COUNTIF(X92:X111,"목국") -> 0 | S103: / | T103: =SUMIF(X92:X111,"목국",E92:E111) -> 0 | U103: =O103-R103 -> 0 | V103: / | W103: =Q103-T103 -> 0 | X103: =CONCATENATE(C103,H103)
A104: =IF(OR(ISNUMBER(E104),ISTEXT(C104)),A103+1," ") | N104: 잡종지 | O104: =COUNTIF(C92:C111,"잡") -> 0 | P104: / | Q104: =SUMIF(C92:C111,"잡",E92:E111) -> 0 | R104: =COUNTIF(X92:X111,"잡국") -> 0 | S104: / | T104: =SUMIF(X92:X111,"잡국",E92:E111) -> 0 | U104: =O104-R104 -> 0 | V104: / | W104: =Q104-T104 -> 0 | X104: =CONCATENATE(C104,H104)
...

Sheet 용지조서(17)
A1: 용 지 조 서
A6: 일련 | B6: 지 번 | C6: 지목 | D6: 지 적 | E6: 편입면적 | F6: 실제이용상황 | H6: 소 유 자 | J6: 관 계 인 | M6: 비고
A7: 번호 | D7: ( ㎡ ) | E7: ( ㎡ ) | F7: 지목 | G7: 면 적 | H7: 성 명 | I7: 주 소 | J7: 성 명 | K7: 주 소 | L7: 권리관계
A8: =IF(OR(ISNUMBER(E8),ISTEXT(C8)),1," ") | N8: 전 | O8: =COUNTIF(C8:C27,"전") -> 0 | P8: / | Q8: =SUMIF(C8:C27,"전",E8:E27) -> 0 | R8: =COUNTIF(X8:X27,"전국") -> 0 | S8: / | T8: =SUMIF(X8:X27,"전국",E8:E27) -> 0 | U8: =O8-R8 -> 0 | V8: / | W8: =Q8-T8 -> 0 | X8: =CONCATENATE(C8,H8)
A9: =IF(OR(ISNUMBER(E9),ISTEXT(C9)),A8+1," ") | N9: 답 | O9: =COUNTIF(C8:C27,"답") -> 0 | P9: / | Q9: =SUMIF(C8:C27,"답",E8:E27) -> 0 | R9: =COUNTIF(X8:X27,"답국") -> 0 | S9: / | T9: =SUMIF(X8:X27,"답국",E8:E27) -> 0 | U9: =O9-R9 -> 0 | V9: / | W9: =Q9-T9 -> 0 | X9: =CONCATENATE(C9,H9)
A10: =IF(OR(ISNUMBER(E10),ISTEXT(C10)),A9+1," ") | N10: 임야 | O10: =COUNTIF(C8:C27,"임") -> 0 | P10: / | Q10: =SUMIF(C8:C27,"임",E8:E27) -> 0 | R10: =COUNTIF(X8:X27,"임국") -> 0 | S10: / | T10: =SUMIF(X8:X27,"임국",E8:E27) -> 0 | U10: =O10-R10 -> 0 | V10: / | W10: =Q10-T10 -> 0 | X10: =CONCATENATE(C10,H10)
A11: =IF(OR(ISNUMBER(E11),ISTEXT(C11)),A10+1," ") | N11: 대지 | O11: =COUNTIF(C8:C27,"대") -> 0 | P11: / | Q11: =SUMIF(C8:C27,"대",E8:E27) -> 0 | R11: =COUNTIF(X8:X27,"대국") -> 0 | S11: / | T11: =SUMIF(X8:X27,"대국",E8:E27) -> 0 | U11: =O11-R11 -> 0 | V11: / | W11: =Q11-T11 -> 0 | X11: =CONCATENATE(C11,H11)
A12: =IF(OR(ISNUMBER(E12),ISTEXT(C12)),A11+1," ") | N12: 도로 | O12: =COUNTIF(C8:C27,"도") -> 0 | P12: / | Q12: =SUMIF(C8:C27,"도",E8:E27) -> 0 | R12: =COUNTIF(X8:X27,"도국") -> 0 | S12: / | T12: =SUMIF(X8:X27,"도국",E8:E27) -> 0 | U12: =O12-R12 -> 0 | V12: / | W12: =Q12-T12 -> 0 | X12: =CONCATENATE(C12,H12)
A13: =IF(OR(ISNUMBER(E13),ISTEXT(C13)),A12+1," ") | N13: 하천 | O13: =COUNTIF(C8:C27,"천") -> 0 | P13: / | Q13: =SUMIF(C8:C27,"천",E8:E27) -> 0 | R13: =COUNTIF(X8:X27,"천국") -> 0 | S13: / | T13: =SUMIF(X8:X27,"천국",E8:E27) -> 0 | U13: =O13-R13 -> 0 | V13: / | W13: =Q13-T13 -> 0 | X13: =CONCATENATE(C13,H13)
A14: =IF(OR(ISNUMBER(E14),ISTEXT(C14)),A13+1," ") | N14: 구거 | O14: =COUNTIF(C8:C27,"구") -> 0 | P14: / | Q14: =SUMIF(C8:C27,"구",E8:E27) -> 0 | R14: =COUNTIF(X8:X27,"구국") -> 0 | S14: / | T14: =SUMIF(X8:X27,"구국",E8:E27) -> 0 | U14: =O14-R14 -> 0 | V14: / | W14: =Q14-T14 -> 0 | X14: =CONCATENATE(C14,H14)
A15: =IF(OR(ISNUMBER(E15),ISTEXT(C15)),A14+1," ") | N15: 제방 | O15: =COUNTIF(C8:C27,"제") -> 0 | P15: / | Q15: =SUMIF(C8:C27,"제",E8:E27) -> 0 | R15: =COUNTIF(X8:X27,"제국") -> 0 | S15: / | T15: =SUMIF(X8:X27,"제국",E8:E27) -> 0 | U15: =O15-R15 -> 0 | V15: / | W15: =Q15-T15 -> 0 | X15: =CONCATENATE(C15,H15)
A16: =IF(OR(ISNUMBER(E16),ISTEXT(C16)),A15+1," ") | N16: 유지 | O16: =COUNTIF(C8:C27,"유") -> 0 | P16: / | Q16: =SUMIF(C8:C27,"유",E8:E27) -> 0 | R16: =COUNTIF(X8:X27,"유국") -> 0 | S16: / | T16: =SUMIF(X8:X27,"유국",E8:E27) -> 0 | U16: =O16-R16 -> 0 | V16: / | W16: =Q16-T16 -> 0 | X16: =CONCATENATE(C16,H16)
A17: =IF(OR(ISNUMBER(E17),ISTEXT(C17)),A16+1," ") | N17: 과수원 | O17: =COUNTIF(C8:C27,"과") -> 0 | P17: / | Q17: =SUMIF(C8:C27,"과",E8:E27) -> 0 | R17: =COUNTIF(X8:X27,"과국") -> 0 | S17: / | T17: =SUMIF(X8:X27,"과국",E8:E27) -> 0 | U17: =O17-R17 -> 0 | V17: / | W17: =Q17-T17 -> 0 | X17: =CONCATENATE(C17,H17)
A18: =IF(OR(ISNUMBER(E18),ISTEXT(C18)),A17+1," ") | N18: 묘지 | O18: =COUNTIF(C8:C27,"묘") -> 0 | P18: / | Q18: =SUMIF(C8:C27,"묘",E8:E27) -> 0 | R18: =COUNTIF(X8:X27,"묘국") -> 0 | S18: / | T18: =SUMIF(X8:X27,"묘국",E8:E27) -> 0 | U18: =O18-R18 -> 0 | V18: / | W18: =Q18-T18 -> 0 | X18: =CONCATENATE(C18,H18)
A19: =IF(OR(ISNUMBER(E19),ISTEXT(C19)),A18+1," ") | N19: 목장 | O19: =COUNTIF(C8:C27,"목") -> 0 | P19: / | Q19: =SUMIF(C8:C27,"목",E8:E27) -> 0 | R19: =COUNTIF(X8:X27,"목국") -> 0 | S19: / | T19: =SUMIF(X8:X27,"목국",E8:E27) -> 0 | U19: =O19-R19 -> 0 | V19: / | W19: =Q19-T19 -> 0 | X19: =CONCATENATE(C19,H19)
A20: =IF(OR(ISNUMBER(E20),ISTEXT(C20)),A19+1," ") | N20: 잡종지 | O20: =COUNTIF(C8:C27,"잡") -> 0 | P20: / | Q20: =SUMIF(C8:C27,"잡",E8:E27) -> 0 | R20: =COUNTIF(X8:X27,"잡국") -> 0 | S20: / | T20: =SUMIF(X8:X27,"잡국",E8:E27) -> 0 | U20: =O20-R20 -> 0 | V20: / | W20: =Q20-T20 -> 0 | X20: =CONCATENATE(C20,H20)
A21: =IF(OR(ISNUMBER(E21),ISTEXT(C21)),A20+1," ") | N21: 학교용지 | O21: =COUNTIF(C8:C27,"학") -> 0 | P21: / | Q21: =SUMIF(C8:C27,"학",E8:E27) -> 0 | R21: =COUNTIF(X8:X27,"학국") -> 0 | S21: / | T21: =SUMIF(X8:X27,"학국",E8:E27) -> 0 | U21: =O21-R21 -> 0 | V21: / | W21: =Q21-T21 -> 0 | X21: =CONCATENATE(C21,H21)
A22: =IF(OR(ISNUMBER(E22),ISTEXT(C22)),A21+1," ") | N22: 수도 | O22: =COUNTIF(C8:C27,"수") -> 0 | P22: / | Q22: =SUMIF(C8:C27,"수",E8:E27) -> 0 | R22: =COUNTIF(X8:X27,"수국") -> 0 | S22: / | T22: =SUMIF(X8:X27,"수국",E8:E27) -> 0 | U22: =O22-R22 -> 0 | V22: / | W22: =Q22-T22 -> 0 | X22: =CONCATENATE(C22,H22)
A23: =IF(OR(ISNUMBER(E23),ISTEXT(C23)),A22+1," ") | N23: 공장 | O23: =COUNTIF(C8:C27,"장") -> 0 | P23: / | Q23: =SUMIF(C8:C27,"장",E8:E27) -> 0 | R23: =COUNTIF(X8:X27,"장국") -> 0 | S23: / | T23: =SUMIF(X8:X27,"장국",E8:E27) -> 0 | U23: =O23-R23 -> 0 | V23: / | W23: =Q23-T23 -> 0 | X23: =CONCATENATE(C23,H23)
A24: =IF(OR(ISNUMBER(E24),ISTEXT(C24)),A23+1," ") | X24: =CONCATENATE(C24,H24)
A25: =IF(OR(ISNUMBER(E25),ISTEXT(C25)),A24+1," ") | X25: =CONCATENATE(C25,H25)
A26: =IF(OR(ISNUMBER(E26),ISTEXT(C26)),A25+1," ") | X26: =CONCATENATE(C26,H26)
A27: =IF(OR(ISNUMBER(E27),ISTEXT(C27)),A26+1," ") | N27: 기타 | O27: =COUNTIF(C8:C27," ") -> 0 | P27: / | Q27: =SUMIF(C8:C27," ",E8:E27) -> 0 | S27: / | U27: =O27 -> 0 | V27: / | W27: =Q27 -> 0 | X27: =CONCATENATE(C27,H27)
A28: 소 계 | E28: =SUM(E8:E27) -> 0 | N28: 계 | O28: =SUM(O8:O27) -> 0 | P28: / | Q28: =SUM(Q8:Q27) -> 0 | R28: =SUM(R8:R27) -> 0 | S28: / | T28: =SUM(T8:T27) -> 0 | U28: =SUM(U8:U27) -> 0 | V28: / | W28: =SUM(W8:W27) -> 0 | X28: =CONCATENATE(C28,H28)
A29: =IF(OR(ISNUMBER(E29),ISTEXT(C29)),A27+1," ") | N29: 전 | O29: =COUNTIF(C29:C48,"전") -> 0 | P29: / | Q29: =SUMIF(C29:C48,"전",E29:E48) -> 0 | R29: =COUNTIF(X29:X48,"전국") -> 0 | S29: / | T29: =SUMIF(X29:X48,"전국",E29:E48) -> 0 | U29: =O29-R29 -> 0 | V29: / | W29: =Q29-T29 -> 0 | X29: =CONCATENATE(C29,H29)
A30: =IF(OR(ISNUMBER(E30),ISTEXT(C30)),A29+1," ") | N30: 답 | O30: =COUNTIF(C29:C48,"답") -> 0 | P30: / | Q30: =SUMIF(C29:C48,"답",E29:E48) -> 0 | R30: =COUNTIF(X29:X48,"답국") -> 0 | S30: / | T30: =SUMIF(X29:X48,"답국",E29:E48) -> 0 | U30: =O30-R30 -> 0 | V30: / | W30: =Q30-T30 -> 0 | X30: =CONCATENATE(C30,H30)
A31: =IF(OR(ISNUMBER(E31),ISTEXT(C31)),A30+1," ") | N31: 임야 | O31: =COUNTIF(C29:C48,"임") -> 0 | P31: / | Q31: =SUMIF(C29:C48,"임",E29:E48) -> 0 | R31: =COUNTIF(X29:X48,"임국") -> 0 | S31: / | T31: =SUMIF(X29:X48,"임국",E29:E48) -> 0 | U31: =O31-R31 -> 0 | V31: / | W31: =Q31-T31 -> 0 | X31: =CONCATENATE(C31,H31)
A32: =IF(OR(ISNUMBER(E32),ISTEXT(C32)),A31+1," ") | N32: 대지 | O32: =COUNTIF(C29:C48,"대") -> 0 | P32: / | Q32: =SUMIF(C29:C48,"대",E29:E48) -> 0 | R32: =COUNTIF(X29:X48,"대국") -> 0 | S32: / | T32: =SUMIF(X29:X48,"대국",E29:E48) -> 0 | U32: =O32-R32 -> 0 | V32: / | W32: =Q32-T32 -> 0 | X32: =CONCATENATE(C32,H32)
A33: =IF(OR(ISNUMBER(E33),ISTEXT(C33)),A32+1," ") | N33: 도로 | O33: =COUNTIF(C29:C48,"도") -> 0 | P33: / | Q33: =SUMIF(C29:C48,"도",E29:E48) -> 0 | R33: =COUNTIF(X29:X48,"도국") -> 0 | S33: / | T33: =SUMIF(X29:X48,"도국",E29:E48) -> 0 | U33: =O33-R33 -> 0 | V33: / | W33: =Q33-T33 -> 0 | X33: =CONCATENATE(C33,H33)
A34: =IF(OR(ISNUMBER(E34),ISTEXT(C34)),A33+1," ") | N34: 하천 | O34: =COUNTIF(C29:C48,"천") -> 0 | P34: / | Q34: =SUMIF(C29:C48,"천",E29:E48) -> 0 | R34: =COUNTIF(X29:X48,"천국") -> 0 | S34: / | T34: =SUMIF(X29:X48,"천국",E29:E48) -> 0 | U34: =O34-R34 -> 0 | V34: / | W34: =Q34-T34 -> 0 | X34: =CONCATENATE(C34,H34)
A35: =IF(OR(ISNUMBER(E35),ISTEXT(C35)),A34+1," ") | N35: 구거 | O35: =COUNTIF(C29:C48,"구") -> 0 | P35: / | Q35: =SUMIF(C29:C48,"구",E29:E48) -> 0 | R35: =COUNTIF(X29:X48,"구국") -> 0 | S35: / | T35: =SUMIF(X29:X48,"구국",E29:E48) -> 0 | U35: =O35-R35 -> 0 | V35: / | W35: =Q35-T35 -> 0 | X35: =CONCATENATE(C35,H35)
A36: =IF(OR(ISNUMBER(E36),ISTEXT(C36)),A35+1," ") | N36: 제방 | O36: =COUNTIF(C29:C48,"제") -> 0 | P36: / | Q36: =SUMIF(C29:C48,"제",E29:E48) -> 0 | R36: =COUNTIF(X29:X48,"제국") -> 0 | S36: / | T36: =SUMIF(X29:X48,"제국",E29:E48) -> 0 | U36: =O36-R36 -> 0 | V36: / | W36: =Q36-T36 -> 0 | X36: =CONCATENATE(C36,H36)
A37: =IF(OR(ISNUMBER(E37),ISTEXT(C37)),A36+1," ") | N37: 유지 | O37: =COUNTIF(C29:C48,"유") -> 0 | P37: / | Q37: =SUMIF(C29:C48,"유",E29:E48) -> 0 | R37: =COUNTIF(X29:X48,"유국") -> 0 | S37: / | T37: =SUMIF(X29:X48,"유국",E29:E48) -> 0 | U37: =O37-R37 -> 0 | V37: / | W37: =Q37-T37 -> 0 | X37: =CONCATENATE(C37,H37)
A38: =IF(OR(ISNUMBER(E38),ISTEXT(C38)),A37+1," ") | N38: 과수원 | O38: =COUNTIF(C29:C48,"과") -> 0 | P38: / | Q38: =SUMIF(C29:C48,"과",E29:E48) -> 0 | R38: =COUNTIF(X29:X48,"과국") -> 0 | S38: / | T38: =SUMIF(X29:X48,"과국",E29:E48) -> 0 | U38: =O38-R38 -> 0 | V38: / | W38: =Q38-T38 -> 0 | X38: =CONCATENATE(C38,H38)
A39: =IF(OR(ISNUMBER(E39),ISTEXT(C39)),A38+1," ") | N39: 묘지 | O39: =COUNTIF(C29:C48,"묘") -> 0 | P39: / | Q39: =SUMIF(C29:C48,"묘",E29:E48) -> 0 | R39: =COUNTIF(X29:X48,"묘국") -> 0 | S39: / | T39: =SUMIF(X29:X48,"묘국",E29:E48) -> 0 | U39: =O39-R39 -> 0 | V39: / | W39: =Q39-T39 -> 0 | X39: =CONCATENATE(C39,H39)
A40: =IF(OR(ISNUMBER(E40),ISTEXT(C40)),A39+1," ") | N40: 목장 | O40: =COUNTIF(C29:C48,"목") -> 0 | P40: / | Q40: =SUMIF(C29:C48,"목",E29:E48) -> 0 | R40: =COUNTIF(X29:X48,"목국") -> 0 | S40: / | T40: =SUMIF(X29:X48,"목국",E29:E48) -> 0 | U40: =O40-R40 -> 0 | V40: / | W40: =Q40-T40 -> 0 | X40: =CONCATENATE(C40,H40)
A41: =IF(OR(ISNUMBER(E41),ISTEXT(C41)),A40+1," ") | N41: 잡종지 | O41: =COUNTIF(C29:C48,"잡") -> 0 | P41: / | Q41: =SUMIF(C29:C48,"잡",E29:E48) -> 0 | R41: =COUNTIF(X29:X48,"잡국") -> 0 | S41: / | T41: =SUMIF(X29:X48,"잡국",E29:E48) -> 0 | U41: =O41-R41 -> 0 | V41: / | W41: =Q41-T41 -> 0 | X41: =CONCATENATE(C41,H41)
A42: =IF(OR(ISNUMBER(E42),ISTEXT(C42)),A41+1," ") | N42: 학교용지 | O42: =COUNTIF(C29:C48,"학") -> 0 | P42: / | Q42: =SUMIF(C29:C48,"학",E29:E48) -> 0 | R42: =COUNTIF(X29:X48,"학국") -> 0 | S42: / | T42: =SUMIF(X29:X48,"학국",E29:E48) -> 0 | U42: =O42-R42 -> 0 | V42: / | W42: =Q42-T42 -> 0 | X42: =CONCATENATE(C42,H42)
A43: =IF(OR(ISNUMBER(E43),ISTEXT(C43)),A42+1," ") | N43: 수도 | O43: =COUNTIF(C29:C48,"수") -> 0 | P43: / | Q43: =SUMIF(C29:C48,"수",E29:E48) -> 0 | R43: =COUNTIF(X29:X48,"수국") -> 0 | S43: / | T43: =SUMIF(X29:X48,"수국",E29:E48) -> 0 | U43: =O43-R43 -> 0 | V43: / | W43: =Q43-T43 -> 0 | X43: =CONCATENATE(C43,H43)
A44: =IF(OR(ISNUMBER(E44),ISTEXT(C44)),A43+1," ") | N44: 공장 | O44: =COUNTIF(C29:C48,"장") -> 0 | P44: / | Q44: =SUMIF(C29:C48,"장",E29:E48) -> 0 | R44: =COUNTIF(X29:X48,"장국") -> 0 | S44: / | T44: =SUMIF(X29:X48,"장국",E29:E48) -> 0 | U44: =O44-R44 -> 0 | V44: / | W44: =Q44-T44 -> 0 | X44: =CONCATENATE(C44,H44)
A45: =IF(OR(ISNUMBER(E45),ISTEXT(C45)),A44+1," ") | X45: =CONCATENATE(C45,H45)
A46: =IF(OR(ISNUMBER(E46),ISTEXT(C46)),A45+1," ") | X46: =CONCATENATE(C46,H46)
A47: =IF(OR(ISNUMBER(E47),ISTEXT(C47)),A46+1," ") | X47: =CONCATENATE(C47,H47)
A48: =IF(OR(ISNUMBER(E48),ISTEXT(C48)),A47+1," ") | N48: 기타 | O48: =COUNTIF(C29:C48," ") -> 0 | P48: / | Q48: =SUMIF(C29:C48," ",E29:E48) -> 0 | S48: / | U48: =O48 -> 0 | V48: / | W48: =Q48 -> 0 | X48: =CONCATENATE(C48,H48)
A49: 소 계 | E49: =SUM(E29:E48) -> 0 | N49: 계 | O49: =SUM(O29:O48) -> 0 | P49: / | Q49: =SUM(Q29:Q48) -> 0 | R49: =SUM(R29:R48) -> 0 | S49: / | T49: =SUM(T29:T48) -> 0 | U49: =SUM(U29:U48) -> 0 | V49: / | W49: =SUM(W29:W48) -> 0 | X49: =CONCATENATE(C49,H49)
A50: =IF(OR(ISNUMBER(E50),ISTEXT(C50)),A48+1," ") | N50: 전 | O50: =COUNTIF(C50:C69,"전") -> 0 | P50: / | Q50: =SUMIF(C50:C69,"전",E50:E69) -> 0 | R50: =COUNTIF(X50:X69,"전국") -> 0 | S50: / | T50: =SUMIF(X50:X69,"전국",E50:E69) -> 0 | U50: =O50-R50 -> 0 | V50: / | W50: =Q50-T50 -> 0 | X50: =CONCATENATE(C50,H50)
A51: =IF(OR(ISNUMBER(E51),ISTEXT(C51)),A50+1," ") | N51: 답 | O51: =COUNTIF(C50:C69,"답") -> 0 | P51: / | Q51: =SUMIF(C50:C69,"답",E50:E69) -> 0 | R51: =COUNTIF(X50:X69,"답국") -> 0 | S51: / | T51: =SUMIF(X50:X69,"답국",E50:E69) -> 0 | U51: =O51-R51 -> 0 | V51: / | W51: =Q51-T51 -> 0 | X51: =CONCATENATE(C51,H51)
A52: =IF(OR(ISNUMBER(E52),ISTEXT(C52)),A51+1," ") | N52: 임야 | O52: =COUNTIF(C50:C69,"임") -> 0 | P52: / | Q52: =SUMIF(C50:C69,"임",E50:E69) -> 0 | R52: =COUNTIF(X50:X69,"임국") -> 0 | S52: / | T52: =SUMIF(X50:X69,"임국",E50:E69) -> 0 | U52: =O52-R52 -> 0 | V52: / | W52: =Q52-T52 -> 0 | X52: =CONCATENATE(C52,H52)
A53: =IF(OR(ISNUMBER(E53),ISTEXT(C53)),A52+1," ") | N53: 대지 | O53: =COUNTIF(C50:C69,"대") -> 0 | P53: / | Q53: =SUMIF(C50:C69,"대",E50:E69) -> 0 | R53: =COUNTIF(X50:X69,"대국") -> 0 | S53: / | T53: =SUMIF(X50:X69,"대국",E50:E69) -> 0 | U53: =O53-R53 -> 0 | V53: / | W53: =Q53-T53 -> 0 | X53: =CONCATENATE(C53,H53)
A54: =IF(OR(ISNUMBER(E54),ISTEXT(C54)),A53+1," ") | N54: 도로 | O54: =COUNTIF(C50:C69,"도") -> 0 | P54: / | Q54: =SUMIF(C50:C69,"도",E50:E69) -> 0 | R54: =COUNTIF(X50:X69,"도국") -> 0 | S54: / | T54: =SUMIF(X50:X69,"도국",E50:E69) -> 0 | U54: =O54-R54 -> 0 | V54: / | W54: =Q54-T54 -> 0 | X54: =CONCATENATE(C54,H54)
A55: =IF(OR(ISNUMBER(E55),ISTEXT(C55)),A54+1," ") | N55: 하천 | O55: =COUNTIF(C50:C69,"천") -> 0 | P55: / | Q55: =SUMIF(C50:C69,"천",E50:E69) -> 0 | R55: =COUNTIF(X50:X69,"천국") -> 0 | S55: / | T55: =SUMIF(X50:X69,"천국",E50:E69) -> 0 | U55: =O55-R55 -> 0 | V55: / | W55: =Q55-T55 -> 0 | X55: =CONCATENATE(C55,H55)
A56: =IF(OR(ISNUMBER(E56),ISTEXT(C56)),A55+1," ") | N56: 구거 | O56: =COUNTIF(C50:C69,"구") -> 0 | P56: / | Q56: =SUMIF(C50:C69,"구",E50:E69) -> 0 | R56: =COUNTIF(X50:X69,"구국") -> 0 | S56: / | T56: =SUMIF(X50:X69,"구국",E50:E69) -> 0 | U56: =O56-R56 -> 0 | V56: / | W56: =Q56-T56 -> 0 | X56: =CONCATENATE(C56,H56)
A57: =IF(OR(ISNUMBER(E57),ISTEXT(C57)),A56+1," ") | N57: 제방 | O57: =COUNTIF(C50:C69,"제") -> 0 | P57: / | Q57: =SUMIF(C50:C69,"제",E50:E69) -> 0 | R57: =COUNTIF(X50:X69,"제국") -> 0 | S57: / | T57: =SUMIF(X50:X69,"제국",E50:E69) -> 0 | U57: =O57-R57 -> 0 | V57: / | W57: =Q57-T57 -> 0 | X57: =CONCATENATE(C57,H57)
A58: =IF(OR(ISNUMBER(E58),ISTEXT(C58)),A57+1," ") | N58: 유지 | O58: =COUNTIF(C50:C69,"유") -> 0 | P58: / | Q58: =SUMIF(C50:C69,"유",E50:E69) -> 0 | R58: =COUNTIF(X50:X69,"유국") -> 0 | S58: / | T58: =SUMIF(X50:X69,"유국",E50:E69) -> 0 | U58: =O58-R58 -> 0 | V58: / | W58: =Q58-T58 -> 0 | X58: =CONCATENATE(C58,H58)
A59: =IF(OR(ISNUMBER(E59),ISTEXT(C59)),A58+1," ") | N59: 과수원 | O59: =COUNTIF(C50:C69,"과") -> 0 | P59: / | Q59: =SUMIF(C50:C69,"과",E50:E69) -> 0 | R59: =COUNTIF(X50:X69,"과국") -> 0 | S59: / | T59: =SUMIF(X50:X69,"과국",E50:E69) -> 0 | U59: =O59-R59 -> 0 | V59: / | W59: =Q59-T59 -> 0 | X59: =CONCATENATE(C59,H59)
A60: =IF(OR(ISNUMBER(E60),ISTEXT(C60)),A59+1," ") | N60: 묘지 | O60: =COUNTIF(C50:C69,"묘") -> 0 | P60: / | Q60: =SUMIF(C50:C69,"묘",E50:E69) -> 0 | R60: =COUNTIF(X50:X69,"묘국") -> 0 | S60: / | T60: =SUMIF(X50:X69,"묘국",E50:E69) -> 0 | U60: =O60-R60 -> 0 | V60: / | W60: =Q60-T60 -> 0 | X60: =CONCATENATE(C60,H60)
A61: =IF(OR(ISNUMBER(E61),ISTEXT(C61)),A60+1," ") | N61: 목장 | O61: =COUNTIF(C50:C69,"목") -> 0 | P61: / | Q61: =SUMIF(C50:C69,"목",E50:E69) -> 0 | R61: =COUNTIF(X50:X69,"목국") -> 0 | S61: / | T61: =SUMIF(X50:X69,"목국",E50:E69) -> 0 | U61: =O61-R61 -> 0 | V61: / | W61: =Q61-T61 -> 0 | X61: =CONCATENATE(C61,H61)
A62: =IF(OR(ISNUMBER(E62),ISTEXT(C62)),A61+1," ") | N62: 잡종지 | O62: =COUNTIF(C50:C69,"잡") -> 0 | P62: / | Q62: =SUMIF(C50:C69,"잡",E50:E69) -> 0 | R62: =COUNTIF(X50:X69,"잡국") -> 0 | S62: / | T62: =SUMIF(X50:X69,"잡국",E50:E69) -> 0 | U62: =O62-R62 -> 0 | V62: / | W62: =Q62-T62 -> 0 | X62: =CONCATENATE(C62,H62)
A63: =IF(OR(ISNUMBER(E63),ISTEXT(C63)),A62+1," ") | N63: 학교용지 | O63: =COUNTIF(C50:C69,"학") -> 0 | P63: / | Q63: =SUMIF(C50:C69,"학",E50:E69) -> 0 | R63: =COUNTIF(X50:X69,"학국") -> 0 | S63: / | T63: =SUMIF(X50:X69,"학국",E50:E69) -> 0 | U63: =O63-R63 -> 0 | V63: / | W63: =Q63-T63 -> 0 | X63: =CONCATENATE(C63,H63)
A64: =IF(OR(ISNUMBER(E64),ISTEXT(C64)),A63+1," ") | N64: 수도 | O64: =COUNTIF(C50:C69,"수") -> 0 | P64: / | Q64: =SUMIF(C50:C69,"수",E50:E69) -> 0 | R64: =COUNTIF(X50:X69,"수국") -> 0 | S64: / | T64: =SUMIF(X50:X69,"수국",E50:E69) -> 0 | U64: =O64-R64 -> 0 | V64: / | W64: =Q64-T64 -> 0 | X64: =CONCATENATE(C64,H64)
A65: =IF(OR(ISNUMBER(E65),ISTEXT(C65)),A64+1," ") | N65: 공장 | O65: =COUNTIF(C50:C69,"장") -> 0 | P65: / | Q65: =SUMIF(C50:C69,"장",E50:E69) -> 0 | R65: =COUNTIF(X50:X69,"장국") -> 0 | S65: / | T65: =SUMIF(X50:X69,"장국",E50:E69) -> 0 | U65: =O65-R65 -> 0 | V65: / | W65: =Q65-T65 -> 0 | X65: =CONCATENATE(C65,H65)
A66: =IF(OR(ISNUMBER(E66),ISTEXT(C66)),A65+1," ") | X66: =CONCATENATE(C66,H66)
A67: =IF(OR(ISNUMBER(E67),ISTEXT(C67)),A66+1," ") | X67: =CONCATENATE(C67,H67)
A68: =IF(OR(ISNUMBER(E68),ISTEXT(C68)),A67+1," ") | X68: =CONCATENATE(C68,H68)
A69: =IF(OR(ISNUMBER(E69),ISTEXT(C69)),A68+1," ") | N69: 기타 | O69: =COUNTIF(C50:C69," ") -> 0 | P69: / | Q69: =SUMIF(C50:C69," ",E50:E69) -> 0 | S69: / | U69: =O69 -> 0 | V69: / | W69: =Q69 -> 0 | X69: =CONCATENATE(C69,H69)
