Workbook
Name _______A100000: #REF!
Name _______A66000: #REF!
Name _______A67000: #REF!
Name _______A68000: #REF!
Name _______A80000: #REF!
Name _______B140007: [1]표지!#REF!
Name _______zz1: #REF!
Name ______A100000: #REF!
Name ______A66000: #REF!
Name ______A67000: #REF!
Name ______A68000: #REF!
Name ______A80000: #REF!
Name ______B140007: [1]표지!#REF!
Name ______zz1: #REF!
Name _____A100000: #REF!
Name _____A66000: #REF!
Name _____A67000: #REF!
Name _____A68000: #REF!
Name _____A80000: #REF!
Name _____B140007: [1]표지!#REF!
Name _____zz1: #REF!
Name ____A100000: #REF!
Name ____A66000: #REF!
Name ____A67000: #REF!
Name ____A68000: #REF!
Name ____A80000: #REF!
Name ____B140007: [1]표지!#REF!
Name ____zz1: #REF!
Name ___A100000: #REF!
Name ___A66000: #REF!
Name ___A67000: #REF!
Name ___A68000: #REF!
Name ___A80000: #REF!
Name ___B140007: [1]표지!#REF!
Name ___zz1: #REF!
Name __A100000: #REF!
Name __A66000: #REF!
Name __A67000: #REF!
Name __A68000: #REF!
Name __A80000: #REF!
Name __B140007: [1]표지!#REF!
Name __zz1: #REF!
Name _15A: [2]금액내역서!$D$3:$D$10
Name _1공장: #REF!
Name _2공장: #REF!
Name _30신설일위대가: '[3]30신설일위대가'!$A$4:$M$1603
Name _3공장: #REF!
Name _40총괄: '[4]40총괄'!$A$4:$O$76
Name _A100000: #REF!
Name _A66000: #REF!
Name _A67000: #REF!
Name _A68000: #REF!
Name _A80000: #REF!
Name _B140007: [1]표지!#REF!
Name _B22: [5]일위대가!$1400:$1413=[5]일위대가!$A$1400
Name _CD1: #REF!
Name _CD2: BlankMacro1
Name _CD3: #REF!
Name _K: #N/A
Name _K02: [5]일위대가!$732:$745=[5]일위대가!$A$732

Sheet 원가계산서(건축)
B1: 공 사 원 가 계 산 서(건축공사)
B2: 공사명 : 2026년도 국공립어린이집(A9) 리모델링공사
B3: 비 목 | E3: 금 액 | F3: 구 성 비 | G3: 비 고
A4: A1 | B4: 순 공 사 원 가 | C4: 재 료 비 | D4: 직 접 재 료 비
A5: A2 | D5: 간 접 재 료 비
A6: A3 | D6: 작업설, 부산물(△)
A7: AS | D7: [ 소 계 ]
A8: B1 | C8: 노 무 비 | D8: 직 접 노 무 비
A9: B2 | D9: 간 접 노 무 비 | F9: 직접노무비 * 17.5%
A10: BS | D10: [ 소 계 ]
A11: C2 | C11: 경 비 | D11: 경 비
A12: C4 | D12: 산 재 보 험 료 | F12: 노무비 * 3.56%
A13: C5 | D13: 고 용 보 험 료 | F13: 노무비 * 1.01%
A14: C6 | D14: 국민 건강 보험료 | F14: 직접노무비 * 3.595% | G14: * 공사기간 1개월(30일) 미만공사
A15: C7 | D15: 국민 연금 보험료 | F15: 직접노무비 * 4.75% | G15: * 공사기간 1개월(30일) 미만공사
A16: CB | D16: 노인장기요양보험료 | F16: 건강보험료 * 13.14% | G16: * 공사기간 1개월(30일) 미만공사
A17: C8 | D17: 퇴직 공제 부금비 | F17: 직접노무비 * 2.3% | G17: * 추정금액 1억 미만공사
A18: CA | D18: 산업안전보건관리비 | F18: (재료비+직노) * 3.11%
A19: CG | D19: 기 타 경 비 | F19: (재료비+노무비) * 5%
A20: CH | D20: 환 경 보 전 비 | F20: (재료비+직노+경비) * 0.3%
A21: CK | D21: 건설하도급지급보증서발급수수료 | F21: (재료비+직노+경비) * 0.08% | G21: * 전문공사제외
A22: CL | D22: 건설기계대여금지급보증서발급수수료 | F22: (재료비+직노+경비) * 0.1%
D23: 석 면 분 담 금 | F23: 노무비 * 0.006%
D24: 임 금 채 권 부 담 금 | F24: 노무비 * 0.09%
A25: CS | D25: [ 소 계 ]
A26: S1 | B26: 계
A27: D1 | B27: 일 반 관 리 비 | F27: 계 * 8%
A28: D2 | B28: 이 윤 | F28: (노무비+경비+일반관리비) * 15%
A29: D3 | B29: 폐기물(100톤미만)
A30: D9 | B30: 공 급 가 액
A31: DB | B31: 부 가 가 치 세 | F31: 공급가액 * 10%
A32: DH | B32: 도 급 액
A33: S2 | B33: 총 공 사 비

Sheet 집계표
A1: 집 계 표
A2: [ 2026년도 국공립어린이집(A9) 리모델링공사 ]
A3: 품 명 | B3: 규 격 | C3: 단위 | D3: 수량 | E3: 재 료 비 | G3: 노 무 비 | I3: 경 비 | K3: 합 계 | M3: 비 고 | N3: 공종코드 | O3: 변수 | P3: 상위공종 | Q3: 공종구분 | R3: 공종레벨 | S3: 공종소계 | T3: 원가계산서 연결금액
E4: 단 가 | F4: 금 액 | G4: 단 가 | H4: 금 액 | I4: 단 가 | J4: 금 액 | K4: 단 가 | L4: 금 액
A5: 2026년도 국공립어린이집(A9) 리모델링공사 | D5: 1 | E5: =F6 -> 0 | F5: =E5*D5 -> 0 | G5: =H6 -> 0 | H5: =G5*D5 -> 0 | I5: =J6 -> 0 | J5: =I5*D5 -> 0 | K5: =E5+G5+I5 -> 0 | L5: =F5+H5+J5 -> 0 | N5: 01 | R5: 1
A6: ▣ 영종하늘도시 A9 블럭 ▣ | D6: 1 | E6: =F7+F8+F9+F10+F11+F12+F13 -> 0 | F6: =E6*D6 -> 0 | G6: =H7+H8+H9+H10+H11+H12 -> 0 | H6: =G6*D6 -> 0 | I6: =J7+J8+J9+J10+J11+J12 -> 0 | J6: =I6*D6 -> 0 | K6: =E6+G6+I6 -> 0 | L6: =F6+H6+J6 -> 0 | N6: 0101 | P6: 01 | R6: 2
A7: 가 설 공 사 | D7: 1 | E7: =공종별내역서!F29 -> 0 | F7: =E7*D7 -> 0 | G7: =공종별내역서!H29 -> 0 | H7: =G7*D7 -> 0 | I7: =공종별내역서!J29 -> 0 | J7: =I7*D7 -> 0 | K7: =E7+G7+I7 -> 0 | L7: =F7+H7+J7 -> 0 | N7: 010101 | P7: 0101 | R7: 3
A8: 미 장 공 사 | D8: 1 | E8: =공종별내역서!F55 -> 0 | F8: =E8*D8 -> 0 | G8: =공종별내역서!H55 -> 0 | H8: =G8*D8 -> 0 | I8: =공종별내역서!J55 -> 0 | J8: =I8*D8 -> 0 | K8: =E8+G8+I8 -> 0 | L8: =F8+H8+J8 -> 0 | N8: 010102 | P8: 0101 | R8: 3
A9: 창 호 공 사 | D9: 1 | E9: =공종별내역서!F81 -> 0 | F9: =E9*D9 -> 0 | G9: =공종별내역서!H81 -> 0 | H9: =G9*D9 -> 0 | I9: =공종별내역서!J81 -> 0 | J9: =I9*D9 -> 0 | K9: =E9+G9+I9 -> 0 | L9: =F9+H9+J9 -> 0 | N9: 010103 | P9: 0101 | R9: 3
A10: 수 장 공 사 | D10: 1 | E10: =공종별내역서!F107 -> 0 | F10: =E10*D10 -> 0 | G10: =공종별내역서!H107 -> 0 | H10: =G10*D10 -> 0 | I10: =공종별내역서!J107 -> 0 | J10: =I10*D10 -> 0 | K10: =E10+G10+I10 -> 0 | L10: =F10+H10+J10 -> 0 | N10: 010104 | P10: 0101 | R10: 3
A11: 철 거 공 사 | D11: 1 | E11: =공종별내역서!F133 -> 0 | F11: =E11*D11 -> 0 | G11: =공종별내역서!H133 -> 0 | H11: =G11*D11 -> 0 | I11: =공종별내역서!J133 -> 0 | J11: =I11*D11 -> 0 | K11: =E11+G11+I11 -> 0 | L11: =F11+H11+J11 -> 0 | N11: 010105 | P11: 0101 | R11: 3
A12: 제작 가구 공사 | D12: 1 | E12: =공종별내역서!F159 -> 0 | F12: =E12*D12 -> 0 | G12: =공종별내역서!H159 -> 0 | H12: =G12*D12 -> 0 | I12: =공종별내역서!J159 -> 0 | J12: =I12*D12 -> 0 | K12: =E12+G12+I12 -> 0 | L12: =F12+H12+J12 -> 0 | N12: 010106 | P12: 0101 | R12: 3
A13: '기 타 공 사 | D13: 1 | E13: =공종별내역서!F211 -> 0 | F13: =E13*D13 -> 0 | H13: =G13*D13 -> 0 | J13: =I13*D13 -> 0 | K13: =E13+G13+I13 -> 0 | L13: =F13+H13+J13 -> 0 | N13: 010106 | P13: 0101 | R13: 3
A14: - 폐기물처리비 | D14: 1 | E14: =공종별내역서!F185 -> 0 | F14: =E14*D14 -> 0 | G14: =공종별내역서!H185 -> 0 | H14: =G14*D14 -> 0 | I14: =공종별내역서!J185 -> 0 | J14: =I14*D14 -> 0 | K14: =E14+G14+I14 -> 0 | L14: =F14+H14+J14 -> 0 | N14: 010107 | Q14: 4 | R14: 3 | T14: =L14*1 -> 0
A33: [ 합 계 ] | F33: =F5 -> 0 | H33: =H5 -> 0 | J33: =J5 -> 0 | L33: =L5 -> 0

Sheet 공종별집계표
A1: 공 종 별 집 계 표
A2: [ 2026년도 국공립어린이집(A9) 리모델링공사 ]
A3: 품 명 | B3: 규 격 | C3: 단위 | D3: 수량 | E3: 재 료 비 | G3: 노 무 비 | I3: 경 비 | K3: 합 계 | M3: 비 고 | N3: 공종코드 | O3: 변수 | P3: 상위공종 | Q3: 공종구분 | R3: 공종레벨 | S3: 공종소계 | T3: 원가계산서 연결금액
E4: 단 가 | F4: 금 액 | G4: 단 가 | H4: 금 액 | I4: 단 가 | J4: 금 액 | K4: 단 가 | L4: 금 액
A5: 2026년도 국공립어린이집(A9) 리모델링공사 | D5: 1 | E5: =F6 -> 0 | F5: =E5*D5 -> 0 | G5: =H6 -> 0 | H5: =G5*D5 -> 0 | I5: =J6 -> 0 | J5: =I5*D5 -> 0 | K5: =E5+G5+I5 -> 0 | L5: =F5+H5+J5 -> 0 | N5: 01 | R5: 1
A6: ▣ 영종하늘도시 A9 블럭 ▣ | D6: 1 | E6: =F7+F8+F9+F10+F11+F12+F13 -> 0 | F6: =E6*D6 -> 0 | G6: =H7+H8+H9+H10+H11+H12+H13 -> 0 | H6: =G6*D6 -> 0 | I6: =J7+J8+J9+J10+J11+J12+J13 -> 0 | J6: =I6*D6 -> 0 | K6: =E6+G6+I6 -> 0 | L6: =F6+H6+J6 -> 0 | N6: 0101 | P6: 01 | R6: 2
A7: 가 설 공 사 | D7: 1 | E7: =공종별내역서!F29 -> 0 | F7: =E7*D7 -> 0 | G7: =공종별내역서!H29 -> 0 | H7: =G7*D7 -> 0 | I7: =공종별내역서!J29 -> 0 | J7: =I7*D7 -> 0 | K7: =E7+G7+I7 -> 0 | L7: =F7+H7+J7 -> 0 | N7: 010101 | P7: 0101 | R7: 3
A8: 미 장 공 사 | D8: 1 | E8: =공종별내역서!F55 -> 0 | F8: =E8*D8 -> 0 | G8: =공종별내역서!H55 -> 0 | H8: =G8*D8 -> 0 | I8: =공종별내역서!J55 -> 0 | J8: =I8*D8 -> 0 | K8: =E8+G8+I8 -> 0 | L8: =F8+H8+J8 -> 0 | N8: 010102 | P8: 0101 | R8: 3
A9: 창 호 공 사 | D9: 1 | E9: =공종별내역서!F81 -> 0 | F9: =E9*D9 -> 0 | G9: =공종별내역서!H81 -> 0 | H9: =G9*D9 -> 0 | I9: =공종별내역서!J81 -> 0 | J9: =I9*D9 -> 0 | K9: =E9+G9+I9 -> 0 | L9: =F9+H9+J9 -> 0 | N9: 010103 | P9: 0101 | R9: 3
A10: 수 장 공 사 | D10: 1 | E10: =공종별내역서!F107 -> 0 | F10: =E10*D10 -> 0 | G10: =공종별내역서!H107 -> 0 | H10: =G10*D10 -> 0 | I10: =공종별내역서!J107 -> 0 | J10: =I10*D10 -> 0 | K10: =E10+G10+I10 -> 0 | L10: =F10+H10+J10 -> 0 | N10: 010104 | P10: 0101 | R10: 3
A11: 철 거 공 사 | D11: 1 | E11: =공종별내역서!F133 -> 0 | F11: =E11*D11 -> 0 | G11: =공종별내역서!H133 -> 0 | H11: =G11*D11 -> 0 | I11: =공종별내역서!J133 -> 0 | J11: =I11*D11 -> 0 | K11: =E11+G11+I11 -> 0 | L11: =F11+H11+J11 -> 0 | N11: 010105 | P11: 0101 | R11: 3
A12: 제작 가구 공사 | D12: 1 | E12: =공종별내역서!F159 -> 0 | F12: =E12*D12 -> 0 | G12: =공종별내역서!H159 -> 0 | H12: =G12*D12 -> 0 | I12: =공종별내역서!J159 -> 0 | J12: =I12*D12 -> 0 | K12: =E12+G12+I12 -> 0 | L12: =F12+H12+J12 -> 0 | N12: 010106 | P12: 0101 | R12: 3
A13: 기 타 공 사 | D13: 1 | E13: =공종별내역서!F211 -> 0 | F13: =E13*D13 -> 0 | H13: =G13*D13 -> 0 | J13: =I13*D13 -> 0 | K13: =E13+G13+I13 -> 0 | L13: =F13+H13+J13 -> 0 | N13: 010106 | P13: 0101 | R13: 3
A14: - 폐기물처리비 | D14: 1 | E14: =공종별내역서!F185 -> 0 | F14: =E14*D14 -> 0 | G14: =공종별내역서!H185 -> 0 | H14: =G14*D14 -> 0 | I14: =공종별내역서!J185 -> 0 | J14: =I14*D14 -> 0 | K14: =E14+G14+I14 -> 0 | L14: =F14+H14+J14 -> 0 | N14: 010107 | Q14: 4 | R14: 3 | T14: =L14*1 -> 0
A27: [ 합 계 ] | F27: =F5 -> 0 | H27: =H5 -> 0 | J27: =J5 -> 0 | L27: =L5 -> 0

Sheet 공종별내역서
A1: [ 2026년도 국공립어린이집(A9) 리모델링공사 ]
A2: 품 명 | B2: 규 격 | C2: 단위 | D2: 수량 | E2: 재 료 비 | G2: 노 무 비 | I2: 경 비 | K2: 합 계 | M2: 비 고 | N2: 품목코드 | O2: 변수 | P2: 설정 | Q2: 공종코드 | R2: 일위 | S2: 단산 | T2: 자재 | U2: 손료적용 | V2: 손료저장 | W2: 적용율 | X2: JUK1 | Y2: JUK2 | Z2: JUK3 | AA2: JUK4 | AB2: JUK5 | AC2: JUK6 | AD2: JUK7 | AE2: JUK8 | AF2: JUK9 | AG2: JUK10 | AH2: JUK11 | AI2: JUK12 | AJ2: JUK13 | AK2: JUK14 | AL2: JUK15 | AM2: JUK16 | AN2: JUK17 | AO2: JUK18 | AP2: JUK19 | AQ2: JUK20 | AR2: 자재구분 | AS2: 공종구분 | AT2: 공종레벨 | AU2: 공종+자재 | AV2: 고유번호
E3: 단 가 | F3: 금 액 | G3: 단 가 | H3: 금 액 | I3: 단 가 | J3: 금 액 | K3: 단 가 | L3: 금 액
A4: 가 설 공 사 | Q4: 010101
A5: 건축물 현장정리 | B5: 준공청소포함 | C5: M2 | D5: 328 | M5: 호표 3 | N5: 5696E103138DDA16CE9A662377A85B | Q5: 010101 | R5: T | S5: F | T5: F | AU5: 0101015696E103138DDA16CE9A662377A85B | AV5: 43
Q6: 010101
Q7: 010101
Q8: 010101
Q9: 010101
Q10: 010101
Q11: 010101
Q12: 010101
Q13: 010101
Q14: 010101
Q15: 010101
Q16: 010101
Q17: 010101
... Q28: 010101
A29: [ 합 계 ] | N29: TOTAL
A30: 미 장 공 사 | Q30: 010102
A31: 기존바탕면 정리 | B31: 내벽 | C31: M2 | D31: 2 | M31: 호표 4 | N31: 56968103AE8229C8AC99D71B57D68E | Q31: 010102 | R31: T | S31: F | T31: F | AU31: 01010256968103AE8229C8AC99D71B57D68E | AV31: 11
Q32: 010102
Q33: 010102
Q34: 010102
Q35: 010102
Q36: 010102
Q37: 010102
Q38: 010102
Q39: 010102
Q40: 010102
Q41: 010102
Q42: 010102
Q43: 010102
... Q54: 010102
A55: [ 합 계 ] | N55: TOTAL
A56: 창 호 공 사 | Q56: 010103
A57: 3연동 미서기문 신설 | B57: 1,100x2,200 / THK12 강화유리 | C57: 개소 | D57: 1 | M57: 호표 24 | N57: 569631032884C9344095DA4DAB189F | Q57: 010103 | R57: T | S57: F | T57: F | AU57: 010103569631032884C9344095DA4DAB189F | AV57: 13
A58: 기존문 타공 후 강화유리마감 | B58: 250x1,800 / THK8 강화유리 | C58: 개소 | D58: 4 | M58: 호표 25 | N58: 569631032884C9344095DA4DA84420 | Q58: 010103 | R58: T | S58: F | T58: F | AU58: 010103569631032884C9344095DA4DA84420 | AV58: 14
A59: 기존문 방염시트지(시공비포함) | B59: 1,100x2,200 | C59: 개소 | D59: 3 | M59: 호표 26 | N59: 569631032884C9344095DA4DA96A23 | Q59: 010103 | R59: T | S59: F | T59: F | AU59: 010103569631032884C9344095DA4DA96A23 | AV59: 15
A60: 기존문 방염시트지(시공비포함) | B60: 1,120x2,400 | C60: 개소 | D60: 1 | M60: 호표 27 | N60: 569631032884C9344095DA4DA96BCA | Q60: 010103 | R60: T | S60: F | T60: F | AU60: 010103569631032884C9344095DA4DA96BCA | AV60: 16
Q61: 010103
Q62: 010103
Q63: 010103
Q64: 010103
Q65: 010103
Q66: 010103
Q67: 010103
Q68: 010103
Q69: 010103
Q70: 010103
Q71: 010103
Q72: 010103
... Q80: 010103
A81: [ 합 계 ] | N81: TOTAL
A82: 수 장 공 사 | Q82: 010104
A83: 안전매트 시공 | B83: 1200 SIZE / 포복실, 보육실, 유희실 | C83: 식 | D83: 1 | M83: 자재 21 | N83: 5720A1033B813156749B7473D52665315B95FF | Q83: 010104 | R83: F | S83: F | T83: T | AU83: 0101045720A1033B813156749B7473D52665315B95FF | AV83: 53
A84: 소 계 | N84: 572111030E8A8506E9928E86146E | R84: F | S84: F | T84: F | AU84: 010104572111030E8A8506E9928E86146E | AV84: 54
A85: 방염 자작나무 시공 | B85: 9T 제작·재단·라운드 가공 | C85: 식 | D85: 1 | M85: 자재 22 | N85: 5720A1033B813156749B7473D52665315B94D7 | Q85: 010104 | R85: F | S85: F | T85: T | AU85: 0101045720A1033B813156749B7473D52665315B94D7 | AV85: 46
A86: 자작나무 스카시 시공 | B86: CNC 디자인 제작 및 부착 | C86: 식 | D86: 1 | M86: 자재 23 | N86: 5720A1033B813156749B7473D52665315B97AB | Q86: 010104 | R86: F | S86: F | T86: T | AU86: 0101045720A1033B813156749B7473D52665315B97AB | AV86: 47
A87: 친환경마감 시공 | B87: 샌딩 및 친환경마감 | C87: 식 | D87: 1 | M87: 자재 24 | N87: 5720A1033B813156749B7473D52665315B9684 | Q87: 010104 | R87: F | S87: F | T87: T | AU87: 0101045720A1033B813156749B7473D52665315B9684 | AV87: 48
A88: 동물 안전쿠션 시공 | B88: 포인트형 약 15개 | C88: 식 | D88: 1 | M88: 자재 25 | N88: 5720A1033B813156749B7473D52665315B9103 | Q88: 010104 | R88: F | S88: F | T88: T | AU88: 0101045720A1033B813156749B7473D52665315B9103 | AV88: 49
A89: 목공 및 운반설치 | B89: 부자재포함 | C89: 식 | D89: 1 | M89: 자재 26 | N89: 5720A1033B813156749B7473D52665315B907C | Q89: 010104 | R89: F | S89: F | T89: T | AU89: 0101045720A1033B813156749B7473D52665315B907C | AV89: 50
A90: 디자인썬팅 시공 | B90: 디자인 및 시공일체 | C90: 식 | D90: 1 | M90: 자재 27 | N90: 5720A1033B813156749B7473D52665315B9330 | Q90: 010104 | R90: F | S90: F | T90: T | AU90: 0101045720A1033B813156749B7473D52665315B9330 | AV90: 51
A91: 소 계 | N91: 572111030E8A8506E9928E86146E | R91: F | S91: F | T91: F | AU91: 010104572111030E8A8506E9928E86146E | AV91: 52
A92: 백페인트 글라스(시공비포함) | B92: THK10 | C92: M2 | D92: 27 | M92: 호표 35 | N92: 56960103F4826647BF9C2EE874003F | Q92: 010104 | R92: T | S92: F | T92: F | AU92: 01010456960103F4826647BF9C2EE874003F | AV92: 42
Q93: 010104
Q94: 010104
Q95: 010104
Q96: 010104
Q97: 010104
Q98: 010104
Q99: 010104
Q100: 010104
Q101: 010104
Q102: 010104
Q103: 010104
Q104: 010104
... Q106: 010104
A107: [ 합 계 ] | N107: TOTAL
A108: 철 거 공 사 | Q108: 010105
A109: 기존문 철거 | B109: 1,100x2,200 | C109: EA | D109: 1 | M109: 호표 37 | N109: 5697E103818085E74592E9A754EBDC | Q109: 010105 | R109: T | S109: F | T109: F | AU109: 0101055697E103818085E74592E9A754EBDC | AV109: 19
A110: 주방상부장 및 하부장 일부철거 | B110: W:700 | C110: EA | D110: 1 | M110: 호표 36 | N110: 5697E103818085E74592E9A757BFBB | Q110: 010105 | R110: T | S110: F | T110: F | AU110: 0101055697E103818085E74592E9A757BFBB | AV110: 18
Q111: 010105
Q112: 010105
Q113: 010105
Q114: 010105
Q115: 010105
Q116: 010105
Q117: 010105
Q118: 010105
Q119: 010105
Q120: 010105
Q121: 010105
Q122: 010105
... Q132: 010105
A133: [ 합 계 ] | N133: TOTAL
A134: 제작 가구 공사 | Q134: 010106
A135: 보육실1-하부수납장 / A-211 | B135: W900*H1,100*D400 | C135: EA | D135: 1 | M135: 호표 8 | N135: 5696510377804FC0E9996730E0EDCC | Q135: 010106 | R135: T | S135: F | T135: F | AU135: 0101065696510377804FC0E9996730E0EDCC | AV135: 21
A136: 보육실2-전체수납장 / A-221 | B136: W6,480*H2,400*D450 | C136: EA | D136: 1 | M136: 호표 9 | N136: 5696510377804FC0E9996730E0EC25 | Q136: 010106 | R136: T | S136: F | T136: F | AU136: 0101065696510377804FC0E9996730E0EC25 | AV136: 22
A137: 보육실3-전체수납장 / A-231 | B137: W6,480*H2,400*D450 | C137: EA | D137: 1 | M137: 호표 10 | N137: 5696510377804FC0E9996730E0EFF9 | Q137: 010106 | R137: T | S137: F | T137: F | AU137: 0101065696510377804FC0E9996730E0EFF9 | AV137: 23
...
