Workbook

Sheet 05년12월
A1: 주민등록인구 및 세대현황
A5: 2005년 12월말 현재 | I5: 단위 : 명/세대
A6: 군구명 | B6: 인 구 수 | E6: 세대수 | F6: 19세이상 | I6: 증감현황(전월대비)
B7: 계 | C7: 남 | D7: 여 | F7: 계 | G7: 남 | H7: 여 | I7: 인구 | J7: 세대
A8: 계 | B8: =SUM(C8:D8) -> 92300 | C8: =SUM(C9:C20) -> 47447 | D8: =SUM(D9:D20) -> 44853 | E8: =SUM(E9:E20) -> 38707 | F8: 72796 | G8: =SUM(G9:G20) -> 37327 | H8: =SUM(H9:H20) -> 35469 | I8: =SUM(I9:I20) -> #REF! | J8: =SUM(J9:J20) -> #REF!
A9: 신포동 | B9: =SUM(C9:D9) -> 6584 | C9: 3308 | D9: 3276 | E9: 2834 | F9: =SUM(G9:H9) -> 5412 | G9: 2688 | H9: 2724 | I9: =B9-#REF! -> #REF! | J9: =E9-#REF! -> #REF!
A10: 연안동 | B10: =SUM(C10:D10) -> 9275 | C10: 4816 | D10: 4459 | E10: 3708 | F10: =SUM(G10:H10) -> 7410 | G10: 3856 | H10: 3554 | I10: =B10-#REF! -> #REF! | J10: =E10-#REF! -> #REF!
A11: 신흥동 | B11: =SUM(C11:D11) -> 17013 | C11: 8561 | D11: 8452 | E11: 6703 | F11: =SUM(G11:H11) -> 13344 | G11: 6658 | H11: 6686 | I11: =B11-#REF! -> #REF! | J11: =E11-#REF! -> #REF!
A12: 도원동 | B12: =SUM(C12:D12) -> 5961 | C12: 3023 | D12: 2938 | E12: 2342 | F12: =SUM(G12:H12) -> 4774 | G12: 2397 | H12: 2377 | I12: =B12-#REF! -> #REF! | J12: =E12-#REF! -> #REF!
A13: 율목동 | B13: =SUM(C13:D13) -> 5327 | C13: 2730 | D13: 2597 | E13: 2198 | F13: =SUM(G13:H13) -> 4276 | G13: 2167 | H13: 2109 | I13: =B13-#REF! -> #REF! | J13: =E13-#REF! -> #REF!
A14: 동인천동 | B14: =SUM(C14:D14) -> 7063 | C14: 3543 | D14: 3520 | E14: 3058 | F14: =SUM(G14:H14) -> 5829 | G14: 2909 | H14: 2920 | I14: =B14-#REF! -> #REF! | J14: =E14-#REF! -> #REF!
A15: 북성동 | B15: =SUM(C15:D15) -> 4611 | C15: 2351 | D15: 2260 | E15: 1972 | F15: =SUM(G15:H15) -> 3801 | G15: 1938 | H15: 1863 | I15: =B15-#REF! -> #REF! | J15: =E15-#REF! -> #REF!
A16: 송월동 | B16: =SUM(C16:D16) -> 6355 | C16: 3161 | D16: 3194 | E16: 2467 | F16: =SUM(G16:H16) -> 5017 | G16: 2495 | H16: 2522 | I16: =B16-#REF! -> #REF! | J16: =E16-#REF! -> #REF!
A17: 영종동 | B17: =SUM(C17:D17) -> 9786 | C17: 5301 | D17: 4485 | E17: 4966 | F17: =SUM(G17:H17) -> 8336 | G17: 4543 | H17: 3793 | I17: =B17-#REF! -> #REF! | J17: =E17-#REF! -> #REF!
A18: 운서지소 | B18: =SUM(C18:D18) -> 16766 | C18: 8755 | D18: 8011 | E18: 6730 | F18: =SUM(G18:H18) -> 11475 | G18: 6013 | H18: 5462 | I18: =B18-#REF! -> #REF! | J18: =E18-#REF! -> #REF!
A19: 용유동 | B19: =SUM(C19:D19) -> 2882 | C19: 1531 | D19: 1351 | E19: 1402 | F19: =SUM(G19:H19) -> 2504 | G19: 1330 | H19: 1174 | I19: =B19-#REF! -> #REF! | J19: =E19-#REF! -> #REF!
A20: 무의지소 | B20: =SUM(C20:D20) -> 677 | C20: 367 | D20: 310 | E20: 327 | F20: =SUM(G20:H20) -> 618 | G20: 333 | H20: 285 | I20: =B20-#REF! -> #REF! | J20: =E20-#REF! -> #REF!
C21: =E9-#REF! -> #REF!

Sheet 06년1월
A1: 주민등록인구 및 세대현황
A5: 2006년 1월말 현재 | I5: 단위 : 명/세대
A6: 군구명 | B6: 인 구 수 | E6: 세대수 | F6: 19세이상 | I6: 증감현황(전월대비)
B7: 계 | C7: 남 | D7: 여 | F7: 계 | G7: 남 | H7: 여 | I7: 인구 | J7: 세대
A8: 계 | B8: =SUM(C8:D8) -> 92268 | C8: =SUM(C9:C20) -> 47447 | D8: =SUM(D9:D20) -> 44821 | E8: =SUM(E9:E20) -> 38773 | F8: =SUM(G8:H8) -> 72830 | G8: =SUM(G9:G20) -> 37361 | H8: =SUM(H9:H20) -> 35469 | I8: =SUM(I9:I20) -> -32 | J8: =SUM(J9:J20) -> 66
A9: 신포동 | B9: =SUM(C9:D9) -> 6597 | C9: 3324 | D9: 3273 | E9: 2852 | F9: =SUM(G9:H9) -> 5418 | G9: 2702 | H9: 2716 | I9: =B9-'05년12월'!B9 -> 13 | J9: =E9-'05년12월'!E9 -> 18
A10: 연안동 | B10: =SUM(C10:D10) -> 9286 | C10: 4824 | D10: 4462 | E10: 3718 | F10: =SUM(G10:H10) -> 7415 | G10: 3856 | H10: 3559 | I10: 11 | J10: =E10-'05년12월'!E10 -> 10
A11: 신흥동 | B11: =SUM(C11:D11) -> 17054 | C11: 8591 | D11: 8463 | E11: 6741 | F11: =SUM(G11:H11) -> 13397 | G11: 6700 | H11: 6697 | I11: 41 | J11: =E11-'05년12월'!E11 -> 38
A12: 도원동 | B12: =SUM(C12:D12) -> 5935 | C12: 3019 | D12: 2916 | E12: 2335 | F12: =SUM(G12:H12) -> 4762 | G12: 2397 | H12: 2365 | I12: -26 | J12: =E12-'05년12월'!E12 -> -7
A13: 율목동 | B13: =SUM(C13:D13) -> 5328 | C13: 2730 | D13: 2598 | E13: 2194 | F13: =SUM(G13:H13) -> 4287 | G13: 2174 | H13: 2113 | I13: 1 | J13: =E13-'05년12월'!E13 -> -4
A14: 동인천동 | B14: =SUM(C14:D14) -> 7043 | C14: 3518 | D14: 3525 | E14: 3053 | F14: =SUM(G14:H14) -> 5820 | G14: 2889 | H14: 2931 | I14: -20 | J14: =E14-'05년12월'!E14 -> -5
A15: 북성동 | B15: =SUM(C15:D15) -> 4604 | C15: 2350 | D15: 2254 | E15: 1974 | F15: =SUM(G15:H15) -> 3803 | G15: 1940 | H15: 1863 | I15: -7 | J15: =E15-'05년12월'!E15 -> 2
A16: 송월동 | B16: =SUM(C16:D16) -> 6347 | C16: 3160 | D16: 3187 | E16: 2459 | F16: =SUM(G16:H16) -> 5012 | G16: 2498 | H16: 2514 | I16: -8 | J16: =E16-'05년12월'!E16 -> -8
A17: 영종동 | B17: =SUM(C17:D17) -> 9787 | C17: 5301 | D17: 4486 | E17: 4976 | F17: =SUM(G17:H17) -> 8345 | G17: 4546 | H17: 3799 | I17: 1 | J17: =E17-'05년12월'!E17 -> 10
A18: 운서지소 | B18: =SUM(C18:D18) -> 16723 | C18: 8732 | D18: 7991 | E18: 6730 | F18: =SUM(G18:H18) -> 11439 | G18: 5994 | H18: 5445 | I18: -43 | J18: =E18-'05년12월'!E18 -> 0
A19: 용유동 | B19: =SUM(C19:D19) -> 2887 | C19: 1530 | D19: 1357 | E19: 1416 | F19: =SUM(G19:H19) -> 2513 | G19: 1330 | H19: 1183 | I19: 5 | J19: =E19-'05년12월'!E19 -> 14
A20: 무의지소 | B20: =SUM(C20:D20) -> 677 | C20: 368 | D20: 309 | E20: 325 | F20: =SUM(G20:H20) -> 619 | G20: 335 | H20: 284 | I20: =B21-'05년12월'!B21 -> 0 | J20: =E20-'05년12월'!E20 -> -2
C21: =E9-#REF! -> #REF!

Sheet 06년2월
A1: 주민등록인구 및 세대현황
A5: 2006년 2월말 현재 | I5: 단위 : 명/세대
A6: 동 명 | B6: 인 구 수 | E6: 세대수 | F6: 19세이상 | I6: 증감현황(전월대비)
B7: 계 | C7: 남 | D7: 여 | F7: 계 | G7: 남 | H7: 여 | I7: 인구 | J7: 세대
A8: 계 | B8: =SUM(C8:D8) -> 92117 | C8: =SUM(C9:C20) -> 47398 | D8: =SUM(D9:D20) -> 44719 | E8: =SUM(E9:E20) -> 38787 | F8: =SUM(G8:H8) -> 72814 | G8: =SUM(G9:G20) -> 37372 | H8: =SUM(H9:H20) -> 35442 | I8: =SUM(I9:I20) -> -151 | J8: =SUM(J9:J20) -> 14
A9: 신포동 | B9: =SUM(C9:D9) -> 6568 | C9: 3294 | D9: 3274 | E9: 2847 | F9: =SUM(G9:H9) -> 5409 | G9: 2691 | H9: 2718 | I9: =B9-'06년1월'!B9 -> -29 | J9: =E9-'06년1월'!E9 -> -5
A10: 연안동 | B10: =SUM(C10:D10) -> 9262 | C10: 4802 | D10: 4460 | E10: 3729 | F10: =SUM(G10:H10) -> 7417 | G10: 3856 | H10: 3561 | I10: =B10-'06년1월'!B10 -> -24 | J10: =E10-'06년1월'!E10 -> 11
A11: 신흥동 | B11: =SUM(C11:D11) -> 17077 | C11: 8615 | D11: 8462 | E11: 6760 | F11: =SUM(G11:H11) -> 13404 | G11: 6708 | H11: 6696 | I11: =B11-'06년1월'!B11 -> 23 | J11: =E11-'06년1월'!E11 -> 19
A12: 도원동 | B12: =SUM(C12:D12) -> 5931 | C12: 3021 | D12: 2910 | E12: 2341 | F12: =SUM(G12:H12) -> 4765 | G12: 2400 | H12: 2365 | I12: =B12-'06년1월'!B12 -> -4 | J12: =E12-'06년1월'!E12 -> 6
A13: 율목동 | B13: =SUM(C13:D13) -> 5326 | C13: 2729 | D13: 2597 | E13: 2188 | F13: =SUM(G13:H13) -> 4290 | G13: 2181 | H13: 2109 | I13: =B13-'06년1월'!B13 -> -2 | J13: =E13-'06년1월'!E13 -> -6
A14: 동인천동 | B14: =SUM(C14:D14) -> 7049 | C14: 3531 | D14: 3518 | E14: 3059 | F14: =SUM(G14:H14) -> 5837 | G14: 2904 | H14: 2933 | I14: =B14-'06년1월'!B14 -> 6 | J14: =E14-'06년1월'!E14 -> 6
A15: 북성동 | B15: =SUM(C15:D15) -> 4578 | C15: 2345 | D15: 2233 | E15: 1978 | F15: =SUM(G15:H15) -> 3792 | G15: 1939 | H15: 1853 | I15: =B15-'06년1월'!B15 -> -26 | J15: =E15-'06년1월'!E15 -> 4
A16: 송월동 | B16: =SUM(C16:D16) -> 6319 | C16: 3141 | D16: 3178 | E16: 2451 | F16: =SUM(G16:H16) -> 5006 | G16: 2486 | H16: 2520 | I16: =B16-'06년1월'!B16 -> -28 | J16: =E16-'06년1월'!E16 -> -8
A17: 영종동 | B17: =SUM(C17:D17) -> 9766 | C17: 5304 | D17: 4462 | E17: 4967 | F17: =SUM(G17:H17) -> 8341 | G17: 4555 | H17: 3786 | I17: =B17-'06년1월'!B17 -> -21 | J17: =E17-'06년1월'!E17 -> -9
A18: 운서지소 | B18: =SUM(C18:D18) -> 16694 | C18: 8718 | D18: 7976 | E18: 6729 | F18: =SUM(G18:H18) -> 11427 | G18: 5980 | H18: 5447 | I18: =B18-'06년1월'!B18 -> -29 | J18: =E18-'06년1월'!E18 -> -1
A19: 용유동 | B19: =SUM(C19:D19) -> 2878 | C19: 1536 | D19: 1342 | E19: 1421 | F19: =SUM(G19:H19) -> 2516 | G19: 1342 | H19: 1174 | I19: =B19-'06년1월'!B19 -> -9 | J19: =E19-'06년1월'!E19 -> 5
A20: 무의지소 | B20: =SUM(C20:D20) -> 669 | C20: 362 | D20: 307 | E20: 317 | F20: =SUM(G20:H20) -> 610 | G20: 330 | H20: 280 | I20: =B20-'06년1월'!B20 -> -8 | J20: =E20-'06년1월'!E20 -> -8

Sheet 06년3월
A1: 주민등록인구 및 세대현황
A5: 2006년 3월말 현재 | I5: 단위 : 명/세대
A6: 동 명 | B6: 인 구 수 | E6: 세대수 | F6: 19세이상 | I6: 증감현황(전월대비)
B7: 계 | C7: 남 | D7: 여 | F7: 계 | G7: 남 | H7: 여 | I7: 인구 | J7: 세대
A8: 계 | B8: 91988 | C8: 47359 | D8: 44629 | E8: 38704 | F8: 72719 | G8: 37331 | H8: 35388 | I8: -129 | J8: -83
A9: 신포동 | B9: 6574 | C9: 3301 | D9: 3273 | E9: 2864 | F9: 5421 | G9: 2699 | H9: 2722 | I9: 6 | J9: 17
A10: 연안동 | B10: 9270 | C10: 4810 | D10: 4460 | E10: 3747 | F10: 7432 | G10: 3862 | H10: 3570 | I10: 8 | J10: 18
A11: 신흥동 | B11: 17048 | C11: 8608 | D11: 8440 | E11: 6753 | F11: 13394 | G11: 6704 | H11: 6690 | I11: -29 | J11: -7
A12: 도원동 | B12: 5912 | C12: 3010 | D12: 2902 | E12: 2322 | F12: 4744 | G12: 2391 | H12: 2353 | I12: -19 | J12: -19
A13: 율목동 | B13: 5294 | C13: 2701 | D13: 2593 | E13: 2184 | F13: 4272 | G13: 2160 | H13: 2112 | I13: -32 | J13: -4
A14: 동인천동 | B14: 7071 | C14: 3552 | D14: 3519 | E14: 3065 | F14: 5848 | G14: 2912 | H14: 2936 | I14: 22 | J14: 6
A15: 북성동 | B15: 4580 | C15: 2346 | D15: 2234 | E15: 1986 | F15: =SUM(G15:H15) -> 3792 | G15: 1935 | H15: 1857 | I15: 2 | J15: 8
A16: 송월동 | B16: 6332 | C16: 3142 | D16: 3190 | E16: 2438 | F16: 5015 | G16: 2486 | H16: 2529 | I16: 13 | J16: -13
A17: 영종동 | B17: 9707 | C17: 5294 | D17: 4413 | E17: 4901 | F17: 8274 | G17: 4544 | H17: 3730 | I17: -59 | J17: -66
A18: 운서지소 | B18: 16685 | C18: 8715 | D18: 7970 | E18: 6738 | F18: 11425 | G18: 5982 | H18: 5443 | I18: -9 | J18: 9
A19: 용유동 | B19: 2856 | C19: 1526 | D19: 1330 | E19: 1396 | F19: 2498 | G19: 1331 | H19: 1167 | I19: -22 | J19: -25
A20: 무의지소 | B20: 659 | C20: 354 | D20: 305 | E20: 310 | F20: 604 | G20: 325 | H20: 279 | I20: -10 | J20: -7

Sheet 06년4월 (2)
A1: 주민등록인구 및 세대현황
A5: 2006년 4월말 현재 | I5: 단위 : 명/세대
A6: 동 명 | B6: 인 구 수 | E6: 세대수 | F6: 19세이상 | I6: 증감현황(전월대비)
B7: 계 | C7: 남 | D7: 여 | F7: 계 | G7: 남 | H7: 여 | I7: 인구 | J7: 세대
A8: 계 | B8: 91950 | C8: 47313 | D8: 44637 | E8: 38676 | F8: 72694 | G8: 37309 | H8: 35385 | I8: -38 | J8: -28
A9: 신포동 | B9: 6553 | C9: 3288 | D9: 3265 | E9: 2855 | F9: 5407 | G9: 2692 | H9: 2715 | I9: -21 | J9: -9
A10: 연안동 | B10: 9207 | C10: 4769 | D10: 4438 | E10: 3728 | F10: 7374 | G10: 3829 | H10: 3545 | I10: -63 | J10: -19
A11: 신흥동 | B11: 17051 | C11: 8594 | D11: 8457 | E11: 6769 | F11: 13403 | G11: 6691 | H11: 6712 | I11: 3 | J11: 16
A12: 도원동 | B12: 5882 | C12: 2996 | D12: 2886 | E12: 2315 | F12: 4729 | G12: 2385 | H12: 2344 | I12: -30 | J12: -7
A13: 율목동 | B13: 5275 | C13: 2692 | D13: 2583 | E13: 2172 | F13: 4249 | G13: 2152 | H13: 2097 | I13: -19 | J13: -12
A14: 동인천동 | B14: 7047 | C14: 3541 | D14: 3506 | E14: 3055 | F14: 5827 | G14: 2906 | H14: 2921 | I14: -24 | J14: -10
A15: 북성동 | B15: 4581 | C15: 2350 | D15: 2231 | E15: 1988 | F15: 3796 | G15: 1937 | H15: 1859 | I15: 1 | J15: 2
A16: 송월동 | B16: 6330 | C16: 3146 | D16: 3184 | E16: 2424 | F16: 5012 | G16: 2488 | H16: 2524 | I16: -2 | J16: -14
A17: 영종동 | B17: 9732 | C17: 5296 | D17: 4436 | E17: 4888 | F17: 8286 | G17: 4543 | H17: 3743 | I17: 25 | J17: -13
A18: 운서지소 | B18: 16739 | C18: 8750 | D18: 7989 | E18: 6753 | F18: 11475 | G18: 6023 | H18: 5452 | I18: 54 | J18: 15
A19: 용유동 | B19: 2896 | C19: 1537 | D19: 1359 | E19: 1420 | F19: 2534 | G19: 1339 | H19: 1195 | I19: 40 | J19: 24
A20: 무의지소 | B20: 657 | C20: 354 | D20: 303 | E20: 309 | F20: 602 | G20: 324 | H20: 278 | I20: -2 | J20: -1

Sheet 2020년 12월
A1: 주민등록인구 및 세대현황
A5: 2020년 12월 말 현재 | L5: 단위 : 명/세대
A6: 동 명 | B6: 인 구 수 | E6: 세대수 | F6: 19세 이상 | I6: 65세 이상 | L6: 증감현황(전월대비)
B7: 계 | C7: 남 | D7: 여 | F7: 계 | G7: 남 | H7: 여 | I7: 계 | J7: 남 | K7: 여 | L7: 인구 | M7: 세대
A8: 계 | B8: =B9+B18 -> 139729 | C8: =C9+C18 -> 72485 | D8: =D9+D18 -> 67244 | E8: =E9+E18 -> 68379 | F8: =F9+F18 -> 116390 | G8: =G9+G18 -> 60451 | H8: =H9+H18 -> 55939 | I8: =I9+I18 -> 20531 | ... M8: =M9+M18 -> 133
A9: 원도심 | B9: =SUM(B10:B17) -> 45678 | C9: =SUM(C10:C17) -> 23511 | D9: =SUM(D10:D17) -> 22167 | E9: =SUM(E10:E17) -> 23649 | F9: =SUM(F10:F17) -> 40915 | G9: =SUM(G10:G17) -> 21071 | H9: =SUM(H10:H17) -> 19844 | I9: =SUM(I10:I17) -> 11221 | ... M9: =SUM(M10:M17) -> -10
A10: 신포동 | B10: =C10+D10 -> 5283 | C10: 2673 | D10: 2610 | E10: 2799 | F10: =SUM(G10:H10) -> 4717 | G10: 2365 | H10: 2352 | I10: =J10+K10 -> 1389 | J10: 583 | K10: 806 | L10: 20 | M10: 3
A11: 연안동 | B11: =C11+D11 -> 6315 | C11: 3406 | D11: 2909 | E11: 3430 | F11: =SUM(G11:H11) -> 5772 | G11: 3132 | H11: 2640 | I11: =J11+K11 -> 1559 | J11: 709 | K11: 850 | L11: 0 | M11: 9
A12: 신흥동 | B12: =C12+D12 -> 13329 | C12: 6774 | D12: 6555 | E12: 6259 | F12: =SUM(G12:H12) -> 11488 | G12: 5834 | H12: 5654 | I12: =J12+K12 -> 2632 | J12: 1156 | K12: 1476 | L12: -54 | M12: -10
A13: 도원동 | B13: =C13+D13 -> 4043 | C13: 2066 | D13: 1977 | E13: 2069 | F13: =SUM(G13:H13) -> 3668 | G13: 1872 | H13: 1796 | I13: =J13+K13 -> 1091 | J13: 485 | K13: 606 | L13: -38 | M13: -4
A14: 율목동 | B14: =C14+D14 -> 3374 | C14: 1741 | D14: 1633 | E14: 1865 | F14: =G14+H14 -> 3092 | G14: 1595 | H14: 1497 | I14: =J14+K14 -> 927 | J14: 386 | K14: 541 | L14: -9 | M14: 5
A15: 동인천동 | B15: =C15+D15 -> 5928 | C15: 3119 | D15: 2809 | E15: 3435 | F15: =SUM(G15:H15) -> 5481 | G15: 2903 | H15: 2578 | I15: =J15+K15 -> 1635 | J15: 710 | K15: 925 | L15: -32 | M15: 8
A16: 북성동 | B16: =C16+D16 -> 2871 | C16: 1490 | D16: 1381 | E16: 1583 | F16: =SUM(G16:H16) -> 2659 | G16: 1369 | H16: 1290 | I16: =J16+K16 -> 855 | J16: 368 | K16: 487 | L16: -24 | M16: -15
A17: 송월동 | B17: =C17+D17 -> 4535 | C17: 2242 | D17: 2293 | E17: 2209 | F17: =SUM(G17:H17) -> 4038 | G17: 2001 | H17: 2037 | I17: =J17+K17 -> 1133 | J17: 465 | K17: 668 | L17: -19 | M17: -6
A18: 영종·용유 | B18: =SUM(B19:B22) -> 94051 | C18: =SUM(C19:C22) -> 48974 | D18: =SUM(D19:D22) -> 45077 | E18: =SUM(E19:E22) -> 44730 | F18: =SUM(F19:F22) -> 75475 | G18: =SUM(G19:G22) -> 39380 | H18: =SUM(H19:H22) -> 36095 | I18: =SUM(I19:I22) -> 9310 | ... M18: =SUM(M19:M22) -> 143
A19: 영종동 | B19: =C19+D19 -> 15724 | C19: 8726 | D19: 6998 | E19: 8501 | F19: =SUM(G19:H19) -> 13691 | G19: 7670 | H19: 6021 | I19: =J19+K19 -> 2469 | J19: 1182 | K19: 1287 | L19: 59 | M19: 49
A20: 영종1동 | B20: =C20+D20 -> 43447 | C20: 21872 | D20: 21575 | E20: 16466 | F20: =SUM(G20:H20) -> 31863 | G20: 15931 | H20: 15932 | I20: =J20+K20 -> 3053 | J20: 1365 | K20: 1688 | L20: 32 | M20: 14
A21: 운서동 | B21: =C21+D21 -> 30776 | C21: 16089 | D21: 14687 | E21: 17133 | F21: =SUM(G21:H21) -> 26008 | G21: 13578 | H21: 12430 | I21: =J21+K21 -> 2463 | J21: 1097 | K21: 1366 | L21: 153 | M21: 86
A22: 용유동 | B22: =SUM(C22:D22) -> 4104 | C22: 2287 | D22: 1817 | E22: 2630 | F22: =SUM(G22:H22) -> 3913 | G22: 2201 | H22: 1712 | I22: =J22+K22 -> 1325 | J22: 640 | K22: 685 | L22: -5 | M22: -6
