Workbook

Sheet 토지조서
A1: 토 지 조 서
A2: 용지 | B2: 소재지 | C2: 지번 | D2: 지목 | E2: 지목 | F2: 지목 | G2: 공시지가 | H2: 지적면적 (m²) | I2: 편입면적 (m²) | K2: 소 유 자 | N2: 관 계 인 | Q2: 전필지유무 | R2: 비고
A3: 번호 | E3: (변경) | K3: 성 명 | L3: 주 소 | M3: 지분율 | N3: 성 명 | O3: 주 소 | P3: 권리관계
A4: 1 | B4: 중산동 | C4: 1402-7 | D4: 도 | F4: 도 | G4: 83300 | H4: 316 | I4: 316 | K4: 공 | L4: 인천광역시
A5: 2 | B5: 중산동 | C5: 1402-1 | D5: 도 | F5: 도 | G5: 288300 | H5: 584 | I5: 48 | K5: 공 | L5: 인천광역시
A6: 3 | B6: 중산동 | C6: 1402-6 | D6: 도 | F6: 도 | G6: 83300 | H6: 261 | I6: 78 | K6: 공 | L6: 인천광역시
A7: 4 | B7: 중산동 | C7: 1400-3 | D7: 도 | F7: 도 | G7: 95700 | H7: 24 | I7: 15 | K7: 공 | L7: 인천광역시
A8: 5 | B8: 중산동 | C8: 1400-8 | D8: 도 | F8: 도 | G8: 95700 | H8: 4 | I8: 4 | K8: 공 | L8: 인천광역시
A9: 6 | B9: 중산동 | C9: 1400-1 | D9: 대 | F9: 대 | G9: 548200 | H9: 574 | I9: 32 | K9: 김*모 | L9: 인천광역시 서구 가정로 3** 1**동 1***호 (신현동, 신현 이-편한세상하늘채아파트) | N9: 농협은행주식회사 | O9: 서울특별시 중구 통일로 120(충정로1가) (신현동지점) | P9: 근저당권
A10: 7 | B10: 중산동 | C10: 1400-7 | D10: 도 | F10: 도 | G10: 177300 | H10: 35 | I10: 35 | K10: 김*모 | L10: 인천광역시 서구 가정로 3** 1**동 1***호 (신현동, 신현 이-편한세상하늘채아파트)
A11: 8 | B11: 중산동 | C11: 1400-4 | D11: 전 | F11: 전 | G11: 284700 | H11: 1049 | I11: 175 | K11: 김*모 | L11: 인천광역시 서구 가정로 3** 1**동 1***호 (신현동, 신현 이-편한세상하늘채아파트) | N11: 농협은행주식회사 | O11: 서울특별시 중구 통일로 120(충정로1가) (신현동지점) | P11: 근저당권
N12: 조순철 | O12: 서울특별시 은평구 은평로**길 **-17, *01호 | P12: 근저당권
N13: 이태순 | O13: 서울특별시 강남구 선릉로***길 **-11, 2**호 | P13: 근저당권
A14: 9 | B14: 중산동 | C14: 1401-4 | D14: 전 | F14: 전 | G14: 246500 | H14: 165 | I14: 165 | K14: 김*호 | L14: 인천광역시 중구 운남서로 *, 1**동 1**1호(운남동,영종자이아파트) | M14: 0.5 | N14: 주식회사국민은행 | O14: 서울특별시 중구 남대문로 84(을지로2가) (인천남동지점) | P14: 근저당권
K15: 김*호 | L15: 인천광역시 중구 하늘별빛로 **, 9**동 3***호(중산동,영종힐스테이트) | M15: 0.5
A16: 10 | B16: 중산동 | C16: 1393-1 | D16: 전 | F16: 전 | G16: 269100 | H16: 1292 | I16: 765 | K16: 박*택 | L16: 인천광역시 중구 중산동 1***
A17: 11 | B17: 중산동 | C17: 1393-2 | D17: 대 | F17: 대 | G17: 514800 | H17: 182 | I17: 97 | K17: 김*자 | L17: 인천광역시 중구 운중로1**번길 **-** (중산동)
A18: 12 | B18: 중산동 | C18: 1392-14 | D18: 전 | F18: 전 | G18: 95700 | H18: 163 | I18: 44 | K18: 오*용 | L18: 인천광역시 중구 운서동 9** | N18: 중구농업협동조합 | O18: 인천광역시 중구 운남동 383 | P18: 근저당권,지상권
A19: 13 | B19: 중산동 | C19: 1392-15 | D19: 전 | F19: 전 | G19: 95700 | H19: 16 | I19: 16 | K19: 오*용 | L19: 인천광역시 중구 운서동 9** | N19: 중구농업협동조합 | O19: 인천광역시 중구 운남동 383 | P19: 근저당권,지상권
A20: 14 | B20: 중산동 | C20: 1392-9 | D20: 대 | F20: 대 | G20: 555700 | H20: 1426 | I20: 99 | K20: 영농조합법인삼**산 | L20: 인천광역시 중구 마장포로 **-**(중산동) | N20: 중구농업협동조합 | O20: 인천광역시 중구 운남동 433-3 | P20: 근저당권
N21: 중구농업협동조합 | O21: 인천광역시 중구 운남로 166 | P21: 근저당권
A22: 15 | B22: 중산동 | C22: 1392-30 | D22: 도 | F22: 도 | G22: 179000 | H22: 202 | I22: 202 | K22: 영농조합법인삼**산 | L22: 인천광역시 중구 남북동 1**-1
A23: 16 | B23: 중산동 | C23: 1392-29 | D23: 도 | F23: 도 | G23: 179000 | H23: 25 | I23: 25 | K23: 영농조합법인삼**산 | L23: 인천광역시 중구 남북동 1**-1
A24: 17 | B24: 중산동 | C24: 1392-11 | D24: 도 | F24: 도 | G24: 95700 | H24: 140 | I24: 140 | K24: 이*우 | L24: 강원도 영월군 영월읍 중앙로 2**
A25: 18 | B25: 중산동 | C25: 1375-3 | D25: 도 | F25: 도 | G25: 877700 | H25: 2247 | I25: 52 | K25: 공 | L25: 인천광역시
A26: 19 | B26: 중산동 | C26: 1375-11 | D26: 도 | F26: 도 | G26: 99000 | H26: 379 | I26: 96 | K26: 공 | L26: 인천광역시
A27: 20 | B27: 중산동 | C27: 산377 | D27: 도 | F27: 도 | G27: 50600 | H27: 3830 | I27: 510 | K27: 국 | L27: 국토교통부
A28: 21 | B28: 중산동 | C28: 1375-12 | D28: 도 | F28: 도 | G28: 99000 | H28: 76 | I28: 76 | K28: 공 | L28: 인천광역시
A29: 22 | B29: 중산동 | C29: 1375-10 | D29: 도 | F29: 도 | G29: 101600 | H29: 19 | I29: 1 | K29: 아****코리아주식회사 | L29: 인천광역시 중구 은골로**번길 * , 2층 (운서동) | N29: 한국자산관리공사 | O29: 부산광역시 남구 문현금융로 40(문현동) (인천지역본부) | P29: 근저당권
N30: 차형일 | O30: 인천광역시 중구 큰무리로 *-* | P30: 근저당권
N31: 서봉춘 | O31: 인천광역시 중구 하늘별빛로 **, 9**동 1***호(중산동, 영종힐스테이트) | P31: 근저당권
N32: 차석교 | O32: 인천광역시 중구 큰무리로 *-1 | P32: 근저당권
A33: 23 | B33: 중산동 | C33: 1401-2 | D33: 대 | F33: 대 | G33: 532100 | H33: 1072 | I33: 84 | K33: 김*호 | L33: 인천광역시 중구 운남서로 *, 1**동 1***호(운남동,영종자이아파트) | M33: 0.5 | N33: 주식회사국민은행 | O33: 서울특별시 중구 남대문로 84(을지로2가) (인천남동지점) | P33: 근저당권
K34: 김*호 | L34: 인천광역시 중구 하늘별빛로 **, 9**동 3***호(중산동,영종힐스테이트) | M34: 0.5
A35: 24 | B35: 중산동 | C35: 1771 | D35: 구 | F35: 구 | G35: 95700 | H35: 545 | I35: 241 | K35: 국 | L35: 농림축산식품부
A36: 25 | B36: 중산동 | C36: 1392 | D36: 전 | F36: 전 | G36: 269100 | H36: 899 | I36: 569 | K36: 오*용 | L36: 인천광역시 중구 중산동 1***-1 | N36: 중구농업협동조합 | O36: 인천광역시 중구 운남동 383 | P36: 근저당권,지상권
A37: 26 | B37: 중산동 | C37: 1392-6 | D37: 전 | F37: 전 | G37: 275500 | H37: 882 | I37: 529 | K37: 국 | L37: 기획재정부
A38: 27 | B38: 중산동 | C38: 산201-5 | D38: 임 | F38: 임 | G38: 188600 | H38: 1598 | I38: 456 | K38: 이*숙 | L38: 뉴질랜드 크라이스트처치시아일남 크라케로드 87비 | M38: 0.5
K39: 장*선 | L39: 서울시 성북구 동선동*가 1**-* **빌라 가동 3**호 | M39: 0.5
A40: 28 | B40: 중산동 | C40: 산201-2 | D40: 도 | F40: 도 | G40: 38900 | H40: 694 | I40: 63 | K40: 공 | L40: 인천광역시중구
...

Sheet xxx출력금지선두리확인용
A1: 용 지 조 서
M2: 군도18호선 - 선두리
A4: 일련 | B4: 구분 (지적분할) | C4: 지번 | D4: 지목 | E4: 지적면적 (m²) | F4: 편입면적(m²) | H4: 소 유 자 | J4: 관 계 인 | M4: 비고
A5: 번호 | F5: 기정 | G5: 변경 | H5: 성 명 | I5: 주 소 | J5: 성 명 | K5: 주 소 | L5: 권리관계 | Q5: 기정
B6: 변경 | C6: 1192-5 | D6: 답 | E6: 177 | G6: 99 | H6: 공 | I6: 강화군 | O6: =CONCATENATE(D6,H6) -> 답공 | P6: =IF(E6>=G6,"-","err") -> - | Q6: =IF(F6=0,"1","2") -> 1
B7: 변경 | C7: 1192-4 | D7: 답 | E7: 1828 | G7: 47 | H7: 공 | I7: 강화군 | O7: =CONCATENATE(D7,H7) -> 답공 | P7: =IF(E7>=G7,"-","err") -> - | Q7: =IF(F7=0,"1","2") -> 1
B8: 변경 | C8: 1191 | D8: 제 | E8: 2522 | F8: 0 | G8: 59 | H8: 국 | I8: 농림축산식품부 | O8: =CONCATENATE(D8,H8) -> 제국 | P8: =IF(E8>=G8,"-","err") -> - | Q8: =IF(F8=0,"1","2") -> 1
O9: =CONCATENATE(D9,H9) | P9: =IF(E9>=G9,"-","err") -> - | Q9: =IF(F9=0,"1","2") -> 1
O10: =CONCATENATE(D10,H10) | P10: =IF(E10>=G10,"-","err") -> - | Q10: =IF(F10=0,"1","2") -> 1
O11: =CONCATENATE(D11,H11) | P11: =IF(E11>=G11,"-","err") -> - | Q11: =IF(F11=0,"1","2") -> 1
O12: =CONCATENATE(D12,H12) | P12: =IF(E12>=G12,"-","err") -> - | Q12: =IF(F12=0,"1","2") -> 1
O13: =CONCATENATE(D13,H13) | P13: =IF(E13>=G13,"-","err") -> - | Q13: =IF(F13=0,"1","2") -> 1
O14: =CONCATENATE(D14,H14) | P14: =IF(E14>=G14,"-","err") -> - | Q14: =IF(F14=0,"1","2") -> 1
O15: =CONCATENATE(D15,H15) | P15: =IF(E15>=G15,"-","err") -> - | Q15: =IF(F15=0,"1","2") -> 1
O16: =CONCATENATE(D16,H16) | P16: =IF(E16>=G16,"-","err") -> - | Q16: =IF(F16=0,"1","2") -> 1
O17: =CONCATENATE(D17,H17) | P17: =IF(E17>=G17,"-","err") -> - | Q17: =IF(F17=0,"1","2") -> 1
O18: =CONCATENATE(D18,H18) | P18: =IF(E18>=G18,"-","err") -> - | Q18: =IF(F18=0,"1","2") -> 1
O19: =CONCATENATE(D19,H19) | P19: =IF(E19>=G19,"-","err") -> - | Q19: =IF(F19=0,"1","2") -> 1
O20: =CONCATENATE(D20,H20) | P20: =IF(E20>=G20,"-","err") -> - | Q20: =IF(F20=0,"1","2") -> 1
... O30: =CONCATENATE(D30,H30) | P30: =IF(E30>=G30,"-","err") -> - | Q30: =IF(F30=0,"1","2") -> 1
A31: 소 계 | F31: =SUM(F6:F30) -> 0 | G31: =SUM(G6:G30) -> 205 | O31: =CONCATENATE(D31,H31)
A32: 26 | O32: =CONCATENATE(D32,H32) | P32: =IF(E32>=G32,"-","err") -> -
A33: 27 | O33: =CONCATENATE(D33,H33) | P33: =IF(E33>=G33,"-","err") -> -
A34: 28 | O34: =CONCATENATE(D34,H34) | P34: =IF(E34>=G34,"-","err") -> -
A35: 29 | O35: =CONCATENATE(D35,H35) | P35: =IF(E35>=G35,"-","err") -> -
A36: 30 | O36: =CONCATENATE(D36,H36) | P36: =IF(E36>=G36,"-","err") -> -
A37: 31 | O37: =CONCATENATE(D37,H37) | P37: =IF(E37>=G37,"-","err") -> -
A38: 32 | O38: =CONCATENATE(D38,H38) | P38: =IF(E38>=G38,"-","err") -> -
A39: 33 | O39: =CONCATENATE(D39,H39) | P39: =IF(E39>=G39,"-","err") -> -
A40: 34 | O40: =CONCATENATE(D40,H40) | P40: =IF(E40>=G40,"-","err") -> -
A41: 35 | O41: =CONCATENATE(D41,H41) | P41: =IF(E41>=G41,"-","err") -> -
A42: 36 | O42: =CONCATENATE(D42,H42) | P42: =IF(E42>=G42,"-","err") -> -
A43: 37 | O43: =CONCATENATE(D43,H43) | P43: =IF(E43>=G43,"-","err") -> -
... A54: 48 | O54: =CONCATENATE(D54,H54) | P54: =IF(E54>=G54,"-","err") -> -
O55: =CONCATENATE(D55,H55) | P55: =IF(E55>=G55,"-","err") -> -
O56: =CONCATENATE(D56,H56) | P56: =IF(E56>=G56,"-","err") -> -
A57: 소 계 | G57: =SUM(G32:G56) -> 0 | O57: =CONCATENATE(D57,H57)
O58: =CONCATENATE(D58,H58) | P58: =IF(E58>=G58,"-","err") -> -
O59: =CONCATENATE(D59,H59) | P59: =IF(E59>=G59,"-","err") -> -
O60: =CONCATENATE(D60,H60) | P60: =IF(E60>=G60,"-","err") -> -
...

Sheet xxx출력금지사기리확인용
A1: 용 지 조 서
M2: 군도18호선 - 사기리
A4: 일련 | B4: 구분 (지적분할) | C4: 지번 | D4: 지목 | E4: 지적면적 (m²) | F4: 편입면적(m²) | H4: 소 유 자 | J4: 관 계 인 | M4: 비고
A5: 번호 | F5: 기정 | G5: 변경 | H5: 성 명 | I5: 주 소 | J5: 성 명 | K5: 주 소 | L5: 권리관계 | Q5: 기정
A6: 1 | B6: 변경 | C6: 602-1 | D6: 도 | E6: 1267 | F6: 488 | G6: 1267 | H6: 국 | I6: 농림축산식품부 | O6: =CONCATENATE(D6,H6) -> 도국 | P6: =IF(E6>=G6,"-","err") -> - | Q6: =IF(F6=0,"1","2") -> 2
A7: 2 | B7: 변경 | C7: 602-10 | D7: 구 | E7: 10 | F7: 0 | G7: 10 | H7: 국 | I7: 농림축산식품부 | O7: =CONCATENATE(D7,H7) -> 구국 | P7: =IF(E7>=G7,"-","err") -> - | Q7: =IF(F7=0,"1","2") -> 1
A8: 3 | B8: 변경 | C8: 602-6 | D8: 구 | E8: 143 | F8: 0 | G8: 143 | H8: 국 | I8: 농림축산식품부 | O8: =CONCATENATE(D8,H8) -> 구국 | P8: =IF(E8>=G8,"-","err") -> - | Q8: =IF(F8=0,"1","2") -> 1
A9: 4 | B9: 변경 | C9: 62-1 | D9: 대 | E9: 32 | F9: 0 | G9: 32 | H9: 유*수 | I9: 인천광역시 강화군 화도면 덕포길 *** | J9: 안양농업협동조합 | K9: 경기도 안양시 동안구 부림로 169번길 ** | L9: 근저당권, 지상권 | O9: =CONCATENATE(D9,H9) -> 대유*수 | P9: =IF(E9>=G9,"-","err") -> - | Q9: =IF(F9=0,"1","2") -> 1
A10: 5 | B10: 변경 | C10: 61-1 | D10: 대 | E10: 2 | F10: 0 | G10: 2 | H10: 유*수 | I10: 인천광역시 강화군 화도면 덕포길 *** | J10: 안양농업협동조합 | K10: 경기도 안양시 동안구 부림로 169번길 ** | L10: 근저당권, 지상권 | O10: =CONCATENATE(D10,H10) -> 대유*수 | P10: =IF(E10>=G10,"-","err") -> - | Q10: =IF(F10=0,"1","2") -> 1
A11: 6 | B11: 변경 | C11: 54 | D11: 전 | E11: 60 | F11: 60 | G11: 60 | H11: 이*춘 | O11: =CONCATENATE(D11,H11) -> 전이*춘 | P11: =IF(E11>=G11,"-","err") -> - | Q11: =IF(F11=0,"1","2") -> 2
A12: 7 | B12: 변경 | C12: 528 | D12: 도 | E12: 1081 | F12: 972 | G12: 948 | H12: 국 | I12: 국토해양부 | O12: =CONCATENATE(D12,H12) -> 도국 | P12: =IF(E12>=G12,"-","err") -> - | Q12: =IF(F12=0,"1","2") -> 2
A13: 8 | B13: 변경 | C13: 52-1 | D13: 도 | E13: 25 | F13: 25 | G13: 25 | H13: 이*현 | I13: 인천광역시 강화군 화도면 사기리 ** | O13: =CONCATENATE(D13,H13) -> 도이*현 | P13: =IF(E13>=G13,"-","err") -> - | Q13: =IF(F13=0,"1","2") -> 2
A14: 9 | B14: 변경 | C14: 51-2 | D14: 도 | E14: 37 | F14: 37 | G14: 37 | H14: 이*현 | I14: 인천광역시 강화군 화도면 사기리 ** | O14: =CONCATENATE(D14,H14) -> 도이*현 | P14: =IF(E14>=G14,"-","err") -> - | Q14: =IF(F14=0,"1","2") -> 2
A15: 10 | B15: 변경 | C15: 48-2 | D15: 도 | E15: 7 | F15: 7 | G15: 7 | H15: 이*례 | I15: 인천광역시 강화군 화도면 사기리 ** | O15: =CONCATENATE(D15,H15) -> 도이*례 | P15: =IF(E15>=G15,"-","err") -> - | Q15: =IF(F15=0,"1","2") -> 2
A16: 11 | B16: 변경 | C16: 2-21 | D16: 도 | E16: 42 | F16: 42 | G16: 42 | H16: 이*현 | I16: 인천광역시 강화군 화도면 사기리 ** | O16: =CONCATENATE(D16,H16) -> 도이*현 | P16: =IF(E16>=G16,"-","err") -> - | Q16: =IF(F16=0,"1","2") -> 2
A17: 12 | B17: 변경 | C17: 47-1 | D17: 도 | E17: 48 | F17: 48 | G17: 12 | H17: 공 | I17: 인천광역시 강화군 | O17: =CONCATENATE(D17,H17) -> 도공 | P17: =IF(E17>=G17,"-","err") -> - | Q17: =IF(F17=0,"1","2") -> 2
A18: 13 | B18: 변경 | C18: 46-1 | D18: 도 | E18: 36 | F18: 36 | G18: 11 | H18: 공 | I18: 인천광역시 강화군 | O18: =CONCATENATE(D18,H18) -> 도공 | P18: =IF(E18>=G18,"-","err") -> - | Q18: =IF(F18=0,"1","2") -> 2
A19: 14 | B19: 변경 | C19: 43-2 | D19: 도 | E19: 10 | F19: 10 | G19: 10 | H19: 김*순 | I19: 인천광역시 강화군 화도면 사기리 ** | O19: =CONCATENATE(D19,H19) -> 도김*순 | P19: =IF(E19>=G19,"-","err") -> - | Q19: =IF(F19=0,"1","2") -> 2
A20: 15 | B20: 변경 | C20: 3-1 | D20: 도 | E20: 115 | F20: 115 | G20: 115 | H20: 이*춘 | I20: 인천광역시 강화군 화도면 사기리 ** | O20: =CONCATENATE(D20,H20) -> 도이*춘 | P20: =IF(E20>=G20,"-","err") -> - | Q20: =IF(F20=0,"1","2") -> 2
A21: 16 | B21: 변경 | C21: 41-3 | D21: 도 | E21: 160 | F21: 160 | G21: 160 | H21: 방*준 | O21: =CONCATENATE(D21,H21) -> 도방*준 | P21: =IF(E21>=G21,"-","err") -> - | Q21: =IF(F21=0,"1","2") -> 2
A22: 17 | B22: 변경 | C22: 4-1 | D22: 도 | E22: 58 | F22: 58 | G22: 58 | H22: 방*배 | I22: 인천광역시 강화군 화도면 사기리 ** | O22: =CONCATENATE(D22,H22) -> 도방*배 | P22: =IF(E22>=G22,"-","err") -> - | Q22: =IF(F22=0,"1","2") -> 2
A23: 18 | B23: 변경 | C23: 5-2 | D23: 도 | E23: 8 | F23: 8 | G23: 8 | H23: 공 | I23: 인천광역시 강화군 | O23: =CONCATENATE(D23,H23) -> 도공 | P23: =IF(E23>=G23,"-","err") -> - | Q23: =IF(F23=0,"1","2") -> 2
A24: 19 | B24: 변경 | C24: 5-1 | D24: 도 | E24: 66 | F24: 66 | G24: 66 | H24: 공 | I24: 인천광역시 강화군 | O24: =CONCATENATE(D24,H24) -> 도공 | P24: =IF(E24>=G24,"-","err") -> - | Q24: =IF(F24=0,"1","2") -> 2
A25: 20 | B25: 변경 | C25: 16-1 | D25: 도 | E25: 507 | F25: 507 | G25: 369 | H25: 공 | I25: 인천광역시 강화군 | O25: =CONCATENATE(D25,H25) -> 도공 | P25: =IF(E25>=G25,"-","err") -> - | Q25: =IF(F25=0,"1","2") -> 2
A26: 21 | B26: 변경 | C26: 15-3 | D26: 대 | E26: 8 | F26: 0 | G26: 8 | H26: 박*택 | I26: 인천광역시 강화군 화도면 동막리 ** | O26: =CONCATENATE(D26,H26) -> 대박*택 | P26: =IF(E26>=G26,"-","err") -> - | Q26: =IF(F26=0,"1","2") -> 1
A27: 22 | B27: 변경 | C27: 15-4 | D27: 전 | E27: 251 | F27: 5 | G27: 251 | H27: 박*택 | I27: 인천광역시 강화군 화도면 동막리 ** | O27: =CONCATENATE(D27,H27) -> 전박*택 | P27: =IF(E27>=G27,"-","err") -> - | Q27: =IF(F27=0,"1","2") -> 2
A28: 23 | B28: 변경 | C28: 525 | D28: 도 | E28: 198 | F28: 198 | G28: 198 | H28: 국 | I28: 국토해양부 | O28: =CONCATENATE(D28,H28) -> 도국 | P28: =IF(E28>=G28,"-","err") -> - | Q28: =IF(F28=0,"1","2") -> 2
A29: 24 | B29: 변경 | C29: 6-1 | D29: 도 | E29: 108 | F29: 108 | G29: 108 | H29: 공 | I29: 인천광역시 강화군 | O29: =CONCATENATE(D29,H29) -> 도공 | P29: =IF(E29>=G29,"-","err") -> - | Q29: =IF(F29=0,"1","2") -> 2
A30: 25 | B30: 변경 | C30: 884 | D30: 구 | E30: 5508 | F30: 0 | G30: 86 | H30: 국 | I30: 농림축산식품부 | O30: =CONCATENATE(D30,H30) -> 구국 | P30: =IF(E30>=G30,"-","err") -> - | Q30: =IF(F30=0,"1","2") -> 1
A31: 소계 | F31: =SUM(F6:F29) -> 2950 | G31: =SUM(G6:G29) -> 3947 | O31: =CONCATENATE(D31,H31)
A32: 26 | B32: 변경 | C32: 885 | D32: 도 | E32: 1640 | F32: 0 | G32: 21 | H32: 국 | I32: 농림축산식품부 | O32: =CONCATENATE(D32,H32) -> 도국 | P32: =IF(E32>=G32,"-","err") -> - | Q32: =IF(F32=0,"1","2") -> 1
A33: 27 | B33: 변경 | C33: 881 | D33: 도 | E33: 1547 | F33: 0 | G33: 1 | H33: 국 | I33: 농림축산식품부 | O33: =CONCATENATE(D33,H33) -> 도국 | P33: =IF(E33>=G33,"-","err") -> - | Q33: =IF(F33=0,"1","2") -> 1
A34: 28 | B34: 변경 | C34: 869-2 | D34: 답 | E34: 12 | F34: 0 | G34: 12 | H34: 김*순 | I34: 인천광역시 강화군 화도면 사기리 ** | J34: 화도농업협동조합 | K34: 인천광역시 강화군 화도면 상방리 *** | L34: 근저당권 | O34: =CONCATENATE(D34,H34) -> 답김*순 | P34: =IF(E34>=G34,"-","err") -> - | Q34: =IF(F34=0,"1","2") -> 1
A35: 29 | B35: 변경 | C35: 869-1 | D35: 답 | E35: 117 | G35: 117 | H35: 김*순 | I35: 인천광역시 강화군 화도면 사기리 ** | J35: 화도농업협동조합 | K35: 인천광역시 강화군 화도면 상방리 *** | L35: 근저당권 | O35: =CONCATENATE(D35,H35) -> 답김*순 | P35: =IF(E35>=G35,"-","err") -> - | Q35: =IF(F35=0,"1","2") -> 1
A36: 30 | B36: 변경 | C36: 841 | D36: 구 | E36: 3792 | F36: 9 | G36: 3769 | H36: 국 | I36: 농림축산식품부 | O36: =CONCATENATE(D36,H36) -> 구국 | P36: =IF(E36>=G36,"-","err") -> - | Q36: =IF(F36=0,"1","2") -> 2
A37: 31 | B37: 변경 | C37: 868 | D37: 도 | E37: 1444 | F37: 0 | G37: 3 | H37: 국 | I37: 농림축산식품부 | O37: =CONCATENATE(D37,H37) -> 도국 | P37: =IF(E37>=G37,"-","err") -> - | Q37: =IF(F37=0,"1","2") -> 1
A38: 32 | B38: 변경 | C38: 867 | D38: 구 | E38: 3632 | F38: 0 | G38: 22 | H38: 국 | I38: 농림축산식품부 | O38: =CONCATENATE(D38,H38) -> 구국 | P38: =IF(E38>=G38,"-","err") -> - | Q38: =IF(F38=0,"1","2") -> 1
A39: 33 | B39: 변경 | C39: 866 | D39: 도 | E39: 1451 | F39: 0 | G39: 13 | H39: 국 | I39: 농림축산식품부 | O39: =CONCATENATE(D39,H39) -> 도국 | P39: =IF(E39>=G39,"-","err") -> - | Q39: =IF(F39=0,"1","2") -> 1
A40: 34 | B40: 변경 | C40: 865-1 | D40: 답 | E40: 191 | F40: 0 | G40: 191 | H40: 김*기 | I40: 인천광역시 강화군 화도면 사기리 *** | J40: 화도농업협동조합 | K40: 인천광역시 강화군 화도면 상방리 *** | L40: 근저당권 | O40: =CONCATENATE(D40,H40) -> 답김*기 | P40: =IF(E40>=G40,"-","err") -> - | Q40: =IF(F40=0,"1","2") -> 1
A41: 35 | B41: 변경 | C41: 13-3 | D41: 도 | E41: 66 | F41: 66 | G41: 66 | H41: 공 | I41: 인천광역시 강화군 | O41: =CONCATENATE(D41,H41) -> 도공 | P41: =IF(E41>=G41,"-","err") -> - | Q41: =IF(F41=0,"1","2") -> 2
...

Sheet xxx출력금지덕포리확인용
A1: 용 지 조 서
M2: 군도 18호선 - 덕포리
A4: 일련 | B4: 구분 (지적분할) | C4: 지번 | D4: 지목 | E4: 지적면적 (m²) | F4: 편입면적(m²) | H4: 소 유 자 | J4: 관 계 인 | M4: 비고
A5: 번호 | F5: 기정 | G5: 변경 | H5: 성 명 | I5: 주 소 | J5: 성 명 | K5: 주 소 | L5: 권리관계 | Q5: 기정
B6: 변경 | C6: 325-1 | D6: 임 | E6: 5 | F6: 0 | G6: 5 | H6: 구*재 | O6: =CONCATENATE(D6,H6) -> 임구*재 | P6: =IF(E6>=G6,"-","err") -> - | Q6: =IF(F6=0,"1","2") -> 1
B7: 변경 | C7: 산231 | D7: 도 | E7: 198 | F7: 16 | G7: 26 | H7: 국 | I7: 농림축산식품부 | O7: =CONCATENATE(D7,H7) -> 도국 | P7: =IF(E7>=G7,"-","err") -> - | Q7: =IF(F7=0,"1","2") -> 2
B8: 변경 | C8: 산6-2 | D8: 임 | E8: 10 | F8: 0 | G8: 10 | H8: 이*관 | I8: 강화군 화도면 덕포길 *** | O8: =CONCATENATE(D8,H8) -> 임이*관 | P8: =IF(E8>=G8,"-","err") -> - | Q8: =IF(F8=0,"1","2") -> 1
B9: 변경 | C9: 1413 | D9: 도 | E9: 764 | F9: 764 | G9: 418 | H9: 국 | I9: 농림축산식품부 | O9: =CONCATENATE(D9,H9) -> 도국 | P9: =IF(E9>=G9,"-","err") -> - | Q9: =IF(F9=0,"1","2") -> 2
B10: 변경 | C10: 324-1 | D10: 도 | E10: 90 | F10: 90 | G10: 90 | H10: 공 | I10: 인천광역시 강화군 | O10: =CONCATENATE(D10,H10) -> 도공 | P10: =IF(E10>=G10,"-","err") -> - | Q10: =IF(F10=0,"1","2") -> 2
B11: 변경 | C11: 1910 | D11: 도 | E11: 1518 | F11: 744 | G11: 1408 | H11: 국 | I11: 농림축산식품부 | O11: =CONCATENATE(D11,H11) -> 도국 | P11: =IF(E11>=G11,"-","err") -> - | Q11: =IF(F11=0,"1","2") -> 2
B12: 변경 | C12: 327-3 | D12: 도 | E12: 9 | F12: 9 | G12: 9 | H12: 방*준 | I12: 인천광역시 강화군 화도면 사기리 ** | O12: =CONCATENATE(D12,H12) -> 도방*준 | P12: =IF(E12>=G12,"-","err") -> - | Q12: =IF(F12=0,"1","2") -> 2
B13: 변경 | C13: 322-3 | D13: 도 | E13: 77 | F13: 77 | G13: 41 | H13: 공 | I13: 강화군 | O13: =CONCATENATE(D13,H13) -> 도공 | P13: =IF(E13>=G13,"-","err") -> - | Q13: =IF(F13=0,"1","2") -> 2
B14: 변경 | C14: 319-8 | D14: 전 | E14: 60 | F14: 0 | G14: 60 | H14: 김*섭 | I14: 인천광역시 강화군 화도면 덕포리 *** | O14: =CONCATENATE(D14,H14) -> 전김*섭 | P14: =IF(E14>=G14,"-","err") -> - | Q14: =IF(F14=0,"1","2") -> 1
B15: 변경 | C15: 318-4 | D15: 답 | E15: 57 | F15: 0 | G15: 57 | H15: 구*철 | I15: 서울특별시 영등포구 양평동6가 99 한솔아파트 *** | O15: =CONCATENATE(D15,H15) -> 답구*철 | P15: =IF(E15>=G15,"-","err") -> - | Q15: =IF(F15=0,"1","2") -> 1
B16: 변경 | C16: 319-9 | D16: 대 | E16: 7 | F16: 0 | G16: 7 | H16: 차*례 | I16: 인천광역시 강화군 강화읍 신문리 *** | J16: 화도농업협동조합 | K16: 인천광역시 강화군 화도면 상방리 *** | L16: 근저당권 | O16: =CONCATENATE(D16,H16) -> 대차*례 | P16: =IF(E16>=G16,"-","err") -> - | Q16: =IF(F16=0,"1","2") -> 1
B17: 변경 | C17: 316-5 | D17: 유 | E17: 74 | F17: 0 | G17: 47 | H17: 국 | I17: 농림축산식품부 | O17: =CONCATENATE(D17,H17) -> 유국 | P17: =IF(E17>=G17,"-","err") -> - | Q17: =IF(F17=0,"1","2") -> 1
B18: 변경 | C18: 316-19 | D18: 도 | E18: 78 | F18: 78 | G18: 32 | H18: 국 | I18: 농림축산식품부 | O18: =CONCATENATE(D18,H18) -> 도국 | P18: =IF(E18>=G18,"-","err") -> - | Q18: =IF(F18=0,"1","2") -> 2
B19: 변경 | C19: 1861 | D19: 구 | E19: 10750 | F19: 36 | G19: 487 | H19: 국 | I19: 농림축산식품부 | O19: =CONCATENATE(D19,H19) -> 구국 | P19: =IF(E19>=G19,"-","err") -> - | Q19: =IF(F19=0,"1","2") -> 2
B20: 변경 | C20: 1709 | D20: 도 | E20: 5929 | F20: 0 | G20: 187 | H20: 국 | I20: 농림축산식품부 | O20: =CONCATENATE(D20,H20) -> 도국 | P20: =IF(E20>=G20,"-","err") -> - | Q20: =IF(F20=0,"1","2") -> 1
B21: 변경 | C21: 1940 | D21: 도 | E21: 1858 | F21: 0 | G21: 10 | H21: 국 | I21: 농림축산식품부 | O21: =CONCATENATE(D21,H21) -> 도국 | P21: =IF(E21>=G21,"-","err") -> - | Q21: =IF(F21=0,"1","2") -> 1
B22: 변경 | C22: 1939-1 | D22: 답 | E22: 459 | F22: 0 | G22: 459 | H22: 국 | I22: 기획재정부 | O22: =CONCATENATE(D22,H22) -> 답국 | P22: =IF(E22>=G22,"-","err") -> - | Q22: =IF(F22=0,"1","2") -> 1
B23: 변경 | C23: 1911 | D23: 구 | E23: 939 | F23: 0 | G23: 939 | H23: 국 | I23: 농림축산식품부 | O23: =CONCATENATE(D23,H23) -> 구국 | P23: =IF(E23>=G23,"-","err") -> - | Q23: =IF(F23=0,"1","2") -> 1
B24: 변경 | C24: 1928 | D24: 도 | E24: 1919 | F24: 0 | G24: 51 | H24: 국 | I24: 농림축산식품부 | O24: =CONCATENATE(D24,H24) -> 도국 | P24: =IF(E24>=G24,"-","err") -> - | Q24: =IF(F24=0,"1","2") -> 1
B25: 변경 | C25: 1912-1 | D25: 답 | E25: 459 | F25: 0 | G25: 459 | H25: 구*회 | I25: 인천광역시 강화군 화도면 덕포리 *** | O25: =CONCATENATE(D25,H25) -> 답구*회 | P25: =IF(E25>=G25,"-","err") -> - | Q25: =IF(F25=0,"1","2") -> 1
O26: =CONCATENATE(D26,H26) | P26: =IF(E26>=G26,"-","err") -> - | Q26: =IF(F26=0,"1","2") -> 1
O27: =CONCATENATE(D27,H27) | P27: =IF(E27>=G27,"-","err") -> - | Q27: =IF(F27=0,"1","2") -> 1
O28: =CONCATENATE(D28,H28) | P28: =IF(E28>=G28,"-","err") -> - | Q28: =IF(F28=0,"1","2") -> 1
O29: =CONCATENATE(D29,H29) | P29: =IF(E29>=G29,"-","err") -> - | Q29: =IF(F29=0,"1","2") -> 1
A30: 소 계 | F30: =SUM(F6:F29) -> 1814 | G30: =SUM(G6:G29) -> 4802 | O30: =CONCATENATE(D30,H30)
O31: =CONCATENATE(D31,H31) | P31: =IF(E31>=G31,"-","err") -> - | Q31: =IF(F31=0,"1","2") -> 1
O32: =CONCATENATE(D32,H32) | P32: =IF(E32>=G32,"-","err") -> - | Q32: =IF(F32=0,"1","2") -> 1
O33: =CONCATENATE(D33,H33) | P33: =IF(E33>=G33,"-","err") -> - | Q33: =IF(F33=0,"1","2") -> 1
O34: =CONCATENATE(D34,H34) | P34: =IF(E34>=G34,"-","err") -> - | Q34: =IF(F34=0,"1","2") -> 1
O35: =CONCATENATE(D35,H35) | P35: =IF(E35>=G35,"-","err") -> - | Q35: =IF(F35=0,"1","2") -> 1
O36: =CONCATENATE(D36,H36) | P36: =IF(E36>=G36,"-","err") -> - | Q36: =IF(F36=0,"1","2") -> 1
O37: =CONCATENATE(D37,H37) | P37: =IF(E37>=G37,"-","err") -> - | Q37: =IF(F37=0,"1","2") -> 1
O38: =CONCATENATE(D38,H38) | P38: =IF(E38>=G38,"-","err") -> - | Q38: =IF(F38=0,"1","2") -> 1
O39: =CONCATENATE(D39,H39) | P39: =IF(E39>=G39,"-","err") -> - | Q39: =IF(F39=0,"1","2") -> 1
O40: =CONCATENATE(D40,H40) | P40: =IF(E40>=G40,"-","err") -> - | Q40: =IF(F40=0,"1","2") -> 1
O41: =CONCATENATE(D41,H41) | P41: =IF(E41>=G41,"-","err") -> - | Q41: =IF(F41=0,"1","2") -> 1
...

Sheet 선두리 (2)
A1: 용 지 조 서
P2: 군도18호선 - 선두리
A4: 일련 | B4: 구분 (지적분할) | C4: 용지 | D4: 소재지 | E4: 지번 | F4: 지목 | G4: 지적면적 (m²) | H4: 편입면적 | J4: 소 유 자 | L4: 관 계 인 | P4: 비고
A5: 번호 | C5: 번호 | H5: 기정 | I5: (m²) | J5: 성 명 | K5: 주 소 | L5: 권리 | M5: 성 명 | N5: 주 소 | O5: 권리관계 | T5: 기정
A6: 1 | B6: 당초 | C6: 1 | D6: 선두리 | E6: 1192-5 | F6: 답 | G6: 177 | I6: 99 | J6: 공 | K6: 강화군 | R6: =CONCATENATE(F6,J6) -> 답공 | S6: =IF(G6>=I6,"-","err") -> - | T6: =IF(H6=0,"1","2") -> 1
A7: 2 | B7: 당초 | C7: 2 | D7: 선두리 | E7: 1192-4 | F7: 답 | G7: 1828 | I7: 47 | J7: 공 | K7: 강화군 | R7: =CONCATENATE(F7,J7) -> 답공 | S7: =IF(G7>=I7,"-","err") -> - | T7: =IF(H7=0,"1","2") -> 1
A8: 3 | B8: 당초 | C8: 3 | D8: 선두리 | E8: 1191 | F8: 제 | G8: 2522 | H8: 0 | I8: 59 | J8: 국 | K8: 농림축산식품부 | R8: =CONCATENATE(F8,J8) -> 제국 | S8: =IF(G8>=I8,"-","err") -> - | T8: =IF(H8=0,"1","2") -> 1
R9: =CONCATENATE(F9,J9) | S9: =IF(G9>=I9,"-","err") -> - | T9: =IF(H9=0,"1","2") -> 1
R10: =CONCATENATE(F10,J10) | S10: =IF(G10>=I10,"-","err") -> - | T10: =IF(H10=0,"1","2") -> 1
R11: =CONCATENATE(F11,J11) | S11: =IF(G11>=I11,"-","err") -> - | T11: =IF(H11=0,"1","2") -> 1
R12: =CONCATENATE(F12,J12) | S12: =IF(G12>=I12,"-","err") -> - | T12: =IF(H12=0,"1","2") -> 1
R13: =CONCATENATE(F13,J13) | S13: =IF(G13>=I13,"-","err") -> - | T13: =IF(H13=0,"1","2") -> 1
R14: =CONCATENATE(F14,J14) | S14: =IF(G14>=I14,"-","err") -> - | T14: =IF(H14=0,"1","2") -> 1
R15: =CONCATENATE(F15,J15) | S15: =IF(G15>=I15,"-","err") -> - | T15: =IF(H15=0,"1","2") -> 1
R16: =CONCATENATE(F16,J16) | S16: =IF(G16>=I16,"-","err") -> - | T16: =IF(H16=0,"1","2") -> 1
R17: =CONCATENATE(F17,J17) | S17: =IF(G17>=I17,"-","err") -> - | T17: =IF(H17=0,"1","2") -> 1
R18: =CONCATENATE(F18,J18) | S18: =IF(G18>=I18,"-","err") -> - | T18: =IF(H18=0,"1","2") -> 1
R19: =CONCATENATE(F19,J19) | S19: =IF(G19>=I19,"-","err") -> - | T19: =IF(H19=0,"1","2") -> 1
R20: =CONCATENATE(F20,J20) | S20: =IF(G20>=I20,"-","err") -> - | T20: =IF(H20=0,"1","2") -> 1
... R30: =CONCATENATE(F30,J30) | S30: =IF(G30>=I30,"-","err") -> - | T30: =IF(H30=0,"1","2") -> 1
A31: 소 계 | H31: =SUM(H6:H30) -> 0 | I31: =SUM(I6:I30) -> 205 | R31: =CONCATENATE(F31,J31) | S31: =IF(G31>=I31,"-","err") -> err
A32: 26 | R32: =CONCATENATE(F32,J32) | S32: =IF(G32>=I32,"-","err") -> -
A33: 27 | R33: =CONCATENATE(F33,J33) | S33: =IF(G33>=I33,"-","err") -> -
A34: 28 | R34: =CONCATENATE(F34,J34) | S34: =IF(G34>=I34,"-","err") -> -
A35: 29 | R35: =CONCATENATE(F35,J35) | S35: =IF(G35>=I35,"-","err") -> -
A36: 30 | R36: =CONCATENATE(F36,J36) | S36: =IF(G36>=I36,"-","err") -> -
A37: 31 | R37: =CONCATENATE(F37,J37) | S37: =IF(G37>=I37,"-","err") -> -
A38: 32 | R38: =CONCATENATE(F38,J38) | S38: =IF(G38>=I38,"-","err") -> -
A39: 33 | R39: =CONCATENATE(F39,J39) | S39: =IF(G39>=I39,"-","err") -> -
A40: 34 | R40: =CONCATENATE(F40,J40) | S40: =IF(G40>=I40,"-","err") -> -
A41: 35 | R41: =CONCATENATE(F41,J41) | S41: =IF(G41>=I41,"-","err") -> -
A42: 36 | R42: =CONCATENATE(F42,J42) | S42: =IF(G42>=I42,"-","err") -> -
A43: 37 | R43: =CONCATENATE(F43,J43) | S43: =IF(G43>=I43,"-","err") -> -
... A54: 48 | R54: =CONCATENATE(F54,J54) | S54: =IF(G54>=I54,"-","err") -> -
R55: =CONCATENATE(F55,J55) | S55: =IF(G55>=I55,"-","err") -> -
R56: =CONCATENATE(F56,J56) | S56: =IF(G56>=I56,"-","err") -> -
A57: 소 계 | I57: =SUM(I32:I56) -> 0 | R57: =CONCATENATE(F57,J57) | S57: =IF(G57>=I57,"-","err") -> -
R58: =CONCATENATE(F58,J58) | S58: =IF(G58>=I58,"-","err") -> -
R59: =CONCATENATE(F59,J59) | S59: =IF(G59>=I59,"-","err") -> -
R60: =CONCATENATE(F60,J60) | S60: =IF(G60>=I60,"-","err") -> -
...

Sheet 사기리 (2)
A1: 용 지 조 서
P2: 군도18호선 - 사기리
A4: 일련 | B4: 구분 (지적분할) | C4: 용지 | D4: 소재지 | E4: 지번 | F4: 지목 | G4: 지적면적 (m²) | H4: 편입면적(m²) | J4: 소 유 자 | L4: 관 계 인 | P4: 비고
A5: 번호 | C5: 번호 | J5: 성 명 | K5: 주 소 | L5: 권리 | M5: 성 명 | N5: 주 소 | O5: 권리관계 | T5: 기정
A6: 1 | B6: 당초 | C6: =A6 -> 1 | D6: 사기리 | E6: 602-1 | F6: 도 | G6: 1267 | H6: 488 | I6: 1267 | J6: 국 | K6: 농림축산식품부 | R6: =CONCATENATE(F6,J6) -> 도국 | S6: =IF(G6>=I6,"-","err") -> - | T6: =IF(H6=0,"1","2") -> 2
A7: 2 | B7: 당초 | C7: =A7 -> 2 | D7: 사기리 | E7: 602-10 | F7: 구 | G7: 10 | H7: 0 | I7: 10 | J7: 국 | K7: 농림축산식품부 | R7: =CONCATENATE(F7,J7) -> 구국 | S7: =IF(G7>=I7,"-","err") -> - | T7: =IF(H7=0,"1","2") -> 1
A8: 3 | B8: 당초 | C8: 3 | D8: 사기리 | E8: 602-6 | F8: 구 | G8: 143 | H8: 0 | I8: 143 | J8: 국 | K8: 농림축산식품부 | R8: =CONCATENATE(F8,J8) -> 구국 | S8: =IF(G8>=I8,"-","err") -> - | T8: =IF(H8=0,"1","2") -> 1
A9: 4 | B9: 당초 | C9: 4 | D9: 사기리 | E9: 62 | F9: 대 | G9: 317 | H9: 0 | I9: 33 | J9: 유*수 | K9: 인천광역시 강화군 화도면 덕포길 *** | M9: 안양농업협동조합 | N9: 경기도 안양시 동안구 부림로 169번길 ** | O9: 근저당권, 지상권 | R9: =CONCATENATE(F9,J9) -> 대유*수 | S9: =IF(G9>=I9,"-","err") -> - | T9: =IF(H9=0,"1","2") -> 1
A10: 5 | B10: 당초 | C10: 5 | D10: 사기리 | E10: 61 | F10: 대 | G10: 159 | H10: 0 | I10: 2 | J10: 유*수 | K10: 인천광역시 강화군 화도면 덕포길 *** | M10: 안양농업협동조합 | N10: 경기도 안양시 동안구 부림로 169번길 ** | O10: 근저당권, 지상권 | R10: =CONCATENATE(F10,J10) -> 대유*수 | S10: =IF(G10>=I10,"-","err") -> - | T10: =IF(H10=0,"1","2") -> 1
A11: 6 | B11: 당초 | C11: 6 | D11: 사기리 | E11: 54 | F11: 전 | G11: 60 | H11: 60 | I11: 60 | J11: 이*춘 | P11: 미등기 | R11: =CONCATENATE(F11,J11) -> 전이*춘 | S11: =IF(G11>=I11,"-","err") -> - | T11: =IF(H11=0,"1","2") -> 2
A12: 7 | B12: 당초 | C12: 7 | D12: 사기리 | E12: 528 | F12: 도 | G12: 1081 | H12: 972 | I12: 948 | J12: 국 | K12: 국토해양부 | R12: =CONCATENATE(F12,J12) -> 도국 | S12: =IF(G12>=I12,"-","err") -> - | T12: =IF(H12=0,"1","2") -> 2
A13: 8 | B13: 당초 | C13: 8 | D13: 사기리 | E13: 52-1 | F13: 도 | G13: 25 | H13: 25 | I13: 25 | J13: 이*현 | K13: 인천광역시 강화군 화도면 사기리 ** | P13: 미등기 | R13: =CONCATENATE(F13,J13) -> 도이*현 | S13: =IF(G13>=I13,"-","err") -> - | T13: =IF(H13=0,"1","2") -> 2
A14: 9 | B14: 당초 | C14: 9 | D14: 사기리 | E14: 51-1 | F14: 도 | G14: 58 | H14: 58 | I14: 37 | J14: 이*현 | K14: 인천광역시 강화군 화도면 사기리 ** | P14: 미등기 | R14: =CONCATENATE(F14,J14) -> 도이*현 | S14: =IF(G14>=I14,"-","err") -> - | T14: =IF(H14=0,"1","2") -> 2
A15: 10 | B15: 당초 | C15: 10 | D15: 사기리 | E15: 48-1 | F15: 도 | G15: 41 | H15: 41 | I15: 7 | J15: 이*례 | K15: 인천광역시 강화군 화도면 사기리 ** | R15: =CONCATENATE(F15,J15) -> 도이*례 | S15: =IF(G15>=I15,"-","err") -> - | T15: =IF(H15=0,"1","2") -> 2
A16: 11 | B16: 당초 | C16: 11 | D16: 사기리 | E16: 2-21 | F16: 도 | G16: 42 | H16: 42 | I16: 42 | J16: 이*현 | K16: 인천광역시 강화군 화도면 사기리 ** | P16: 미등기 | R16: =CONCATENATE(F16,J16) -> 도이*현 | S16: =IF(G16>=I16,"-","err") -> - | T16: =IF(H16=0,"1","2") -> 2
A17: 12 | B17: 당초 | C17: 12 | D17: 사기리 | E17: 47-1 | F17: 도 | G17: 48 | H17: 48 | I17: 12 | J17: 공 | K17: 인천광역시 강화군 | R17: =CONCATENATE(F17,J17) -> 도공 | S17: =IF(G17>=I17,"-","err") -> - | T17: =IF(H17=0,"1","2") -> 2
A18: 13 | B18: 당초 | C18: 13 | D18: 사기리 | E18: 46-1 | F18: 도 | G18: 36 | H18: 36 | I18: 11 | J18: 공 | K18: 인천광역시 강화군 | R18: =CONCATENATE(F18,J18) -> 도공 | S18: =IF(G18>=I18,"-","err") -> - | T18: =IF(H18=0,"1","2") -> 2
A19: 14 | B19: 당초 | C19: 14 | D19: 사기리 | E19: 43-1 | F19: 도 | G19: 43 | H19: 30 | I19: 10 | J19: 김*순 | K19: 인천광역시 강화군 화도면 사기리 ** | R19: =CONCATENATE(F19,J19) -> 도김*순 | S19: =IF(G19>=I19,"-","err") -> - | T19: =IF(H19=0,"1","2") -> 2
A20: 15 | B20: 당초 | C20: 15 | D20: 사기리 | E20: 3-1 | F20: 도 | G20: 115 | H20: 115 | I20: 115 | J20: 이*춘 | K20: 인천광역시 강화군 화도면 사기리 ** | R20: =CONCATENATE(F20,J20) -> 도이*춘 | S20: =IF(G20>=I20,"-","err") -> - | T20: =IF(H20=0,"1","2") -> 2
A21: 16 | B21: 당초 | C21: 16 | D21: 사기리 | E21: 41-1 | F21: 도 | G21: 295 | H21: 295 | I21: 161 | J21: 방*준 | P21: 미등기 | R21: =CONCATENATE(F21,J21) -> 도방*준 | S21: =IF(G21>=I21,"-","err") -> - | T21: =IF(H21=0,"1","2") -> 2
A22: 17 | B22: 당초 | C22: 17 | D22: 사기리 | E22: 4-1 | F22: 도 | G22: 58 | H22: 58 | I22: 58 | J22: 방*배 | K22: 인천광역시 강화군 화도면 사기리 ** | R22: =CONCATENATE(F22,J22) -> 도방*배 | S22: =IF(G22>=I22,"-","err") -> -
A23: 18 | B23: 당초 | C23: 18 | D23: 사기리 | E23: 5-2 | F23: 도 | G23: 8 | H23: 8 | I23: 8 | J23: 공 | K23: 인천광역시 강화군 | R23: =CONCATENATE(F23,J23) -> 도공 | S23: =IF(G23>=I23,"-","err") -> -
A24: 19 | B24: 당초 | C24: 19 | D24: 사기리 | E24: 5-1 | F24: 도 | G24: 66 | H24: 66 | I24: 66 | J24: 공 | K24: 인천광역시 강화군 | R24: =CONCATENATE(F24,J24) -> 도공 | S24: =IF(G24>=I24,"-","err") -> -
A25: 20 | B25: 당초 | C25: 20 | D25: 사기리 | E25: 16-1 | F25: 도 | G25: 507 | H25: 507 | I25: 369 | J25: 공 | K25: 인천광역시 강화군 | R25: =CONCATENATE(F25,J25) -> 도공 | S25: =IF(G25>=I25,"-","err") -> -
A26: 21 | B26: 당초 | C26: 21 | D26: 사기리 | E26: 15 | F26: 대 | G26: 110 | H26: 0 | I26: 7 | J26: 박*택 | K26: 인천광역시 강화군 화도면 동막리 ** | R26: =CONCATENATE(F26,J26) -> 대박*택 | S26: =IF(G26>=I26,"-","err") -> -
A27: 22 | B27: 당초 | C27: 22 | D27: 사기리 | E27: 15-2 | F27: 전 | G27: 1316 | H27: 5 | I27: 214 | J27: 박*택 | K27: 인천광역시 강화군 화도면 동막리 ** | R27: =CONCATENATE(F27,J27) -> 전박*택 | S27: =IF(G27>=I27,"-","err") -> -
A28: 23 | B28: 당초 | C28: 23 | D28: 사기리 | E28: 525 | F28: 도 | G28: 198 | H28: 198 | I28: 198 | J28: 국 | K28: 국토해양부 | R28: =CONCATENATE(F28,J28) -> 도국 | S28: =IF(G28>=I28,"-","err") -> -
A29: 24 | B29: 당초 | C29: 24 | D29: 사기리 | E29: 6-1 | F29: 도 | G29: 108 | H29: 108 | I29: 108 | J29: 공 | K29: 인천광역시 강화군 | R29: =CONCATENATE(F29,J29) -> 도공 | S29: =IF(G29>=I29,"-","err") -> -
A30: 25 | B30: 당초 | C30: 25 | D30: 사기리 | E30: 884 | F30: 구 | G30: 5508 | H30: 0 | I30: 86 | J30: 국 | K30: 농림축산식품부 | R30: =CONCATENATE(F30,J30) -> 구국 | S30: =IF(G30>=I30,"-","err") -> -
A31: 소계 | H31: =SUM(H6:H30) -> 3160 | I31: =SUM(I6:I30) -> 3997 | R31: =CONCATENATE(F31,J31) | S31: =IF(G31>=I31,"-","err") -> err
A32: 26 | B32: 당초 | C32: 26 | D32: 사기리 | E32: 885 | F32: 도 | G32: 1640 | H32: 0 | I32: 21 | J32: 국 | K32: 농림축산식품부 | R32: =CONCATENATE(F32,J32) -> 도국 | S32: =IF(G32>=I32,"-","err") -> -
A33: 27 | B33: 당초 | C33: 27 | D33: 사기리 | E33: 881 | F33: 도 | G33: 1547 | H33: 0 | I33: 1 | J33: 국 | K33: 농림축산식품부 | R33: =CONCATENATE(F33,J33) -> 도국 | S33: =IF(G33>=I33,"-","err") -> -
A34: 28 | B34: 당초 | C34: 28 | D34: 사기리 | E34: 869 | F34: 답 | G34: 3674 | H34: 0 | I34: 128 | J34: 김*순 | K34: 인천광역시 강화군 화도면 사기리 ** | M34: 화도농업협동조합 | N34: 인천광역시 강화군 화도면 상방리 *** | O34: 근저당권 | R34: =CONCATENATE(F34,J34) -> 답김*순 | S34: =IF(G34>=I34,"-","err") -> -
A35: 29 | B35: 당초 | C35: 29 | D35: 사기리 | Q35: 번호 밀림 | R35: =CONCATENATE(F35,J35) | S35: =IF(G35>=I35,"-","err") -> -
A36: 30 | B36: 당초 | C36: 30 | D36: 사기리 | E36: 841 | F36: 구 | G36: 3792 | H36: 9 | I36: 3769 | J36: 국 | K36: 농림축산식품부 | R36: =CONCATENATE(F36,J36) -> 구국 | S36: =IF(G36>=I36,"-","err") -> -
A37: 31 | B37: 당초 | C37: 31 | D37: 사기리 | E37: 868 | F37: 도 | G37: 1444 | H37: 0 | I37: 3 | J37: 국 | K37: 농림축산식품부 | R37: =CONCATENATE(F37,J37) -> 도국 | S37: =IF(G37>=I37,"-","err") -> -
A38: 32 | B38: 당초 | C38: 32 | D38: 사기리 | E38: 867 | F38: 구 | G38: 3632 | H38: 0 | I38: 22 | J38: 국 | K38: 농림축산식품부 | R38: =CONCATENATE(F38,J38) -> 구국 | S38: =IF(G38>=I38,"-","err") -> -
A39: 33 | B39: 당초 | C39: 33 | D39: 사기리 | E39: 866 | F39: 도 | G39: 1451 | H39: 0 | I39: 13 | J39: 국 | K39: 농림축산식품부 | R39: =CONCATENATE(F39,J39) -> 도국 | S39: =IF(G39>=I39,"-","err") -> -
A40: 34 | B40: 당초 | C40: 34 | D40: 사기리 | E40: 865 | F40: 답 | G40: 7732 | H40: 0 | I40: 189 | J40: 김*기 | K40: 인천광역시 강화군 화도면 사기리 *** | M40: 화도농업협동조합 | N40: 인천광역시 강화군 화도면 상방리 *** | O40: 근저당권 | R40: =CONCATENATE(F40,J40) -> 답김*기 | S40: =IF(G40>=I40,"-","err") -> -
A41: 35 | B41: 당초 | C41: 35 | D41: 사기리 | E41: 13-3 | F41: 도 | G41: 66 | H41: 66 | I41: 66 | J41: 공 | K41: 인천광역시 강화군 | R41: =CONCATENATE(F41,J41) -> 도공 | S41: =IF(G41>=I41,"-","err") -> -
...

Sheet 덕포리 (2)
A1: 용 지 조 서
O2: 군도 18호선 - 덕포리
A4: 일련 | B4: 구분 (지적분할) | C4: 용지 | D4: 소재지 | E4: 지번 | F4: 지목 | G4: 지적면적 (m²) | H4: 편입면적(m²) | J4: 소 유 자 | L4: 관 계 인 | O4: 비고
A5: 번호 | C5: 번호 | J5: 성 명 | K5: 주 소 | L5: 성 명 | M5: 주 소 | N5: 권리관계 | S5: 기정
A6: 1 | B6: 당초 | C6: 1 | D6: 덕포리 | E6: 325 | F6: 임 | G6: 33 | H6: 0 | I6: 7 | J6: 구*재 | O6: 미등기 | R6: =CONCATENATE(F6,J6) -> 임구*재 | S6: =IF(G6>=I6,"-","err") -> -
A7: 2 | B7: 당초 | C7: 2 | D7: 덕포리 | E7: 산231 | F7: 도 | G7: 198 | H7: 16 | I7: 54 | J7: 국 | K7: 농림축산식품부 | R7: =CONCATENATE(F7,J7) -> 도국 | S7: =IF(G7>=I7,"-","err") -> -
A8: 3 | B8: 당초 | C8: 3 | D8: 덕포리 | E8: 산6 | F8: 임 | G8: 5519 | H8: 0 | I8: 46 | J8: 이*관 | K8: 강화군 화도면 덕포길 *** | R8: =CONCATENATE(F8,J8) -> 임이*관 | S8: =IF(G8>=I8,"-","err") -> -
A9: 4 | B9: 당초 | C9: 4 | D9: 덕포리 | E9: 1413 | F9: 도 | G9: 764 | H9: 764 | I9: 418 | J9: 국 | K9: 농림축산식품부 | R9: =CONCATENATE(F9,J9) -> 도국 | S9: =IF(G9>=I9,"-","err") -> -
A10: 5 | B10: 당초 | C10: 5 | D10: 덕포리 | E10: 324-1 | F10: 도 | G10: 90 | H10: 90 | I10: 90 | J10: 공 | K10: 인천광역시 강화군 | R10: =CONCATENATE(F10,J10) -> 도공 | S10: =IF(G10>=I10,"-","err") -> -
A11: 6 | B11: 당초 | C11: 6 | D11: 덕포리 | E11: 1910 | F11: 도 | G11: 1518 | H11: 744 | I11: 1408 | J11: 국 | K11: 농림축산식품부 | R11: =CONCATENATE(F11,J11) -> 도국 | S11: =IF(G11>=I11,"-","err") -> -
A12: 7 | B12: 당초 | C12: 7 | D12: 덕포리 | E12: 327-2 | F12: 도 | G12: 152 | H12: 152 | I12: 10 | J12: 방*준 | K12: 인천광역시 강화군 화도면 사기리 ** | O12: 미등기 | R12: =CONCATENATE(F12,J12) -> 도방*준 | S12: =IF(G12>=I12,"-","err") -> -
A13: 8 | B13: 당초 | C13: 8 | D13: 덕포리 | E13: 322-3 | F13: 도 | G13: 77 | H13: 77 | I13: 41 | J13: 공 | K13: 강화군 | R13: =CONCATENATE(F13,J13) -> 도공 | S13: =IF(G13>=I13,"-","err") -> -
A14: 9 | B14: 당초 | C14: 9 | D14: 덕포리 | E14: 319-1 | F14: 전 | G14: 373 | H14: 0 | I14: 60 | J14: 김*섭 | K14: 인천광역시 강화군 화도면 덕포리 *** | R14: =CONCATENATE(F14,J14) -> 전김*섭 | S14: =IF(G14>=I14,"-","err") -> -
A15: 10 | B15: 당초 | C15: 10 | D15: 덕포리 | E15: 318-1 | F15: 답 | G15: 111 | H15: 0 | I15: 59 | J15: 구*철 | K15: 서울특별시 영등포구 양평동6가 99 한솔아파트 *** | R15: =CONCATENATE(F15,J15) -> 답구*철 | S15: =IF(G15>=I15,"-","err") -> -
A16: 11 | B16: 당초 | C16: 11 | D16: 덕포리 | E16: 319-2 | F16: 대 | G16: 194 | H16: 0 | I16: 7 | J16: 차*례 | K16: 인천광역시 강화군 강화읍 신문리 *** | L16: 화도농업협동조합 | M16: 인천광역시 강화군 화도면 상방리 *** | N16: 근저당권 | R16: =CONCATENATE(F16,J16) -> 대차*례 | S16: =IF(G16>=I16,"-","err") -> -
A17: 12 | B17: 당초 | C17: 12 | D17: 덕포리 | E17: 316-5 | F17: 유 | G17: 74 | H17: 0 | I17: 47 | J17: 국 | K17: 농림축산식품부 | R17: =CONCATENATE(F17,J17) -> 유국 | S17: =IF(G17>=I17,"-","err") -> -
A18: 13 | B18: 당초 | C18: 13 | D18: 덕포리 | E18: 316-19 | F18: 도 | G18: 78 | H18: 78 | I18: 32 | J18: 국 | K18: 농림축산식품부 | R18: =CONCATENATE(F18,J18) -> 도국 | S18: =IF(G18>=I18,"-","err") -> -
A19: 14 | B19: 당초 | C19: 14 | D19: 덕포리 | E19: 1861 | F19: 구 | G19: 10750 | H19: 36 | I19: 487 | J19: 국 | K19: 농림축산식품부 | R19: =CONCATENATE(F19,J19) -> 구국 | S19: =IF(G19>=I19,"-","err") -> -
A20: 15 | B20: 당초 | C20: 15 | D20: 덕포리 | E20: 1709 | F20: 도 | G20: 5929 | H20: 0 | I20: 187 | J20: 국 | K20: 농림축산식품부 | R20: =CONCATENATE(F20,J20) -> 도국 | S20: =IF(G20>=I20,"-","err") -> -
A21: 16 | B21: 당초 | C21: 16 | D21: 덕포리 | E21: 1940 | F21: 도 | G21: 1858 | H21: 0 | I21: 10 | J21: 국 | K21: 농림축산식품부 | R21: =CONCATENATE(F21,J21) -> 도국 | S21: =IF(G21>=I21,"-","err") -> -
A22: 17 | B22: 당초 | C22: 17 | D22: 덕포리 | E22: 1939 | F22: 답 | G22: 1531 | H22: 0 | I22: 410 | J22: 국 | K22: 기획재정부 | R22: =CONCATENATE(F22,J22) -> 답국 | S22: =IF(G22>=I22,"-","err") -> -
A23: 18 | B23: 당초 | C23: 18 | D23: 덕포리 | E23: 1911 | F23: 구 | G23: 939 | H23: 0 | I23: 939 | J23: 국 | K23: 농림축산식품부 | R23: =CONCATENATE(F23,J23) -> 구국 | S23: =IF(G23>=I23,"-","err") -> -
A24: 19 | B24: 당초 | C24: 19 | D24: 덕포리 | E24: 1928 | F24: 도 | G24: 1919 | H24: 0 | I24: 51 | J24: 국 | K24: 농림축산식품부 | R24: =CONCATENATE(F24,J24) -> 도국 | S24: =IF(G24>=I24,"-","err") -> -
A25: 20 | B25: 당초 | C25: 20 | D25: 덕포리 | E25: 1912 | F25: 답 | G25: 3378 | H25: 0 | I25: 460 | J25: 구*회 | K25: 인천광역시 강화군 화도면 덕포리 *** | R25: =CONCATENATE(F25,J25) -> 답구*회 | S25: =IF(G25>=I25,"-","err") -> -
A26: 4 | B26: 당초 | C26: 21 | D26: 덕포리 | E26: 산6-1 | F26: 임 | G26: 3010 | H26: 764 | I26: 1 | J26: 이*준 | K26: 서울시 강동구 천호동 *** | R26: =CONCATENATE(F26,J26) -> 임이*준 | S26: =IF(G26>=I26,"-","err") -> -
R27: =CONCATENATE(F27,J27) | S27: =IF(G27>=I27,"-","err") -> -
R28: =CONCATENATE(F28,J28) | S28: =IF(G28>=I28,"-","err") -> -
R29: =CONCATENATE(F29,J29) | S29: =IF(G29>=I29,"-","err") -> -
R30: =CONCATENATE(F30,J30) | S30: =IF(G30>=I30,"-","err") -> -
A31: 소 계 | H31: =SUM(H6:H30) -> 2721 | I31: =SUM(I6:I30) -> 4824 | R31: =CONCATENATE(F31,J31) | S31: =IF(G31>=I31,"-","err") -> err
R32: =CONCATENATE(F32,J32) | S32: =IF(G32>=I32,"-","err") -> -
R33: =CONCATENATE(F33,J33) | S33: =IF(G33>=I33,"-","err") -> -
R34: =CONCATENATE(F34,J34) | S34: =IF(G34>=I34,"-","err") -> -
R35: =CONCATENATE(F35,J35) | S35: =IF(G35>=I35,"-","err") -> -
R36: =CONCATENATE(F36,J36) | S36: =IF(G36>=I36,"-","err") -> -
R37: =CONCATENATE(F37,J37) | S37: =IF(G37>=I37,"-","err") -> -
R38: =CONCATENATE(F38,J38) | S38: =IF(G38>=I38,"-","err") -> -
R39: =CONCATENATE(F39,J39) | S39: =IF(G39>=I39,"-","err") -> -
R40: =CONCATENATE(F40,J40) | S40: =IF(G40>=I40,"-","err") -> -
R41: =CONCATENATE(F41,J41) | S41: =IF(G41>=I41,"-","err") -> -
...

Sheet 3구간집계표
A1: 편 입 용 지 집 계 표
V2: ='3구간'!L2 -> 3공구
A3: 구분 | B3: 계 | H3: 국유지 | N3: 공유지 | T3: 사유지 | Z3: 비고
B4: 당초 | E4: 변경 | H4: 당초 | K4: 변경 | N4: 당초 | Q4: 변경 | T4: 당초 | W4: 변경
B5: 필지 | C5: / | D5: 면적(㎡) | E5: 필지 | F5: / | G5: 면적(㎡) | H5: 필지 | I5: / | J5: 면적(㎡) | K5: 필지 | L5: / | M5: 면적(㎡) | N5: 필지 | O5: / | P5: 면적(㎡) | Q5: 필지 | R5: / | S5: 면적(㎡) | T5: 필지 | U5: / | V5: 면적(㎡) | W5: 필지 | X5: / | Y5: 면적(㎡) | AC5: 총계 | AD5: 국유지 | AE5: 사유지 | AF5: 국유지+사유지
A6: 계 | B6: =SUM(B7:B31) -> 0 | C6: / | D6: =SUM(D7:D31) -> 0 | E6: =SUM(E7:E31) -> 0 | F6: / | G6: =SUM(G7:G31) -> 0 | H6: =SUM(H7:H31) -> 0 | I6: / | J6: =SUM(J7:J31) -> 0 | K6: =SUM(K7:K31) -> 0 | L6: / | M6: =SUM(M7:M31) -> 0 | N6: =SUM(N7:N31) -> 0 | O6: / | P6: =SUM(P7:P31) -> 0 | Q6: =SUM(Q7:Q31) -> 0 | R6: / | S6: =SUM(S7:S31) -> 0 | T6: =SUM(T7:T31) -> 0 | U6: / | V6: =SUM(V7:V31) -> 0 | W6: =SUM(W7:W31) -> 0 | X6: / | Y6: =SUM(Y7:Y31) -> 0 | AA6: =IF(EXACT(AC6,AF6),"맞음","틀림") -> 맞음 | AB6: 필지 | AC6: =SUM(B7:B31) -> 0 | AD6: =SUM(H7:H31) -> 0 | AE6: =SUM(T7:T31) -> 0 | AF6: =T6+H6 -> 0
A7: 전 | B7: =COUNTIFS('3구간'!$C$6:$C$502,"전",'3구간'!$P$6:$P$502,"2") -> 0 | C7: / | D7: =SUMIFS('3구간'!$E$6:$E$502,'3구간'!$C$6:$C$502,"전",'3구간'!$P$6:$P$502,"2") -> 0 | E7: =COUNTIF('3구간'!$C$6:$C$502,"전") -> 0 | F7: / | G7: =SUMIF('3구간'!$C$6:$C$502,"전",'3구간'!$F$6:$F$502) -> 0 | H7: =COUNTIFS('3구간'!$N$6:$N$502,"전국",'3구간'!$P$6:$P$502,"2") -> 0 | I7: / | J7: =SUMIFS('3구간'!$E$6:$E$502,'3구간'!$N$6:$N$502,"전국",'3구간'!$P$6:$P$502,"2") -> 0 | K7: =COUNTIF('3구간'!$N$6:$N$502,"전국") -> 0 | L7: / | M7: =SUMIF('3구간'!$N$6:$N$502,"전국",'3구간'!$F$6:$F$502) -> 0 | N7: =COUNTIFS('3구간'!$N$6:$N$502,"전공",'3구간'!$P$6:$P$502,"2") -> 0 | O7: / | P7: =SUMIFS('3구간'!$E$6:$E$502,'3구간'!$N$6:$N$502,"전공",'3구간'!$P$6:$P$502,"2") -> 0 | Q7: =COUNTIF('3구간'!$N$6:$N$502,"전공") -> 0 | R7: / | S7: =SUMIF('3구간'!$N$6:$N$502,"전공",'3구간'!$F$6:$F$502) -> 0 | T7: =B7-H7-N7 -> 0 | U7: / | V7: =D7-J7-P7 -> 0 | W7: =E7-K7-Q7 -> 0 | X7: / | Y7: =G7-M7-S7 -> 0 | AA7: =IF(EXACT(AC7,AF7),"맞음","틀림") -> 맞음 | AB7: 면적 | AC7: =SUM(D7:D31) -> 0 | AD7: =SUM(J7:J31) -> 0 | AE7: =SUM(V7:V31) -> 0 | AF7: =J6+V6 -> 0
A8: 답 | B8: =COUNTIFS('3구간'!$C$6:$C$502,"답",'3구간'!$P$6:$P$502,"2") -> 0 | C8: / | D8: =SUMIFS('3구간'!$E$6:$E$502,'3구간'!$C$6:$C$502,"답",'3구간'!$P$6:$P$502,"2") -> 0 | E8: =COUNTIF('3구간'!$C$6:$C$502,"답") -> 0 | F8: / | G8: =SUMIF('3구간'!$C$6:$C$502,"답",'3구간'!$F$6:$F$502) -> 0 | H8: =COUNTIFS('3구간'!$N$6:$N$502,"답국",'3구간'!$P$6:$P$502,"2") -> 0 | I8: / | J8: =SUMIFS('3구간'!$E$6:$E$502,'3구간'!$N$6:$N$502,"답국",'3구간'!$P$6:$P$502,"2") -> 0 | K8: =COUNTIF('3구간'!$N$6:$N$502,"답국") -> 0 | L8: / | M8: =SUMIF('3구간'!$N$6:$N$502,"답국",'3구간'!$F$6:$F$502) -> 0 | N8: =COUNTIFS('3구간'!$N$6:$N$502,"답공",'3구간'!$P$6:$P$502,"2") -> 0 | O8: / | P8: =SUMIFS('3구간'!$E$6:$E$502,'3구간'!$N$6:$N$502,"답공",'3구간'!$P$6:$P$502,"2") -> 0 | Q8: =COUNTIF('3구간'!$N$6:$N$502,"답공") -> 0 | R8: / | S8: =SUMIF('3구간'!$N$6:$N$502,"답공",'3구간'!$F$6:$F$502) -> 0 | T8: =B8-H8-N8 -> 0 | U8: / | V8: =D8-J8-P8 -> 0 | W8: =E8-K8-Q8 -> 0 | X8: / | Y8: =G8-M8-S8 -> 0
A9: 임야 | B9: =COUNTIFS('3구간'!$C$6:$C$502,"임",'3구간'!$P$6:$P$502,"2") -> 0 | C9: / | D9: =SUMIFS('3구간'!$E$6:$E$502,'3구간'!$C$6:$C$502,"임",'3구간'!$P$6:$P$502,"2") -> 0 | E9: =COUNTIF('3구간'!$C$6:$C$502,"임") -> 0 | F9: / | G9: =SUMIF('3구간'!$C$6:$C$502,"임",'3구간'!$F$6:$F$502) -> 0 | H9: =COUNTIFS('3구간'!$N$6:$N$502,"임국",'3구간'!$P$6:$P$502,"2") -> 0 | I9: / | J9: =SUMIFS('3구간'!$E$6:$E$502,'3구간'!$N$6:$N$502,"임국",'3구간'!$P$6:$P$502,"2") -> 0 | K9: =COUNTIF('3구간'!$N$6:$N$502,"임국") -> 0 | L9: / | M9: =SUMIF('3구간'!$N$6:$N$502,"임국",'3구간'!$F$6:$F$502) -> 0 | N9: =COUNTIFS('3구간'!$N$6:$N$502,"임공",'3구간'!$P$6:$P$502,"2") -> 0 | O9: / | P9: =SUMIFS('3구간'!$E$6:$E$502,'3구간'!$N$6:$N$502,"임공",'3구간'!$P$6:$P$502,"2") -> 0 | Q9: =COUNTIF('3구간'!$N$6:$N$502,"임공") -> 0 | R9: / | S9: =SUMIF('3구간'!$N$6:$N$502,"임공",'3구간'!$F$6:$F$502) -> 0 | T9: =B9-H9-N9 -> 0 | U9: / | V9: =D9-J9-P9 -> 0 | W9: =E9-K9-Q9 -> 0 | X9: / | Y9: =G9-M9-S9 -> 0
A10: 대지 | B10: =COUNTIFS('3구간'!$C$6:$C$502,"대",'3구간'!$P$6:$P$502,"2") -> 0 | C10: / | D10: =SUMIFS('3구간'!$E$6:$E$502,'3구간'!$C$6:$C$502,"대",'3구간'!$P$6:$P$502,"2") -> 0 | E10: =COUNTIF('3구간'!$C$6:$C$502,"대") -> 0 | F10: / | G10: =SUMIF('3구간'!$C$6:$C$502,"대",'3구간'!$F$6:$F$502) -> 0 | H10: =COUNTIFS('3구간'!$N$6:$N$502,"대국",'3구간'!$P$6:$P$502,"2") -> 0 | I10: / | J10: =SUMIFS('3구간'!$E$6:$E$502,'3구간'!$N$6:$N$502,"대국",'3구간'!$P$6:$P$502,"2") -> 0 | K10: =COUNTIF('3구간'!$N$6:$N$502,"대국") -> 0 | L10: / | M10: =SUMIF('3구간'!$N$6:$N$502,"대국",'3구간'!$F$6:$F$502) -> 0 | N10: =COUNTIFS('3구간'!$N$6:$N$502,"대공",'3구간'!$P$6:$P$502,"2") -> 0 | O10: / | P10: =SUMIFS('3구간'!$E$6:$E$502,'3구간'!$N$6:$N$502,"대공",'3구간'!$P$6:$P$502,"2") -> 0 | Q10: =COUNTIF('3구간'!$N$6:$N$502,"대공") -> 0 | R10: / | S10: =SUMIF('3구간'!$N$6:$N$502,"대공",'3구간'!$F$6:$F$502) -> 0 | T10: =B10-H10-N10 -> 0 | U10: / | V10: =D10-J10-P10 -> 0 | W10: =E10-K10-Q10 -> 0 | X10: / | Y10: =G10-M10-S10 -> 0
A11: 도로 | B11: =COUNTIFS('3구간'!$C$6:$C$502,"도",'3구간'!$P$6:$P$502,"2") -> 0 | C11: / | D11: =SUMIFS('3구간'!$E$6:$E$502,'3구간'!$C$6:$C$502,"도",'3구간'!$P$6:$P$502,"2") -> 0 | E11: =COUNTIF('3구간'!$C$6:$C$502,"도") -> 0 | F11: / | G11: =SUMIF('3구간'!$C$6:$C$502,"도",'3구간'!$F$6:$F$502) -> 0 | H11: =COUNTIFS('3구간'!$N$6:$N$502,"도국",'3구간'!$P$6:$P$502,"2") -> 0 | I11: / | J11: =SUMIFS('3구간'!$E$6:$E$502,'3구간'!$N$6:$N$502,"도국",'3구간'!$P$6:$P$502,"2") -> 0 | K11: =COUNTIF('3구간'!$N$6:$N$502,"도국") -> 0 | L11: / | M11: =SUMIF('3구간'!$N$6:$N$502,"도국",'3구간'!$F$6:$F$502) -> 0 | N11: =COUNTIFS('3구간'!$N$6:$N$502,"도공",'3구간'!$P$6:$P$502,"2") -> 0 | O11: / | P11: =SUMIFS('3구간'!$E$6:$E$502,'3구간'!$N$6:$N$502,"도공",'3구간'!$P$6:$P$502,"2") -> 0 | Q11: =COUNTIF('3구간'!$N$6:$N$502,"도공") -> 0 | R11: / | S11: =SUMIF('3구간'!$N$6:$N$502,"도공",'3구간'!$F$6:$F$502) -> 0 | T11: =B11-H11-N11 -> 0 | U11: / | V11: =D11-J11-P11 -> 0 | W11: =E11-K11-Q11 -> 0 | X11: / | Y11: =G11-M11-S11 -> 0
A12: 구거 | B12: =COUNTIFS('3구간'!$C$6:$C$502,"구",'3구간'!$P$6:$P$502,"2") -> 0 | C12: / | D12: =SUMIFS('3구간'!$E$6:$E$502,'3구간'!$C$6:$C$502,"구",'3구간'!$P$6:$P$502,"2") -> 0 | E12: =COUNTIF('3구간'!$C$6:$C$502,"구") -> 0 | F12: / | G12: =SUMIF('3구간'!$C$6:$C$502,"구",'3구간'!$F$6:$F$502) -> 0 | H12: =COUNTIFS('3구간'!$N$6:$N$502,"구국",'3구간'!$P$6:$P$502,"2") -> 0 | I12: / | J12: =SUMIFS('3구간'!$E$6:$E$502,'3구간'!$N$6:$N$502,"구국",'3구간'!$P$6:$P$502,"2") -> 0 | K12: =COUNTIF('3구간'!$N$6:$N$502,"구국") -> 0 | L12: / | M12: =SUMIF('3구간'!$N$6:$N$502,"구국",'3구간'!$F$6:$F$502) -> 0 | N12: =COUNTIFS('3구간'!$N$6:$N$502,"구공",'3구간'!$P$6:$P$502,"2") -> 0 | O12: / | P12: =SUMIFS('3구간'!$E$6:$E$502,'3구간'!$N$6:$N$502,"구공",'3구간'!$P$6:$P$502,"2") -> 0 | Q12: =COUNTIF('3구간'!$N$6:$N$502,"구공") -> 0 | R12: / | S12: =SUMIF('3구간'!$N$6:$N$502,"구공",'3구간'!$F$6:$F$502) -> 0 | T12: =B12-H12-N12 -> 0 | U12: / | V12: =D12-J12-P12 -> 0 | W12: =E12-K12-Q12 -> 0 | X12: / | Y12: =G12-M12-S12 -> 0
A13: 하천 | B13: =COUNTIFS('3구간'!$C$6:$C$502,"천",'3구간'!$P$6:$P$502,"2") -> 0 | C13: / | D13: =SUMIFS('3구간'!$E$6:$E$502,'3구간'!$C$6:$C$502,"천",'3구간'!$P$6:$P$502,"2") -> 0 | E13: =COUNTIF('3구간'!$C$6:$C$502,"천") -> 0 | F13: / | G13: =SUMIF('3구간'!$C$6:$C$502,"천",'3구간'!$F$6:$F$502) -> 0 | H13: =COUNTIFS('3구간'!$N$6:$N$502,"천국",'3구간'!$P$6:$P$502,"2") -> 0 | I13: / | J13: =SUMIFS('3구간'!$E$6:$E$502,'3구간'!$N$6:$N$502,"천국",'3구간'!$P$6:$P$502,"2") -> 0 | K13: =COUNTIF('3구간'!$N$6:$N$502,"천국") -> 0 | L13: / | M13: =SUMIF('3구간'!$N$6:$N$502,"천국",'3구간'!$F$6:$F$502) -> 0 | N13: =COUNTIFS('3구간'!$N$6:$N$502,"천공",'3구간'!$P$6:$P$502,"2") -> 0 | O13: / | P13: =SUMIFS('3구간'!$E$6:$E$502,'3구간'!$N$6:$N$502,"천공",'3구간'!$P$6:$P$502,"2") -> 0 | Q13: =COUNTIF('3구간'!$N$6:$N$502,"천공") -> 0 | R13: / | S13: =SUMIF('3구간'!$N$6:$N$502,"천공",'3구간'!$F$6:$F$502) -> 0 | T13: =B13-H13-N13 -> 0 | U13: / | V13: =D13-J13-P13 -> 0 | W13: =E13-K13-Q13 -> 0 | X13: / | Y13: =G13-M13-S13 -> 0
A14: 유지 | B14: =COUNTIFS('3구간'!$C$6:$C$502,"유",'3구간'!$P$6:$P$502,"2") -> 0 | C14: / | D14: =SUMIFS('3구간'!$E$6:$E$502,'3구간'!$C$6:$C$502,"유",'3구간'!$P$6:$P$502,"2") -> 0 | E14: =COUNTIF('3구간'!$C$6:$C$502,"유") -> 0 | F14: / | G14: =SUMIF('3구간'!$C$6:$C$502,"유",'3구간'!$F$6:$F$502) -> 0 | H14: =COUNTIFS('3구간'!$N$6:$N$502,"유국",'3구간'!$P$6:$P$502,"2") -> 0 | I14: / | J14: =SUMIFS('3구간'!$E$6:$E$502,'3구간'!$N$6:$N$502,"유국",'3구간'!$P$6:$P$502,"2") -> 0 | K14: =COUNTIF('3구간'!$N$6:$N$502,"유국") -> 0 | L14: / | M14: =SUMIF('3구간'!$N$6:$N$502,"유국",'3구간'!$F$6:$F$502) -> 0 | N14: =COUNTIFS('3구간'!$N$6:$N$502,"유공",'3구간'!$P$6:$P$502,"2") -> 0 | O14: / | P14: =SUMIFS('3구간'!$E$6:$E$502,'3구간'!$N$6:$N$502,"유공",'3구간'!$P$6:$P$502,"2") -> 0 | Q14: =COUNTIF('3구간'!$N$6:$N$502,"유공") -> 0 | R14: / | S14: =SUMIF('3구간'!$N$6:$N$502,"유공",'3구간'!$F$6:$F$502) -> 0 | T14: =B14-H14-N14 -> 0 | U14: / | V14: =D14-J14-P14 -> 0 | W14: =E14-K14-Q14 -> 0 | X14: / | Y14: =G14-M14-S14 -> 0
A15: 제방 | B15: =COUNTIFS('3구간'!$C$6:$C$502,"제",'3구간'!$P$6:$P$502,"2") -> 0 | C15: / | D15: =SUMIFS('3구간'!$E$6:$E$502,'3구간'!$C$6:$C$502,"제",'3구간'!$P$6:$P$502,"2") -> 0 | E15: =COUNTIF('3구간'!$C$6:$C$502,"제") -> 0 | F15: / | G15: =SUMIF('3구간'!$C$6:$C$502,"제",'3구간'!$F$6:$F$502) -> 0 | H15: =COUNTIFS('3구간'!$N$6:$N$502,"제국",'3구간'!$P$6:$P$502,"2") -> 0 | I15: / | J15: =SUMIFS('3구간'!$E$6:$E$502,'3구간'!$N$6:$N$502,"제국",'3구간'!$P$6:$P$502,"2") -> 0 | K15: =COUNTIF('3구간'!$N$6:$N$502,"제국") -> 0 | L15: / | M15: =SUMIF('3구간'!$N$6:$N$502,"제국",'3구간'!$F$6:$F$502) -> 0 | N15: =COUNTIFS('3구간'!$N$6:$N$502,"제공",'3구간'!$P$6:$P$502,"2") -> 0 | O15: / | P15: =SUMIFS('3구간'!$E$6:$E$502,'3구간'!$N$6:$N$502,"제공",'3구간'!$P$6:$P$502,"2") -> 0 | Q15: =COUNTIF('3구간'!$N$6:$N$502,"제공") -> 0 | R15: / | S15: =SUMIF('3구간'!$N$6:$N$502,"제공",'3구간'!$F$6:$F$502) -> 0 | T15: =B15-H15-N15 -> 0 | U15: / | V15: =D15-J15-P15 -> 0 | W15: =E15-K15-Q15 -> 0 | X15: / | Y15: =G15-M15-S15 -> 0
A16: 과수원 | B16: =COUNTIFS('3구간'!$C$6:$C$502,"과",'3구간'!$P$6:$P$502,"2") -> 0 | C16: / | D16: =SUMIFS('3구간'!$E$6:$E$502,'3구간'!$C$6:$C$502,"과",'3구간'!$P$6:$P$502,"2") -> 0 | E16: =COUNTIF('3구간'!$C$6:$C$502,"과") -> 0 | F16: / | G16: =SUMIF('3구간'!$C$6:$C$502,"과",'3구간'!$F$6:$F$502) -> 0 | H16: =COUNTIFS('3구간'!$N$6:$N$502,"과국",'3구간'!$P$6:$P$502,"2") -> 0 | I16: / | J16: =SUMIFS('3구간'!$E$6:$E$502,'3구간'!$N$6:$N$502,"과국",'3구간'!$P$6:$P$502,"2") -> 0 | K16: =COUNTIF('3구간'!$N$6:$N$502,"과국") -> 0 | L16: / | M16: =SUMIF('3구간'!$N$6:$N$502,"과국",'3구간'!$F$6:$F$502) -> 0 | N16: =COUNTIFS('3구간'!$N$6:$N$502,"과공",'3구간'!$P$6:$P$502,"2") -> 0 | O16: / | P16: =SUMIFS('3구간'!$E$6:$E$502,'3구간'!$N$6:$N$502,"과공",'3구간'!$P$6:$P$502,"2") -> 0 | Q16: =COUNTIF('3구간'!$N$6:$N$502,"과공") -> 0 | R16: / | S16: =SUMIF('3구간'!$N$6:$N$502,"과공",'3구간'!$F$6:$F$502) -> 0 | T16: =B16-H16-N16 -> 0 | U16: / | V16: =D16-J16-P16 -> 0 | W16: =E16-K16-Q16 -> 0 | X16: / | Y16: =G16-M16-S16 -> 0
A17: 공장 | B17: =COUNTIFS('3구간'!$C$6:$C$502,"장",'3구간'!$P$6:$P$502,"2") -> 0 | C17: / | D17: =SUMIFS('3구간'!$E$6:$E$502,'3구간'!$C$6:$C$502,"장",'3구간'!$P$6:$P$502,"2") -> 0 | E17: =COUNTIF('3구간'!$C$6:$C$502,"장") -> 0 | F17: / | G17: =SUMIF('3구간'!$C$6:$C$502,"장",'3구간'!$F$6:$F$502) -> 0 | H17: =COUNTIFS('3구간'!$N$6:$N$502,"장국",'3구간'!$P$6:$P$502,"2") -> 0 | I17: / | J17: =SUMIFS('3구간'!$E$6:$E$502,'3구간'!$N$6:$N$502,"장국",'3구간'!$P$6:$P$502,"2") -> 0 | K17: =COUNTIF('3구간'!$N$6:$N$502,"장국") -> 0 | L17: / | M17: =SUMIF('3구간'!$N$6:$N$502,"장국",'3구간'!$F$6:$F$502) -> 0 | N17: =COUNTIFS('3구간'!$N$6:$N$502,"장공",'3구간'!$P$6:$P$502,"2") -> 0 | O17: / | P17: =SUMIFS('3구간'!$E$6:$E$502,'3구간'!$N$6:$N$502,"장공",'3구간'!$P$6:$P$502,"2") -> 0 | Q17: =COUNTIF('3구간'!$N$6:$N$502,"장공") -> 0 | R17: / | S17: =SUMIF('3구간'!$N$6:$N$502,"장공",'3구간'!$F$6:$F$502) -> 0 | T17: =B17-H17-N17 -> 0 | U17: / | V17: =D17-J17-P17 -> 0 | W17: =E17-K17-Q17 -> 0 | X17: / | Y17: =G17-M17-S17 -> 0
A18: 목장 | B18: =COUNTIFS('3구간'!$C$6:$C$502,"목",'3구간'!$P$6:$P$502,"2") -> 0 | C18: / | D18: =SUMIFS('3구간'!$E$6:$E$502,'3구간'!$C$6:$C$502,"목",'3구간'!$P$6:$P$502,"2") -> 0 | E18: =COUNTIF('3구간'!$C$6:$C$502,"목") -> 0 | F18: / | G18: =SUMIF('3구간'!$C$6:$C$502,"목",'3구간'!$F$6:$F$502) -> 0 | H18: =COUNTIFS('3구간'!$N$6:$N$502,"목국",'3구간'!$P$6:$P$502,"2") -> 0 | I18: / | J18: =SUMIFS('3구간'!$E$6:$E$502,'3구간'!$N$6:$N$502,"목국",'3구간'!$P$6:$P$502,"2") -> 0 | K18: =COUNTIF('3구간'!$N$6:$N$502,"목국") -> 0 | L18: / | M18: =SUMIF('3구간'!$N$6:$N$502,"목국",'3구간'!$F$6:$F$502) -> 0 | N18: =COUNTIFS('3구간'!$N$6:$N$502,"목공",'3구간'!$P$6:$P$502,"2") -> 0 | O18: / | P18: =SUMIFS('3구간'!$E$6:$E$502,'3구간'!$N$6:$N$502,"목공",'3구간'!$P$6:$P$502,"2") -> 0 | Q18: =COUNTIF('3구간'!$N$6:$N$502,"목공") -> 0 | R18: / | S18: =SUMIF('3구간'!$N$6:$N$502,"목공",'3구간'!$F$6:$F$502) -> 0 | T18: =B18-H18-N18 -> 0 | U18: / | V18: =D18-J18-P18 -> 0 | W18: =E18-K18-Q18 -> 0 | X18: / | Y18: =G18-M18-S18 -> 0
A19: 학교용지 | B19: =COUNTIFS('3구간'!$C$6:$C$502,"학",'3구간'!$P$6:$P$502,"2") -> 0 | C19: / | D19: =SUMIFS('3구간'!$E$6:$E$502,'3구간'!$C$6:$C$502,"학",'3구간'!$P$6:$P$502,"2") -> 0 | E19: =COUNTIF('3구간'!$C$6:$C$502,"학") -> 0 | F19: / | G19: =SUMIF('3구간'!$C$6:$C$502,"학",'3구간'!$F$6:$F$502) -> 0 | H19: =COUNTIFS('3구간'!$N$6:$N$502,"학국",'3구간'!$P$6:$P$502,"2") -> 0 | I19: / | J19: =SUMIFS('3구간'!$E$6:$E$502,'3구간'!$N$6:$N$502,"학국",'3구간'!$P$6:$P$502,"2") -> 0 | K19: =COUNTIF('3구간'!$N$6:$N$502,"학국") -> 0 | L19: / | M19: =SUMIF('3구간'!$N$6:$N$502,"학국",'3구간'!$F$6:$F$502) -> 0 | N19: =COUNTIFS('3구간'!$N$6:$N$502,"학공",'3구간'!$P$6:$P$502,"2") -> 0 | O19: / | P19: =SUMIFS('3구간'!$E$6:$E$502,'3구간'!$N$6:$N$502,"학공",'3구간'!$P$6:$P$502,"2") -> 0 | Q19: =COUNTIF('3구간'!$N$6:$N$502,"학공") -> 0 | R19: / | S19: =SUMIF('3구간'!$N$6:$N$502,"학공",'3구간'!$F$6:$F$502) -> 0 | T19: =B19-H19-N19 -> 0 | U19: / | V19: =D19-J19-P19 -> 0 | W19: =E19-K19-Q19 -> 0 | X19: / | Y19: =G19-M19-S19 -> 0
A20: 철도 | B20: =COUNTIFS('3구간'!$C$6:$C$502,"철",'3구간'!$P$6:$P$502,"2") -> 0 | C20: / | D20: =SUMIFS('3구간'!$E$6:$E$502,'3구간'!$C$6:$C$502,"철",'3구간'!$P$6:$P$502,"2") -> 0 | E20: =COUNTIF('3구간'!$C$6:$C$502,"철") -> 0 | F20: / | G20: =SUMIF('3구간'!$C$6:$C$502,"철",'3구간'!$F$6:$F$502) -> 0 | H20: =COUNTIFS('3구간'!$N$6:$N$502,"철국",'3구간'!$P$6:$P$502,"2") -> 0 | I20: / | J20: =SUMIFS('3구간'!$E$6:$E$502,'3구간'!$N$6:$N$502,"철국",'3구간'!$P$6:$P$502,"2") -> 0 | K20: =COUNTIF('3구간'!$N$6:$N$502,"철국") -> 0 | L20: / | M20: =SUMIF('3구간'!$N$6:$N$502,"철국",'3구간'!$F$6:$F$502) -> 0 | N20: =COUNTIFS('3구간'!$N$6:$N$502,"철공",'3구간'!$P$6:$P$502,"2") -> 0 | O20: / | P20: =SUMIFS('3구간'!$E$6:$E$502,'3구간'!$N$6:$N$502,"철공",'3구간'!$P$6:$P$502,"2") -> 0 | Q20: =COUNTIF('3구간'!$N$6:$N$502,"철공") -> 0 | R20: / | S20: =SUMIF('3구간'!$N$6:$N$502,"철공",'3구간'!$F$6:$F$502) -> 0 | T20: =B20-H20-N20 -> 0 | U20: / | V20: =D20-J20-P20 -> 0 | W20: =E20-K20-Q20 -> 0 | X20: / | Y20: =G20-M20-S20 -> 0
A21: 묘지 | B21: =COUNTIFS('3구간'!$C$6:$C$502,"묘",'3구간'!$P$6:$P$502,"2") -> 0 | C21: / | D21: =SUMIFS('3구간'!$E$6:$E$502,'3구간'!$C$6:$C$502,"묘",'3구간'!$P$6:$P$502,"2") -> 0 | E21: =COUNTIF('3구간'!$C$6:$C$502,"묘") -> 0 | F21: / | G21: =SUMIF('3구간'!$C$6:$C$502,"묘",'3구간'!$F$6:$F$502) -> 0 | H21: =COUNTIFS('3구간'!$N$6:$N$502,"묘국",'3구간'!$P$6:$P$502,"2") -> 0 | I21: / | J21: =SUMIFS('3구간'!$E$6:$E$502,'3구간'!$N$6:$N$502,"묘국",'3구간'!$P$6:$P$502,"2") -> 0 | K21: =COUNTIF('3구간'!$N$6:$N$502,"묘국") -> 0 | L21: / | M21: =SUMIF('3구간'!$N$6:$N$502,"묘국",'3구간'!$F$6:$F$502) -> 0 | N21: =COUNTIFS('3구간'!$N$6:$N$502,"묘공",'3구간'!$P$6:$P$502,"2") -> 0 | O21: / | P21: =SUMIFS('3구간'!$E$6:$E$502,'3구간'!$N$6:$N$502,"묘공",'3구간'!$P$6:$P$502,"2") -> 0 | Q21: =COUNTIF('3구간'!$N$6:$N$502,"묘공") -> 0 | R21: / | S21: =SUMIF('3구간'!$N$6:$N$502,"묘공",'3구간'!$F$6:$F$502) -> 0 | T21: =B21-H21-N21 -> 0 | U21: / | V21: =D21-J21-P21 -> 0 | W21: =E21-K21-Q21 -> 0 | X21: / | Y21: =G21-M21-S21 -> 0
A22: 수도 | B22: =COUNTIFS('3구간'!$C$6:$C$502,"수",'3구간'!$P$6:$P$502,"2") -> 0 | C22: / | D22: =SUMIFS('3구간'!$E$6:$E$502,'3구간'!$C$6:$C$502,"수",'3구간'!$P$6:$P$502,"2") -> 0 | E22: =COUNTIF('3구간'!$C$6:$C$502,"수") -> 0 | F22: / | G22: =SUMIF('3구간'!$C$6:$C$502,"수",'3구간'!$F$6:$F$502) -> 0 | H22: =COUNTIFS('3구간'!$N$6:$N$502,"수국",'3구간'!$P$6:$P$502,"2") -> 0 | I22: / | J22: =SUMIFS('3구간'!$E$6:$E$502,'3구간'!$N$6:$N$502,"수국",'3구간'!$P$6:$P$502,"2") -> 0 | K22: =COUNTIF('3구간'!$N$6:$N$502,"수국") -> 0 | L22: / | M22: =SUMIF('3구간'!$N$6:$N$502,"수국",'3구간'!$F$6:$F$502) -> 0 | N22: =COUNTIFS('3구간'!$N$6:$N$502,"수공",'3구간'!$P$6:$P$502,"2") -> 0 | O22: / | P22: =SUMIFS('3구간'!$E$6:$E$502,'3구간'!$N$6:$N$502,"수공",'3구간'!$P$6:$P$502,"2") -> 0 | Q22: =COUNTIF('3구간'!$N$6:$N$502,"수공") -> 0 | R22: / | S22: =SUMIF('3구간'!$N$6:$N$502,"수공",'3구간'!$F$6:$F$502) -> 0 | T22: =B22-H22-N22 -> 0 | U22: / | V22: =D22-J22-P22 -> 0 | W22: =E22-K22-Q22 -> 0 | X22: / | Y22: =G22-M22-S22 -> 0
A23: 잡종지 | B23: =COUNTIFS('3구간'!$C$6:$C$502,"잡",'3구간'!$P$6:$P$502,"2") -> 0 | C23: / | D23: =SUMIFS('3구간'!$E$6:$E$502,'3구간'!$C$6:$C$502,"잡",'3구간'!$P$6:$P$502,"2") -> 0 | E23: =COUNTIF('3구간'!$C$6:$C$502,"잡") -> 0 | F23: / | G23: =SUMIF('3구간'!$C$6:$C$502,"잡",'3구간'!$F$6:$F$502) -> 0 | H23: =COUNTIFS('3구간'!$N$6:$N$502,"잡국",'3구간'!$P$6:$P$502,"2") -> 0 | I23: / | J23: =SUMIFS('3구간'!$E$6:$E$502,'3구간'!$N$6:$N$502,"잡국",'3구간'!$P$6:$P$502,"2") -> 0 | K23: =COUNTIF('3구간'!$N$6:$N$502,"잡국") -> 0 | L23: / | M23: =SUMIF('3구간'!$N$6:$N$502,"잡국",'3구간'!$F$6:$F$502) -> 0 | N23: =COUNTIFS('3구간'!$N$6:$N$502,"잡공",'3구간'!$P$6:$P$502,"2") -> 0 | O23: / | P23: =SUMIFS('3구간'!$E$6:$E$502,'3구간'!$N$6:$N$502,"잡공",'3구간'!$P$6:$P$502,"2") -> 0 | Q23: =COUNTIF('3구간'!$N$6:$N$502,"잡공") -> 0 | R23: / | S23: =SUMIF('3구간'!$N$6:$N$502,"잡공",'3구간'!$F$6:$F$502) -> 0 | T23: =B23-H23-N23 -> 0 | U23: / | V23: =D23-J23-P23 -> 0 | W23: =E23-K23-Q23 -> 0 | X23: / | Y23: =G23-M23-S23 -> 0
A24: 종교 | B24: =COUNTIFS('3구간'!$C$6:$C$502,"종",'3구간'!$P$6:$P$502,"2") -> 0 | C24: / | D24: =SUMIFS('3구간'!$E$6:$E$502,'3구간'!$C$6:$C$502,"종",'3구간'!$P$6:$P$502,"2") -> 0 | E24: =COUNTIF('3구간'!$C$6:$C$502,"종") -> 0 | F24: / | G24: =SUMIF('3구간'!$C$6:$C$502,"종",'3구간'!$F$6:$F$502) -> 0 | H24: =COUNTIFS('3구간'!$N$6:$N$502,"종국",'3구간'!$P$6:$P$502,"2") -> 0 | I24: / | J24: =SUMIFS('3구간'!$E$6:$E$502,'3구간'!$N$6:$N$502,"종국",'3구간'!$P$6:$P$502,"2") -> 0 | K24: =COUNTIF('3구간'!$N$6:$N$502,"종국") -> 0 | L24: / | M24: =SUMIF('3구간'!$N$6:$N$502,"종국",'3구간'!$F$6:$F$502) -> 0 | N24: =COUNTIFS('3구간'!$N$6:$N$502,"종공",'3구간'!$P$6:$P$502,"2") -> 0 | O24: / | P24: =SUMIFS('3구간'!$E$6:$E$502,'3구간'!$N$6:$N$502,"종공",'3구간'!$P$6:$P$502,"2") -> 0 | Q24: =COUNTIF('3구간'!$N$6:$N$502,"종공") -> 0 | R24: / | S24: =SUMIF('3구간'!$N$6:$N$502,"종공",'3구간'!$F$6:$F$502) -> 0 | T24: =B24-H24-N24 -> 0 | U24: / | V24: =D24-J24-P24 -> 0 | W24: =E24-K24-Q24 -> 0 | X24: / | Y24: =G24-M24-S24 -> 0
A25: 염전 | B25: =COUNTIFS('3구간'!$C$6:$C$502,"염",'3구간'!$P$6:$P$502,"2") -> 0 | C25: / | D25: =SUMIFS('3구간'!$E$6:$E$502,'3구간'!$C$6:$C$502,"염",'3구간'!$P$6:$P$502,"2") -> 0 | E25: =COUNTIF('3구간'!$C$6:$C$502,"염") -> 0 | F25: / | G25: =SUMIF('3구간'!$C$6:$C$502,"염",'3구간'!$F$6:$F$502) -> 0 | H25: =COUNTIFS('3구간'!$N$6:$N$502,"염국",'3구간'!$P$6:$P$502,"2") -> 0 | I25: / | J25: =SUMIFS('3구간'!$E$6:$E$502,'3구간'!$N$6:$N$502,"염국",'3구간'!$P$6:$P$502,"2") -> 0 | K25: =COUNTIF('3구간'!$N$6:$N$502,"염국") -> 0 | L25: / | M25: =SUMIF('3구간'!$N$6:$N$502,"염국",'3구간'!$F$6:$F$502) -> 0 | N25: =COUNTIFS('3구간'!$N$6:$N$502,"염공",'3구간'!$P$6:$P$502,"2") -> 0 | O25: / | P25: =SUMIFS('3구간'!$E$6:$E$502,'3구간'!$N$6:$N$502,"염공",'3구간'!$P$6:$P$502,"2") -> 0 | Q25: =COUNTIF('3구간'!$N$6:$N$502,"염공") -> 0 | R25: / | S25: =SUMIF('3구간'!$N$6:$N$502,"염공",'3구간'!$F$6:$F$502) -> 0 | T25: =B25-H25-N25 -> 0 | U25: / | V25: =D25-J25-P25 -> 0 | W25: =E25-K25-Q25 -> 0 | X25: / | Y25: =G25-M25-S25 -> 0
A26: 공원 | B26: =COUNTIFS('3구간'!$C$6:$C$502,"공",'3구간'!$P$6:$P$502,"2") -> 0 | C26: / | D26: =SUMIFS('3구간'!$E$6:$E$502,'3구간'!$C$6:$C$502,"공",'3구간'!$P$6:$P$502,"2") -> 0 | E26: =COUNTIF('3구간'!$C$6:$C$502,"공") -> 0 | F26: / | G26: =SUMIF('3구간'!$C$6:$C$502,"공",'3구간'!$F$6:$F$502) -> 0 | H26: =COUNTIFS('3구간'!$N$6:$N$502,"공국",'3구간'!$P$6:$P$502,"2") -> 0 | I26: / | J26: =SUMIFS('3구간'!$E$6:$E$502,'3구간'!$N$6:$N$502,"공국",'3구간'!$P$6:$P$502,"2") -> 0 | K26: =COUNTIF('3구간'!$N$6:$N$502,"공국") -> 0 | L26: / | M26: =SUMIF('3구간'!$N$6:$N$502,"공국",'3구간'!$F$6:$F$502) -> 0 | N26: =COUNTIFS('3구간'!$N$6:$N$502,"공공",'3구간'!$P$6:$P$502,"2") -> 0 | O26: / | P26: =SUMIFS('3구간'!$E$6:$E$502,'3구간'!$N$6:$N$502,"공공",'3구간'!$P$6:$P$502,"2") -> 0 | Q26: =COUNTIF('3구간'!$N$6:$N$502,"공공") -> 0 | R26: / | S26: =SUMIF('3구간'!$N$6:$N$502,"공공",'3구간'!$F$6:$F$502) -> 0 | T26: =B26-H26-N26 -> 0 | U26: / | V26: =D26-J26-P26 -> 0 | W26: =E26-K26-Q26 -> 0 | X26: / | Y26: =G26-M26-S26 -> 0
A27: 체육 | B27: =COUNTIFS('3구간'!$C$6:$C$502,"체",'3구간'!$P$6:$P$502,"2") -> 0 | C27: / | D27: =SUMIFS('3구간'!$E$6:$E$502,'3구간'!$C$6:$C$502,"체",'3구간'!$P$6:$P$502,"2") -> 0 | E27: =COUNTIF('3구간'!$C$6:$C$502,"체") -> 0 | F27: / | G27: =SUMIF('3구간'!$C$6:$C$502,"체",'3구간'!$F$6:$F$502) -> 0 | H27: =COUNTIFS('3구간'!$N$6:$N$502,"체국",'3구간'!$P$6:$P$502,"2") -> 0 | I27: / | J27: =SUMIFS('3구간'!$E$6:$E$502,'3구간'!$N$6:$N$502,"체국",'3구간'!$P$6:$P$502,"2") -> 0 | K27: =COUNTIF('3구간'!$N$6:$N$502,"체국") -> 0 | L27: / | M27: =SUMIF('3구간'!$N$6:$N$502,"체국",'3구간'!$F$6:$F$502) -> 0 | N27: =COUNTIFS('3구간'!$N$6:$N$502,"체공",'3구간'!$P$6:$P$502,"2") -> 0 | O27: / | P27: =SUMIFS('3구간'!$E$6:$E$502,'3구간'!$N$6:$N$502,"체공",'3구간'!$P$6:$P$502,"2") -> 0 | Q27: =COUNTIF('3구간'!$N$6:$N$502,"체공") -> 0 | R27: / | S27: =SUMIF('3구간'!$N$6:$N$502,"체공",'3구간'!$F$6:$F$502) -> 0 | T27: =B27-H27-N27 -> 0 | U27: / | V27: =D27-J27-P27 -> 0 | W27: =E27-K27-Q27 -> 0 | X27: / | Y27: =G27-M27-S27 -> 0
A28: 유원지 | B28: =COUNTIFS('3구간'!$C$6:$C$502,"원",'3구간'!$P$6:$P$502,"2") -> 0 | C28: / | D28: =SUMIFS('3구간'!$E$6:$E$502,'3구간'!$C$6:$C$502,"원",'3구간'!$P$6:$P$502,"2") -> 0 | E28: =COUNTIF('3구간'!$C$6:$C$502,"원") -> 0 | F28: / | G28: =SUMIF('3구간'!$C$6:$C$502,"원",'3구간'!$F$6:$F$502) -> 0 | H28: =COUNTIFS('3구간'!$N$6:$N$502,"원국",'3구간'!$P$6:$P$502,"2") -> 0 | I28: / | J28: =SUMIFS('3구간'!$E$6:$E$502,'3구간'!$N$6:$N$502,"원국",'3구간'!$P$6:$P$502,"2") -> 0 | K28: =COUNTIF('3구간'!$N$6:$N$502,"원국") -> 0 | L28: / | M28: =SUMIF('3구간'!$N$6:$N$502,"원국",'3구간'!$F$6:$F$502) -> 0 | N28: =COUNTIFS('3구간'!$N$6:$N$502,"원공",'3구간'!$P$6:$P$502,"2") -> 0 | O28: / | P28: =SUMIFS('3구간'!$E$6:$E$502,'3구간'!$N$6:$N$502,"원공",'3구간'!$P$6:$P$502,"2") -> 0 | Q28: =COUNTIF('3구간'!$N$6:$N$502,"원공") -> 0 | R28: / | S28: =SUMIF('3구간'!$N$6:$N$502,"원공",'3구간'!$F$6:$F$502) -> 0 | T28: =B28-H28-N28 -> 0 | U28: / | V28: =D28-J28-P28 -> 0 | W28: =E28-K28-Q28 -> 0 | X28: / | Y28: =G28-M28-S28 -> 0
