Workbook

Sheet 토지조서
A1: 토 지 조 서
A2: 용지 | B2: 소재지 | C2: 지번 | D2: 지목 | E2: 지목 | F2: 지목 | G2: 공시지가 | H2: 지적면적 (m²) | I2: 편입면적 (m²) | K2: 소 유 자 | N2: 관 계 인 | Q2: 전필지유무 | R2: 비고
A3: 번호 | E3: (변경) | K3: 성 명 | L3: 주 소 | M3: 지분율 | N3: 성 명 | O3: 주 소 | P3: 권리관계
A4: 1 | B4: 중산동 | C4: 1402-7 | D4: 도 | F4: 도 | G4: 83300 | H4: 316 | I4: 316 | K4: 공 | L4: 인천광역시
A5: 2 | B5: 중산동 | C5: 1402-1 | D5: 도 | F5: 도 | G5: 288300 | H5: 584 | I5: 48 | K5: 공 | L5: 인천광역시
A6: 3 | B6: 중산동 | C6: 1402-6 | D6: 도 | F6: 도 | G6: 83300 | H6: 261 | I6: 78 | K6: 공 | L6: 인천광역시
A7: 4 | B7: 중산동 | C7: 1400-3 | D7: 도 | F7: 도 | G7: 95700 | H7: 24 | I7: 15 | K7: 공 | L7: 인천광역시
A8: 5 | B8: 중산동 | C8: 1400-8 | D8: 도 | F8: 도 | G8: 95700 | H8: 4 | I8: 4 | K8: 공 | L8: 인천광역시
A9: 6 | B9: 중산동 | C9: 1400-1 | D9: 대 | F9: 대 | G9: 548200 | H9: 574 | I9: 32 | K9: 김*모 | L9: 인천광역시 서구 가정로 3** 1**동 1***호 (신현동, 신현 이-편한세상하늘채아파트) | N9: 농협은행주식회사 | O9: 서울특별시 중구 통일로 120(충정로1가) (신현동지점) | P9: 근저당권
A10: 7 | B10: 중산동 | C10: 1400-7 | D10: 도 | F10: 도 | G10: 177300 | H10: 35 | I10: 35 | K10: 김*모 | L10: 인천광역시 서구 가정로 3** 1**동 1***호 (신현동, 신현 이-편한세상하늘채아파트)
A11: 8 | B11: 중산동 | C11: 1400-4 | D11: 전 | F11: 전 | G11: 284700 | H11: 1049 | I11: 175 | K11: 김*모 | L11: 인천광역시 서구 가정로 3** 1**동 1***호 (신현동, 신현 이-편한세상하늘채아파트) | N11: 농협은행주식회사 | O11: 서울특별시 중구 통일로 120(충정로1가) (신현동지점) | P11: 근저당권
N12: 조순철 | O12: 서울특별시 은평구 은평로**길 **-17, *01호 | P12: 근저당권
N13: 이태순 | O13: 서울특별시 강남구 선릉로***길 **-11, 2**호 | P13: 근저당권
A14: 9 | B14: 중산동 | C14: 1401-4 | D14: 전 | F14: 전 | G14: 246500 | H14: 165 | I14: 165 | K14: 김*호 | L14: 인천광역시 중구 운남서로 *, 1**동 1**1호(운남동,영종자이아파트) | M14: 0.5 | N14: 주식회사국민은행 | O14: 서울특별시 중구 남대문로 84(을지로2가) (인천남동지점) | P14: 근저당권
K15: 김*호 | L15: 인천광역시 중구 하늘별빛로 **, 9**동 3***호(중산동,영종힐스테이트) | M15: 0.5
A16: 10 | B16: 중산동 | C16: 1393-1 | D16: 전 | F16: 전 | G16: 269100 | H16: 1292 | I16: 765 | K16: 박*택 | L16: 인천광역시 중구 중산동 1***
A17: 11 | B17: 중산동 | C17: 1393-2 | D17: 대 | F17: 대 | G17: 514800 | H17: 182 | I17: 97 | K17: 김*자 | L17: 인천광역시 중구 운중로1**번길 **-** (중산동)
A18: 12 | B18: 중산동 | C18: 1392-14 | D18: 전 | F18: 전 | G18: 95700 | H18: 163 | I18: 44 | K18: 오*용 | L18: 인천광역시 중구 운서동 9** | N18: 중구농업협동조합 | O18: 인천광역시 중구 운남동 383 | P18: 근저당권,지상권
A19: 13 | B19: 중산동 | C19: 1392-15 | D19: 전 | F19: 전 | G19: 95700 | H19: 16 | I19: 16 | K19: 오*용 | L19: 인천광역시 중구 운서동 9** | N19: 중구농업협동조합 | O19: 인천광역시 중구 운남동 383 | P19: 근저당권,지상권
A20: 14 | B20: 중산동 | C20: 1392-9 | D20: 대 | F20: 대 | G20: 555700 | H20: 1426 | I20: 99 | K20: 영농조합법인삼**산 | L20: 인천광역시 중구 마장포로 **-**(중산동) | N20: 중구농업협동조합 | O20: 인천광역시 중구 운남동 433-3 | P20: 근저당권
N21: 중구농업협동조합 | O21: 인천광역시 중구 운남로 166 | P21: 근저당권
A22: 15 | B22: 중산동 | C22: 1392-30 | D22: 도 | F22: 도 | G22: 179000 | H22: 202 | I22: 202 | K22: 영농조합법인삼**산 | L22: 인천광역시 중구 남북동 1**-1
A23: 16 | B23: 중산동 | C23: 1392-29 | D23: 도 | F23: 도 | G23: 179000 | H23: 25 | I23: 25 | K23: 영농조합법인삼**산 | L23: 인천광역시 중구 남북동 1**-1
A24: 17 | B24: 중산동 | C24: 1392-11 | D24: 도 | F24: 도 | G24: 95700 | H24: 140 | I24: 140 | K24: 이*우 | L24: 강원도 영월군 영월읍 중앙로 2**
A25: 18 | B25: 중산동 | C25: 1375-3 | D25: 도 | F25: 도 | G25: 877700 | H25: 2247 | I25: 52 | K25: 공 | L25: 인천광역시
A26: 19 | B26: 중산동 | C26: 1375-11 | D26: 도 | F26: 도 | G26: 99000 | H26: 379 | I26: 96 | K26: 공 | L26: 인천광역시
A27: 20 | B27: 중산동 | C27: 산377 | D27: 도 | F27: 도 | G27: 50600 | H27: 3830 | I27: 510 | K27: 국 | L27: 국토교통부
A28: 21 | B28: 중산동 | C28: 1375-12 | D28: 도 | F28: 도 | G28: 99000 | H28: 76 | I28: 76 | K28: 공 | L28: 인천광역시
A29: 22 | B29: 중산동 | C29: 1375-10 | D29: 도 | F29: 도 | G29: 101600 | H29: 19 | I29: 1 | K29: 아****코리아주식회사 | L29: 인천광역시 중구 은골로**번길 * , 2층 (운서동) | N29: 한국자산관리공사 | O29: 부산광역시 남구 문현금융로 40(문현동) (인천지역본부) | P29: 근저당권
N30: 차형일 | O30: 인천광역시 중구 큰무리로 *-* | P30: 근저당권
N31: 서봉춘 | O31: 인천광역시 중구 하늘별빛로 **, 9**동 1***호(중산동, 영종힐스테이트) | P31: 근저당권
N32: 차석교 | O32: 인천광역시 중구 큰무리로 *-1 | P32: 근저당권
A33: 23 | B33: 중산동 | C33: 1401-2 | D33: 대 | F33: 대 | G33: 532100 | H33: 1072 | I33: 84 | K33: 김*호 | L33: 인천광역시 중구 운남서로 *, 1**동 1***호(운남동,영종자이아파트) | M33: 0.5 | N33: 주식회사국민은행 | O33: 서울특별시 중구 남대문로 84(을지로2가) (인천남동지점) | P33: 근저당권
K34: 김*호 | L34: 인천광역시 중구 하늘별빛로 **, 9**동 3***호(중산동,영종힐스테이트) | M34: 0.5
A35: 24 | B35: 중산동 | C35: 1771 | D35: 구 | F35: 구 | G35: 95700 | H35: 545 | I35: 241 | K35: 국 | L35: 농림축산식품부
A36: 25 | B36: 중산동 | C36: 1392 | D36: 전 | F36: 전 | G36: 269100 | H36: 899 | I36: 569 | K36: 오*용 | L36: 인천광역시 중구 중산동 1***-1 | N36: 중구농업협동조합 | O36: 인천광역시 중구 운남동 383 | P36: 근저당권,지상권
A37: 26 | B37: 중산동 | C37: 1392-6 | D37: 전 | F37: 전 | G37: 275500 | H37: 882 | I37: 529 | K37: 국 | L37: 기획재정부
A38: 27 | B38: 중산동 | C38: 산201-5 | D38: 임 | F38: 임 | G38: 188600 | H38: 1598 | I38: 456 | K38: 이*숙 | L38: 뉴질랜드 크라이스트처치시아일남 크라케로드 87비 | M38: 0.5
K39: 장*선 | L39: 서울시 성북구 동선동*가 1**-* **빌라 가동 3**호 | M39: 0.5
A40: 28 | B40: 중산동 | C40: 산201-2 | D40: 도 | F40: 도 | G40: 38900 | H40: 694 | I40: 63 | K40: 공 | L40: 인천광역시중구
A41: 29 | B41: 중산동 | C41: 1392-4 | D41: 대 | F41: 대 | G41: 539200 | H41: 767 | I41: 4 | K41: 이*우 | L41: 강원도 영월군 영월읍 중앙로 2**
A42: 30 | B42: 중산동 | C42: 1392-10 | D42: 대 | F42: 대 | G42: 555500 | H42: 746 | I42: 12 | K42: 이*우 | L42: 강원도 영월군 영월읍 중앙로 2**
A43: 31 | B43: 중산동 | C43: 1392-31 | D43: 대 | F43: 대 | G43: 458300 | H43: 582 | I43: 4 | K43: 박*일 | L43: 인천광역시 중구 백운로 1** (중산동) | N43: 중소기업은행 | O43: 서울특별시 중구 을지로 79(을지로2가) | P43: 근저당권
A44: 32 | B44: 중산동 | C44: 1392-7 | D44: 전 | F44: 전 | G44: 313200 | H44: 651 | I44: 1 | K44: 최*숙 | L44: 인천광역시 중구 운중로 1*-1*, *층(운남동) | N44: 중구농업협동조합 | O44: 인천광역시 중구 운남로 166(운남동) (하늘도시지점) | P44: 근저당권
A47: 33 | B47: 중산동 | C47: 1392-1 | D47: 대 | F47: 대 | G47: 539200 | H47: 482 | I47: 4 | K47: 오*용 | L47: 인천광역시 중구 운서동 9**
A79: 계 | I79: =SUM(I4:I78) -> 4958 | J79: =SUM(J4:J78) -> 0

Sheet xxx출력금지선두리확인용
A1: 용 지 조 서
M2: 군도18호선 - 선두리
A4: 일련 | B4: 구분 (지적분할) | C4: 지번 | D4: 지목 | E4: 지적면적 (m²) | F4: 편입면적(m²) | H4: 소 유 자 | J4: 관 계 인 | M4: 비고
A5: 번호 | F5: 기정 | G5: 변경 | H5: 성 명 | I5: 주 소 | J5: 성 명 | K5: 주 소 | L5: 권리관계 | Q5: 기정
B6: 변경 | C6: 1192-5 | D6: 답 | E6: 177 | G6: 99 | H6: 공 | I6: 강화군 | O6: =CONCATENATE(D6,H6) -> 답공 | P6: =IF(E6>=G6,"-","err") -> - | Q6: =IF(F6=0,"1","2") -> 1
B7: 변경 | C7: 1192-4 | D7: 답 | E7: 1828 | G7: 47 | H7: 공 | I7: 강화군 | O7: =CONCATENATE(D7,H7) -> 답공 | P7: =IF(E7>=G7,"-","err") -> - | Q7: =IF(F7=0,"1","2") -> 1
B8: 변경 | C8: 1191 | D8: 제 | E8: 2522 | F8: 0 | G8: 59 | H8: 국 | I8: 농림축산식품부 | O8: =CONCATENATE(D8,H8) -> 제국 | P8: =IF(E8>=G8,"-","err") -> - | Q8: =IF(F8=0,"1","2") -> 1
O9: =CONCATENATE(D9,H9) | P9: =IF(E9>=G9,"-","err") -> - | Q9: =IF(F9=0,"1","2") -> 1
O10: =CONCATENATE(D10,H10) | P10: =IF(E10>=G10,"-","err") -> - | Q10: =IF(F10=0,"1","2") -> 1
O11: =CONCATENATE(D11,H11) | P11: =IF(E11>=G11,"-","err") -> - | Q11: =IF(F11=0,"1","2") -> 1
O12: =CONCATENATE(D12,H12) | P12: =IF(E12>=G12,"-","err") -> - | Q12: =IF(F12=0,"1","2") -> 1
O13: =CONCATENATE(D13,H13) | P13: =IF(E13>=G13,"-","err") -> - | Q13: =IF(F13=0,"1","2") -> 1
O14: =CONCATENATE(D14,H14) | P14: =IF(E14>=G14,"-","err") -> - | Q14: =IF(F14=0,"1","2") -> 1
O15: =CONCATENATE(D15,H15) | P15: =IF(E15>=G15,"-","err") -> - | Q15: =IF(F15=0,"1","2") -> 1
O16: =CONCATENATE(D16,H16) | P16: =IF(E16>=G16,"-","err") -> - | Q16: =IF(F16=0,"1","2") -> 1
O17: =CONCATENATE(D17,H17) | P17: =IF(E17>=G17,"-","err") -> - | Q17: =IF(F17=0,"1","2") -> 1
O18: =CONCATENATE(D18,H18) | P18: =IF(E18>=G18,"-","err") -> - | Q18: =IF(F18=0,"1","2") -> 1
O19: =CONCATENATE(D19,H19) | P19: =IF(E19>=G19,"-","err") -> - | Q19: =IF(F19=0,"1","2") -> 1
O20: =CONCATENATE(D20,H20) | P20: =IF(E20>=G20,"-","err") -> - | Q20: =IF(F20=0,"1","2") -> 1
... O30: =CONCATENATE(D30,H30) | P30: =IF(E30>=G30,"-","err") -> - | Q30: =IF(F30=0,"1","2") -> 1
A31: 소 계 | F31: =SUM(F6:F30) -> 0 | G31: =SUM(G6:G30) -> 205 | O31: =CONCATENATE(D31,H31)
A32: 26 | O32: =CONCATENATE(D32,H32) | P32: =IF(E32>=G32,"-","err") -> -
A33: 27 | O33: =CONCATENATE(D33,H33) | P33: =IF(E33>=G33,"-","err") -> -
A34: 28 | O34: =CONCATENATE(D34,H34) | P34: =IF(E34>=G34,"-","err") -> -
A35: 29 | O35: =CONCATENATE(D35,H35) | P35: =IF(E35>=G35,"-","err") -> -
A36: 30 | O36: =CONCATENATE(D36,H36) | P36: =IF(E36>=G36,"-","err") -> -
A37: 31 | O37: =CONCATENATE(D37,H37) | P37: =IF(E37>=G37,"-","err") -> -
A38: 32 | O38: =CONCATENATE(D38,H38) | P38: =IF(E38>=G38,"-","err") -> -
A39: 33 | O39: =CONCATENATE(D39,H39) | P39: =IF(E39>=G39,"-","err") -> -
A40: 34 | O40: =CONCATENATE(D40,H40) | P40: =IF(E40>=G40,"-","err") -> -
A41: 35 | O41: =CONCATENATE(D41,H41) | P41: =IF(E41>=G41,"-","err") -> -
A42: 36 | O42: =CONCATENATE(D42,H42) | P42: =IF(E42>=G42,"-","err") -> -
A43: 37 | O43: =CONCATENATE(D43,H43) | P43: =IF(E43>=G43,"-","err") -> -
... A54: 48 | O54: =CONCATENATE(D54,H54) | P54: =IF(E54>=G54,"-","err") -> -
O55: =CONCATENATE(D55,H55) | P55: =IF(E55>=G55,"-","err") -> -
O56: =CONCATENATE(D56,H56) | P56: =IF(E56>=G56,"-","err") -> -
A57: 소 계 | G57: =SUM(G32:G56) -> 0 | O57: =CONCATENATE(D57,H57)
O58: =CONCATENATE(D58,H58) | P58: =IF(E58>=G58,"-","err") -> -
O59: =CONCATENATE(D59,H59) | P59: =IF(E59>=G59,"-","err") -> -
O60: =CONCATENATE(D60,H60) | P60: =IF(E60>=G60,"-","err") -> -
O61: =CONCATENATE(D61,H61) | P61: =IF(E61>=G61,"-","err") -> -
O62: =CONCATENATE(D62,H62) | P62: =IF(E62>=G62,"-","err") -> -
O63: =CONCATENATE(D63,H63) | P63: =IF(E63>=G63,"-","err") -> -
O64: =CONCATENATE(D64,H64) | P64: =IF(E64>=G64,"-","err") -> -
O65: =CONCATENATE(D65,H65) | P65: =IF(E65>=G65,"-","err") -> -
O66: =CONCATENATE(D66,H66) | P66: =IF(E66>=G66,"-","err") -> -
O67: =CONCATENATE(D67,H67) | P67: =IF(E67>=G67,"-","err") -> -
O68: =CONCATENATE(D68,H68) | P68: =IF(E68>=G68,"-","err") -> -
O69: =CONCATENATE(D69,H69) | P69: =IF(E69>=G69,"-","err") -> -
... O77: =CONCATENATE(D77,H77) | P77: =IF(E77>=G77,"-","err") -> -
A78: 소 계 | G78: =SUM(G58:G77) -> 0 | O78: =CONCATENATE(D78,H78)
O79: =CONCATENATE(D79,H79) | P79: =IF(E79>=G79,"-","err") -> -
O80: =CONCATENATE(D80,H80) | P80: =IF(E80>=G80,"-","err") -> -
O81: =CONCATENATE(D81,H81) | P81: =IF(E81>=G81,"-","err") -> -
O82: =CONCATENATE(D82,H82) | P82: =IF(E82>=G82,"-","err") -> -
O83: =CONCATENATE(D83,H83) | P83: =IF(E83>=G83,"-","err") -> -
O84: =CONCATENATE(D84,H84) | P84: =IF(E84>=G84,"-","err") -> -
O85: =CONCATENATE(D85,H85) | P85: =IF(E85>=G85,"-","err") -> -
O86: =CONCATENATE(D86,H86) | P86: =IF(E86>=G86,"-","err") -> -
O87: =CONCATENATE(D87,H87) | P87: =IF(E87>=G87,"-","err") -> -
O88: =CONCATENATE(D88,H88) | P88: =IF(E88>=G88,"-","err") -> -
O89: =CONCATENATE(D89,H89) | P89: =IF(E89>=G89,"-","err") -> -
O90: =CONCATENATE(D90,H90) | P90: =IF(E90>=G90,"-","err") -> -
... O98: =CONCATENATE(D98,H98) | P98: =IF(E98>=G98,"-","err") -> -
A99: 소 계 | G99: =SUM(G79:G98) -> 0 | O99: =CONCATENATE(D99,H99)
O100: =CONCATENATE(D100,H100) | P100: =IF(E100>=G100,"-","err") -> -
O101: =CONCATENATE(D101,H101) | P101: =IF(E101>=G101,"-","err") -> -
O102: =CONCATENATE(D102,H102) | P102: =IF(E102>=G102,"-","err") -> -
O103: =CONCATENATE(D103,H103) | P103: =IF(E103>=G103,"-","err") -> -
O104: =CONCATENATE(D104,H104) | P104: =IF(E104>=G104,"-","err") -> -
O105: =CONCATENATE(D105,H105) | P105: =IF(E105>=G105,"-","err") -> -
O106: =CONCATENATE(D106,H106) | P106: =IF(E106>=G106,"-","err") -> -
O107: =CONCATENATE(D107,H107) | P107: =IF(E107>=G107,"-","err") -> -
O108: =CONCATENATE(D108,H108) | P108: =IF(E108>=G108,"-","err") -> -
O109: =CONCATENATE(D109,H109) | P109: =IF(E109>=G109,"-","err") -> -
O110: =CONCATENATE(D110,H110) | P110: =IF(E110>=G110,"-","err") -> -
O111: =CONCATENATE(D111,H111) | P111: =IF(E111>=G111,"-","err") -> -
... O119: =CONCATENATE(D119,H119) | P119: =IF(E119>=G119,"-","err") -> -
A120: 소 계 | G120: =SUM(G100:G119) -> 0 | O120: =CONCATENATE(D120,H120)
O121: =CONCATENATE(D121,H121) | P121: =IF(E121>=G121,"-","err") -> -
O122: =CONCATENATE(D122,H122) | P122: =IF(E122>=G122,"-","err") -> -
K123: 0 | L123: 0 | O123: =CONCATENATE(D123,H123) | P123: =IF(E123>=G123,"-","err") -> -
K124: 0 | L124: 0 | O124: =CONCATENATE(D124,H124) | P124: =IF(E124>=G124,"-","err") -> -
K125: 0 | L125: 0 | O125: =CONCATENATE(D125,H125) | P125: =IF(E125>=G125,"-","err") -> -
K126: 0 | L126: 0 | O126: =CONCATENATE(D126,H126) | P126: =IF(E126>=G126,"-","err") -> -
K127: 0 | L127: 0 | O127: =CONCATENATE(D127,H127) | P127: =IF(E127>=G127,"-","err") -> -
O128: =CONCATENATE(D128,H128) | P128: =IF(E128>=G128,"-","err") -> -
K129: 0 | L129: 0 | O129: =CONCATENATE(D129,H129) | P129: =IF(E129>=G129,"-","err") -> -
K130: 0 | L130: 0 | O130: =CONCATENATE(D130,H130) | P130: =IF(E130>=G130,"-","err") -> -
K131: 0 | L131: 0 | O131: =CONCATENATE(D131,H131) | P131: =IF(E131>=G131,"-","err") -> -
O132: =CONCATENATE(D132,H132) | P132: =IF(E132>=G132,"-","err") -> -
O133: =CONCATENATE(D133,H133) | P133: =IF(E133>=G133,"-","err") -> -
O134: =CONCATENATE(D134,H134) | P134: =IF(E134>=G134,"-","err") -> -
O135: =CONCATENATE(D135,H135) | P135: =IF(E135>=G135,"-","err") -> -
O136: =CONCATENATE(D136,H136) | P136: =IF(E136>=G136,"-","err") -> -
O137: =CONCATENATE(D137,H137) | P137: =IF(E137>=G137,"-","err") -> -
O138: =CONCATENATE(D138,H138) | P138: =IF(E138>=G138,"-","err") -> -
O139: =CONCATENATE(D139,H139) | P139: =IF(E139>=G139,"-","err") -> -
O140: =CONCATENATE(D140,H140) | P140: =IF(E140>=G140,"-","err") -> -
A141: 소 계 | G141: =SUM(G121:G140) -> 0 | O141: =CONCATENATE(D141,H141)
...

Sheet xxx출력금지사기리확인용
A1: 용 지 조 서
M2: 군도18호선 - 사기리
A4: 일련 | B4: 구분 (지적분할) | C4: 지번 | D4: 지목 | E4: 지적면적 (m²) | F4: 편입면적(m²) | H4: 소 유 자 | J4: 관 계 인 | M4: 비고
A5: 번호 | F5: 기정 | G5: 변경 | H5: 성 명 | I5: 주 소 | J5: 성 명 | K5: 주 소 | L5: 권리관계 | Q5: 기정
A6: 1 | B6: 변경 | C6: 602-1 | D6: 도 | E6: 1267 | F6: 488 | G6: 1267 | H6: 국 | I6: 농림축산식품부 | O6: =CONCATENATE(D6,H6) -> 도국 | P6: =IF(E6>=G6,"-","err") -> - | Q6: =IF(F6=0,"1","2") -> 2
A7: 2 | B7: 변경 | C7: 602-10 | D7: 구 | E7: 10 | F7: 0 | G7: 10 | H7: 국 | I7: 농림축산식품부 | O7: =CONCATENATE(D7,H7) -> 구국 | P7: =IF(E7>=G7,"-","err") -> - | Q7: =IF(F7=0,"1","2") -> 1
A8: 3 | B8: 변경 | C8: 602-6 | D8: 구 | E8: 143 | F8: 0 | G8: 143 | H8: 국 | I8: 농림축산식품부 | O8: =CONCATENATE(D8,H8) -> 구국 | P8: =IF(E8>=G8,"-","err") -> - | Q8: =IF(F8=0,"1","2") -> 1
A9: 4 | B9: 변경 | C9: 62-1 | D9: 대 | E9: 32 | F9: 0 | G9: 32 | H9: 유*수 | I9: 인천광역시 강화군 화도면 덕포길 *** | J9: 안양농업협동조합 | K9: 경기도 안양시 동안구 부림로 169번길 ** | L9: 근저당권, 지상권 | O9: =CONCATENATE(D9,H9) -> 대유*수 | P9: =IF(E9>=G9,"-","err") -> - | Q9: =IF(F9=0,"1","2") -> 1
A10: 5 | B10: 변경 | C10: 61-1 | D10: 대 | E10: 2 | F10: 0 | G10: 2 | H10: 유*수 | I10: 인천광역시 강화군 화도면 덕포길 *** | J10: 안양농업협동조합 | K10: 경기도 안양시 동안구 부림로 169번길 ** | L10: 근저당권, 지상권 | O10: =CONCATENATE(D10,H10) -> 대유*수 | P10: =IF(E10>=G10,"-","err") -> - | Q10: =IF(F10=0,"1","2") -> 1
A11: 6 | B11: 변경 | C11: 54 | D11: 전 | E11: 60 | F11: 60 | G11: 60 | H11: 이*춘 | O11: =CONCATENATE(D11,H11) -> 전이*춘 | P11: =IF(E11>=G11,"-","err") -> - | Q11: =IF(F11=0,"1","2") -> 2
A12: 7 | B12: 변경 | C12: 528 | D12: 도 | E12: 1081 | F12: 972 | G12: 948 | H12: 국 | I12: 국토해양부 | O12: =CONCATENATE(D12,H12) -> 도국 | P12: =IF(E12>=G12,"-","err") -> - | Q12: =IF(F12=0,"1","2") -> 2
A13: 8 | B13: 변경 | C13: 52-1 | D13: 도 | E13: 25 | F13: 25 | G13: 25 | H13: 이*현 | I13: 인천광역시 강화군 화도면 사기리 ** | O13: =CONCATENATE(D13,H13) -> 도이*현 | P13: =IF(E13>=G13,"-","err") -> - | Q13: =IF(F13=0,"1","2") -> 2
A14: 9 | B14: 변경 | C14: 51-2 | D14: 도 | E14: 37 | F14: 37 | G14: 37 | H14: 이*현 | I14: 인천광역시 강화군 화도면 사기리 ** | O14: =CONCATENATE(D14,H14) -> 도이*현 | P14: =IF(E14>=G14,"-","err") -> - | Q14: =IF(F14=0,"1","2") -> 2
A15: 10 | B15: 변경 | C15: 48-2 | D15: 도 | E15: 7 | F15: 7 | G15: 7 | H15: 이*례 | I15: 인천광역시 강화군 화도면 사기리 ** | O15: =CONCATENATE(D15,H15) -> 도이*례 | P15: =IF(E15>=G15,"-","err") -> - | Q15: =IF(F15=0,"1","2") -> 2
A16: 11 | B16: 변경 | C16: 2-21 | D16: 도 | E16: 42 | F16: 42 | G16: 42 | H16: 이*현 | I16: 인천광역시 강화군 화도면 사기리 ** | O16: =CONCATENATE(D16,H16) -> 도이*현 | P16: =IF(E16>=G16,"-","err") -> - | Q16: =IF(F16=0,"1","2") -> 2
A17: 12 | B17: 변경 | C17: 47-1 | D17: 도 | E17: 48 | F17: 48 | G17: 12 | H17: 공 | I17: 인천광역시 강화군 | O17: =CONCATENATE(D17,H17) -> 도공 | P17: =IF(E17>=G17,"-","err") -> - | Q17: =IF(F17=0,"1","2") -> 2
A18: 13 | B18: 변경 | C18: 46-1 | D18: 도 | E18: 36 | F18: 36 | G18: 11 | H18: 공 | I18: 인천광역시 강화군 | O18: =CONCATENATE(D18,H18) -> 도공 | P18: =IF(E18>=G18,"-","err") -> - | Q18: =IF(F18=0,"1","2") -> 2
A19: 14 | B19: 변경 | C19: 43-2 | D19: 도 | E19: 10 | F19: 10 | G19: 10 | H19: 김*순 | I19: 인천광역시 강화군 화도면 사기리 ** | O19: =CONCATENATE(D19,H19) -> 도김*순 | P19: =IF(E19>=G19,"-","err") -> - | Q19: =IF(F19=0,"1","2") -> 2
A20: 15 | B20: 변경 | C20: 3-1 | D20: 도 | E20: 115 | F20: 115 | G20: 115 | H20: 이*춘 | I20: 인천광역시 강화군 화도면 사기리 ** | O20: =CONCATENATE(D20,H20) -> 도이*춘 | P20: =IF(E20>=G20,"-","err") -> - | Q20: =IF(F20=0,"1","2") -> 2
A21: 16 | B21: 변경 | C21: 41-3 | D21: 도 | E21: 160 | F21: 160 | G21: 160 | H21: 방*준 | O21: =CONCATENATE(D21,H21) -> 도방*준 | P21: =IF(E21>=G21,"-","err") -> - | Q21: =IF(F21=0,"1","2") -> 2
A22: 17 | B22: 변경 | C22: 4-1 | D22: 도 | E22: 58 | F22: 58 | G22: 58 | H22: 방*배 | I22: 인천광역시 강화군 화도면 사기리 ** | O22: =CONCATENATE(D22,H22) -> 도방*배 | P22: =IF(E22>=G22,"-","err") -> - | Q22: =IF(F22=0,"1","2") -> 2
A23: 18 | B23: 변경 | C23: 5-2 | D23: 도 | E23: 8 | F23: 8 | G23: 8 | H23: 공 | I23: 인천광역시 강화군 | O23: =CONCATENATE(D23,H23) -> 도공 | P23: =IF(E23>=G23,"-","err") -> - | Q23: =IF(F23=0,"1","2") -> 2
A24: 19 | B24: 변경 | C24: 5-1 | D24: 도 | E24: 66 | F24: 66 | G24: 66 | H24: 공 | I24: 인천광역시 강화군 | O24: =CONCATENATE(D24,H24) -> 도공 | P24: =IF(E24>=G24,"-","err") -> - | Q24: =IF(F24=0,"1","2") -> 2
A25: 20 | B25: 변경 | C25: 16-1 | D25: 도 | E25: 507 | F25: 507 | G25: 369 | H25: 공 | I25: 인천광역시 강화군 | O25: =CONCATENATE(D25,H25) -> 도공 | P25: =IF(E25>=G25,"-","err") -> - | Q25: =IF(F25=0,"1","2") -> 2
A26: 21 | B26: 변경 | C26: 15-3 | D26: 대 | E26: 8 | F26: 0 | G26: 8 | H26: 박*택 | I26: 인천광역시 강화군 화도면 동막리 ** | O26: =CONCATENATE(D26,H26) -> 대박*택 | P26: =IF(E26>=G26,"-","err") -> - | Q26: =IF(F26=0,"1","2") -> 1
A27: 22 | B27: 변경 | C27: 15-4 | D27: 전 | E27: 251 | F27: 5 | G27: 251 | H27: 박*택 | I27: 인천광역시 강화군 화도면 동막리 ** | O27: =CONCATENATE(D27,H27) -> 전박*택 | P27: =IF(E27>=G27,"-","err") -> - | Q27: =IF(F27=0,"1","2") -> 2
A28: 23 | B28: 변경 | C28: 525 | D28: 도 | E28: 198 | F28: 198 | G28: 198 | H28: 국 | I28: 국토해양부 | O28: =CONCATENATE(D28,H28) -> 도국 | P28: =IF(E28>=G28,"-","err") -> - | Q28: =IF(F28=0,"1","2") -> 2
A29: 24 | B29: 변경 | C29: 6-1 | D29: 도 | E29: 108 | F29: 108 | G29: 108 | H29: 공 | I29: 인천광역시 강화군 | O29: =CONCATENATE(D29,H29) -> 도공 | P29: =IF(E29>=G29,"-","err") -> - | Q29: =IF(F29=0,"1","2") -> 2
A30: 25 | B30: 변경 | C30: 884 | D30: 구 | E30: 5508 | F30: 0 | G30: 86 | H30: 국 | I30: 농림축산식품부 | O30: =CONCATENATE(D30,H30) -> 구국 | P30: =IF(E30>=G30,"-","err") -> - | Q30: =IF(F30=0,"1","2") -> 1
A31: 소계 | F31: =SUM(F6:F29) -> 2950 | G31: =SUM(G6:G29) -> 3947 | O31: =CONCATENATE(D31,H31)
A32: 26 | B32: 변경 | C32: 885 | D32: 도 | E32: 1640 | F32: 0 | G32: 21 | H32: 국 | I32: 농림축산식품부 | O32: =CONCATENATE(D32,H32) -> 도국 | P32: =IF(E32>=G32,"-","err") -> - | Q32: =IF(F32=0,"1","2") -> 1
A33: 27 | B33: 변경 | C33: 881 | D33: 도 | E33: 1547 | F33: 0 | G33: 1 | H33: 국 | I33: 농림축산식품부 | O33: =CONCATENATE(D33,H33) -> 도국 | P33: =IF(E33>=G33,"-","err") -> - | Q33: =IF(F33=0,"1","2") -> 1
A34: 28 | B34: 변경 | C34: 869-2 | D34: 답 | E34: 12 | F34: 0 | G34: 12 | H34: 김*순 | I34: 인천광역시 강화군 화도면 사기리 ** | J34: 화도농업협동조합 | K34: 인천광역시 강화군 화도면 상방리 *** | L34: 근저당권 | O34: =CONCATENATE(D34,H34) -> 답김*순 | P34: =IF(E34>=G34,"-","err") -> - | Q34: =IF(F34=0,"1","2") -> 1
A35: 29 | B35: 변경 | C35: 869-1 | D35: 답 | E35: 117 | G35: 117 | H35: 김*순 | I35: 인천광역시 강화군 화도면 사기리 ** | J35: 화도농업협동조합 | K35: 인천광역시 강화군 화도면 상방리 *** | L35: 근저당권 | O35: =CONCATENATE(D35,H35) -> 답김*순 | P35: =IF(E35>=G35,"-","err") -> - | Q35: =IF(F35=0,"1","2") -> 1
A36: 30 | B36: 변경 | C36: 841 | D36: 구 | E36: 3792 | F36: 9 | G36: 3769 | H36: 국 | I36: 농림축산식품부 | O36: =CONCATENATE(D36,H36) -> 구국 | P36: =IF(E36>=G36,"-","err") -> - | Q36: =IF(F36=0,"1","2") -> 2
A37: 31 | B37: 변경 | C37: 868 | D37: 도 | E37: 1444 | F37: 0 | G37: 3 | H37: 국 | I37: 농림축산식품부 | O37: =CONCATENATE(D37,H37) -> 도국 | P37: =IF(E37>=G37,"-","err") -> - | Q37: =IF(F37=0,"1","2") -> 1
A38: 32 | B38: 변경 | C38: 867 | D38: 구 | E38: 3632 | F38: 0 | G38: 22 | H38: 국 | I38: 농림축산식품부 | O38: =CONCATENATE(D38,H38) -> 구국 | P38: =IF(E38>=G38,"-","err") -> - | Q38: =IF(F38=0,"1","2") -> 1
A39: 33 | B39: 변경 | C39: 866 | D39: 도 | E39: 1451 | F39: 0 | G39: 13 | H39: 국 | I39: 농림축산식품부 | O39: =CONCATENATE(D39,H39) -> 도국 | P39: =IF(E39>=G39,"-","err") -> - | Q39: =IF(F39=0,"1","2") -> 1
A40: 34 | B40: 변경 | C40: 865-1 | D40: 답 | E40: 191 | F40: 0 | G40: 191 | H40: 김*기 | I40: 인천광역시 강화군 화도면 사기리 *** | J40: 화도농업협동조합 | K40: 인천광역시 강화군 화도면 상방리 *** | L40: 근저당권 | O40: =CONCATENATE(D40,H40) -> 답김*기 | P40: =IF(E40>=G40,"-","err") -> - | Q40: =IF(F40=0,"1","2") -> 1
A41: 35 | B41: 변경 | C41: 13-3 | D41: 도 | E41: 66 | F41: 66 | G41: 66 | H41: 공 | I41: 인천광역시 강화군 | O41: =CONCATENATE(D41,H41) -> 도공 | P41: =IF(E41>=G41,"-","err") -> - | Q41: =IF(F41=0,"1","2") -> 2
A42: 36 | B42: 변경 | C42: 15-1 | D42: 도 | E42: 65 | F42: 65 | G42: 65 | H42: 김*수 | I42: 인천광역시 강화군 화도면 사기리 *** | O42: =CONCATENATE(D42,H42) -> 도김*수 | P42: =IF(E42>=G42,"-","err") -> - | Q42: =IF(F42=0,"1","2") -> 2
A43: 37 | H43: 박*희 | I43: 경기도 시흥시 정왕동 1869 주공아파트 *** | J43: 1 | M43: 331
H44: 김*현 | I44: 경기도 성남시 분당구 분당동 35 샛별마을 *** | M44: 331
H45: 이*영 | I45: 서울특별시 양천구 목동 951외1필지 목동금호어울림아파트 ** | M45: 1653
H46: 정*순 | I46: 경기도 수원시 장안구 천천동 569 일성아파트 *** | M46: 992
H47: 임*택 | I47: 서울특별시 성북구 돈암동 524 일신건영휴먼빌아파트 *** | M47: 661
H48: 성*선 | I48: 서울시 양천구 목동904 목동신시가지아파트 *** | M48: 661
H49: 윤*택 | I49: 서울특별시 동작구 흑석동 *** | M49: 1322
H50: 심*덕 | I50: 인천시 남동구 논현동 634-1 어진마을한화꿈에그린아파트 *** | M50: 661
H51: 현*상 | I51: 서울시 서초구 서초동 1617-26 드림하이츠 *** | M51: 992
H52: 주*관 | I52: 인천광역시 계양구 계산동 931-28 지산그라띠아 *** | M52: 331
H53: 유*숙 | I53: 인천광역시 계양구 계산동 1085-2 은행마을태평아파트 *** | M53: 331
H54: 윤*경 | I54: 서울시 서초구 우면동 57 대림아파트 *** | M54: 661
H55: 김*직 | I55: 울산광역시 남구 신정동 1639-1 문수로아이파크 *** | M55: 331
... H64: 조*경 | I64: 경기도 광명시 안현로 36, 고층주공아파트 *** | M64: 331
B65: 변경 | C65: 산6-1 | D65: 임 | E65: 104 | F65: 0 | G65: 104 | H65: 김*남 외 22인 | I65: 경기도 군포시 금정동 871-7 소월아파트 *** | O65: =CONCATENATE(D65,H65) -> 임김*남 외 22인 | P65: =IF(E65>=G65,"-","err") -> - | Q65: =IF(F65=0,"1","2") -> 1
A66: 38 | B66: 변경 | C66: 524 | D66: 도 | E66: 397 | F66: 341 | G66: 368 | H66: 국 | I66: 국토해양부 | O66: =CONCATENATE(D66,H66) -> 도국 | P66: =IF(E66>=G66,"-","err") -> - | Q66: =IF(F66=0,"1","2") -> 2
A67: 39 | B67: 변경 | C67: 12-2 | D67: 도 | E67: 133 | F67: 133 | G67: 133 | H67: 공 | I67: 강화군 | O67: =CONCATENATE(D67,H67) -> 도공 | P67: =IF(E67>=G67,"-","err") -> - | Q67: =IF(F67=0,"1","2") -> 2
A68: 40 | B68: 변경 | C68: 15-6 | D68: 임 | E68: 28 | F68: 0 | G68: 28 | H68: 이*관 | I68: 인천광역시 강화군 화도면 사기리 *** | O68: =CONCATENATE(D68,H68) -> 임이*관 | P68: =IF(E68>=G68,"-","err") -> - | Q68: =IF(F68=0,"1","2") -> 1
A69: 41 | B69: 변경 | C69: 12-1 | D69: 도 | E69: 55 | F69: 55 | G69: 55 | H69: 공 | I69: 강화군 | O69: =CONCATENATE(D69,H69) -> 도공 | P69: =IF(E69>=G69,"-","err") -> - | Q69: =IF(F69=0,"1","2") -> 2
A70: 42 | B70: 변경 | C70: 847-1 | D70: 답 | E70: 22 | F70: 0 | G70: 22 | H70: 전*님 | I70: 인천광역시 강화군 화도면 덕포리 *** | J70: 화도농업협동조합 | K70: 인천광역시 강화군 화도면 상방리 *** | L70: 근저당권 | O70: =CONCATENATE(D70,H70) -> 답전*님 | P70: =IF(E70>=G70,"-","err") -> - | Q70: =IF(F70=0,"1","2") -> 1
A71: 43 | B71: 변경 | C71: 846-1 | D71: 답 | E71: 213 | F71: 0 | G71: 213 | H71: 국 | I71: 기획재정부 | O71: =CONCATENATE(#REF!,#REF!) -> #REF! | P71: =IF(#REF!>=#REF!,"-","err") -> #REF! | Q71: =IF(#REF!=0,"1","2") -> #REF!
A72: 44 | B72: 변경 | C72: 843 | D72: 도 | E72: 1740 | F72: 0 | G72: 7 | H72: 국 | I72: 농림축산식품부 | O72: =CONCATENATE(D72,H72) -> 도국 | P72: =IF(E72>=G72,"-","err") -> - | Q72: =IF(F72=0,"1","2") -> 1
A73: 45 | B73: 변경 | C73: 842 | D73: 구 | E73: 3875 | F73: 0 | G73: 12 | H73: 국 | I73: 농림축산식품부 | O73: =CONCATENATE(D73,H73) -> 구국 | P73: =IF(E73>=G73,"-","err") -> - | Q73: =IF(F73=0,"1","2") -> 1
O74: =CONCATENATE(D74,H74)
O75: =CONCATENATE(D75,H75)
O76: =CONCATENATE(D76,H76)
O77: =CONCATENATE(D77,H77)
O78: =CONCATENATE(D78,H78)
A79: 소 계 | G79: =SUM(G32:G78) -> 5222 | O79: =CONCATENATE(D79,H79)
O80: =CONCATENATE(D80,H80)
O81: =CONCATENATE(D81,H81)
J82: 0 | K82: 0 | L82: 0 | O82: =CONCATENATE(D82,H82)
J83: 0 | K83: 0 | L83: 0 | O83: =CONCATENATE(D83,H83) | P83: =IF(E83>=G83,"-","err") -> -
J84: 0 | K84: 0 | L84: 0 | O84: =CONCATENATE(D84,H84) | P84: =IF(E84>=G84,"-","err") -> -
J85: 0 | K85: 0 | L85: 0 | O85: =CONCATENATE(D85,H85) | P85: =IF(E85>=G85,"-","err") -> -
O86: =CONCATENATE(D86,H86) | P86: =IF(E86>=G86,"-","err") -> -
O87: =CONCATENATE(D87,H87) | P87: =IF(E87>=G87,"-","err") -> -
O88: =CONCATENATE(D88,H88) | P88: =IF(E88>=G88,"-","err") -> -
J89: 0 | K89: 0 | L89: 0 | O89: =CONCATENATE(D89,H89) | P89: =IF(E89>=G89,"-","err") -> -
J90: 0 | K90: 0 | L90: 0 | O90: =CONCATENATE(D90,H90) | P90: =IF(E90>=G90,"-","err") -> -
O91: =CONCATENATE(D91,H91) | P91: =IF(E91>=G91,"-","err") -> -
O92: =CONCATENATE(D92,H92) | P92: =IF(E92>=G92,"-","err") -> -
O93: =CONCATENATE(D93,H93) | P93: =IF(E93>=G93,"-","err") -> -
O94: =CONCATENATE(D94,H94) | P94: =IF(E94>=G94,"-","err") -> -
O95: =CONCATENATE(D95,H95) | P95: =IF(E95>=G95,"-","err") -> -
O96: =CONCATENATE(D96,H96) | P96: =IF(E96>=G96,"-","err") -> -
O97: =CONCATENATE(D97,H97) | P97: =IF(E97>=G97,"-","err") -> -
O98: =CONCATENATE(D98,H98) | P98: =IF(E98>=G98,"-","err") -> -
O99: =CONCATENATE(D99,H99) | P99: =IF(E99>=G99,"-","err") -> -
A100: 소 계 | G100: =SUM(G80:G99) -> 0 | O100: =CONCATENATE(D100,H100)
O101: =CONCATENATE(D101,H101) | P101: =IF(E101>=G101,"-","err") -> -
O102: =CONCATENATE(D102,H102) | P102: =IF(E102>=G102,"-","err") -> -
K103: 0 | L103: 0 | O103: =CONCATENATE(D103,H103) | P103: =IF(E103>=G103,"-","err") -> -
K104: 0 | L104: 0 | O104: =CONCATENATE(D104,H104) | P104: =IF(E104>=G104,"-","err") -> -
K105: 0 | L105: 0 | O105: =CONCATENATE(D105,H105) | P105: =IF(E105>=G105,"-","err") -> -
K106: 0 | L106: 0 | O106: =CONCATENATE(D106,H106) | P106: =IF(E106>=G106,"-","err") -> -
K107: 0 | L107: 0 | O107: =CONCATENATE(D107,H107) | P107: =IF(E107>=G107,"-","err") -> -
O108: =CONCATENATE(D108,H108) | P108: =IF(E108>=G108,"-","err") -> -
K109: 0 | L109: 0 | O109: =CONCATENATE(D109,H109) | P109: =IF(E109>=G109,"-","err") -> -
...

Sheet xxx출력금지덕포리확인용
A1: 용 지 조 서
M2: 군도 18호선 - 덕포리
A4: 일련 | B4: 구분 (지적분할) | C4: 지번 | D4: 지목 | E4: 지적면적 (m²) | F4: 편입면적(m²) | H4: 소 유 자 | J4: 관 계 인 | M4: 비고
A5: 번호 | F5: 기정 | G5: 변경 | H5: 성 명 | I5: 주 소 | J5: 성 명 | K5: 주 소 | L5: 권리관계 | Q5: 기정
B6: 변경 | C6: 325-1 | D6: 임 | E6: 5 | F6: 0 | G6: 5 | H6: 구*재 | O6: =CONCATENATE(D6,H6) -> 임구*재 | P6: =IF(E6>=G6,"-","err") -> - | Q6: =IF(F6=0,"1","2") -> 1
B7: 변경 | C7: 산231 | D7: 도 | E7: 198 | F7: 16 | G7: 26 | H7: 국 | I7: 농림축산식품부 | O7: =CONCATENATE(D7,H7) -> 도국 | P7: =IF(E7>=G7,"-","err") -> - | Q7: =IF(F7=0,"1","2") -> 2
B8: 변경 | C8: 산6-2 | D8: 임 | E8: 10 | F8: 0 | G8: 10 | H8: 이*관 | I8: 강화군 화도면 덕포길 *** | O8: =CONCATENATE(D8,H8) -> 임이*관 | P8: =IF(E8>=G8,"-","err") -> - | Q8: =IF(F8=0,"1","2") -> 1
B9: 변경 | C9: 1413 | D9: 도 | E9: 764 | F9: 764 | G9: 418 | H9: 국 | I9: 농림축산식품부 | O9: =CONCATENATE(D9,H9) -> 도국 | P9: =IF(E9>=G9,"-","err") -> - | Q9: =IF(F9=0,"1","2") -> 2
B10: 변경 | C10: 324-1 | D10: 도 | E10: 90 | F10: 90 | G10: 90 | H10: 공 | I10: 인천광역시 강화군 | O10: =CONCATENATE(D10,H10) -> 도공 | P10: =IF(E10>=G10,"-","err") -> - | Q10: =IF(F10=0,"1","2") -> 2
B11: 변경 | C11: 1910 | D11: 도 | E11: 1518 | F11: 744 | G11: 1408 | H11: 국 | I11: 농림축산식품부 | O11: =CONCATENATE(D11,H11) -> 도국 | P11: =IF(E11>=G11,"-","err") -> - | Q11: =IF(F11=0,"1","2") -> 2
B12: 변경 | C12: 327-3 | D12: 도 | E12: 9 | F12: 9 | G12: 9 | H12: 방*준 | I12: 인천광역시 강화군 화도면 사기리 ** | O12: =CONCATENATE(D12,H12) -> 도방*준 | P12: =IF(E12>=G12,"-","err") -> - | Q12: =IF(F12=0,"1","2") -> 2
B13: 변경 | C13: 322-3 | D13: 도 | E13: 77 | F13: 77 | G13: 41 | H13: 공 | I13: 강화군 | O13: =CONCATENATE(D13,H13) -> 도공 | P13: =IF(E13>=G13,"-","err") -> - | Q13: =IF(F13=0,"1","2") -> 2
B14: 변경 | C14: 319-8 | D14: 전 | E14: 60 | F14: 0 | G14: 60 | H14: 김*섭 | I14: 인천광역시 강화군 화도면 덕포리 *** | O14: =CONCATENATE(D14,H14) -> 전김*섭 | P14: =IF(E14>=G14,"-","err") -> - | Q14: =IF(F14=0,"1","2") -> 1
B15: 변경 | C15: 318-4 | D15: 답 | E15: 57 | F15: 0 | G15: 57 | H15: 구*철 | I15: 서울특별시 영등포구 양평동6가 99 한솔아파트 *** | O15: =CONCATENATE(D15,H15) -> 답구*철 | P15: =IF(E15>=G15,"-","err") -> - | Q15: =IF(F15=0,"1","2") -> 1
B16: 변경 | C16: 319-9 | D16: 대 | E16: 7 | F16: 0 | G16: 7 | H16: 차*례 | I16: 인천광역시 강화군 강화읍 신문리 *** | J16: 화도농업협동조합 | K16: 인천광역시 강화군 화도면 상방리 *** | L16: 근저당권 | O16: =CONCATENATE(D16,H16) -> 대차*례 | P16: =IF(E16>=G16,"-","err") -> - | Q16: =IF(F16=0,"1","2") -> 1
B17: 변경 | C17: 316-5 | D17: 유 | E17: 74 | F17: 0 | G17: 47 | H17: 국 | I17: 농림축산식품부 | O17: =CONCATENATE(D17,H17) -> 유국 | P17: =IF(E17>=G17,"-","err") -> - | Q17: =IF(F17=0,"1","2") -> 1
B18: 변경 | C18: 316-19 | D18: 도 | E18: 78 | F18: 78 | G18: 32 | H18: 국 | I18: 농림축산식품부 | O18: =CONCATENATE(D18,H18) -> 도국 | P18: =IF(E18>=G18,"-","err") -> - | Q18: =IF(F18=0,"1","2") -> 2
B19: 변경 | C19: 1861 | D19: 구 | E19: 10750 | F19: 36 | G19: 487 | H19: 국 | I19: 농림축산식품부 | O19: =CONCATENATE(D19,H19) -> 구국 | P19: =IF(E19>=G19,"-","err") -> - | Q19: =IF(F19=0,"1","2") -> 2
B20: 변경 | C20: 1709 | D20: 도 | E20: 5929 | F20: 0 | G20: 187 | H20: 국 | I20: 농림축산식품부 | O20: =CONCATENATE(D20,H20) -> 도국 | P20: =IF(E20>=G20,"-","err") -> - | Q20: =IF(F20=0,"1","2") -> 1
B21: 변경 | C21: 1940 | D21: 도 | E21: 1858 | F21: 0 | G21: 10 | H21: 국 | I21: 농림축산식품부 | O21: =CONCATENATE(D21,H21) -> 도국 | P21: =IF(E21>=G21,"-","err") -> - | Q21: =IF(F21=0,"1","2") -> 1
B22: 변경 | C22: 1939-1 | D22: 답 | E22: 459 | F22: 0 | G22: 459 | H22: 국 | I22: 기획재정부 | O22: =CONCATENATE(D22,H22) -> 답국 | P22: =IF(E22>=G22,"-","err") -> - | Q22: =IF(F22=0,"1","2") -> 1
B23: 변경 | C23: 1911 | D23: 구 | E23: 939 | F23: 0 | G23: 939 | H23: 국 | I23: 농림축산식품부 | O23: =CONCATENATE(D23,H23) -> 구국 | P23: =IF(E23>=G23,"-","err") -> - | Q23: =IF(F23=0,"1","2") -> 1
B24: 변경 | C24: 1928 | D24: 도 | E24: 1919 | F24: 0 | G24: 51 | H24: 국 | I24: 농림축산식품부 | O24: =CONCATENATE(D24,H24) -> 도국 | P24: =IF(E24>=G24,"-","err") -> - | Q24: =IF(F24=0,"1","2") -> 1
B25: 변경 | C25: 1912-1 | D25: 답 | E25: 459 | F25: 0 | G25: 459 | H25: 구*회 | I25: 인천광역시 강화군 화도면 덕포리 *** | O25: =CONCATENATE(D25,H25) -> 답구*회 | P25: =IF(E25>=G25,"-","err") -> - | Q25: =IF(F25=0,"1","2") -> 1
O26: =CONCATENATE(D26,H26) | P26: =IF(E26>=G26,"-","err") -> - | Q26: =IF(F26=0,"1","2") -> 1
O27: =CONCATENATE(D27,H27) | P27: =IF(E27>=G27,"-","err") -> - | Q27: =IF(F27=0,"1","2") -> 1
O28: =CONCATENATE(D28,H28) | P28: =IF(E28>=G28,"-","err") -> - | Q28: =IF(F28=0,"1","2") -> 1
O29: =CONCATENATE(D29,H29) | P29: =IF(E29>=G29,"-","err") -> - | Q29: =IF(F29=0,"1","2") -> 1
A30: 소 계 | F30: =SUM(F6:F29) -> 1814 | G30: =SUM(G6:G29) -> 4802 | O30: =CONCATENATE(D30,H30)
O31: =CONCATENATE(D31,H31) | P31: =IF(E31>=G31,"-","err") -> - | Q31: =IF(F31=0,"1","2") -> 1
O32: =CONCATENATE(D32,H32) | P32: =IF(E32>=G32,"-","err") -> - | Q32: =IF(F32=0,"1","2") -> 1
O33: =CONCATENATE(D33,H33) | P33: =IF(E33>=G33,"-","err") -> - | Q33: =IF(F33=0,"1","2") -> 1
O34: =CONCATENATE(D34,H34) | P34: =IF(E34>=G34,"-","err") -> - | Q34: =IF(F34=0,"1","2") -> 1
O35: =CONCATENATE(D35,H35) | P35: =IF(E35>=G35,"-","err") -> - | Q35: =IF(F35=0,"1","2") -> 1
O36: =CONCATENATE(D36,H36) | P36: =IF(E36>=G36,"-","err") -> - | Q36: =IF(F36=0,"1","2") -> 1
O37: =CONCATENATE(D37,H37) | P37: =IF(E37>=G37,"-","err") -> - | Q37: =IF(F37=0,"1","2") -> 1
O38: =CONCATENATE(D38,H38) | P38: =IF(E38>=G38,"-","err") -> - | Q38: =IF(F38=0,"1","2") -> 1
O39: =CONCATENATE(D39,H39) | P39: =IF(E39>=G39,"-","err") -> - | Q39: =IF(F39=0,"1","2") -> 1
O40: =CONCATENATE(D40,H40) | P40: =IF(E40>=G40,"-","err") -> - | Q40: =IF(F40=0,"1","2") -> 1
O41: =CONCATENATE(D41,H41) | P41: =IF(E41>=G41,"-","err") -> - | Q41: =IF(F41=0,"1","2") -> 1
O42: =CONCATENATE(D42,H42) | P42: =IF(E42>=G42,"-","err") -> - | Q42: =IF(F42=0,"1","2") -> 1
... O47: =CONCATENATE(D47,H47) | P47: =IF(E47>=G47,"-","err") -> - | Q47: =IF(F47=0,"1","2") -> 1
A48: 소 계 | F48: =SUM(F31:F47) -> 0 | G48: =SUM(G31:G47) -> 0 | O48: =CONCATENATE(D48,H48)
O49: =CONCATENATE(D49,H49) | P49: =IF(E49>=G49,"-","err") -> -
O50: =CONCATENATE(D50,H50) | P50: =IF(E50>=G50,"-","err") -> -
J51: 0 | K51: 0 | L51: 0 | O51: =CONCATENATE(D51,H51) | P51: =IF(E51>=G51,"-","err") -> -
J52: 0 | K52: 0 | L52: 0 | O52: =CONCATENATE(D52,H52) | P52: =IF(E52>=G52,"-","err") -> -
J53: 0 | K53: 0 | L53: 0 | O53: =CONCATENATE(D53,H53) | P53: =IF(E53>=G53,"-","err") -> -
J54: 0 | K54: 0 | L54: 0 | O54: =CONCATENATE(D54,H54) | P54: =IF(E54>=G54,"-","err") -> -
O55: =CONCATENATE(D55,H55) | P55: =IF(E55>=G55,"-","err") -> -
O56: =CONCATENATE(D56,H56) | P56: =IF(E56>=G56,"-","err") -> -
O57: =CONCATENATE(D57,H57) | P57: =IF(E57>=G57,"-","err") -> -
J58: 0 | K58: 0 | L58: 0 | O58: =CONCATENATE(D58,H58) | P58: =IF(E58>=G58,"-","err") -> -
J59: 0 | K59: 0 | L59: 0 | O59: =CONCATENATE(D59,H59) | P59: =IF(E59>=G59,"-","err") -> -
O60: =CONCATENATE(D60,H60) | P60: =IF(E60>=G60,"-","err") -> -
O61: =CONCATENATE(D61,H61) | P61: =IF(E61>=G61,"-","err") -> -
O62: =CONCATENATE(D62,H62) | P62: =IF(E62>=G62,"-","err") -> -
O63: =CONCATENATE(D63,H63) | P63: =IF(E63>=G63,"-","err") -> -
O64: =CONCATENATE(D64,H64) | P64: =IF(E64>=G64,"-","err") -> -
O65: =CONCATENATE(D65,H65) | P65: =IF(E65>=G65,"-","err") -> -
O66: =CONCATENATE(D66,H66) | P66: =IF(E66>=G66,"-","err") -> -
O67: =CONCATENATE(D67,H67) | P67: =IF(E67>=G67,"-","err") -> -
O68: =CONCATENATE(D68,H68) | P68: =IF(E68>=G68,"-","err") -> -
A69: 소 계 | G69: =SUM(G49:G68) -> 0 | O69: =CONCATENATE(D69,H69)
O70: =CONCATENATE(D70,H70) | P70: =IF(E70>=G70,"-","err") -> -
O71: =CONCATENATE(D71,H71) | P71: =IF(E71>=G71,"-","err") -> -
K72: 0 | L72: 0 | O72: =CONCATENATE(D72,H72) | P72: =IF(E72>=G72,"-","err") -> -
K73: 0 | L73: 0 | O73: =CONCATENATE(D73,H73) | P73: =IF(E73>=G73,"-","err") -> -
K74: 0 | L74: 0 | O74: =CONCATENATE(D74,H74) | P74: =IF(E74>=G74,"-","err") -> -
K75: 0 | L75: 0 | O75: =CONCATENATE(D75,H75) | P75: =IF(E75>=G75,"-","err") -> -
K76: 0 | L76: 0 | O76: =CONCATENATE(D76,H76) | P76: =IF(E76>=G76,"-","err") -> -
O77: =CONCATENATE(D77,H77) | P77: =IF(E77>=G77,"-","err") -> -
K78: 0 | L78: 0 | O78: =CONCATENATE(D78,H78) | P78: =IF(E78>=G78,"-","err") -> -
K79: 0 | L79: 0 | O79: =CONCATENATE(D79,H79) | P79: =IF(E79>=G79,"-","err") -> -
K80: 0 | L80: 0 | O80: =CONCATENATE(D80,H80) | P80: =IF(E80>=G80,"-","err") -> -
O81: =CONCATENATE(D81,H81) | P81: =IF(E81>=G81,"-","err") -> -
O82: =CONCATENATE(D82,H82) | P82: =IF(E82>=G82,"-","err") -> -
O83: =CONCATENATE(D83,H83) | P83: =IF(E83>=G83,"-","err") -> -
O84: =CONCATENATE(D84,H84) | P84: =IF(E84>=G84,"-","err") -> -
O85: =CONCATENATE(D85,H85) | P85: =IF(E85>=G85,"-","err") -> -
O86: =CONCATENATE(D86,H86) | P86: =IF(E86>=G86,"-","err") -> -
O87: =CONCATENATE(D87,H87) | P87: =IF(E87>=G87,"-","err") -> -
O88: =CONCATENATE(D88,H88) | P88: =IF(E88>=G88,"-","err") -> -
O89: =CONCATENATE(D89,H89) | P89: =IF(E89>=G89,"-","err") -> -
A90: 소 계 | G90: =SUM(G70:G89) -> 0 | O90: =CONCATENATE(D90,H90)
O91: =CONCATENATE(D91,H91) | P91: =IF(E91>=G91,"-","err") -> -
O92: =CONCATENATE(D92,H92) | P92: =IF(E92>=G92,"-","err") -> -
J93: 0 | K93: 0 | L93: 0 | O93: =CONCATENATE(D93,H93) | P93: =IF(E93>=G93,"-","err") -> -
J94: 0 | K94: 0 | L94: 0 | O94: =CONCATENATE(D94,H94) | P94: =IF(E94>=G94,"-","err") -> -
J95: 0 | K95: 0 | L95: 0 | O95: =CONCATENATE(D95,H95) | P95: =IF(E95>=G95,"-","err") -> -
J96: 0 | K96: 0 | L96: 0 | O96: =CONCATENATE(D96,H96) | P96: =IF(E96>=G96,"-","err") -> -
O97: =CONCATENATE(D97,H97) | P97: =IF(E97>=G97,"-","err") -> -
O98: =CONCATENATE(D98,H98) | P98: =IF(E98>=G98,"-","err") -> -
O99: =CONCATENATE(D99,H99) | P99: =IF(E99>=G99,"-","err") -> -
J100: 0 | K100: 0 | L100: 0 | O100: =CONCATENATE(D100,H100) | P100: =IF(E100>=G100,"-","err") -> -
J101: 0 | K101: 0 | L101: 0 | O101: =CONCATENATE(D101,H101) | P101: =IF(E101>=G101,"-","err") -> -
O102: =CONCATENATE(D102,H102) | P102: =IF(E102>=G102,"-","err") -> -
O103: =CONCATENATE(D103,H103) | P103: =IF(E103>=G103,"-","err") -> -
O104: =CONCATENATE(D104,H104) | P104: =IF(E104>=G104,"-","err") -> -
O105: =CONCATENATE(D105,H105) | P105: =IF(E105>=G105,"-","err") -> -
...

Sheet 선두리 (2)
A1: 용 지 조 서
P2: 군도18호선 - 선두리
A4: 일련 | B4: 구분 (지적분할) | C4: 용지 | D4: 소재지 | E4: 지번 | F4: 지목 | G4: 지적면적 (m²) | H4: 편입면적 | J4: 소 유 자 | L4: 관 계 인 | P4: 비고
A5: 번호 | C5: 번호 | H5: 기정 | I5: (m²) | J5: 성 명 | K5: 주 소 | L5: 권리 | M5: 성 명 | N5: 주 소 | O5: 권리관계 | T5: 기정
A6: 1 | B6: 당초 | C6: 1 | D6: 선두리 | E6: 1192-5 | F6: 답 | G6: 177 | I6: 99 | J6: 공 | K6: 강화군 | R6: =CONCATENATE(F6,J6) -> 답공 | S6: =IF(G6>=I6,"-","err") -> - | T6: =IF(H6=0,"1","2") -> 1
A7: 2 | B7: 당초 | C7: 2 | D7: 선두리 | E7: 1192-4 | F7: 답 | G7: 1828 | I7: 47 | J7: 공 | K7: 강화군 | R7: =CONCATENATE(F7,J7) -> 답공 | S7: =IF(G7>=I7,"-","err") -> - | T7: =IF(H7=0,"1","2") -> 1
A8: 3 | B8: 당초 | C8: 3 | D8: 선두리 | E8: 1191 | F8: 제 | G8: 2522 | H8: 0 | I8: 59 | J8: 국 | K8: 농림축산식품부 | R8: =CONCATENATE(F8,J8) -> 제국 | S8: =IF(G8>=I8,"-","err") -> - | T8: =IF(H8=0,"1","2") -> 1
R9: =CONCATENATE(F9,J9) | S9: =IF(G9>=I9,"-","err") -> - | T9: =IF(H9=0,"1","2") -> 1
R10: =CONCATENATE(F10,J10) | S10: =IF(G10>=I10,"-","err") -> - | T10: =IF(H10=0,"1","2") -> 1
R11: =CONCATENATE(F11,J11) | S11: =IF(G11>=I11,"-","err") -> - | T11: =IF(H11=0,"1","2") -> 1
R12: =CONCATENATE(F12,J12) | S12: =IF(G12>=I12,"-","err") -> - | T12: =IF(H12=0,"1","2") -> 1
R13: =CONCATENATE(F13,J13) | S13: =IF(G13>=I13,"-","err") -> - | T13: =IF(H13=0,"1","2") -> 1
R14: =CONCATENATE(F14,J14) | S14: =IF(G14>=I14,"-","err") -> - | T14: =IF(H14=0,"1","2") -> 1
R15: =CONCATENATE(F15,J15) | S15: =IF(G15>=I15,"-","err") -> - | T15: =IF(H15=0,"1","2") -> 1
R16: =CONCATENATE(F16,J16) | S16: =IF(G16>=I16,"-","err") -> - | T16: =IF(H16=0,"1","2") -> 1
R17: =CONCATENATE(F17,J17) | S17: =IF(G17>=I17,"-","err") -> - | T17: =IF(H17=0,"1","2") -> 1
R18: =CONCATENATE(F18,J18) | S18: =IF(G18>=I18,"-","err") -> - | T18: =IF(H18=0,"1","2") -> 1
R19: =CONCATENATE(F19,J19) | S19: =IF(G19>=I19,"-","err") -> - | T19: =IF(H19=0,"1","2") -> 1
R20: =CONCATENATE(F20,J20) | S20: =IF(G20>=I20,"-","err") -> - | T20: =IF(H20=0,"1","2") -> 1
... R30: =CONCATENATE(F30,J30) | S30: =IF(G30>=I30,"-","err") -> - | T30: =IF(H30=0,"1","2") -> 1
A31: 소 계 | H31: =SUM(H6:H30) -> 0 | I31: =SUM(I6:I30) -> 205 | R31: =CONCATENATE(F31,J31) | S31: =IF(G31>=I31,"-","err") -> err
A32: 26 | R32: =CONCATENATE(F32,J32) | S32: =IF(G32>=I32,"-","err") -> -
A33: 27 | R33: =CONCATENATE(F33,J33) | S33: =IF(G33>=I33,"-","err") -> -
A34: 28 | R34: =CONCATENATE(F34,J34) | S34: =IF(G34>=I34,"-","err") -> -
A35: 29 | R35: =CONCATENATE(F35,J35) | S35: =IF(G35>=I35,"-","err") -> -
A36: 30 | R36: =CONCATENATE(F36,J36) | S36: =IF(G36>=I36,"-","err") -> -
A37: 31 | R37: =CONCATENATE(F37,J37) | S37: =IF(G37>=I37,"-","err") -> -
A38: 32 | R38: =CONCATENATE(F38,J38) | S38: =IF(G38>=I38,"-","err") -> -
A39: 33 | R39: =CONCATENATE(F39,J39) | S39: =IF(G39>=I39,"-","err") -> -
A40: 34 | R40: =CONCATENATE(F40,J40) | S40: =IF(G40>=I40,"-","err") -> -
A41: 35 | R41: =CONCATENATE(F41,J41) | S41: =IF(G41>=I41,"-","err") -> -
A42: 36 | R42: =CONCATENATE(F42,J42) | S42: =IF(G42>=I42,"-","err") -> -
A43: 37 | R43: =CONCATENATE(F43,J43) | S43: =IF(G43>=I43,"-","err") -> -
... A54: 48 | R54: =CONCATENATE(F54,J54) | S54: =IF(G54>=I54,"-","err") -> -
R55: =CONCATENATE(F55,J55) | S55: =IF(G55>=I55,"-","err") -> -
R56: =CONCATENATE(F56,J56) | S56: =IF(G56>=I56,"-","err") -> -
A57: 소 계 | I57: =SUM(I32:I56) -> 0 | R57: =CONCATENATE(F57,J57) | S57: =IF(G57>=I57,"-","err") -> -
R58: =CONCATENATE(F58,J58) | S58: =IF(G58>=I58,"-","err") -> -
R59: =CONCATENATE(F59,J59) | S59: =IF(G59>=I59,"-","err") -> -
R60: =CONCATENATE(F60,J60) | S60: =IF(G60>=I60,"-","err") -> -
R61: =CONCATENATE(F61,J61) | S61: =IF(G61>=I61,"-","err") -> -
R62: =CONCATENATE(F62,J62) | S62: =IF(G62>=I62,"-","err") -> -
R63: =CONCATENATE(F63,J63) | S63: =IF(G63>=I63,"-","err") -> -
R64: =CONCATENATE(F64,J64) | S64: =IF(G64>=I64,"-","err") -> -
R65: =CONCATENATE(F65,J65) | S65: =IF(G65>=I65,"-","err") -> -
R66: =CONCATENATE(F66,J66) | S66: =IF(G66>=I66,"-","err") -> -
R67: =CONCATENATE(F67,J67) | S67: =IF(G67>=I67,"-","err") -> -
R68: =CONCATENATE(F68,J68) | S68: =IF(G68>=I68,"-","err") -> -
R69: =CONCATENATE(F69,J69) | S69: =IF(G69>=I69,"-","err") -> -
... R77: =CONCATENATE(F77,J77) | S77: =IF(G77>=I77,"-","err") -> -
A78: 소 계 | I78: =SUM(I58:I77) -> 0 | R78: =CONCATENATE(F78,J78) | S78: =IF(G78>=I78,"-","err") -> -
R79: =CONCATENATE(F79,J79) | S79: =IF(G79>=I79,"-","err") -> -
R80: =CONCATENATE(F80,J80) | S80: =IF(G80>=I80,"-","err") -> -
R81: =CONCATENATE(F81,J81) | S81: =IF(G81>=I81,"-","err") -> -
R82: =CONCATENATE(F82,J82) | S82: =IF(G82>=I82,"-","err") -> -
R83: =CONCATENATE(F83,J83) | S83: =IF(G83>=I83,"-","err") -> -
R84: =CONCATENATE(F84,J84) | S84: =IF(G84>=I84,"-","err") -> -
R85: =CONCATENATE(F85,J85) | S85: =IF(G85>=I85,"-","err") -> -
R86: =CONCATENATE(F86,J86) | S86: =IF(G86>=I86,"-","err") -> -
R87: =CONCATENATE(F87,J87) | S87: =IF(G87>=I87,"-","err") -> -
R88: =CONCATENATE(F88,J88) | S88: =IF(G88>=I88,"-","err") -> -
R89: =CONCATENATE(F89,J89) | S89: =IF(G89>=I89,"-","err") -> -
R90: =CONCATENATE(F90,J90) | S90: =IF(G90>=I90,"-","err") -> -
... R98: =CONCATENATE(F98,J98) | S98: =IF(G98>=I98,"-","err") -> -
A99: 소 계 | I99: =SUM(I79:I98) -> 0 | R99: =CONCATENATE(F99,J99) | S99: =IF(G99>=I99,"-","err") -> -
R100: =CONCATENATE(F100,J100) | S100: =IF(G100>=I100,"-","err") -> -
R101: =CONCATENATE(F101,J101) | S101: =IF(G101>=I101,"-","err") -> -
R102: =CONCATENATE(F102,J102) | S102: =IF(G102>=I102,"-","err") -> -
R103: =CONCATENATE(F103,J103) | S103: =IF(G103>=I103,"-","err") -> -
R104: =CONCATENATE(F104,J104) | S104: =IF(G104>=I104,"-","err") -> -
R105: =CONCATENATE(F105,J105) | S105: =IF(G105>=I105,"-","err") -> -
R106: =CONCATENATE(F106,J106) | S106: =IF(G106>=I106,"-","err") -> -
R107: =CONCATENATE(F107,J107) | S107: =IF(G107>=I107,"-","err") -> -
R108: =CONCATENATE(F108,J108) | S108: =IF(G108>=I108,"-","err") -> -
R109: =CONCATENATE(F109,J109) | S109: =IF(G109>=I109,"-","err") -> -
R110: =CONCATENATE(F110,J110) | S110: =IF(G110>=I110,"-","err") -> -
R111: =CONCATENATE(F111,J111) | S111: =IF(G111>=I111,"-","err") -> -
... R119: =CONCATENATE(F119,J119) | S119: =IF(G119>=I119,"-","err") -> -
A120: 소 계 | I120: =SUM(I100:I119) -> 0 | R120: =CONCATENATE(F120,J120) | S120: =IF(G120>=I120,"-","err") -> -
R121: =CONCATENATE(F121,J121) | S121: =IF(G121>=I121,"-","err") -> -
R122: =CONCATENATE(F122,J122) | S122: =IF(G122>=I122,"-","err") -> -
N123: 0 | O123: 0 | R123: =CONCATENATE(F123,J123) | S123: =IF(G123>=I123,"-","err") -> -
N124: 0 | O124: 0 | R124: =CONCATENATE(F124,J124) | S124: =IF(G124>=I124,"-","err") -> -
N125: 0 | O125: 0 | R125: =CONCATENATE(F125,J125) | S125: =IF(G125>=I125,"-","err") -> -
N126: 0 | O126: 0 | R126: =CONCATENATE(F126,J126) | S126: =IF(G126>=I126,"-","err") -> -
N127: 0 | O127: 0 | R127: =CONCATENATE(F127,J127) | S127: =IF(G127>=I127,"-","err") -> -
R128: =CONCATENATE(F128,J128) | S128: =IF(G128>=I128,"-","err") -> -
N129: 0 | O129: 0 | R129: =CONCATENATE(F129,J129) | S129: =IF(G129>=I129,"-","err") -> -
N130: 0 | O130: 0 | R130: =CONCATENATE(F130,J130) | S130: =IF(G130>=I130,"-","err") -> -
N131: 0 | O131: 0 | R131: =CONCATENATE(F131,J131) | S131: =IF(G131>=I131,"-","err") -> -
R132: =CONCATENATE(F132,J132) | S132: =IF(G132>=I132,"-","err") -> -
R133: =CONCATENATE(F133,J133) | S133: =IF(G133>=I133,"-","err") -> -
R134: =CONCATENATE(F134,J134) | S134: =IF(G134>=I134,"-","err") -> -
R135: =CONCATENATE(F135,J135) | S135: =IF(G135>=I135,"-","err") -> -
R136: =CONCATENATE(F136,J136) | S136: =IF(G136>=I136,"-","err") -> -
R137: =CONCATENATE(F137,J137) | S137: =IF(G137>=I137,"-","err") -> -
R138: =CONCATENATE(F138,J138) | S138: =IF(G138>=I138,"-","err") -> -
R139: =CONCATENATE(F139,J139) | S139: =IF(G139>=I139,"-","err") -> -
R140: =CONCATENATE(F140,J140) | S140: =IF(G140>=I140,"-","err") -> -
A141: 소 계 | I141: =SUM(I121:I140) -> 0 | R141: =CONCATENATE(F141,J141) | S141: =IF(G141>=I141,"-","err") -> -
...

Sheet 사기리 (2)
A1: 용 지 조 서
P2: 군도18호선 - 사기리
A4: 일련 | B4: 구분 (지적분할) | C4: 용지 | D4: 소재지 | E4: 지번 | F4: 지목 | G4: 지적면적 (m²) | H4: 편입면적(m²) | J4: 소 유 자 | L4: 관 계 인 | P4: 비고
A5: 번호 | C5: 번호 | J5: 성 명 | K5: 주 소 | L5: 권리 | M5: 성 명 | N5: 주 소 | O5: 권리관계 | T5: 기정
A6: 1 | B6: 당초 | C6: =A6 -> 1 | D6: 사기리 | E6: 602-1 | F6: 도 | G6: 1267 | H6: 488 | I6: 1267 | J6: 국 | K6: 농림축산식품부 | R6: =CONCATENATE(F6,J6) -> 도국 | S6: =IF(G6>=I6,"-","err") -> - | T6: =IF(H6=0,"1","2") -> 2
A7: 2 | B7: 당초 | C7: =A7 -> 2 | D7: 사기리 | E7: 602-10 | F7: 구 | G7: 10 | H7: 0 | I7: 10 | J7: 국 | K7: 농림축산식품부 | R7: =CONCATENATE(F7,J7) -> 구국 | S7: =IF(G7>=I7,"-","err") -> - | T7: =IF(H7=0,"1","2") -> 1
A8: 3 | B8: 당초 | C8: 3 | D8: 사기리 | E8: 602-6 | F8: 구 | G8: 143 | H8: 0 | I8: 143 | J8: 국 | K8: 농림축산식품부 | R8: =CONCATENATE(F8,J8) -> 구국 | S8: =IF(G8>=I8,"-","err") -> - | T8: =IF(H8=0,"1","2") -> 1
A9: 4 | B9: 당초 | C9: 4 | D9: 사기리 | E9: 62 | F9: 대 | G9: 317 | H9: 0 | I9: 33 | J9: 유*수 | K9: 인천광역시 강화군 화도면 덕포길 *** | M9: 안양농업협동조합 | N9: 경기도 안양시 동안구 부림로 169번길 ** | O9: 근저당권, 지상권 | R9: =CONCATENATE(F9,J9) -> 대유*수 | S9: =IF(G9>=I9,"-","err") -> - | T9: =IF(H9=0,"1","2") -> 1
A10: 5 | B10: 당초 | C10: 5 | D10: 사기리 | E10: 61 | F10: 대 | G10: 159 | H10: 0 | I10: 2 | J10: 유*수 | K10: 인천광역시 강화군 화도면 덕포길 *** | M10: 안양농업협동조합 | N10: 경기도 안양시 동안구 부림로 169번길 ** | O10: 근저당권, 지상권 | R10: =CONCATENATE(F10,J10) -> 대유*수 | S10: =IF(G10>=I10,"-","err") -> - | T10: =IF(H10=0,"1","2") -> 1
A11: 6 | B11: 당초 | C11: 6 | D11: 사기리 | E11: 54 | F11: 전 | G11: 60 | H11: 60 | I11: 60 | J11: 이*춘 | P11: 미등기 | R11: =CONCATENATE(F11,J11) -> 전이*춘 | S11: =IF(G11>=I11,"-","err") -> - | T11: =IF(H11=0,"1","2") -> 2
A12: 7 | B12: 당초 | C12: 7 | D12: 사기리 | E12: 528 | F12: 도 | G12: 1081 | H12: 972 | I12: 948 | J12: 국 | K12: 국토해양부 | R12: =CONCATENATE(F12,J12) -> 도국 | S12: =IF(G12>=I12,"-","err") -> - | T12: =IF(H12=0,"1","2") -> 2
A13: 8 | B13: 당초 | C13: 8 | D13: 사기리 | E13: 52-1 | F13: 도 | G13: 25 | H13: 25 | I13: 25 | J13: 이*현 | K13: 인천광역시 강화군 화도면 사기리 ** | P13: 미등기 | R13: =CONCATENATE(F13,J13) -> 도이*현 | S13: =IF(G13>=I13,"-","err") -> - | T13: =IF(H13=0,"1","2") -> 2
A14: 9 | B14: 당초 | C14: 9 | D14: 사기리 | E14: 51-1 | F14: 도 | G14: 58 | H14: 58 | I14: 37 | J14: 이*현 | K14: 인천광역시 강화군 화도면 사기리 ** | P14: 미등기 | R14: =CONCATENATE(F14,J14) -> 도이*현 | S14: =IF(G14>=I14,"-","err") -> - | T14: =IF(H14=0,"1","2") -> 2
A15: 10 | B15: 당초 | C15: 10 | D15: 사기리 | E15: 48-1 | F15: 도 | G15: 41 | H15: 41 | I15: 7 | J15: 이*례 | K15: 인천광역시 강화군 화도면 사기리 ** | R15: =CONCATENATE(F15,J15) -> 도이*례 | S15: =IF(G15>=I15,"-","err") -> - | T15: =IF(H15=0,"1","2") -> 2
A16: 11 | B16: 당초 | C16: 11 | D16: 사기리 | E16: 2-21 | F16: 도 | G16: 42 | H16: 42 | I16: 42 | J16: 이*현 | K16: 인천광역시 강화군 화도면 사기리 ** | P16: 미등기 | R16: =CONCATENATE(F16,J16) -> 도이*현 | S16: =IF(G16>=I16,"-","err") -> - | T16: =IF(H16=0,"1","2") -> 2
A17: 12 | B17: 당초 | C17: 12 | D17: 사기리 | E17: 47-1 | F17: 도 | G17: 48 | H17: 48 | I17: 12 | J17: 공 | K17: 인천광역시 강화군 | R17: =CONCATENATE(F17,J17) -> 도공 | S17: =IF(G17>=I17,"-","err") -> - | T17: =IF(H17=0,"1","2") -> 2
A18: 13 | B18: 당초 | C18: 13 | D18: 사기리 | E18: 46-1 | F18: 도 | G18: 36 | H18: 36 | I18: 11 | J18: 공 | K18: 인천광역시 강화군 | R18: =CONCATENATE(F18,J18) -> 도공 | S18: =IF(G18>=I18,"-","err") -> - | T18: =IF(H18=0,"1","2") -> 2
A19: 14 | B19: 당초 | C19: 14 | D19: 사기리 | E19: 43-1 | F19: 도 | G19: 43 | H19: 30 | I19: 10 | J19: 김*순 | K19: 인천광역시 강화군 화도면 사기리 ** | R19: =CONCATENATE(F19,J19) -> 도김*순 | S19: =IF(G19>=I19,"-","err") -> - | T19: =IF(H19=0,"1","2") -> 2
A20: 15 | B20: 당초 | C20: 15 | D20: 사기리 | E20: 3-1 | F20: 도 | G20: 115 | H20: 115 | I20: 115 | J20: 이*춘 | K20: 인천광역시 강화군 화도면 사기리 ** | R20: =CONCATENATE(F20,J20) -> 도이*춘 | S20: =IF(G20>=I20,"-","err") -> - | T20: =IF(H20=0,"1","2") -> 2
A21: 16 | B21: 당초 | C21: 16 | D21: 사기리 | E21: 41-1 | F21: 도 | G21: 295 | H21: 295 | I21: 161 | J21: 방*준 | P21: 미등기 | R21: =CONCATENATE(F21,J21) -> 도방*준 | S21: =IF(G21>=I21,"-","err") -> - | T21: =IF(H21=0,"1","2") -> 2
A22: 17 | B22: 당초 | C22: 17 | D22: 사기리 | E22: 4-1 | F22: 도 | G22: 58 | H22: 58 | I22: 58 | J22: 방*배 | K22: 인천광역시 강화군 화도면 사기리 ** | R22: =CONCATENATE(F22,J22) -> 도방*배 | S22: =IF(G22>=I22,"-","err") -> -
A23: 18 | B23: 당초 | C23: 18 | D23: 사기리 | E23: 5-2 | F23: 도 | G23: 8 | H23: 8 | I23: 8 | J23: 공 | K23: 인천광역시 강화군 | R23: =CONCATENATE(F23,J23) -> 도공 | S23: =IF(G23>=I23,"-","err") -> -
A24: 19 | B24: 당초 | C24: 19 | D24: 사기리 | E24: 5-1 | F24: 도 | G24: 66 | H24: 66 | I24: 66 | J24: 공 | K24: 인천광역시 강화군 | R24: =CONCATENATE(F24,J24) -> 도공 | S24: =IF(G24>=I24,"-","err") -> -
A25: 20 | B25: 당초 | C25: 20 | D25: 사기리 | E25: 16-1 | F25: 도 | G25: 507 | H25: 507 | I25: 369 | J25: 공 | K25: 인천광역시 강화군 | R25: =CONCATENATE(F25,J25) -> 도공 | S25: =IF(G25>=I25,"-","err") -> -
A26: 21 | B26: 당초 | C26: 21 | D26: 사기리 | E26: 15 | F26: 대 | G26: 110 | H26: 0 | I26: 7 | J26: 박*택 | K26: 인천광역시 강화군 화도면 동막리 ** | R26: =CONCATENATE(F26,J26) -> 대박*택 | S26: =IF(G26>=I26,"-","err") -> -
A27: 22 | B27: 당초 | C27: 22 | D27: 사기리 | E27: 15-2 | F27: 전 | G27: 1316 | H27: 5 | I27: 214 | J27: 박*택 | K27: 인천광역시 강화군 화도면 동막리 ** | R27: =CONCATENATE(F27,J27) -> 전박*택 | S27: =IF(G27>=I27,"-","err") -> -
A28: 23 | B28: 당초 | C28: 23 | D28: 사기리 | E28: 525 | F28: 도 | G28: 198 | H28: 198 | I28: 198 | J28: 국 | K28: 국토해양부 | R28: =CONCATENATE(F28,J28) -> 도국 | S28: =IF(G28>=I28,"-","err") -> -
A29: 24 | B29: 당초 | C29: 24 | D29: 사기리 | E29: 6-1 | F29: 도 | G29: 108 | H29: 108 | I29: 108 | J29: 공 | K29: 인천광역시 강화군 | R29: =CONCATENATE(F29,J29) -> 도공 | S29: =IF(G29>=I29,"-","err") -> -
A30: 25 | B30: 당초 | C30: 25 | D30: 사기리 | E30: 884 | F30: 구 | G30: 5508 | H30: 0 | I30: 86 | J30: 국 | K30: 농림축산식품부 | R30: =CONCATENATE(F30,J30) -> 구국 | S30: =IF(G30>=I30,"-","err") -> -
A31: 소계 | H31: =SUM(H6:H30) -> 3160 | I31: =SUM(I6:I30) -> 3997 | R31: =CONCATENATE(F31,J31) | S31: =IF(G31>=I31,"-","err") -> err
A32: 26 | B32: 당초 | C32: 26 | D32: 사기리 | E32: 885 | F32: 도 | G32: 1640 | H32: 0 | I32: 21 | J32: 국 | K32: 농림축산식품부 | R32: =CONCATENATE(F32,J32) -> 도국 | S32: =IF(G32>=I32,"-","err") -> -
A33: 27 | B33: 당초 | C33: 27 | D33: 사기리 | E33: 881 | F33: 도 | G33: 1547 | H33: 0 | I33: 1 | J33: 국 | K33: 농림축산식품부 | R33: =CONCATENATE(F33,J33) -> 도국 | S33: =IF(G33>=I33,"-","err") -> -
A34: 28 | B34: 당초 | C34: 28 | D34: 사기리 | E34: 869 | F34: 답 | G34: 3674 | H34: 0 | I34: 128 | J34: 김*순 | K34: 인천광역시 강화군 화도면 사기리 ** | M34: 화도농업협동조합 | N34: 인천광역시 강화군 화도면 상방리 *** | O34: 근저당권 | R34: =CONCATENATE(F34,J34) -> 답김*순 | S34: =IF(G34>=I34,"-","err") -> -
A35: 29 | B35: 당초 | C35: 29 | D35: 사기리 | Q35: 번호 밀림 | R35: =CONCATENATE(F35,J35) | S35: =IF(G35>=I35,"-","err") -> -
A36: 30 | B36: 당초 | C36: 30 | D36: 사기리 | E36: 841 | F36: 구 | G36: 3792 | H36: 9 | I36: 3769 | J36: 국 | K36: 농림축산식품부 | R36: =CONCATENATE(F36,J36) -> 구국 | S36: =IF(G36>=I36,"-","err") -> -
A37: 31 | B37: 당초 | C37: 31 | D37: 사기리 | E37: 868 | F37: 도 | G37: 1444 | H37: 0 | I37: 3 | J37: 국 | K37: 농림축산식품부 | R37: =CONCATENATE(F37,J37) -> 도국 | S37: =IF(G37>=I37,"-","err") -> -
A38: 32 | B38: 당초 | C38: 32 | D38: 사기리 | E38: 867 | F38: 구 | G38: 3632 | H38: 0 | I38: 22 | J38: 국 | K38: 농림축산식품부 | R38: =CONCATENATE(F38,J38) -> 구국 | S38: =IF(G38>=I38,"-","err") -> -
A39: 33 | B39: 당초 | C39: 33 | D39: 사기리 | E39: 866 | F39: 도 | G39: 1451 | H39: 0 | I39: 13 | J39: 국 | K39: 농림축산식품부 | R39: =CONCATENATE(F39,J39) -> 도국 | S39: =IF(G39>=I39,"-","err") -> -
A40: 34 | B40: 당초 | C40: 34 | D40: 사기리 | E40: 865 | F40: 답 | G40: 7732 | H40: 0 | I40: 189 | J40: 김*기 | K40: 인천광역시 강화군 화도면 사기리 *** | M40: 화도농업협동조합 | N40: 인천광역시 강화군 화도면 상방리 *** | O40: 근저당권 | R40: =CONCATENATE(F40,J40) -> 답김*기 | S40: =IF(G40>=I40,"-","err") -> -
A41: 35 | B41: 당초 | C41: 35 | D41: 사기리 | E41: 13-3 | F41: 도 | G41: 66 | H41: 66 | I41: 66 | J41: 공 | K41: 인천광역시 강화군 | R41: =CONCATENATE(F41,J41) -> 도공 | S41: =IF(G41>=I41,"-","err") -> -
A42: 36 | B42: 당초 | C42: 36 | D42: 사기리 | E42: 15-1 | F42: 도 | G42: 65 | H42: 65 | I42: 65 | J42: 김*수 | K42: 인천광역시 강화군 화도면 사기리 *** | R42: =CONCATENATE(F42,J42) -> 도김*수 | S42: =IF(G42>=I42,"-","err") -> -
A43: 37 | B43: 당초 | C43: 37 | D43: 사기리 | E43: 산6 | F43: 임 | G43: 16363 | H43: 0 | I43: 34 | J43: 김*남 외 22인 | K43: 경기도 군포시 금정동 871-7 소월아파트 *** | R43: =CONCATENATE(F43,J43) -> 임김*남 외 22인 | S43: =IF(G43>=I43,"-","err") -> -
J44: 박*희 | K44: 경기도 시흥시 정왕동 1869 주공아파트 *** | M44: 1 | P44: 331 | R44: =CONCATENATE(F44,J44) -> 박*희 | S44: =IF(G44>=I44,"-","err") -> -
J45: 김*현 | K45: 경기도 성남시 분당구 분당동 35 샛별마을 *** | P45: 331 | R45: =CONCATENATE(F45,J45) -> 김*현 | S45: =IF(G45>=I45,"-","err") -> -
J46: 이*영 | K46: 서울특별시 양천구 목동 951외1필지 목동금호어울림아파트 ** | P46: 1653 | R46: =CONCATENATE(F46,J46) -> 이*영 | S46: =IF(G46>=I46,"-","err") -> -
J47: 정*순 | K47: 경기도 수원시 장안구 천천동 569 일성아파트 *** | P47: 992 | R47: =CONCATENATE(F47,J47) -> 정*순 | S47: =IF(G47>=I47,"-","err") -> -
J48: 임*택 | K48: 서울특별시 성북구 돈암동 524 일신건영휴먼빌아파트 *** | P48: 661 | R48: =CONCATENATE(F48,J48) -> 임*택 | S48: =IF(G48>=I48,"-","err") -> -
J49: 성*선 | K49: 서울시 양천구 목동904 목동신시가지아파트 *** | P49: 661 | R49: =CONCATENATE(F49,J49) -> 성*선 | S49: =IF(G49>=I49,"-","err") -> -
J50: 윤*택 | K50: 서울특별시 동작구 흑석동 *** | P50: 1322 | R50: =CONCATENATE(F50,J50) -> 윤*택 | S50: =IF(G50>=I50,"-","err") -> -
J51: 심*덕 | K51: 인천시 남동구 논현동 634-1 어진마을한화꿈에그린아파트 *** | P51: 661 | R51: =CONCATENATE(F51,J51) -> 심*덕 | S51: =IF(G51>=I51,"-","err") -> -
J52: 현*상 | K52: 서울시 서초구 서초동 1617-26 드림하이츠 *** | P52: 992 | R52: =CONCATENATE(F52,J52) -> 현*상 | S52: =IF(G52>=I52,"-","err") -> -
J53: 주*관 | K53: 인천광역시 계양구 계산동 931-28 지산그라띠아 *** | P53: 331 | R53: =CONCATENATE(F53,J53) -> 주*관 | S53: =IF(G53>=I53,"-","err") -> -
J54: 유*숙 | K54: 인천광역시 계양구 계산동 1085-2 은행마을태평아파트 *** | P54: 331 | R54: =CONCATENATE(F54,J54) -> 유*숙 | S54: =IF(G54>=I54,"-","err") -> -
J55: 윤*경 | K55: 서울시 서초구 우면동 57 대림아파트 *** | P55: 661 | R55: =CONCATENATE(F55,J55) -> 윤*경 | S55: =IF(G55>=I55,"-","err") -> -
J56: 김*직 | K56: 울산광역시 남구 신정동 1639-1 문수로아이파크 *** | P56: 331 | R56: =CONCATENATE(F56,J56) -> 김*직 | S56: =IF(G56>=I56,"-","err") -> -
... J65: 조*경 | K65: 경기도 광명시 안현로 36, 고층주공아파트 *** | P65: 331 | R65: =CONCATENATE(F65,J65) -> 조*경 | S65: =IF(G65>=I65,"-","err") -> -
A66: 38 | B66: 당초 | C66: 38 | D66: 사기리 | E66: 524 | F66: 도 | G66: 397 | H66: 341 | I66: 368 | J66: 국 | K66: 국토해양부 | R66: =CONCATENATE(F66,J66) -> 도국 | S66: =IF(G66>=I66,"-","err") -> -
A67: 39 | B67: 당초 | C67: 39 | D67: 사기리 | E67: 12-2 | F67: 도 | G67: 133 | H67: 133 | I67: 133 | J67: 공 | K67: 강화군 | R67: =CONCATENATE(F67,J67) -> 도공 | S67: =IF(G67>=I67,"-","err") -> -
A68: 40 | B68: 당초 | C68: 40 | D68: 사기리 | E68: 15-5 | F68: 임 | G68: 623 | H68: 0 | I68: 63 | J68: 이*관 | K68: 인천광역시 강화군 화도면 사기리 *** | R68: =CONCATENATE(F68,J68) -> 임이*관 | S68: =IF(G68>=I68,"-","err") -> -
A69: 41 | B69: 당초 | C69: 41 | D69: 사기리 | E69: 12-1 | F69: 도 | G69: 55 | H69: 55 | I69: 55 | J69: 공 | K69: 강화군 | R69: =CONCATENATE(F69,J69) -> 도공 | S69: =IF(G69>=I69,"-","err") -> -
A70: 42 | B70: 당초 | C70: 42 | D70: 사기리 | E70: 847 | F70: 답 | G70: 9459 | H70: 0 | I70: 17 | J70: 전*님 | K70: 인천광역시 강화군 화도면 덕포리 *** | M70: 화도농업협동조합 | N70: 인천광역시 강화군 화도면 상방리 *** | O70: 근저당권 | R70: =CONCATENATE(F70,J70) -> 답전*님 | S70: =IF(G70>=I70,"-","err") -> -
A71: 43 | B71: 당초 | C71: 43 | D71: 사기리 | E71: 846 | F71: 답 | G71: 1168 | H71: 0 | I71: 215 | J71: 국 | K71: 기획재정부 | R71: =CONCATENATE(F71,J71) -> 답국 | S71: =IF(G71>=I71,"-","err") -> -
A72: 44 | B72: 당초 | C72: 44 | D72: 사기리 | E72: 843 | F72: 도 | G72: 1740 | H72: 0 | I72: 7 | J72: 국 | K72: 농림축산식품부 | R72: =CONCATENATE(F72,J72) -> 도국 | S72: =IF(G72>=I72,"-","err") -> -
A73: 45 | B73: 당초 | C73: 45 | D73: 사기리 | E73: 842 | F73: 구 | G73: 3875 | H73: 0 | I73: 12 | J73: 국 | K73: 농림축산식품부 | R73: =CONCATENATE(F73,J73) -> 구국 | S73: =IF(G73>=I73,"-","err") -> -
R74: =CONCATENATE(F74,J74) | S74: =IF(G74>=I74,"-","err") -> -
R75: =CONCATENATE(F75,J75) | S75: =IF(G75>=I75,"-","err") -> -
R76: =CONCATENATE(F76,J76) | S76: =IF(G76>=I76,"-","err") -> -
R77: =CONCATENATE(F77,J77) | S77: =IF(G77>=I77,"-","err") -> -
R78: =CONCATENATE(F78,J78) | S78: =IF(G78>=I78,"-","err") -> -
A79: 소 계 | I79: =SUM(I32:I78) -> 5181 | R79: =CONCATENATE(F79,J79) | S79: =IF(G79>=I79,"-","err") -> err
R80: =CONCATENATE(F80,J80) | S80: =IF(G80>=I80,"-","err") -> -
R81: =CONCATENATE(F81,J81) | S81: =IF(G81>=I81,"-","err") -> -
M82: 0 | N82: 0 | O82: 0 | R82: =CONCATENATE(F82,J82) | S82: =IF(G82>=I82,"-","err") -> -
M83: 0 | N83: 0 | O83: 0 | R83: =CONCATENATE(F83,J83) | S83: =IF(G83>=I83,"-","err") -> -
M84: 0 | N84: 0 | O84: 0 | R84: =CONCATENATE(F84,J84) | S84: =IF(G84>=I84,"-","err") -> -
M85: 0 | N85: 0 | O85: 0 | R85: =CONCATENATE(F85,J85) | S85: =IF(G85>=I85,"-","err") -> -
R86: =CONCATENATE(F86,J86) | S86: =IF(G86>=I86,"-","err") -> -
R87: =CONCATENATE(F87,J87) | S87: =IF(G87>=I87,"-","err") -> -
R88: =CONCATENATE(F88,J88) | S88: =IF(G88>=I88,"-","err") -> -
M89: 0 | N89: 0 | O89: 0 | R89: =CONCATENATE(F89,J89) | S89: =IF(G89>=I89,"-","err") -> -
M90: 0 | N90: 0 | O90: 0 | R90: =CONCATENATE(F90,J90) | S90: =IF(G90>=I90,"-","err") -> -
R91: =CONCATENATE(F91,J91) | S91: =IF(G91>=I91,"-","err") -> -
R92: =CONCATENATE(F92,J92) | S92: =IF(G92>=I92,"-","err") -> -
R93: =CONCATENATE(F93,J93) | S93: =IF(G93>=I93,"-","err") -> -
R94: =CONCATENATE(F94,J94) | S94: =IF(G94>=I94,"-","err") -> -
R95: =CONCATENATE(F95,J95) | S95: =IF(G95>=I95,"-","err") -> -
R96: =CONCATENATE(F96,J96) | S96: =IF(G96>=I96,"-","err") -> -
R97: =CONCATENATE(F97,J97) | S97: =IF(G97>=I97,"-","err") -> -
R98: =CONCATENATE(F98,J98) | S98: =IF(G98>=I98,"-","err") -> -
R99: =CONCATENATE(F99,J99) | S99: =IF(G99>=I99,"-","err") -> -
A100: 소 계 | I100: =SUM(I80:I99) -> 0 | R100: =CONCATENATE(F100,J100) | S100: =IF(G100>=I100,"-","err") -> -
R101: =CONCATENATE(F101,J101) | S101: =IF(G101>=I101,"-","err") -> -
R102: =CONCATENATE(F102,J102) | S102: =IF(G102>=I102,"-","err") -> -
N103: 0 | O103: 0 | R103: =CONCATENATE(F103,J103) | S103: =IF(G103>=I103,"-","err") -> -
N104: 0 | O104: 0 | R104: =CONCATENATE(F104,J104) | S104: =IF(G104>=I104,"-","err") -> -
N105: 0 | O105: 0 | R105: =CONCATENATE(F105,J105) | S105: =IF(G105>=I105,"-","err") -> -
N106: 0 | O106: 0 | R106: =CONCATENATE(F106,J106) | S106: =IF(G106>=I106,"-","err") -> -
N107: 0 | O107: 0 | R107: =CONCATENATE(F107,J107) | S107: =IF(G107>=I107,"-","err") -> -
R108: =CONCATENATE(F108,J108) | S108: =IF(G108>=I108,"-","err") -> -
N109: 0 | O109: 0 | R109: =CONCATENATE(F109,J109) | S109: =IF(G109>=I109,"-","err") -> -
...

Sheet 덕포리 (2)
A1: 용 지 조 서
O2: 군도 18호선 - 덕포리
A4: 일련 | B4: 구분 (지적분할) | C4: 용지 | D4: 소재지 | E4: 지번 | F4: 지목 | G4: 지적면적 (m²) | H4: 편입면적(m²) | J4: 소 유 자 | L4: 관 계 인 | O4: 비고
A5: 번호 | C5: 번호 | J5: 성 명 | K5: 주 소 | L5: 성 명 | M5: 주 소 | N5: 권리관계 | S5: 기정
A6: 1 | B6: 당초 | C6: 1 | D6: 덕포리 | E6: 325 | F6: 임 | G6: 33 | H6: 0 | I6: 7 | J6: 구*재 | O6: 미등기 | R6: =CONCATENATE(F6,J6) -> 임구*재 | S6: =IF(G6>=I6,"-","err") -> -
A7: 2 | B7: 당초 | C7: 2 | D7: 덕포리 | E7: 산231 | F7: 도 | G7: 198 | H7: 16 | I7: 54 | J7: 국 | K7: 농림축산식품부 | R7: =CONCATENATE(F7,J7) -> 도국 | S7: =IF(G7>=I7,"-","err") -> -
A8: 3 | B8: 당초 | C8: 3 | D8: 덕포리 | E8: 산6 | F8: 임 | G8: 5519 | H8: 0 | I8: 46 | J8: 이*관 | K8: 강화군 화도면 덕포길 *** | R8: =CONCATENATE(F8,J8) -> 임이*관 | S8: =IF(G8>=I8,"-","err") -> -
A9: 4 | B9: 당초 | C9: 4 | D9: 덕포리 | E9: 1413 | F9: 도 | G9: 764 | H9: 764 | I9: 418 | J9: 국 | K9: 농림축산식품부 | R9: =CONCATENATE(F9,J9) -> 도국 | S9: =IF(G9>=I9,"-","err") -> -
A10: 5 | B10: 당초 | C10: 5 | D10: 덕포리 | E10: 324-1 | F10: 도 | G10: 90 | H10: 90 | I10: 90 | J10: 공 | K10: 인천광역시 강화군 | R10: =CONCATENATE(F10,J10) -> 도공 | S10: =IF(G10>=I10,"-","err") -> -
A11: 6 | B11: 당초 | C11: 6 | D11: 덕포리 | E11: 1910 | F11: 도 | G11: 1518 | H11: 744 | I11: 1408 | J11: 국 | K11: 농림축산식품부 | R11: =CONCATENATE(F11,J11) -> 도국 | S11: =IF(G11>=I11,"-","err") -> -
A12: 7 | B12: 당초 | C12: 7 | D12: 덕포리 | E12: 327-2 | F12: 도 | G12: 152 | H12: 152 | I12: 10 | J12: 방*준 | K12: 인천광역시 강화군 화도면 사기리 ** | O12: 미등기 | R12: =CONCATENATE(F12,J12) -> 도방*준 | S12: =IF(G12>=I12,"-","err") -> -
A13: 8 | B13: 당초 | C13: 8 | D13: 덕포리 | E13: 322-3 | F13: 도 | G13: 77 | H13: 77 | I13: 41 | J13: 공 | K13: 강화군 | R13: =CONCATENATE(F13,J13) -> 도공 | S13: =IF(G13>=I13,"-","err") -> -
A14: 9 | B14: 당초 | C14: 9 | D14: 덕포리 | E14: 319-1 | F14: 전 | G14: 373 | H14: 0 | I14: 60 | J14: 김*섭 | K14: 인천광역시 강화군 화도면 덕포리 *** | R14: =CONCATENATE(F14,J14) -> 전김*섭 | S14: =IF(G14>=I14,"-","err") -> -
A15: 10 | B15: 당초 | C15: 10 | D15: 덕포리 | E15: 318-1 | F15: 답 | G15: 111 | H15: 0 | I15: 59 | J15: 구*철 | K15: 서울특별시 영등포구 양평동6가 99 한솔아파트 *** | R15: =CONCATENATE(F15,J15) -> 답구*철 | S15: =IF(G15>=I15,"-","err") -> -
A16: 11 | B16: 당초 | C16: 11 | D16: 덕포리 | E16: 319-2 | F16: 대 | G16: 194 | H16: 0 | I16: 7 | J16: 차*례 | K16: 인천광역시 강화군 강화읍 신문리 *** | L16: 화도농업협동조합 | M16: 인천광역시 강화군 화도면 상방리 *** | N16: 근저당권 | R16: =CONCATENATE(F16,J16) -> 대차*례 | S16: =IF(G16>=I16,"-","err") -> -
A17: 12 | B17: 당초 | C17: 12 | D17: 덕포리 | E17: 316-5 | F17: 유 | G17: 74 | H17: 0 | I17: 47 | J17: 국 | K17: 농림축산식품부 | R17: =CONCATENATE(F17,J17) -> 유국 | S17: =IF(G17>=I17,"-","err") -> -
A18: 13 | B18: 당초 | C18: 13 | D18: 덕포리 | E18: 316-19 | F18: 도 | G18: 78 | H18: 78 | I18: 32 | J18: 국 | K18: 농림축산식품부 | R18: =CONCATENATE(F18,J18) -> 도국 | S18: =IF(G18>=I18,"-","err") -> -
A19: 14 | B19: 당초 | C19: 14 | D19: 덕포리 | E19: 1861 | F19: 구 | G19: 10750 | H19: 36 | I19: 487 | J19: 국 | K19: 농림축산식품부 | R19: =CONCATENATE(F19,J19) -> 구국 | S19: =IF(G19>=I19,"-","err") -> -
A20: 15 | B20: 당초 | C20: 15 | D20: 덕포리 | E20: 1709 | F20: 도 | G20: 5929 | H20: 0 | I20: 187 | J20: 국 | K20: 농림축산식품부 | R20: =CONCATENATE(F20,J20) -> 도국 | S20: =IF(G20>=I20,"-","err") -> -
A21: 16 | B21: 당초 | C21: 16 | D21: 덕포리 | E21: 1940 | F21: 도 | G21: 1858 | H21: 0 | I21: 10 | J21: 국 | K21: 농림축산식품부 | R21: =CONCATENATE(F21,J21) -> 도국 | S21: =IF(G21>=I21,"-","err") -> -
A22: 17 | B22: 당초 | C22: 17 | D22: 덕포리 | E22: 1939 | F22: 답 | G22: 1531 | H22: 0 | I22: 410 | J22: 국 | K22: 기획재정부 | R22: =CONCATENATE(F22,J22) -> 답국 | S22: =IF(G22>=I22,"-","err") -> -
A23: 18 | B23: 당초 | C23: 18 | D23: 덕포리 | E23: 1911 | F23: 구 | G23: 939 | H23: 0 | I23: 939 | J23: 국 | K23: 농림축산식품부 | R23: =CONCATENATE(F23,J23) -> 구국 | S23: =IF(G23>=I23,"-","err") -> -
A24: 19 | B24: 당초 | C24: 19 | D24: 덕포리 | E24: 1928 | F24: 도 | G24: 1919 | H24: 0 | I24: 51 | J24: 국 | K24: 농림축산식품부 | R24: =CONCATENATE(F24,J24) -> 도국 | S24: =IF(G24>=I24,"-","err") -> -
A25: 20 | B25: 당초 | C25: 20 | D25: 덕포리 | E25: 1912 | F25: 답 | G25: 3378 | H25: 0 | I25: 460 | J25: 구*회 | K25: 인천광역시 강화군 화도면 덕포리 *** | R25: =CONCATENATE(F25,J25) -> 답구*회 | S25: =IF(G25>=I25,"-","err") -> -
A26: 4 | B26: 당초 | C26: 21 | D26: 덕포리 | E26: 산6-1 | F26: 임 | G26: 3010 | H26: 764 | I26: 1 | J26: 이*준 | K26: 서울시 강동구 천호동 *** | R26: =CONCATENATE(F26,J26) -> 임이*준 | S26: =IF(G26>=I26,"-","err") -> -
R27: =CONCATENATE(F27,J27) | S27: =IF(G27>=I27,"-","err") -> -
R28: =CONCATENATE(F28,J28) | S28: =IF(G28>=I28,"-","err") -> -
R29: =CONCATENATE(F29,J29) | S29: =IF(G29>=I29,"-","err") -> -
R30: =CONCATENATE(F30,J30) | S30: =IF(G30>=I30,"-","err") -> -
A31: 소 계 | H31: =SUM(H6:H30) -> 2721 | I31: =SUM(I6:I30) -> 4824 | R31: =CONCATENATE(F31,J31) | S31: =IF(G31>=I31,"-","err") -> err
R32: =CONCATENATE(F32,J32) | S32: =IF(G32>=I32,"-","err") -> -
R33: =CONCATENATE(F33,J33) | S33: =IF(G33>=I33,"-","err") -> -
R34: =CONCATENATE(F34,J34) | S34: =IF(G34>=I34,"-","err") -> -
R35: =CONCATENATE(F35,J35) | S35: =IF(G35>=I35,"-","err") -> -
R36: =CONCATENATE(F36,J36) | S36: =IF(G36>=I36,"-","err") -> -
R37: =CONCATENATE(F37,J37) | S37: =IF(G37>=I37,"-","err") -> -
R38: =CONCATENATE(F38,J38) | S38: =IF(G38>=I38,"-","err") -> -
R39: =CONCATENATE(F39,J39) | S39: =IF(G39>=I39,"-","err") -> -
R40: =CONCATENATE(F40,J40) | S40: =IF(G40>=I40,"-","err") -> -
R41: =CONCATENATE(F41,J41) | S41: =IF(G41>=I41,"-","err") -> -
R42: =CONCATENATE(F42,J42) | S42: =IF(G42>=I42,"-","err") -> -
R43: =CONCATENATE(F43,J43) | S43: =IF(G43>=I43,"-","err") -> -
... R48: =CONCATENATE(F48,J48) | S48: =IF(G48>=I48,"-","err") -> -
A49: 소 계 | H49: =SUM(H32:H48) -> 0 | I49: =SUM(I32:I48) -> 0 | R49: =CONCATENATE(F49,J49) | S49: =IF(G49>=I49,"-","err") -> -
R50: =CONCATENATE(F50,J50) | S50: =IF(G50>=I50,"-","err") -> -
R51: =CONCATENATE(F51,J51) | S51: =IF(G51>=I51,"-","err") -> -
L52: 0 | M52: 0 | N52: 0 | R52: =CONCATENATE(F52,J52) | S52: =IF(G52>=I52,"-","err") -> -
L53: 0 | M53: 0 | N53: 0 | R53: =CONCATENATE(F53,J53) | S53: =IF(G53>=I53,"-","err") -> -
L54: 0 | M54: 0 | N54: 0 | R54: =CONCATENATE(F54,J54) | S54: =IF(G54>=I54,"-","err") -> -
L55: 0 | M55: 0 | N55: 0 | R55: =CONCATENATE(F55,J55) | S55: =IF(G55>=I55,"-","err") -> -
R56: =CONCATENATE(F56,J56) | S56: =IF(G56>=I56,"-","err") -> -
R57: =CONCATENATE(F57,J57) | S57: =IF(G57>=I57,"-","err") -> -
R58: =CONCATENATE(F58,J58) | S58: =IF(G58>=I58,"-","err") -> -
L59: 0 | M59: 0 | N59: 0 | R59: =CONCATENATE(F59,J59) | S59: =IF(G59>=I59,"-","err") -> -
L60: 0 | M60: 0 | N60: 0 | R60: =CONCATENATE(F60,J60) | S60: =IF(G60>=I60,"-","err") -> -
R61: =CONCATENATE(F61,J61) | S61: =IF(G61>=I61,"-","err") -> -
R62: =CONCATENATE(F62,J62) | S62: =IF(G62>=I62,"-","err") -> -
R63: =CONCATENATE(F63,J63) | S63: =IF(G63>=I63,"-","err") -> -
R64: =CONCATENATE(F64,J64) | S64: =IF(G64>=I64,"-","err") -> -
R65: =CONCATENATE(F65,J65) | S65: =IF(G65>=I65,"-","err") -> -
R66: =CONCATENATE(F66,J66) | S66: =IF(G66>=I66,"-","err") -> -
R67: =CONCATENATE(F67,J67) | S67: =IF(G67>=I67,"-","err") -> -
R68: =CONCATENATE(F68,J68) | S68: =IF(G68>=I68,"-","err") -> -
R69: =CONCATENATE(F69,J69) | S69: =IF(G69>=I69,"-","err") -> -
A70: 소 계 | I70: =SUM(I50:I69) -> 0 | R70: =CONCATENATE(F70,J70) | S70: =IF(G70>=I70,"-","err") -> -
R71: =CONCATENATE(F71,J71) | S71: =IF(G71>=I71,"-","err") -> -
R72: =CONCATENATE(F72,J72) | S72: =IF(G72>=I72,"-","err") -> -
M73: 0 | N73: 0 | R73: =CONCATENATE(F73,J73) | S73: =IF(G73>=I73,"-","err") -> -
M74: 0 | N74: 0 | R74: =CONCATENATE(F74,J74) | S74: =IF(G74>=I74,"-","err") -> -
M75: 0 | N75: 0 | R75: =CONCATENATE(F75,J75) | S75: =IF(G75>=I75,"-","err") -> -
M76: 0 | N76: 0 | R76: =CONCATENATE(F76,J76) | S76: =IF(G76>=I76,"-","err") -> -
M77: 0 | N77: 0 | R77: =CONCATENATE(F77,J77) | S77: =IF(G77>=I77,"-","err") -> -
R78: =CONCATENATE(F78,J78) | S78: =IF(G78>=I78,"-","err") -> -
M79: 0 | N79: 0 | R79: =CONCATENATE(F79,J79) | S79: =IF(G79>=I79,"-","err") -> -
M80: 0 | N80: 0 | R80: =CONCATENATE(F80,J80) | S80: =IF(G80>=I80,"-","err") -> -
M81: 0 | N81: 0 | R81: =CONCATENATE(F81,J81) | S81: =IF(G81>=I81,"-","err") -> -
R82: =CONCATENATE(F82,J82) | S82: =IF(G82>=I82,"-","err") -> -
R83: =CONCATENATE(F83,J83) | S83: =IF(G83>=I83,"-","err") -> -
R84: =CONCATENATE(F84,J84) | S84: =IF(G84>=I84,"-","err") -> -
R85: =CONCATENATE(F85,J85) | S85: =IF(G85>=I85,"-","err") -> -
R86: =CONCATENATE(F86,J86) | S86: =IF(G86>=I86,"-","err") -> -
R87: =CONCATENATE(F87,J87) | S87: =IF(G87>=I87,"-","err") -> -
R88: =CONCATENATE(F88,J88) | S88: =IF(G88>=I88,"-","err") -> -
R89: =CONCATENATE(F89,J89) | S89: =IF(G89>=I89,"-","err") -> -
R90: =CONCATENATE(F90,J90) | S90: =IF(G90>=I90,"-","err") -> -
A91: 소 계 | I91: =SUM(I71:I90) -> 0 | R91: =CONCATENATE(F91,J91) | S91: =IF(G91>=I91,"-","err") -> -
R92: =CONCATENATE(F92,J92) | S92: =IF(G92>=I92,"-","err") -> -
R93: =CONCATENATE(F93,J93) | S93: =IF(G93>=I93,"-","err") -> -
L94: 0 | M94: 0 | N94: 0 | R94: =CONCATENATE(F94,J94) | S94: =IF(G94>=I94,"-","err") -> -
L95: 0 | M95: 0 | N95: 0 | R95: =CONCATENATE(F95,J95) | S95: =IF(G95>=I95,"-","err") -> -
L96: 0 | M96: 0 | N96: 0 | R96: =CONCATENATE(F96,J96) | S96: =IF(G96>=I96,"-","err") -> -
L97: 0 | M97: 0 | N97: 0 | R97: =CONCATENATE(F97,J97) | S97: =IF(G97>=I97,"-","err") -> -
R98: =CONCATENATE(F98,J98) | S98: =IF(G98>=I98,"-","err") -> -
R99: =CONCATENATE(F99,J99) | S99: =IF(G99>=I99,"-","err") -> -
R100: =CONCATENATE(F100,J100) | S100: =IF(G100>=I100,"-","err") -> -
L101: 0 | M101: 0 | N101: 0 | R101: =CONCATENATE(F101,J101) | S101: =IF(G101>=I101,"-","err") -> -
L102: 0 | M102: 0 | N102: 0 | R102: =CONCATENATE(F102,J102) | S102: =IF(G102>=I102,"-","err") -> -
R103: =CONCATENATE(F103,J103) | S103: =IF(G103>=I103,"-","err") -> -
R104: =CONCATENATE(F104,J104) | S104: =IF(G104>=I104,"-","err") -> -
R105: =CONCATENATE(F105,J105) | S105: =IF(G105>=I105,"-","err") -> -
...

Sheet 3구간집계표
A1: 편 입 용 지 집 계 표
V2: ='3구간'!L2 -> 3공구
A3: 구분 | B3: 계 | H3: 국유지 | N3: 공유지 | T3: 사유지 | Z3: 비고
B4: 당초 | E4: 변경 | H4: 당초 | K4: 변경 | N4: 당초 | Q4: 변경 | T4: 당초 | W4: 변경
B5: 필지 | C5: / | D5: 면적(㎡) | E5: 필지 | F5: / | G5: 면적(㎡) | H5: 필지 | I5: / | J5: 면적(㎡) | K5: 필지 | L5: / | M5: 면적(㎡) | N5: 필지 | O5: / | P5: 면적(㎡) | Q5: 필지 | R5: / | S5: 면적(㎡) | T5: 필지 | U5: / | V5: 면적(㎡) | W5: 필지 | X5: / | Y5: 면적(㎡) | AC5: 총계 | AD5: 국유지 | AE5: 사유지 | AF5: 국유지+사유지
A6: 계 | B6: =SUM(B7:B31) -> 0 | C6: / | D6: =SUM(D7:D31) -> 0 | E6: =SUM(E7:E31) -> 0 | F6: / | G6: =SUM(G7:G31) -> 0 | H6: =SUM(H7:H31) -> 0 | I6: / | J6: =SUM(J7:J31) -> 0 | K6: =SUM(K7:K31) -> 0 | L6: / | M6: =SUM(M7:M31) -> 0 | N6: =SUM(N7:N31) -> 0 | O6: / | P6: =SUM(P7:P31) -> 0 | Q6: =SUM(Q7:Q31) -> 0 | R6: / | S6: =SUM(S7:S31) -> 0 | T6: =SUM(T7:T31) -> 0 | U6: / | V6: =SUM(V7:V31) -> 0 | W6: =SUM(W7:W31) -> 0 | X6: / | Y6: =SUM(Y7:Y31) -> 0 | AA6: =IF(EXACT(AC6,AF6),"맞음","틀림") -> 맞음 | AB6: 필지 | AC6: =SUM(B7:B31) -> 0 | AD6: =SUM(H7:H31) -> 0 | AE6: =SUM(T7:T31) -> 0 | AF6: =T6+H6 -> 0
A7: 전 | B7: =COUNTIFS('3구간'!$C$6:$C$502,"전",'3구간'!$P$6:$P$502,"2") -> 0 | C7: / | D7: =SUMIFS('3구간'!$E$6:$E$502,'3구간'!$C$6:$C$502,"전",'3구간'!$P$6:$P$502,"2") -> 0 | E7: =COUNTIF('3구간'!$C$6:$C$502,"전") -> 0 | F7: / | G7: =SUMIF('3구간'!$C$6:$C$502,"전",'3구간'!$F$6:$F$502) -> 0 | H7: =COUNTIFS('3구간'!$N$6:$N$502,"전국",'3구간'!$P$6:$P$502,"2") -> 0 | I7: / | J7: =SUMIFS('3구간'!$E$6:$E$502,'3구간'!$N$6:$N$502,"전국",'3구간'!$P$6:$P$502,"2") -> 0 | K7: =COUNTIF('3구간'!$N$6:$N$502,"전국") -> 0 | L7: / | M7: =SUMIF('3구간'!$N$6:$N$502,"전국",'3구간'!$F$6:$F$502) -> 0 | N7: =COUNTIFS('3구간'!$N$6:$N$502,"전공",'3구간'!$P$6:$P$502,"2") -> 0 | O7: / | P7: =SUMIFS('3구간'!$E$6:$E$502,'3구간'!$N$6:$N$502,"전공",'3구간'!$P$6:$P$502,"2") -> 0 | Q7: =COUNTIF('3구간'!$N$6:$N$502,"전공") -> 0 | R7: / | S7: =SUMIF('3구간'!$N$6:$N$502,"전공",'3구간'!$F$6:$F$502) -> 0 | T7: =B7-H7-N7 -> 0 | U7: / | V7: =D7-J7-P7 -> 0 | W7: =E7-K7-Q7 -> 0 | X7: / | Y7: =G7-M7-S7 -> 0 | AA7: =IF(EXACT(AC7,AF7),"맞음","틀림") -> 맞음 | AB7: 면적 | AC7: =SUM(D7:D31) -> 0 | AD7: =SUM(J7:J31) -> 0 | AE7: =SUM(V7:V31) -> 0 | AF7: =J6+V6 -> 0
A8: 답 | B8: =COUNTIFS('3구간'!$C$6:$C$502,"답",'3구간'!$P$6:$P$502,"2") -> 0 | C8: / | D8: =SUMIFS('3구간'!$E$6:$E$502,'3구간'!$C$6:$C$502,"답",'3구간'!$P$6:$P$502,"2") -> 0 | E8: =COUNTIF('3구간'!$C$6:$C$502,"답") -> 0 | F8: / | G8: =SUMIF('3구간'!$C$6:$C$502,"답",'3구간'!$F$6:$F$502) -> 0 | H8: =COUNTIFS('3구간'!$N$6:$N$502,"답국",'3구간'!$P$6:$P$502,"2") -> 0 | I8: / | J8: =SUMIFS('3구간'!$E$6:$E$502,'3구간'!$N$6:$N$502,"답국",'3구간'!$P$6:$P$502,"2") -> 0 | K8: =COUNTIF('3구간'!$N$6:$N$502,"답국") -> 0 | L8: / | M8: =SUMIF('3구간'!$N$6:$N$502,"답국",'3구간'!$F$6:$F$502) -> 0 | N8: =COUNTIFS('3구간'!$N$6:$N$502,"답공",'3구간'!$P$6:$P$502,"2") -> 0 | O8: / | P8: =SUMIFS('3구간'!$E$6:$E$502,'3구간'!$N$6:$N$502,"답공",'3구간'!$P$6:$P$502,"2") -> 0 | Q8: =COUNTIF('3구간'!$N$6:$N$502,"답공") -> 0 | R8: / | S8: =SUMIF('3구간'!$N$6:$N$502,"답공",'3구간'!$F$6:$F$502) -> 0 | T8: =B8-H8-N8 -> 0 | U8: / | V8: =D8-J8-P8 -> 0 | W8: =E8-K8-Q8 -> 0 | X8: / | Y8: =G8-M8-S8 -> 0
A9: 임야 | B9: =COUNTIFS('3구간'!$C$6:$C$502,"임",'3구간'!$P$6:$P$502,"2") -> 0 | C9: / | D9: =SUMIFS('3구간'!$E$6:$E$502,'3구간'!$C$6:$C$502,"임",'3구간'!$P$6:$P$502,"2") -> 0 | E9: =COUNTIF('3구간'!$C$6:$C$502,"임") -> 0 | F9: / | G9: =SUMIF('3구간'!$C$6:$C$502,"임",'3구간'!$F$6:$F$502) -> 0 | H9: =COUNTIFS('3구간'!$N$6:$N$502,"임국",'3구간'!$P$6:$P$502,"2") -> 0 | I9: / | J9: =SUMIFS('3구간'!$E$6:$E$502,'3구간'!$N$6:$N$502,"임국",'3구간'!$P$6:$P$502,"2") -> 0 | K9: =COUNTIF('3구간'!$N$6:$N$502,"임국") -> 0 | L9: / | M9: =SUMIF('3구간'!$N$6:$N$502,"임국",'3구간'!$F$6:$F$502) -> 0 | N9: =COUNTIFS('3구간'!$N$6:$N$502,"임공",'3구간'!$P$6:$P$502,"2") -> 0 | O9: / | P9: =SUMIFS('3구간'!$E$6:$E$502,'3구간'!$N$6:$N$502,"임공",'3구간'!$P$6:$P$502,"2") -> 0 | Q9: =COUNTIF('3구간'!$N$6:$N$502,"임공") -> 0 | R9: / | S9: =SUMIF('3구간'!$N$6:$N$502,"임공",'3구간'!$F$6:$F$502) -> 0 | T9: =B9-H9-N9 -> 0 | U9: / | V9: =D9-J9-P9 -> 0 | W9: =E9-K9-Q9 -> 0 | X9: / | Y9: =G9-M9-S9 -> 0
A10: 대지 | B10: =COUNTIFS('3구간'!$C$6:$C$502,"대",'3구간'!$P$6:$P$502,"2") -> 0 | C10: / | D10: =SUMIFS('3구간'!$E$6:$E$502,'3구간'!$C$6:$C$502,"대",'3구간'!$P$6:$P$502,"2") -> 0 | E10: =COUNTIF('3구간'!$C$6:$C$502,"대") -> 0 | F10: / | G10: =SUMIF('3구간'!$C$6:$C$502,"대",'3구간'!$F$6:$F$502) -> 0 | H10: =COUNTIFS('3구간'!$N$6:$N$502,"대국",'3구간'!$P$6:$P$502,"2") -> 0 | I10: / | J10: =SUMIFS('3구간'!$E$6:$E$502,'3구간'!$N$6:$N$502,"대국",'3구간'!$P$6:$P$502,"2") -> 0 | K10: =COUNTIF('3구간'!$N$6:$N$502,"대국") -> 0 | L10: / | M10: =SUMIF('3구간'!$N$6:$N$502,"대국",'3구간'!$F$6:$F$502) -> 0 | N10: =COUNTIFS('3구간'!$N$6:$N$502,"대공",'3구간'!$P$6:$P$502,"2") -> 0 | O10: / | P10: =SUMIFS('3구간'!$E$6:$E$502,'3구간'!$N$6:$N$502,"대공",'3구간'!$P$6:$P$502,"2") -> 0 | Q10: =COUNTIF('3구간'!$N$6:$N$502,"대공") -> 0 | R10: / | S10: =SUMIF('3구간'!$N$6:$N$502,"대공",'3구간'!$F$6:$F$502) -> 0 | T10: =B10-H10-N10 -> 0 | U10: / | V10: =D10-J10-P10 -> 0 | W10: =E10-K10-Q10 -> 0 | X10: / | Y10: =G10-M10-S10 -> 0
A11: 도로 | B11: =COUNTIFS('3구간'!$C$6:$C$502,"도",'3구간'!$P$6:$P$502,"2") -> 0 | C11: / | D11: =SUMIFS('3구간'!$E$6:$E$502,'3구간'!$C$6:$C$502,"도",'3구간'!$P$6:$P$502,"2") -> 0 | E11: =COUNTIF('3구간'!$C$6:$C$502,"도") -> 0 | F11: / | G11: =SUMIF('3구간'!$C$6:$C$502,"도",'3구간'!$F$6:$F$502) -> 0 | H11: =COUNTIFS('3구간'!$N$6:$N$502,"도국",'3구간'!$P$6:$P$502,"2") -> 0 | I11: / | J11: =SUMIFS('3구간'!$E$6:$E$502,'3구간'!$N$6:$N$502,"도국",'3구간'!$P$6:$P$502,"2") -> 0 | K11: =COUNTIF('3구간'!$N$6:$N$502,"도국") -> 0 | L11: / | M11: =SUMIF('3구간'!$N$6:$N$502,"도국",'3구간'!$F$6:$F$502) -> 0 | N11: =COUNTIFS('3구간'!$N$6:$N$502,"도공",'3구간'!$P$6:$P$502,"2") -> 0 | O11: / | P11: =SUMIFS('3구간'!$E$6:$E$502,'3구간'!$N$6:$N$502,"도공",'3구간'!$P$6:$P$502,"2") -> 0 | Q11: =COUNTIF('3구간'!$N$6:$N$502,"도공") -> 0 | R11: / | S11: =SUMIF('3구간'!$N$6:$N$502,"도공",'3구간'!$F$6:$F$502) -> 0 | T11: =B11-H11-N11 -> 0 | U11: / | V11: =D11-J11-P11 -> 0 | W11: =E11-K11-Q11 -> 0 | X11: / | Y11: =G11-M11-S11 -> 0
A12: 구거 | B12: =COUNTIFS('3구간'!$C$6:$C$502,"구",'3구간'!$P$6:$P$502,"2") -> 0 | C12: / | D12: =SUMIFS('3구간'!$E$6:$E$502,'3구간'!$C$6:$C$502,"구",'3구간'!$P$6:$P$502,"2") -> 0 | E12: =COUNTIF('3구간'!$C$6:$C$502,"구") -> 0 | F12: / | G12: =SUMIF('3구간'!$C$6:$C$502,"구",'3구간'!$F$6:$F$502) -> 0 | H12: =COUNTIFS('3구간'!$N$6:$N$502,"구국",'3구간'!$P$6:$P$502,"2") -> 0 | I12: / | J12: =SUMIFS('3구간'!$E$6:$E$502,'3구간'!$N$6:$N$502,"구국",'3구간'!$P$6:$P$502,"2") -> 0 | K12: =COUNTIF('3구간'!$N$6:$N$502,"구국") -> 0 | L12: / | M12: =SUMIF('3구간'!$N$6:$N$502,"구국",'3구간'!$F$6:$F$502) -> 0 | N12: =COUNTIFS('3구간'!$N$6:$N$502,"구공",'3구간'!$P$6:$P$502,"2") -> 0 | O12: / | P12: =SUMIFS('3구간'!$E$6:$E$502,'3구간'!$N$6:$N$502,"구공",'3구간'!$P$6:$P$502,"2") -> 0 | Q12: =COUNTIF('3구간'!$N$6:$N$502,"구공") -> 0 | R12: / | S12: =SUMIF('3구간'!$N$6:$N$502,"구공",'3구간'!$F$6:$F$502) -> 0 | T12: =B12-H12-N12 -> 0 | U12: / | V12: =D12-J12-P12 -> 0 | W12: =E12-K12-Q12 -> 0 | X12: / | Y12: =G12-M12-S12 -> 0
A13: 하천 | B13: =COUNTIFS('3구간'!$C$6:$C$502,"천",'3구간'!$P$6:$P$502,"2") -> 0 | C13: / | D13: =SUMIFS('3구간'!$E$6:$E$502,'3구간'!$C$6:$C$502,"천",'3구간'!$P$6:$P$502,"2") -> 0 | E13: =COUNTIF('3구간'!$C$6:$C$502,"천") -> 0 | F13: / | G13: =SUMIF('3구간'!$C$6:$C$502,"천",'3구간'!$F$6:$F$502) -> 0 | H13: =COUNTIFS('3구간'!$N$6:$N$502,"천국",'3구간'!$P$6:$P$502,"2") -> 0 | I13: / | J13: =SUMIFS('3구간'!$E$6:$E$502,'3구간'!$N$6:$N$502,"천국",'3구간'!$P$6:$P$502,"2") -> 0 | K13: =COUNTIF('3구간'!$N$6:$N$502,"천국") -> 0 | L13: / | M13: =SUMIF('3구간'!$N$6:$N$502,"천국",'3구간'!$F$6:$F$502) -> 0 | N13: =COUNTIFS('3구간'!$N$6:$N$502,"천공",'3구간'!$P$6:$P$502,"2") -> 0 | O13: / | P13: =SUMIFS('3구간'!$E$6:$E$502,'3구간'!$N$6:$N$502,"천공",'3구간'!$P$6:$P$502,"2") -> 0 | Q13: =COUNTIF('3구간'!$N$6:$N$502,"천공") -> 0 | R13: / | S13: =SUMIF('3구간'!$N$6:$N$502,"천공",'3구간'!$F$6:$F$502) -> 0 | T13: =B13-H13-N13 -> 0 | U13: / | V13: =D13-J13-P13 -> 0 | W13: =E13-K13-Q13 -> 0 | X13: / | Y13: =G13-M13-S13 -> 0
A14: 유지 | B14: =COUNTIFS('3구간'!$C$6:$C$502,"유",'3구간'!$P$6:$P$502,"2") -> 0 | C14: / | D14: =SUMIFS('3구간'!$E$6:$E$502,'3구간'!$C$6:$C$502,"유",'3구간'!$P$6:$P$502,"2") -> 0 | E14: =COUNTIF('3구간'!$C$6:$C$502,"유") -> 0 | F14: / | G14: =SUMIF('3구간'!$C$6:$C$502,"유",'3구간'!$F$6:$F$502) -> 0 | H14: =COUNTIFS('3구간'!$N$6:$N$502,"유국",'3구간'!$P$6:$P$502,"2") -> 0 | I14: / | J14: =SUMIFS('3구간'!$E$6:$E$502,'3구간'!$N$6:$N$502,"유국",'3구간'!$P$6:$P$502,"2") -> 0 | K14: =COUNTIF('3구간'!$N$6:$N$502,"유국") -> 0 | L14: / | M14: =SUMIF('3구간'!$N$6:$N$502,"유국",'3구간'!$F$6:$F$502) -> 0 | N14: =COUNTIFS('3구간'!$N$6:$N$502,"유공",'3구간'!$P$6:$P$502,"2") -> 0 | O14: / | P14: =SUMIFS('3구간'!$E$6:$E$502,'3구간'!$N$6:$N$502,"유공",'3구간'!$P$6:$P$502,"2") -> 0 | Q14: =COUNTIF('3구간'!$N$6:$N$502,"유공") -> 0 | R14: / | S14: =SUMIF('3구간'!$N$6:$N$502,"유공",'3구간'!$F$6:$F$502) -> 0 | T14: =B14-H14-N14 -> 0 | U14: / | V14: =D14-J14-P14 -> 0 | W14: =E14-K14-Q14 -> 0 | X14: / | Y14: =G14-M14-S14 -> 0
A15: 제방 | B15: =COUNTIFS('3구간'!$C$6:$C$502,"제",'3구간'!$P$6:$P$502,"2") -> 0 | C15: / | D15: =SUMIFS('3구간'!$E$6:$E$502,'3구간'!$C$6:$C$502,"제",'3구간'!$P$6:$P$502,"2") -> 0 | E15: =COUNTIF('3구간'!$C$6:$C$502,"제") -> 0 | F15: / | G15: =SUMIF('3구간'!$C$6:$C$502,"제",'3구간'!$F$6:$F$502) -> 0 | H15: =COUNTIFS('3구간'!$N$6:$N$502,"제국",'3구간'!$P$6:$P$502,"2") -> 0 | I15: / | J15: =SUMIFS('3구간'!$E$6:$E$502,'3구간'!$N$6:$N$502,"제국",'3구간'!$P$6:$P$502,"2") -> 0 | K15: =COUNTIF('3구간'!$N$6:$N$502,"제국") -> 0 | L15: / | M15: =SUMIF('3구간'!$N$6:$N$502,"제국",'3구간'!$F$6:$F$502) -> 0 | N15: =COUNTIFS('3구간'!$N$6:$N$502,"제공",'3구간'!$P$6:$P$502,"2") -> 0 | O15: / | P15: =SUMIFS('3구간'!$E$6:$E$502,'3구간'!$N$6:$N$502,"제공",'3구간'!$P$6:$P$502,"2") -> 0 | Q15: =COUNTIF('3구간'!$N$6:$N$502,"제공") -> 0 | R15: / | S15: =SUMIF('3구간'!$N$6:$N$502,"제공",'3구간'!$F$6:$F$502) -> 0 | T15: =B15-H15-N15 -> 0 | U15: / | V15: =D15-J15-P15 -> 0 | W15: =E15-K15-Q15 -> 0 | X15: / | Y15: =G15-M15-S15 -> 0
A16: 과수원 | B16: =COUNTIFS('3구간'!$C$6:$C$502,"과",'3구간'!$P$6:$P$502,"2") -> 0 | C16: / | D16: =SUMIFS('3구간'!$E$6:$E$502,'3구간'!$C$6:$C$502,"과",'3구간'!$P$6:$P$502,"2") -> 0 | E16: =COUNTIF('3구간'!$C$6:$C$502,"과") -> 0 | F16: / | G16: =SUMIF('3구간'!$C$6:$C$502,"과",'3구간'!$F$6:$F$502) -> 0 | H16: =COUNTIFS('3구간'!$N$6:$N$502,"과국",'3구간'!$P$6:$P$502,"2") -> 0 | I16: / | J16: =SUMIFS('3구간'!$E$6:$E$502,'3구간'!$N$6:$N$502,"과국",'3구간'!$P$6:$P$502,"2") -> 0 | K16: =COUNTIF('3구간'!$N$6:$N$502,"과국") -> 0 | L16: / | M16: =SUMIF('3구간'!$N$6:$N$502,"과국",'3구간'!$F$6:$F$502) -> 0 | N16: =COUNTIFS('3구간'!$N$6:$N$502,"과공",'3구간'!$P$6:$P$502,"2") -> 0 | O16: / | P16: =SUMIFS('3구간'!$E$6:$E$502,'3구간'!$N$6:$N$502,"과공",'3구간'!$P$6:$P$502,"2") -> 0 | Q16: =COUNTIF('3구간'!$N$6:$N$502,"과공") -> 0 | R16: / | S16: =SUMIF('3구간'!$N$6:$N$502,"과공",'3구간'!$F$6:$F$502) -> 0 | T16: =B16-H16-N16 -> 0 | U16: / | V16: =D16-J16-P16 -> 0 | W16: =E16-K16-Q16 -> 0 | X16: / | Y16: =G16-M16-S16 -> 0
A17: 공장 | B17: =COUNTIFS('3구간'!$C$6:$C$502,"장",'3구간'!$P$6:$P$502,"2") -> 0 | C17: / | D17: =SUMIFS('3구간'!$E$6:$E$502,'3구간'!$C$6:$C$502,"장",'3구간'!$P$6:$P$502,"2") -> 0 | E17: =COUNTIF('3구간'!$C$6:$C$502,"장") -> 0 | F17: / | G17: =SUMIF('3구간'!$C$6:$C$502,"장",'3구간'!$F$6:$F$502) -> 0 | H17: =COUNTIFS('3구간'!$N$6:$N$502,"장국",'3구간'!$P$6:$P$502,"2") -> 0 | I17: / | J17: =SUMIFS('3구간'!$E$6:$E$502,'3구간'!$N$6:$N$502,"장국",'3구간'!$P$6:$P$502,"2") -> 0 | K17: =COUNTIF('3구간'!$N$6:$N$502,"장국") -> 0 | L17: / | M17: =SUMIF('3구간'!$N$6:$N$502,"장국",'3구간'!$F$6:$F$502) -> 0 | N17: =COUNTIFS('3구간'!$N$6:$N$502,"장공",'3구간'!$P$6:$P$502,"2") -> 0 | O17: / | P17: =SUMIFS('3구간'!$E$6:$E$502,'3구간'!$N$6:$N$502,"장공",'3구간'!$P$6:$P$502,"2") -> 0 | Q17: =COUNTIF('3구간'!$N$6:$N$502,"장공") -> 0 | R17: / | S17: =SUMIF('3구간'!$N$6:$N$502,"장공",'3구간'!$F$6:$F$502) -> 0 | T17: =B17-H17-N17 -> 0 | U17: / | V17: =D17-J17-P17 -> 0 | W17: =E17-K17-Q17 -> 0 | X17: / | Y17: =G17-M17-S17 -> 0
A18: 목장 | B18: =COUNTIFS('3구간'!$C$6:$C$502,"목",'3구간'!$P$6:$P$502,"2") -> 0 | C18: / | D18: =SUMIFS('3구간'!$E$6:$E$502,'3구간'!$C$6:$C$502,"목",'3구간'!$P$6:$P$502,"2") -> 0 | E18: =COUNTIF('3구간'!$C$6:$C$502,"목") -> 0 | F18: / | G18: =SUMIF('3구간'!$C$6:$C$502,"목",'3구간'!$F$6:$F$502) -> 0 | H18: =COUNTIFS('3구간'!$N$6:$N$502,"목국",'3구간'!$P$6:$P$502,"2") -> 0 | I18: / | J18: =SUMIFS('3구간'!$E$6:$E$502,'3구간'!$N$6:$N$502,"목국",'3구간'!$P$6:$P$502,"2") -> 0 | K18: =COUNTIF('3구간'!$N$6:$N$502,"목국") -> 0 | L18: / | M18: =SUMIF('3구간'!$N$6:$N$502,"목국",'3구간'!$F$6:$F$502) -> 0 | N18: =COUNTIFS('3구간'!$N$6:$N$502,"목공",'3구간'!$P$6:$P$502,"2") -> 0 | O18: / | P18: =SUMIFS('3구간'!$E$6:$E$502,'3구간'!$N$6:$N$502,"목공",'3구간'!$P$6:$P$502,"2") -> 0 | Q18: =COUNTIF('3구간'!$N$6:$N$502,"목공") -> 0 | R18: / | S18: =SUMIF('3구간'!$N$6:$N$502,"목공",'3구간'!$F$6:$F$502) -> 0 | T18: =B18-H18-N18 -> 0 | U18: / | V18: =D18-J18-P18 -> 0 | W18: =E18-K18-Q18 -> 0 | X18: / | Y18: =G18-M18-S18 -> 0
A19: 학교용지 | B19: =COUNTIFS('3구간'!$C$6:$C$502,"학",'3구간'!$P$6:$P$502,"2") -> 0 | C19: / | D19: =SUMIFS('3구간'!$E$6:$E$502,'3구간'!$C$6:$C$502,"학",'3구간'!$P$6:$P$502,"2") -> 0 | E19: =COUNTIF('3구간'!$C$6:$C$502,"학") -> 0 | F19: / | G19: =SUMIF('3구간'!$C$6:$C$502,"학",'3구간'!$F$6:$F$502) -> 0 | H19: =COUNTIFS('3구간'!$N$6:$N$502,"학국",'3구간'!$P$6:$P$502,"2") -> 0 | I19: / | J19: =SUMIFS('3구간'!$E$6:$E$502,'3구간'!$N$6:$N$502,"학국",'3구간'!$P$6:$P$502,"2") -> 0 | K19: =COUNTIF('3구간'!$N$6:$N$502,"학국") -> 0 | L19: / | M19: =SUMIF('3구간'!$N$6:$N$502,"학국",'3구간'!$F$6:$F$502) -> 0 | N19: =COUNTIFS('3구간'!$N$6:$N$502,"학공",'3구간'!$P$6:$P$502,"2") -> 0 | O19: / | P19: =SUMIFS('3구간'!$E$6:$E$502,'3구간'!$N$6:$N$502,"학공",'3구간'!$P$6:$P$502,"2") -> 0 | Q19: =COUNTIF('3구간'!$N$6:$N$502,"학공") -> 0 | R19: / | S19: =SUMIF('3구간'!$N$6:$N$502,"학공",'3구간'!$F$6:$F$502) -> 0 | T19: =B19-H19-N19 -> 0 | U19: / | V19: =D19-J19-P19 -> 0 | W19: =E19-K19-Q19 -> 0 | X19: / | Y19: =G19-M19-S19 -> 0
A20: 철도 | B20: =COUNTIFS('3구간'!$C$6:$C$502,"철",'3구간'!$P$6:$P$502,"2") -> 0 | C20: / | D20: =SUMIFS('3구간'!$E$6:$E$502,'3구간'!$C$6:$C$502,"철",'3구간'!$P$6:$P$502,"2") -> 0 | E20: =COUNTIF('3구간'!$C$6:$C$502,"철") -> 0 | F20: / | G20: =SUMIF('3구간'!$C$6:$C$502,"철",'3구간'!$F$6:$F$502) -> 0 | H20: =COUNTIFS('3구간'!$N$6:$N$502,"철국",'3구간'!$P$6:$P$502,"2") -> 0 | I20: / | J20: =SUMIFS('3구간'!$E$6:$E$502,'3구간'!$N$6:$N$502,"철국",'3구간'!$P$6:$P$502,"2") -> 0 | K20: =COUNTIF('3구간'!$N$6:$N$502,"철국") -> 0 | L20: / | M20: =SUMIF('3구간'!$N$6:$N$502,"철국",'3구간'!$F$6:$F$502) -> 0 | N20: =COUNTIFS('3구간'!$N$6:$N$502,"철공",'3구간'!$P$6:$P$502,"2") -> 0 | O20: / | P20: =SUMIFS('3구간'!$E$6:$E$502,'3구간'!$N$6:$N$502,"철공",'3구간'!$P$6:$P$502,"2") -> 0 | Q20: =COUNTIF('3구간'!$N$6:$N$502,"철공") -> 0 | R20: / | S20: =SUMIF('3구간'!$N$6:$N$502,"철공",'3구간'!$F$6:$F$502) -> 0 | T20: =B20-H20-N20 -> 0 | U20: / | V20: =D20-J20-P20 -> 0 | W20: =E20-K20-Q20 -> 0 | X20: / | Y20: =G20-M20-S20 -> 0
A21: 묘지 | B21: =COUNTIFS('3구간'!$C$6:$C$502,"묘",'3구간'!$P$6:$P$502,"2") -> 0 | C21: / | D21: =SUMIFS('3구간'!$E$6:$E$502,'3구간'!$C$6:$C$502,"묘",'3구간'!$P$6:$P$502,"2") -> 0 | E21: =COUNTIF('3구간'!$C$6:$C$502,"묘") -> 0 | F21: / | G21: =SUMIF('3구간'!$C$6:$C$502,"묘",'3구간'!$F$6:$F$502) -> 0 | H21: =COUNTIFS('3구간'!$N$6:$N$502,"묘국",'3구간'!$P$6:$P$502,"2") -> 0 | I21: / | J21: =SUMIFS('3구간'!$E$6:$E$502,'3구간'!$N$6:$N$502,"묘국",'3구간'!$P$6:$P$502,"2") -> 0 | K21: =COUNTIF('3구간'!$N$6:$N$502,"묘국") -> 0 | L21: / | M21: =SUMIF('3구간'!$N$6:$N$502,"묘국",'3구간'!$F$6:$F$502) -> 0 | N21: =COUNTIFS('3구간'!$N$6:$N$502,"묘공",'3구간'!$P$6:$P$502,"2") -> 0 | O21: / | P21: =SUMIFS('3구간'!$E$6:$E$502,'3구간'!$N$6:$N$502,"묘공",'3구간'!$P$6:$P$502,"2") -> 0 | Q21: =COUNTIF('3구간'!$N$6:$N$502,"묘공") -> 0 | R21: / | S21: =SUMIF('3구간'!$N$6:$N$502,"묘공",'3구간'!$F$6:$F$502) -> 0 | T21: =B21-H21-N21 -> 0 | U21: / | V21: =D21-J21-P21 -> 0 | W21: =E21-K21-Q21 -> 0 | X21: / | Y21: =G21-M21-S21 -> 0
A22: 수도 | B22: =COUNTIFS('3구간'!$C$6:$C$502,"수",'3구간'!$P$6:$P$502,"2") -> 0 | C22: / | D22: =SUMIFS('3구간'!$E$6:$E$502,'3구간'!$C$6:$C$502,"수",'3구간'!$P$6:$P$502,"2") -> 0 | E22: =COUNTIF('3구간'!$C$6:$C$502,"수") -> 0 | F22: / | G22: =SUMIF('3구간'!$C$6:$C$502,"수",'3구간'!$F$6:$F$502) -> 0 | H22: =COUNTIFS('3구간'!$N$6:$N$502,"수국",'3구간'!$P$6:$P$502,"2") -> 0 | I22: / | J22: =SUMIFS('3구간'!$E$6:$E$502,'3구간'!$N$6:$N$502,"수국",'3구간'!$P$6:$P$502,"2") -> 0 | K22: =COUNTIF('3구간'!$N$6:$N$502,"수국") -> 0 | L22: / | M22: =SUMIF('3구간'!$N$6:$N$502,"수국",'3구간'!$F$6:$F$502) -> 0 | N22: =COUNTIFS('3구간'!$N$6:$N$502,"수공",'3구간'!$P$6:$P$502,"2") -> 0 | O22: / | P22: =SUMIFS('3구간'!$E$6:$E$502,'3구간'!$N$6:$N$502,"수공",'3구간'!$P$6:$P$502,"2") -> 0 | Q22: =COUNTIF('3구간'!$N$6:$N$502,"수공") -> 0 | R22: / | S22: =SUMIF('3구간'!$N$6:$N$502,"수공",'3구간'!$F$6:$F$502) -> 0 | T22: =B22-H22-N22 -> 0 | U22: / | V22: =D22-J22-P22 -> 0 | W22: =E22-K22-Q22 -> 0 | X22: / | Y22: =G22-M22-S22 -> 0
A23: 잡종지 | B23: =COUNTIFS('3구간'!$C$6:$C$502,"잡",'3구간'!$P$6:$P$502,"2") -> 0 | C23: / | D23: =SUMIFS('3구간'!$E$6:$E$502,'3구간'!$C$6:$C$502,"잡",'3구간'!$P$6:$P$502,"2") -> 0 | E23: =COUNTIF('3구간'!$C$6:$C$502,"잡") -> 0 | F23: / | G23: =SUMIF('3구간'!$C$6:$C$502,"잡",'3구간'!$F$6:$F$502) -> 0 | H23: =COUNTIFS('3구간'!$N$6:$N$502,"잡국",'3구간'!$P$6:$P$502,"2") -> 0 | I23: / | J23: =SUMIFS('3구간'!$E$6:$E$502,'3구간'!$N$6:$N$502,"잡국",'3구간'!$P$6:$P$502,"2") -> 0 | K23: =COUNTIF('3구간'!$N$6:$N$502,"잡국") -> 0 | L23: / | M23: =SUMIF('3구간'!$N$6:$N$502,"잡국",'3구간'!$F$6:$F$502) -> 0 | N23: =COUNTIFS('3구간'!$N$6:$N$502,"잡공",'3구간'!$P$6:$P$502,"2") -> 0 | O23: / | P23: =SUMIFS('3구간'!$E$6:$E$502,'3구간'!$N$6:$N$502,"잡공",'3구간'!$P$6:$P$502,"2") -> 0 | Q23: =COUNTIF('3구간'!$N$6:$N$502,"잡공") -> 0 | R23: / | S23: =SUMIF('3구간'!$N$6:$N$502,"잡공",'3구간'!$F$6:$F$502) -> 0 | T23: =B23-H23-N23 -> 0 | U23: / | V23: =D23-J23-P23 -> 0 | W23: =E23-K23-Q23 -> 0 | X23: / | Y23: =G23-M23-S23 -> 0
A24: 종교 | B24: =COUNTIFS('3구간'!$C$6:$C$502,"종",'3구간'!$P$6:$P$502,"2") -> 0 | C24: / | D24: =SUMIFS('3구간'!$E$6:$E$502,'3구간'!$C$6:$C$502,"종",'3구간'!$P$6:$P$502,"2") -> 0 | E24: =COUNTIF('3구간'!$C$6:$C$502,"종") -> 0 | F24: / | G24: =SUMIF('3구간'!$C$6:$C$502,"종",'3구간'!$F$6:$F$502) -> 0 | H24: =COUNTIFS('3구간'!$N$6:$N$502,"종국",'3구간'!$P$6:$P$502,"2") -> 0 | I24: / | J24: =SUMIFS('3구간'!$E$6:$E$502,'3구간'!$N$6:$N$502,"종국",'3구간'!$P$6:$P$502,"2") -> 0 | K24: =COUNTIF('3구간'!$N$6:$N$502,"종국") -> 0 | L24: / | M24: =SUMIF('3구간'!$N$6:$N$502,"종국",'3구간'!$F$6:$F$502) -> 0 | N24: =COUNTIFS('3구간'!$N$6:$N$502,"종공",'3구간'!$P$6:$P$502,"2") -> 0 | O24: / | P24: =SUMIFS('3구간'!$E$6:$E$502,'3구간'!$N$6:$N$502,"종공",'3구간'!$P$6:$P$502,"2") -> 0 | Q24: =COUNTIF('3구간'!$N$6:$N$502,"종공") -> 0 | R24: / | S24: =SUMIF('3구간'!$N$6:$N$502,"종공",'3구간'!$F$6:$F$502) -> 0 | T24: =B24-H24-N24 -> 0 | U24: / | V24: =D24-J24-P24 -> 0 | W24: =E24-K24-Q24 -> 0 | X24: / | Y24: =G24-M24-S24 -> 0
A25: 염전 | B25: =COUNTIFS('3구간'!$C$6:$C$502,"염",'3구간'!$P$6:$P$502,"2") -> 0 | C25: / | D25: =SUMIFS('3구간'!$E$6:$E$502,'3구간'!$C$6:$C$502,"염",'3구간'!$P$6:$P$502,"2") -> 0 | E25: =COUNTIF('3구간'!$C$6:$C$502,"염") -> 0 | F25: / | G25: =SUMIF('3구간'!$C$6:$C$502,"염",'3구간'!$F$6:$F$502) -> 0 | H25: =COUNTIFS('3구간'!$N$6:$N$502,"염국",'3구간'!$P$6:$P$502,"2") -> 0 | I25: / | J25: =SUMIFS('3구간'!$E$6:$E$502,'3구간'!$N$6:$N$502,"염국",'3구간'!$P$6:$P$502,"2") -> 0 | K25: =COUNTIF('3구간'!$N$6:$N$502,"염국") -> 0 | L25: / | M25: =SUMIF('3구간'!$N$6:$N$502,"염국",'3구간'!$F$6:$F$502) -> 0 | N25: =COUNTIFS('3구간'!$N$6:$N$502,"염공",'3구간'!$P$6:$P$502,"2") -> 0 | O25: / | P25: =SUMIFS('3구간'!$E$6:$E$502,'3구간'!$N$6:$N$502,"염공",'3구간'!$P$6:$P$502,"2") -> 0 | Q25: =COUNTIF('3구간'!$N$6:$N$502,"염공") -> 0 | R25: / | S25: =SUMIF('3구간'!$N$6:$N$502,"염공",'3구간'!$F$6:$F$502) -> 0 | T25: =B25-H25-N25 -> 0 | U25: / | V25: =D25-J25-P25 -> 0 | W25: =E25-K25-Q25 -> 0 | X25: / | Y25: =G25-M25-S25 -> 0
A26: 공원 | B26: =COUNTIFS('3구간'!$C$6:$C$502,"공",'3구간'!$P$6:$P$502,"2") -> 0 | C26: / | D26: =SUMIFS('3구간'!$E$6:$E$502,'3구간'!$C$6:$C$502,"공",'3구간'!$P$6:$P$502,"2") -> 0 | E26: =COUNTIF('3구간'!$C$6:$C$502,"공") -> 0 | F26: / | G26: =SUMIF('3구간'!$C$6:$C$502,"공",'3구간'!$F$6:$F$502) -> 0 | H26: =COUNTIFS('3구간'!$N$6:$N$502,"공국",'3구간'!$P$6:$P$502,"2") -> 0 | I26: / | J26: =SUMIFS('3구간'!$E$6:$E$502,'3구간'!$N$6:$N$502,"공국",'3구간'!$P$6:$P$502,"2") -> 0 | K26: =COUNTIF('3구간'!$N$6:$N$502,"공국") -> 0 | L26: / | M26: =SUMIF('3구간'!$N$6:$N$502,"공국",'3구간'!$F$6:$F$502) -> 0 | N26: =COUNTIFS('3구간'!$N$6:$N$502,"공공",'3구간'!$P$6:$P$502,"2") -> 0 | O26: / | P26: =SUMIFS('3구간'!$E$6:$E$502,'3구간'!$N$6:$N$502,"공공",'3구간'!$P$6:$P$502,"2") -> 0 | Q26: =COUNTIF('3구간'!$N$6:$N$502,"공공") -> 0 | R26: / | S26: =SUMIF('3구간'!$N$6:$N$502,"공공",'3구간'!$F$6:$F$502) -> 0 | T26: =B26-H26-N26 -> 0 | U26: / | V26: =D26-J26-P26 -> 0 | W26: =E26-K26-Q26 -> 0 | X26: / | Y26: =G26-M26-S26 -> 0
A27: 체육 | B27: =COUNTIFS('3구간'!$C$6:$C$502,"체",'3구간'!$P$6:$P$502,"2") -> 0 | C27: / | D27: =SUMIFS('3구간'!$E$6:$E$502,'3구간'!$C$6:$C$502,"체",'3구간'!$P$6:$P$502,"2") -> 0 | E27: =COUNTIF('3구간'!$C$6:$C$502,"체") -> 0 | F27: / | G27: =SUMIF('3구간'!$C$6:$C$502,"체",'3구간'!$F$6:$F$502) -> 0 | H27: =COUNTIFS('3구간'!$N$6:$N$502,"체국",'3구간'!$P$6:$P$502,"2") -> 0 | I27: / | J27: =SUMIFS('3구간'!$E$6:$E$502,'3구간'!$N$6:$N$502,"체국",'3구간'!$P$6:$P$502,"2") -> 0 | K27: =COUNTIF('3구간'!$N$6:$N$502,"체국") -> 0 | L27: / | M27: =SUMIF('3구간'!$N$6:$N$502,"체국",'3구간'!$F$6:$F$502) -> 0 | N27: =COUNTIFS('3구간'!$N$6:$N$502,"체공",'3구간'!$P$6:$P$502,"2") -> 0 | O27: / | P27: =SUMIFS('3구간'!$E$6:$E$502,'3구간'!$N$6:$N$502,"체공",'3구간'!$P$6:$P$502,"2") -> 0 | Q27: =COUNTIF('3구간'!$N$6:$N$502,"체공") -> 0 | R27: / | S27: =SUMIF('3구간'!$N$6:$N$502,"체공",'3구간'!$F$6:$F$502) -> 0 | T27: =B27-H27-N27 -> 0 | U27: / | V27: =D27-J27-P27 -> 0 | W27: =E27-K27-Q27 -> 0 | X27: / | Y27: =G27-M27-S27 -> 0
A28: 유원지 | B28: =COUNTIFS('3구간'!$C$6:$C$502,"원",'3구간'!$P$6:$P$502,"2") -> 0 | C28: / | D28: =SUMIFS('3구간'!$E$6:$E$502,'3구간'!$C$6:$C$502,"원",'3구간'!$P$6:$P$502,"2") -> 0 | E28: =COUNTIF('3구간'!$C$6:$C$502,"원") -> 0 | F28: / | G28: =SUMIF('3구간'!$C$6:$C$502,"원",'3구간'!$F$6:$F$502) -> 0 | H28: =COUNTIFS('3구간'!$N$6:$N$502,"원국",'3구간'!$P$6:$P$502,"2") -> 0 | I28: / | J28: =SUMIFS('3구간'!$E$6:$E$502,'3구간'!$N$6:$N$502,"원국",'3구간'!$P$6:$P$502,"2") -> 0 | K28: =COUNTIF('3구간'!$N$6:$N$502,"원국") -> 0 | L28: / | M28: =SUMIF('3구간'!$N$6:$N$502,"원국",'3구간'!$F$6:$F$502) -> 0 | N28: =COUNTIFS('3구간'!$N$6:$N$502,"원공",'3구간'!$P$6:$P$502,"2") -> 0 | O28: / | P28: =SUMIFS('3구간'!$E$6:$E$502,'3구간'!$N$6:$N$502,"원공",'3구간'!$P$6:$P$502,"2") -> 0 | Q28: =COUNTIF('3구간'!$N$6:$N$502,"원공") -> 0 | R28: / | S28: =SUMIF('3구간'!$N$6:$N$502,"원공",'3구간'!$F$6:$F$502) -> 0 | T28: =B28-H28-N28 -> 0 | U28: / | V28: =D28-J28-P28 -> 0 | W28: =E28-K28-Q28 -> 0 | X28: / | Y28: =G28-M28-S28 -> 0
A29: 주유소 | B29: =COUNTIFS('3구간'!$C$6:$C$502,"주",'3구간'!$P$6:$P$502,"2") -> 0 | C29: / | D29: =SUMIFS('3구간'!$E$6:$E$502,'3구간'!$C$6:$C$502,"주",'3구간'!$P$6:$P$502,"2") -> 0 | E29: =COUNTIF('3구간'!$C$6:$C$502,"주") -> 0 | F29: / | G29: =SUMIF('3구간'!$C$6:$C$502,"주",'3구간'!$F$6:$F$502) -> 0 | H29: =COUNTIFS('3구간'!$N$6:$N$502,"주국",'3구간'!$P$6:$P$502,"2") -> 0 | I29: / | J29: =SUMIFS('3구간'!$E$6:$E$502,'3구간'!$N$6:$N$502,"주국",'3구간'!$P$6:$P$502,"2") -> 0 | K29: =COUNTIF('3구간'!$N$6:$N$502,"주국") -> 0 | L29: / | M29: =SUMIF('3구간'!$N$6:$N$502,"주국",'3구간'!$F$6:$F$502) -> 0 | N29: =COUNTIFS('3구간'!$N$6:$N$502,"주공",'3구간'!$P$6:$P$502,"2") -> 0 | O29: / | P29: =SUMIFS('3구간'!$E$6:$E$502,'3구간'!$N$6:$N$502,"주공",'3구간'!$P$6:$P$502,"2") -> 0 | Q29: =COUNTIF('3구간'!$N$6:$N$502,"주공") -> 0 | R29: / | S29: =SUMIF('3구간'!$N$6:$N$502,"주공",'3구간'!$F$6:$F$502) -> 0 | T29: =B29-H29-N29 -> 0 | U29: / | V29: =D29-J29-P29 -> 0 | W29: =E29-K29-Q29 -> 0 | X29: / | Y29: =G29-M29-S29 -> 0
A30: 창 고 | B30: =COUNTIFS('3구간'!$C$6:$C$502,"창",'3구간'!$P$6:$P$502,"2") -> 0 | C30: / | D30: =SUMIFS('3구간'!$E$6:$E$502,'3구간'!$C$6:$C$502,"창",'3구간'!$P$6:$P$502,"2") -> 0 | E30: =COUNTIF('3구간'!$C$6:$C$502,"창") -> 0 | F30: / | G30: =SUMIF('3구간'!$C$6:$C$502,"창",'3구간'!$F$6:$F$502) -> 0 | H30: =COUNTIFS('3구간'!$N$6:$N$502,"창국",'3구간'!$P$6:$P$502,"2") -> 0 | I30: / | J30: =SUMIFS('3구간'!$E$6:$E$502,'3구간'!$N$6:$N$502,"창국",'3구간'!$P$6:$P$502,"2") -> 0 | K30: =COUNTIF('3구간'!$N$6:$N$502,"창국") -> 0 | L30: / | M30: =SUMIF('3구간'!$N$6:$N$502,"창국",'3구간'!$F$6:$F$502) -> 0 | N30: =COUNTIFS('3구간'!$N$6:$N$502,"창공",'3구간'!$P$6:$P$502,"2") -> 0 | O30: / | P30: =SUMIFS('3구간'!$E$6:$E$502,'3구간'!$N$6:$N$502,"창공",'3구간'!$P$6:$P$502,"2") -> 0 | Q30: =COUNTIF('3구간'!$N$6:$N$502,"창공") -> 0 | R30: / | S30: =SUMIF('3구간'!$N$6:$N$502,"창공",'3구간'!$F$6:$F$502) -> 0 | T30: =B30-H30-N30 -> 0 | U30: / | V30: =D30-J30-P30 -> 0 | W30: =E30-K30-Q30 -> 0 | X30: / | Y30: =G30-M30-S30 -> 0
A31: 미지번 | B31: =COUNTIFS('3구간'!$C$6:$C$502," ",'3구간'!$P$6:$P$502,"2") -> 0 | C31: / | D31: =SUMIFS('3구간'!$E$6:$E$502,'3구간'!$C$6:$C$502," ",'3구간'!$P$6:$P$502,"2") -> 0 | E31: =COUNTIF('3구간'!$C$6:$C$502," ") -> 0 | F31: / | G31: =SUMIF('3구간'!$C$6:$C$502," ",'3구간'!$F$6:$F$502) -> 0 | H31: =COUNTIFS('3구간'!$N$6:$N$502," ",'3구간'!$P$6:$P$502,"2") -> 0 | I31: / | J31: =SUMIFS('3구간'!$E$6:$E$502,'3구간'!$N$6:$N$502," ",'3구간'!$P$6:$P$502,"2") -> 0 | K31: =COUNTIF('3구간'!$N$6:$N$502," ") -> 0 | L31: / | M31: =SUMIF('3구간'!$N$6:$N$502," ",'3구간'!$F$6:$F$502) -> 0 | N31: =COUNTIFS('3구간'!$N$6:$N$502," ",'3구간'!$P$6:$P$502,"2") -> 0 | O31: / | P31: =SUMIFS('3구간'!$E$6:$E$502,'3구간'!$N$6:$N$502," ",'3구간'!$P$6:$P$502,"2") -> 0 | Q31: =COUNTIF('3구간'!$N$6:$N$502," ") -> 0 | R31: / | S31: =SUMIF('3구간'!$N$6:$N$502," ",'3구간'!$F$6:$F$502) -> 0 | T31: =B31-H31-N31 -> 0 | U31: / | V31: =D31-J31-P31 -> 0 | W31: =E31-K31-Q31 -> 0 | X31: / | Y31: =G31-M31-S31 -> 0
T33: =리명3!I2 -> 장화리 | W33: =리명3!L2 -> 0
A34: 구분 | Z34: 비고
B35: 변경 | E35: 변경 | H35: 변경 | K35: 변경 | N35: 변경 | Q35: 변경 | T35: 변경 | W35: 변경
B36: 필지 | C36: / | D36: 면적(㎡) | E36: 필지 | F36: / | G36: 면적(㎡) | H36: 필지 | I36: / | J36: 면적(㎡) | K36: 필지 | L36: / | M36: 면적(㎡) | N36: 필지 | O36: / | P36: 면적(㎡) | Q36: 필지 | R36: / | S36: 면적(㎡) | T36: 필지 | U36: / | V36: 면적(㎡) | W36: 필지 | X36: / | Y36: 면적(㎡) | AC36: 총계 | AD36: 국유지 | AE36: 사유지 | AF36: 국유지+사유지
A37: 계 | B37: =SUM(B38:B62) -> 0 | C37: / | D37: =SUM(D38:D62) -> 0 | E37: =SUM(E38:E62) -> 0 | F37: / | G37: =SUM(G38:G62) -> 0 | H37: =SUM(H38:H62) -> 0 | I37: / | J37: =SUM(J38:J62) -> 0 | K37: =SUM(K38:K62) -> 0 | L37: / | M37: =SUM(M38:M62) -> 0 | N37: =SUM(N38:N62) -> 0 | O37: / | P37: =SUM(P38:P62) -> 0 | Q37: =SUM(Q38:Q62) -> 0 | R37: / | S37: =SUM(S38:S62) -> 0 | T37: =SUM(T38:T62) -> 0 | U37: / | V37: =SUM(V38:V62) -> 0 | W37: =SUM(W38:W62) -> 0 | X37: / | Y37: =SUM(Y38:Y62) -> 0 | AA37: =IF(EXACT(AC37,AF37),"맞음","틀림") -> 맞음 | AB37: 필지 | AC37: =SUM(B38:B62) -> 0 | AD37: =SUM(H38:H62) -> 0 | AE37: =SUM(T38:T62) -> 0 | AF37: =T37+H37 -> 0
A38: 전 | B38: =COUNTIF(리명3!$C$6:$C$500,"전") -> 0 | C38: / | D38: =SUMIF(리명3!$C$6:$C$500,"전",리명3!$E$6:$E$500) -> 0 | E38: =COUNTIF(리명3!$C$6:$C$500,"전") -> 0 | F38: / | G38: =SUMIF(리명3!$C$6:$C$500,"전",리명3!$E$6:$E$500) -> 0 | H38: =COUNTIF(리명3!$M$6:$M$500,"전국") -> 0 | I38: / | J38: =SUMIF(리명3!$M$6:$M$500,"전국",리명3!$E$6:$E$500) -> 0 | K38: =COUNTIF(리명3!$M$6:$M$500,"전국") -> 0 | L38: / | M38: =SUMIF(리명3!$M$6:$M$500,"전국",리명3!$E$6:$E$500) -> 0 | N38: =COUNTIF(리명3!$M$6:$M$500,"전공") -> 0 | O38: / | P38: =SUMIF(리명3!$M$6:$M$500,"전공",리명3!$E$6:$E$500) -> 0 | Q38: =COUNTIF(리명3!$M$6:$M$500,"전공") -> 0 | R38: / | S38: =SUMIF(리명3!$M$6:$M$500,"전공",리명3!$E$6:$E$500) -> 0 | T38: =B38-H38-N38 -> 0 | U38: / | V38: =D38-J38-P38 -> 0 | W38: =E38-K38-Q38 -> 0 | X38: / | Y38: =G38-M38-S38 -> 0 | AA38: =IF(EXACT(AC38,AF38),"맞음","틀림") -> 맞음 | AB38: 면적 | AC38: =SUM(D38:D62) -> 0 | AD38: =SUM(J38:J62) -> 0 | AE38: =SUM(V38:V62) -> 0 | AF38: =J37+V37 -> 0
A39: 답 | B39: =COUNTIF(리명3!$C$6:$C$500,"답") -> 0 | C39: / | D39: =SUMIF(리명3!$C$6:$C$500,"답",리명3!$E$6:$E$500) -> 0 | E39: =COUNTIF(리명3!$C$6:$C$500,"답") -> 0 | F39: / | G39: =SUMIF(리명3!$C$6:$C$500,"답",리명3!$E$6:$E$500) -> 0 | H39: =COUNTIF(리명3!$M$6:$M$500,"답국") -> 0 | I39: / | J39: =SUMIF(리명3!$M$6:$M$500,"답국",리명3!$E$6:$E$500) -> 0 | K39: =COUNTIF(리명3!$M$6:$M$500,"답국") -> 0 | L39: / | M39: =SUMIF(리명3!$M$6:$M$500,"답국",리명3!$E$6:$E$500) -> 0 | N39: =COUNTIF(리명3!$M$6:$M$500,"답공") -> 0 | O39: / | P39: =SUMIF(리명3!$M$6:$M$500,"답공",리명3!$E$6:$E$500) -> 0 | Q39: =COUNTIF(리명3!$M$6:$M$500,"답공") -> 0 | R39: / | S39: =SUMIF(리명3!$M$6:$M$500,"답공",리명3!$E$6:$E$500) -> 0 | T39: =B39-H39-N39 -> 0 | U39: / | V39: =D39-J39-P39 -> 0 | W39: =E39-K39-Q39 -> 0 | X39: / | Y39: =G39-M39-S39 -> 0
A40: 임야 | B40: =COUNTIF(리명3!$C$6:$C$500,"임") -> 0 | C40: / | D40: =SUMIF(리명3!$C$6:$C$500,"임",리명3!$E$6:$E$500) -> 0 | E40: =COUNTIF(리명3!$C$6:$C$500,"임") -> 0 | F40: / | G40: =SUMIF(리명3!$C$6:$C$500,"임",리명3!$E$6:$E$500) -> 0 | H40: =COUNTIF(리명3!$M$6:$M$500,"임국") -> 0 | I40: / | J40: =SUMIF(리명3!$M$6:$M$500,"임국",리명3!$E$6:$E$500) -> 0 | K40: =COUNTIF(리명3!$M$6:$M$500,"임국") -> 0 | L40: / | M40: =SUMIF(리명3!$M$6:$M$500,"임국",리명3!$E$6:$E$500) -> 0 | N40: =COUNTIF(리명3!$M$6:$M$500,"임공") -> 0 | O40: / | P40: =SUMIF(리명3!$M$6:$M$500,"임공",리명3!$E$6:$E$500) -> 0 | Q40: =COUNTIF(리명3!$M$6:$M$500,"임공") -> 0 | R40: / | S40: =SUMIF(리명3!$M$6:$M$500,"임공",리명3!$E$6:$E$500) -> 0 | T40: =B40-H40-N40 -> 0 | U40: / | V40: =D40-J40-P40 -> 0 | W40: =E40-K40-Q40 -> 0 | X40: / | Y40: =G40-M40-S40 -> 0
A41: 대지 | B41: =COUNTIF(리명3!$C$6:$C$500,"대") -> 0 | C41: / | D41: =SUMIF(리명3!$C$6:$C$500,"대",리명3!$E$6:$E$500) -> 0 | E41: =COUNTIF(리명3!$C$6:$C$500,"대") -> 0 | F41: / | G41: =SUMIF(리명3!$C$6:$C$500,"대",리명3!$E$6:$E$500) -> 0 | H41: =COUNTIF(리명3!$M$6:$M$500,"대국") -> 0 | I41: / | J41: =SUMIF(리명3!$M$6:$M$500,"대국",리명3!$E$6:$E$500) -> 0 | K41: =COUNTIF(리명3!$M$6:$M$500,"대국") -> 0 | L41: / | M41: =SUMIF(리명3!$M$6:$M$500,"대국",리명3!$E$6:$E$500) -> 0 | N41: =COUNTIF(리명3!$M$6:$M$500,"대공") -> 0 | O41: / | P41: =SUMIF(리명3!$M$6:$M$500,"대공",리명3!$E$6:$E$500) -> 0 | Q41: =COUNTIF(리명3!$M$6:$M$500,"대공") -> 0 | R41: / | S41: =SUMIF(리명3!$M$6:$M$500,"대공",리명3!$E$6:$E$500) -> 0 | T41: =B41-H41-N41 -> 0 | U41: / | V41: =D41-J41-P41 -> 0 | W41: =E41-K41-Q41 -> 0 | X41: / | Y41: =G41-M41-S41 -> 0
A42: 도로 | B42: =COUNTIF(리명3!$C$6:$C$500,"도") -> 0 | C42: / | D42: =SUMIF(리명3!$C$6:$C$500,"도",리명3!$E$6:$E$500) -> 0 | E42: =COUNTIF(리명3!$C$6:$C$500,"도") -> 0 | F42: / | G42: =SUMIF(리명3!$C$6:$C$500,"도",리명3!$E$6:$E$500) -> 0 | H42: =COUNTIF(리명3!$M$6:$M$500,"도국") -> 0 | I42: / | J42: =SUMIF(리명3!$M$6:$M$500,"도국",리명3!$E$6:$E$500) -> 0 | K42: =COUNTIF(리명3!$M$6:$M$500,"도국") -> 0 | L42: / | M42: =SUMIF(리명3!$M$6:$M$500,"도국",리명3!$E$6:$E$500) -> 0 | N42: =COUNTIF(리명3!$M$6:$M$500,"도공") -> 0 | O42: / | P42: =SUMIF(리명3!$M$6:$M$500,"도공",리명3!$E$6:$E$500) -> 0 | Q42: =COUNTIF(리명3!$M$6:$M$500,"도공") -> 0 | R42: / | S42: =SUMIF(리명3!$M$6:$M$500,"도공",리명3!$E$6:$E$500) -> 0 | T42: =B42-H42-N42 -> 0 | U42: / | V42: =D42-J42-P42 -> 0 | W42: =E42-K42-Q42 -> 0 | X42: / | Y42: =G42-M42-S42 -> 0
A43: 구거 | B43: =COUNTIF(리명3!$C$6:$C$500,"구") -> 0 | C43: / | D43: =SUMIF(리명3!$C$6:$C$500,"구",리명3!$E$6:$E$500) -> 0 | E43: =COUNTIF(리명3!$C$6:$C$500,"구") -> 0 | F43: / | G43: =SUMIF(리명3!$C$6:$C$500,"구",리명3!$E$6:$E$500) -> 0 | H43: =COUNTIF(리명3!$M$6:$M$500,"구국") -> 0 | I43: / | J43: =SUMIF(리명3!$M$6:$M$500,"구국",리명3!$E$6:$E$500) -> 0 | K43: =COUNTIF(리명3!$M$6:$M$500,"구국") -> 0 | L43: / | M43: =SUMIF(리명3!$M$6:$M$500,"구국",리명3!$E$6:$E$500) -> 0 | N43: =COUNTIF(리명3!$M$6:$M$500,"구공") -> 0 | O43: / | P43: =SUMIF(리명3!$M$6:$M$500,"구공",리명3!$E$6:$E$500) -> 0 | Q43: =COUNTIF(리명3!$M$6:$M$500,"구공") -> 0 | R43: / | S43: =SUMIF(리명3!$M$6:$M$500,"구공",리명3!$E$6:$E$500) -> 0 | T43: =B43-H43-N43 -> 0 | U43: / | V43: =D43-J43-P43 -> 0 | W43: =E43-K43-Q43 -> 0 | X43: / | Y43: =G43-M43-S43 -> 0
A44: 하천 | B44: =COUNTIF(리명3!$C$6:$C$500,"천") -> 0 | C44: / | D44: =SUMIF(리명3!$C$6:$C$500,"천",리명3!$E$6:$E$500) -> 0 | E44: =COUNTIF(리명3!$C$6:$C$500,"천") -> 0 | F44: / | G44: =SUMIF(리명3!$C$6:$C$500,"천",리명3!$E$6:$E$500) -> 0 | H44: =COUNTIF(리명3!$M$6:$M$500,"천국") -> 0 | I44: / | J44: =SUMIF(리명3!$M$6:$M$500,"천국",리명3!$E$6:$E$500) -> 0 | K44: =COUNTIF(리명3!$M$6:$M$500,"천국") -> 0 | L44: / | M44: =SUMIF(리명3!$M$6:$M$500,"천국",리명3!$E$6:$E$500) -> 0 | N44: =COUNTIF(리명3!$M$6:$M$500,"천공") -> 0 | O44: / | P44: =SUMIF(리명3!$M$6:$M$500,"천공",리명3!$E$6:$E$500) -> 0 | Q44: =COUNTIF(리명3!$M$6:$M$500,"천공") -> 0 | R44: / | S44: =SUMIF(리명3!$M$6:$M$500,"천공",리명3!$E$6:$E$500) -> 0 | T44: =B44-H44-N44 -> 0 | U44: / | V44: =D44-J44-P44 -> 0 | W44: =E44-K44-Q44 -> 0 | X44: / | Y44: =G44-M44-S44 -> 0
A45: 유지 | B45: =COUNTIF(리명3!$C$6:$C$500,"유") -> 0 | C45: / | D45: =SUMIF(리명3!$C$6:$C$500,"유",리명3!$E$6:$E$500) -> 0 | E45: =COUNTIF(리명3!$C$6:$C$500,"유") -> 0 | F45: / | G45: =SUMIF(리명3!$C$6:$C$500,"유",리명3!$E$6:$E$500) -> 0 | H45: =COUNTIF(리명3!$M$6:$M$500,"유국") -> 0 | I45: / | J45: =SUMIF(리명3!$M$6:$M$500,"유국",리명3!$E$6:$E$500) -> 0 | K45: =COUNTIF(리명3!$M$6:$M$500,"유국") -> 0 | L45: / | M45: =SUMIF(리명3!$M$6:$M$500,"유국",리명3!$E$6:$E$500) -> 0 | N45: =COUNTIF(리명3!$M$6:$M$500,"유공") -> 0 | O45: / | P45: =SUMIF(리명3!$M$6:$M$500,"유공",리명3!$E$6:$E$500) -> 0 | Q45: =COUNTIF(리명3!$M$6:$M$500,"유공") -> 0 | R45: / | S45: =SUMIF(리명3!$M$6:$M$500,"유공",리명3!$E$6:$E$500) -> 0 | T45: =B45-H45-N45 -> 0 | U45: / | V45: =D45-J45-P45 -> 0 | W45: =E45-K45-Q45 -> 0 | X45: / | Y45: =G45-M45-S45 -> 0
A46: 제방 | B46: =COUNTIF(리명3!$C$6:$C$500,"제") -> 0 | C46: / | D46: =SUMIF(리명3!$C$6:$C$500,"제",리명3!$E$6:$E$500) -> 0 | E46: =COUNTIF(리명3!$C$6:$C$500,"제") -> 0 | F46: / | G46: =SUMIF(리명3!$C$6:$C$500,"제",리명3!$E$6:$E$500) -> 0 | H46: =COUNTIF(리명3!$M$6:$M$500,"제국") -> 0 | I46: / | J46: =SUMIF(리명3!$M$6:$M$500,"제국",리명3!$E$6:$E$500) -> 0 | K46: =COUNTIF(리명3!$M$6:$M$500,"제국") -> 0 | L46: / | M46: =SUMIF(리명3!$M$6:$M$500,"제국",리명3!$E$6:$E$500) -> 0 | N46: =COUNTIF(리명3!$M$6:$M$500,"제공") -> 0 | O46: / | P46: =SUMIF(리명3!$M$6:$M$500,"제공",리명3!$E$6:$E$500) -> 0 | Q46: =COUNTIF(리명3!$M$6:$M$500,"제공") -> 0 | R46: / | S46: =SUMIF(리명3!$M$6:$M$500,"제공",리명3!$E$6:$E$500) -> 0 | T46: =B46-H46-N46 -> 0 | U46: / | V46: =D46-J46-P46 -> 0 | W46: =E46-K46-Q46 -> 0 | X46: / | Y46: =G46-M46-S46 -> 0
A47: 과수원 | B47: =COUNTIF(리명3!$C$6:$C$500,"과") -> 0 | C47: / | D47: =SUMIF(리명3!$C$6:$C$500,"과",리명3!$E$6:$E$500) -> 0 | E47: =COUNTIF(리명3!$C$6:$C$500,"과") -> 0 | F47: / | G47: =SUMIF(리명3!$C$6:$C$500,"과",리명3!$E$6:$E$500) -> 0 | H47: =COUNTIF(리명3!$M$6:$M$500,"과국") -> 0 | I47: / | J47: =SUMIF(리명3!$M$6:$M$500,"과국",리명3!$E$6:$E$500) -> 0 | K47: =COUNTIF(리명3!$M$6:$M$500,"과국") -> 0 | L47: / | M47: =SUMIF(리명3!$M$6:$M$500,"과국",리명3!$E$6:$E$500) -> 0 | N47: =COUNTIF(리명3!$M$6:$M$500,"과공") -> 0 | O47: / | P47: =SUMIF(리명3!$M$6:$M$500,"과공",리명3!$E$6:$E$500) -> 0 | Q47: =COUNTIF(리명3!$M$6:$M$500,"과공") -> 0 | R47: / | S47: =SUMIF(리명3!$M$6:$M$500,"과공",리명3!$E$6:$E$500) -> 0 | T47: =B47-H47-N47 -> 0 | U47: / | V47: =D47-J47-P47 -> 0 | W47: =E47-K47-Q47 -> 0 | X47: / | Y47: =G47-M47-S47 -> 0
A48: 공장 | B48: =COUNTIF(리명3!$C$6:$C$500,"장") -> 0 | C48: / | D48: =SUMIF(리명3!$C$6:$C$500,"장",리명3!$E$6:$E$500) -> 0 | E48: =COUNTIF(리명3!$C$6:$C$500,"장") -> 0 | F48: / | G48: =SUMIF(리명3!$C$6:$C$500,"장",리명3!$E$6:$E$500) -> 0 | H48: =COUNTIF(리명3!$M$6:$M$500,"장국") -> 0 | I48: / | J48: =SUMIF(리명3!$M$6:$M$500,"장국",리명3!$E$6:$E$500) -> 0 | K48: =COUNTIF(리명3!$M$6:$M$500,"장국") -> 0 | L48: / | M48: =SUMIF(리명3!$M$6:$M$500,"장국",리명3!$E$6:$E$500) -> 0 | N48: =COUNTIF(리명3!$M$6:$M$500,"장공") -> 0 | O48: / | P48: =SUMIF(리명3!$M$6:$M$500,"장공",리명3!$E$6:$E$500) -> 0 | Q48: =COUNTIF(리명3!$M$6:$M$500,"장공") -> 0 | R48: / | S48: =SUMIF(리명3!$M$6:$M$500,"장공",리명3!$E$6:$E$500) -> 0 | T48: =B48-H48-N48 -> 0 | U48: / | V48: =D48-J48-P48 -> 0 | W48: =E48-K48-Q48 -> 0 | X48: / | Y48: =G48-M48-S48 -> 0
A49: 목장 | B49: =COUNTIF(리명3!$C$6:$C$500,"목") -> 0 | C49: / | D49: =SUMIF(리명3!$C$6:$C$500,"목",리명3!$E$6:$E$500) -> 0 | E49: =COUNTIF(리명3!$C$6:$C$500,"목") -> 0 | F49: / | G49: =SUMIF(리명3!$C$6:$C$500,"목",리명3!$E$6:$E$500) -> 0 | H49: =COUNTIF(리명3!$M$6:$M$500,"목국") -> 0 | I49: / | J49: =SUMIF(리명3!$M$6:$M$500,"목국",리명3!$E$6:$E$500) -> 0 | K49: =COUNTIF(리명3!$M$6:$M$500,"목국") -> 0 | L49: / | M49: =SUMIF(리명3!$M$6:$M$500,"목국",리명3!$E$6:$E$500) -> 0 | N49: =COUNTIF(리명3!$M$6:$M$500,"목공") -> 0 | O49: / | P49: =SUMIF(리명3!$M$6:$M$500,"목공",리명3!$E$6:$E$500) -> 0 | Q49: =COUNTIF(리명3!$M$6:$M$500,"목공") -> 0 | R49: / | S49: =SUMIF(리명3!$M$6:$M$500,"목공",리명3!$E$6:$E$500) -> 0 | T49: =B49-H49-N49 -> 0 | U49: / | V49: =D49-J49-P49 -> 0 | W49: =E49-K49-Q49 -> 0 | X49: / | Y49: =G49-M49-S49 -> 0
A50: 학교용지 | B50: =COUNTIF(리명3!$C$6:$C$500,"학") -> 0 | C50: / | D50: =SUMIF(리명3!$C$6:$C$500,"학",리명3!$E$6:$E$500) -> 0 | E50: =COUNTIF(리명3!$C$6:$C$500,"학") -> 0 | F50: / | G50: =SUMIF(리명3!$C$6:$C$500,"학",리명3!$E$6:$E$500) -> 0 | H50: =COUNTIF(리명3!$M$6:$M$500,"학국") -> 0 | I50: / | J50: =SUMIF(리명3!$M$6:$M$500,"학국",리명3!$E$6:$E$500) -> 0 | K50: =COUNTIF(리명3!$M$6:$M$500,"학국") -> 0 | L50: / | M50: =SUMIF(리명3!$M$6:$M$500,"학국",리명3!$E$6:$E$500) -> 0 | N50: =COUNTIF(리명3!$M$6:$M$500,"학공") -> 0 | O50: / | P50: =SUMIF(리명3!$M$6:$M$500,"학공",리명3!$E$6:$E$500) -> 0 | Q50: =COUNTIF(리명3!$M$6:$M$500,"학공") -> 0 | R50: / | S50: =SUMIF(리명3!$M$6:$M$500,"학공",리명3!$E$6:$E$500) -> 0 | T50: =B50-H50-N50 -> 0 | U50: / | V50: =D50-J50-P50 -> 0 | W50: =E50-K50-Q50 -> 0 | X50: / | Y50: =G50-M50-S50 -> 0
A51: 철도 | B51: =COUNTIF(리명3!$C$6:$C$500,"철") -> 0 | C51: / | D51: =SUMIF(리명3!$C$6:$C$500,"철",리명3!$E$6:$E$500) -> 0 | E51: =COUNTIF(리명3!$C$6:$C$500,"철") -> 0 | F51: / | G51: =SUMIF(리명3!$C$6:$C$500,"철",리명3!$E$6:$E$500) -> 0 | H51: =COUNTIF(리명3!$M$6:$M$500,"철국") -> 0 | I51: / | J51: =SUMIF(리명3!$M$6:$M$500,"철국",리명3!$E$6:$E$500) -> 0 | K51: =COUNTIF(리명3!$M$6:$M$500,"철국") -> 0 | L51: / | M51: =SUMIF(리명3!$M$6:$M$500,"철국",리명3!$E$6:$E$500) -> 0 | N51: =COUNTIF(리명3!$M$6:$M$500,"철공") -> 0 | O51: / | P51: =SUMIF(리명3!$M$6:$M$500,"철공",리명3!$E$6:$E$500) -> 0 | Q51: =COUNTIF(리명3!$M$6:$M$500,"철공") -> 0 | R51: / | S51: =SUMIF(리명3!$M$6:$M$500,"철공",리명3!$E$6:$E$500) -> 0 | T51: =B51-H51-N51 -> 0 | U51: / | V51: =D51-J51-P51 -> 0 | W51: =E51-K51-Q51 -> 0 | X51: / | Y51: =G51-M51-S51 -> 0
A52: 묘지 | B52: =COUNTIF(리명3!$C$6:$C$500,"묘") -> 0 | C52: / | D52: =SUMIF(리명3!$C$6:$C$500,"묘",리명3!$E$6:$E$500) -> 0 | E52: =COUNTIF(리명3!$C$6:$C$500,"묘") -> 0 | F52: / | G52: =SUMIF(리명3!$C$6:$C$500,"묘",리명3!$E$6:$E$500) -> 0 | H52: =COUNTIF(리명3!$M$6:$M$500,"묘국") -> 0 | I52: / | J52: =SUMIF(리명3!$M$6:$M$500,"묘국",리명3!$E$6:$E$500) -> 0 | K52: =COUNTIF(리명3!$M$6:$M$500,"묘국") -> 0 | L52: / | M52: =SUMIF(리명3!$M$6:$M$500,"묘국",리명3!$E$6:$E$500) -> 0 | N52: =COUNTIF(리명3!$M$6:$M$500,"묘공") -> 0 | O52: / | P52: =SUMIF(리명3!$M$6:$M$500,"묘공",리명3!$E$6:$E$500) -> 0 | Q52: =COUNTIF(리명3!$M$6:$M$500,"묘공") -> 0 | R52: / | S52: =SUMIF(리명3!$M$6:$M$500,"묘공",리명3!$E$6:$E$500) -> 0 | T52: =B52-H52-N52 -> 0 | U52: / | V52: =D52-J52-P52 -> 0 | W52: =E52-K52-Q52 -> 0 | X52: / | Y52: =G52-M52-S52 -> 0
A53: 수도 | B53: =COUNTIF(리명3!$C$6:$C$500,"수") -> 0 | C53: / | D53: =SUMIF(리명3!$C$6:$C$500,"수",리명3!$E$6:$E$500) -> 0 | E53: =COUNTIF(리명3!$C$6:$C$500,"수") -> 0 | F53: / | G53: =SUMIF(리명3!$C$6:$C$500,"수",리명3!$E$6:$E$500) -> 0 | H53: =COUNTIF(리명3!$M$6:$M$500,"수국") -> 0 | I53: / | J53: =SUMIF(리명3!$M$6:$M$500,"수국",리명3!$E$6:$E$500) -> 0 | K53: =COUNTIF(리명3!$M$6:$M$500,"수국") -> 0 | L53: / | M53: =SUMIF(리명3!$M$6:$M$500,"수국",리명3!$E$6:$E$500) -> 0 | N53: =COUNTIF(리명3!$M$6:$M$500,"수공") -> 0 | O53: / | P53: =SUMIF(리명3!$M$6:$M$500,"수공",리명3!$E$6:$E$500) -> 0 | Q53: =COUNTIF(리명3!$M$6:$M$500,"수공") -> 0 | R53: / | S53: =SUMIF(리명3!$M$6:$M$500,"수공",리명3!$E$6:$E$500) -> 0 | T53: =B53-H53-N53 -> 0 | U53: / | V53: =D53-J53-P53 -> 0 | W53: =E53-K53-Q53 -> 0 | X53: / | Y53: =G53-M53-S53 -> 0
A54: 잡종지 | B54: =COUNTIF(리명3!$C$6:$C$500,"잡") -> 0 | C54: / | D54: =SUMIF(리명3!$C$6:$C$500,"잡",리명3!$E$6:$E$500) -> 0 | E54: =COUNTIF(리명3!$C$6:$C$500,"잡") -> 0 | F54: / | G54: =SUMIF(리명3!$C$6:$C$500,"잡",리명3!$E$6:$E$500) -> 0 | H54: =COUNTIF(리명3!$M$6:$M$500,"잡국") -> 0 | I54: / | J54: =SUMIF(리명3!$M$6:$M$500,"잡국",리명3!$E$6:$E$500) -> 0 | K54: =COUNTIF(리명3!$M$6:$M$500,"잡국") -> 0 | L54: / | M54: =SUMIF(리명3!$M$6:$M$500,"잡국",리명3!$E$6:$E$500) -> 0 | N54: =COUNTIF(리명3!$M$6:$M$500,"잡공") -> 0 | O54: / | P54: =SUMIF(리명3!$M$6:$M$500,"잡공",리명3!$E$6:$E$500) -> 0 | Q54: =COUNTIF(리명3!$M$6:$M$500,"잡공") -> 0 | R54: / | S54: =SUMIF(리명3!$M$6:$M$500,"잡공",리명3!$E$6:$E$500) -> 0 | T54: =B54-H54-N54 -> 0 | U54: / | V54: =D54-J54-P54 -> 0 | W54: =E54-K54-Q54 -> 0 | X54: / | Y54: =G54-M54-S54 -> 0
A55: 종교 | B55: =COUNTIF(리명3!$C$6:$C$500,"종") -> 0 | C55: / | D55: =SUMIF(리명3!$C$6:$C$500,"종",리명3!$E$6:$E$500) -> 0 | E55: =COUNTIF(리명3!$C$6:$C$500,"종") -> 0 | F55: / | G55: =SUMIF(리명3!$C$6:$C$500,"종",리명3!$E$6:$E$500) -> 0 | H55: =COUNTIF(리명3!$M$6:$M$500,"종국") -> 0 | I55: / | J55: =SUMIF(리명3!$M$6:$M$500,"종국",리명3!$E$6:$E$500) -> 0 | K55: =COUNTIF(리명3!$M$6:$M$500,"종국") -> 0 | L55: / | M55: =SUMIF(리명3!$M$6:$M$500,"종국",리명3!$E$6:$E$500) -> 0 | N55: =COUNTIF(리명3!$M$6:$M$500,"종공") -> 0 | O55: / | P55: =SUMIF(리명3!$M$6:$M$500,"종공",리명3!$E$6:$E$500) -> 0 | Q55: =COUNTIF(리명3!$M$6:$M$500,"종공") -> 0 | R55: / | S55: =SUMIF(리명3!$M$6:$M$500,"종공",리명3!$E$6:$E$500) -> 0 | T55: =B55-H55-N55 -> 0 | U55: / | V55: =D55-J55-P55 -> 0 | W55: =E55-K55-Q55 -> 0 | X55: / | Y55: =G55-M55-S55 -> 0
A56: 염전 | B56: =COUNTIF(리명3!$C$6:$C$500,"염") -> 0 | C56: / | D56: =SUMIF(리명3!$C$6:$C$500,"염",리명3!$E$6:$E$500) -> 0 | E56: =COUNTIF(리명3!$C$6:$C$500,"염") -> 0 | F56: / | G56: =SUMIF(리명3!$C$6:$C$500,"염",리명3!$E$6:$E$500) -> 0 | H56: =COUNTIF(리명3!$M$6:$M$500,"염국") -> 0 | I56: / | J56: =SUMIF(리명3!$M$6:$M$500,"염국",리명3!$E$6:$E$500) -> 0 | K56: =COUNTIF(리명3!$M$6:$M$500,"염국") -> 0 | L56: / | M56: =SUMIF(리명3!$M$6:$M$500,"염국",리명3!$E$6:$E$500) -> 0 | N56: =COUNTIF(리명3!$M$6:$M$500,"염공") -> 0 | O56: / | P56: =SUMIF(리명3!$M$6:$M$500,"염공",리명3!$E$6:$E$500) -> 0 | Q56: =COUNTIF(리명3!$M$6:$M$500,"염공") -> 0 | R56: / | S56: =SUMIF(리명3!$M$6:$M$500,"염공",리명3!$E$6:$E$500) -> 0 | T56: =B56-H56-N56 -> 0 | U56: / | V56: =D56-J56-P56 -> 0 | W56: =E56-K56-Q56 -> 0 | X56: / | Y56: =G56-M56-S56 -> 0
A57: 공원 | B57: =COUNTIF(리명3!$C$6:$C$500,"공") -> 0 | C57: / | D57: =SUMIF(리명3!$C$6:$C$500,"공",리명3!$E$6:$E$500) -> 0 | E57: =COUNTIF(리명3!$C$6:$C$500,"공") -> 0 | F57: / | G57: =SUMIF(리명3!$C$6:$C$500,"공",리명3!$E$6:$E$500) -> 0 | H57: =COUNTIF(리명3!$M$6:$M$500,"공국") -> 0 | I57: / | J57: =SUMIF(리명3!$M$6:$M$500,"공국",리명3!$E$6:$E$500) -> 0 | K57: =COUNTIF(리명3!$M$6:$M$500,"공국") -> 0 | L57: / | M57: =SUMIF(리명3!$M$6:$M$500,"공국",리명3!$E$6:$E$500) -> 0 | N57: =COUNTIF(리명3!$M$6:$M$500,"공공") -> 0 | O57: / | P57: =SUMIF(리명3!$M$6:$M$500,"공공",리명3!$E$6:$E$500) -> 0 | Q57: =COUNTIF(리명3!$M$6:$M$500,"공공") -> 0 | R57: / | S57: =SUMIF(리명3!$M$6:$M$500,"공공",리명3!$E$6:$E$500) -> 0 | T57: =B57-H57-N57 -> 0 | U57: / | V57: =D57-J57-P57 -> 0 | W57: =E57-K57-Q57 -> 0 | X57: / | Y57: =G57-M57-S57 -> 0
A58: 체육 | B58: =COUNTIF(리명3!$C$6:$C$500,"체") -> 0 | C58: / | D58: =SUMIF(리명3!$C$6:$C$500,"체",리명3!$E$6:$E$500) -> 0 | E58: =COUNTIF(리명3!$C$6:$C$500,"체") -> 0 | F58: / | G58: =SUMIF(리명3!$C$6:$C$500,"체",리명3!$E$6:$E$500) -> 0 | H58: =COUNTIF(리명3!$M$6:$M$500,"체국") -> 0 | I58: / | J58: =SUMIF(리명3!$M$6:$M$500,"체국",리명3!$E$6:$E$500) -> 0 | K58: =COUNTIF(리명3!$M$6:$M$500,"체국") -> 0 | L58: / | M58: =SUMIF(리명3!$M$6:$M$500,"체국",리명3!$E$6:$E$500) -> 0 | N58: =COUNTIF(리명3!$M$6:$M$500,"체공") -> 0 | O58: / | P58: =SUMIF(리명3!$M$6:$M$500,"체공",리명3!$E$6:$E$500) -> 0 | Q58: =COUNTIF(리명3!$M$6:$M$500,"체공") -> 0 | R58: / | S58: =SUMIF(리명3!$M$6:$M$500,"체공",리명3!$E$6:$E$500) -> 0 | T58: =B58-H58-N58 -> 0 | U58: / | V58: =D58-J58-P58 -> 0 | W58: =E58-K58-Q58 -> 0 | X58: / | Y58: =G58-M58-S58 -> 0
A59: 유원지 | B59: =COUNTIF(리명3!$C$6:$C$500,"원") -> 0 | C59: / | D59: =SUMIF(리명3!$C$6:$C$500,"원",리명3!$E$6:$E$500) -> 0 | E59: =COUNTIF(리명3!$C$6:$C$500,"원") -> 0 | F59: / | G59: =SUMIF(리명3!$C$6:$C$500,"원",리명3!$E$6:$E$500) -> 0 | H59: =COUNTIF(리명3!$M$6:$M$500,"원국") -> 0 | I59: / | J59: =SUMIF(리명3!$M$6:$M$500,"원국",리명3!$E$6:$E$500) -> 0 | K59: =COUNTIF(리명3!$M$6:$M$500,"원국") -> 0 | L59: / | M59: =SUMIF(리명3!$M$6:$M$500,"원국",리명3!$E$6:$E$500) -> 0 | N59: =COUNTIF(리명3!$M$6:$M$500,"원공") -> 0 | O59: / | P59: =SUMIF(리명3!$M$6:$M$500,"원공",리명3!$E$6:$E$500) -> 0 | Q59: =COUNTIF(리명3!$M$6:$M$500,"원공") -> 0 | R59: / | S59: =SUMIF(리명3!$M$6:$M$500,"원공",리명3!$E$6:$E$500) -> 0 | T59: =B59-H59-N59 -> 0 | U59: / | V59: =D59-J59-P59 -> 0 | W59: =E59-K59-Q59 -> 0 | X59: / | Y59: =G59-M59-S59 -> 0
A60: 주유소 | B60: =COUNTIF(리명3!$C$6:$C$500,"주") -> 0 | C60: / | D60: =SUMIF(리명3!$C$6:$C$500,"주",리명3!$E$6:$E$500) -> 0 | E60: =COUNTIF(리명3!$C$6:$C$500,"주") -> 0 | F60: / | G60: =SUMIF(리명3!$C$6:$C$500,"주",리명3!$E$6:$E$500) -> 0 | H60: =COUNTIF(리명3!$M$6:$M$500,"주국") -> 0 | I60: / | J60: =SUMIF(리명3!$M$6:$M$500,"주국",리명3!$E$6:$E$500) -> 0 | K60: =COUNTIF(리명3!$M$6:$M$500,"주국") -> 0 | L60: / | M60: =SUMIF(리명3!$M$6:$M$500,"주국",리명3!$E$6:$E$500) -> 0 | N60: =COUNTIF(리명3!$M$6:$M$500,"주공") -> 0 | O60: / | P60: =SUMIF(리명3!$M$6:$M$500,"주공",리명3!$E$6:$E$500) -> 0 | Q60: =COUNTIF(리명3!$M$6:$M$500,"주공") -> 0 | R60: / | S60: =SUMIF(리명3!$M$6:$M$500,"주공",리명3!$E$6:$E$500) -> 0 | T60: =B60-H60-N60 -> 0 | U60: / | V60: =D60-J60-P60 -> 0 | W60: =E60-K60-Q60 -> 0 | X60: / | Y60: =G60-M60-S60 -> 0
A61: 창 고 | B61: =COUNTIF(리명3!$C$6:$C$500,"창") -> 0 | C61: / | D61: =SUMIF(리명3!$C$6:$C$500,"창",리명3!$E$6:$E$500) -> 0 | E61: =COUNTIF(리명3!$C$6:$C$500,"창") -> 0 | F61: / | G61: =SUMIF(리명3!$C$6:$C$500,"창",리명3!$E$6:$E$500) -> 0 | H61: =COUNTIF(리명3!$M$6:$M$500,"창국") -> 0 | I61: / | J61: =SUMIF(리명3!$M$6:$M$500,"창국",리명3!$E$6:$E$500) -> 0 | K61: =COUNTIF(리명3!$M$6:$M$500,"창국") -> 0 | L61: / | M61: =SUMIF(리명3!$M$6:$M$500,"창국",리명3!$E$6:$E$500) -> 0 | N61: =COUNTIF(리명3!$M$6:$M$500,"창공") -> 0 | O61: / | P61: =SUMIF(리명3!$M$6:$M$500,"창공",리명3!$E$6:$E$500) -> 0 | Q61: =COUNTIF(리명3!$M$6:$M$500,"창공") -> 0 | R61: / | S61: =SUMIF(리명3!$M$6:$M$500,"창공",리명3!$E$6:$E$500) -> 0 | T61: =B61-H61-N61 -> 0 | U61: / | V61: =D61-J61-P61 -> 0 | W61: =E61-K61-Q61 -> 0 | X61: / | Y61: =G61-M61-S61 -> 0
A62: 미지번 | B62: =COUNTIF(리명3!$C$6:$C$500," ") -> 0 | C62: / | D62: =SUMIF(리명3!$C$6:$C$500," ",리명3!$E$6:$E$500) -> 0 | E62: =COUNTIF(리명3!$C$6:$C$500," ") -> 0 | F62: / | G62: =SUMIF(리명3!$C$6:$C$500," ",리명3!$E$6:$E$500) -> 0 | H62: =COUNTIF(리명3!$M$6:$M$500," ") -> 0 | I62: / | J62: =SUMIF(리명3!$M$6:$M$500," ",리명3!$E$6:$E$500) -> 0 | K62: =COUNTIF(리명3!$M$6:$M$500," ") -> 0 | L62: / | M62: =SUMIF(리명3!$M$6:$M$500," ",리명3!$E$6:$E$500) -> 0 | N62: =COUNTIF(리명3!$M$6:$M$500," ") -> 0 | O62: / | P62: =SUMIF(리명3!$M$6:$M$500," ",리명3!$E$6:$E$500) -> 0 | Q62: =COUNTIF(리명3!$M$6:$M$500," ") -> 0 | R62: / | S62: =SUMIF(리명3!$M$6:$M$500," ",리명3!$E$6:$E$500) -> 0 | T62: =B62-H62-N62 -> 0 | U62: / | V62: =D62-J62-P62 -> 0 | W62: =E62-K62-Q62 -> 0 | X62: / | Y62: =G62-M62-S62 -> 0
T63: =리명4!N2 -> 4 | W63: =리명4!Q2 -> 0
A64: 구분 | Z64: 비고
B65: 변경 | E65: 변경 | H65: 변경 | K65: 변경 | N65: 변경 | Q65: 변경 | T65: 변경 | W65: 변경
B66: 필지 | C66: / | D66: 면적(㎡) | E66: 필지 | F66: / | G66: 면적(㎡) | H66: 필지 | I66: / | J66: 면적(㎡) | K66: 필지 | L66: / | M66: 면적(㎡) | N66: 필지 | O66: / | P66: 면적(㎡) | Q66: 필지 | R66: / | S66: 면적(㎡) | T66: 필지 | U66: / | V66: 면적(㎡) | W66: 필지 | X66: / | Y66: 면적(㎡) | AC66: 총계 | AD66: 국유지 | AE66: 사유지 | AF66: 국유지+사유지
A67: 계 | B67: =SUM(B68:B92) -> 0 | C67: / | D67: =SUM(D68:D92) -> 0 | E67: =SUM(E68:E92) -> 0 | F67: / | G67: =SUM(G68:G92) -> 0 | H67: =SUM(H68:H92) -> 0 | I67: / | J67: =SUM(J68:J92) -> 0 | K67: =SUM(K68:K92) -> 0 | L67: / | M67: =SUM(M68:M92) -> 0 | N67: =SUM(N68:N92) -> 0 | O67: / | P67: =SUM(P68:P92) -> 0 | Q67: =SUM(Q68:Q92) -> 0 | R67: / | S67: =SUM(S68:S92) -> 0 | T67: =SUM(T68:T92) -> 0 | U67: / | V67: =SUM(V68:V92) -> 0 | W67: =SUM(W68:W92) -> 0 | X67: / | Y67: =SUM(Y68:Y92) -> 0 | AA67: =IF(EXACT(AC67,AF67),"맞음","틀림") -> 맞음 | AB67: 필지 | AC67: =SUM(B68:B92) -> 0 | AD67: =SUM(H68:H92) -> 0 | AE67: =SUM(T68:T92) -> 0 | AF67: =T67+H67 -> 0
A68: 전 | B68: =COUNTIF(리명4!$E$6:$E$500,"전") -> 0 | C68: / | D68: =SUMIF(리명4!$E$6:$E$500,"전",리명4!$I$6:$I$500) -> 0 | E68: =COUNTIF(리명4!$E$6:$E$500,"전") -> 0 | F68: / | G68: =SUMIF(리명4!$E$6:$E$500,"전",리명4!$I$6:$I$500) -> 0 | H68: =COUNTIF(리명4!$R$6:$R$500,"전국") -> 0 | I68: / | J68: =SUMIF(리명4!$R$6:$R$500,"전국",리명4!$I$6:$I$500) -> 0 | K68: =COUNTIF(리명4!$R$6:$R$500,"전국") -> 0 | L68: / | M68: =SUMIF(리명4!$R$6:$R$500,"전국",리명4!$I$6:$I$500) -> 0 | N68: =COUNTIF(리명4!$R$6:$R$500,"전공") -> 0 | O68: / | P68: =SUMIF(리명4!$R$6:$R$500,"전공",리명4!$I$6:$I$500) -> 0 | Q68: =COUNTIF(리명4!$R$6:$R$500,"전공") -> 0 | R68: / | S68: =SUMIF(리명4!$R$6:$R$500,"전공",리명4!$I$6:$I$500) -> 0 | T68: =B68-H68-N68 -> 0 | U68: / | V68: =D68-J68-P68 -> 0 | W68: =E68-K68-Q68 -> 0 | X68: / | Y68: =G68-M68-S68 -> 0 | AA68: =IF(EXACT(AC68,AF68),"맞음","틀림") -> 맞음 | AB68: 면적 | AC68: =SUM(D68:D92) -> 0 | AD68: =SUM(J68:J92) -> 0 | AE68: =SUM(V68:V92) -> 0 | AF68: =J67+V67 -> 0
A69: 답 | B69: =COUNTIF(리명4!$E$6:$E$500,"답") -> 0 | C69: / | D69: =SUMIF(리명4!$E$6:$E$500,"답",리명4!$I$6:$I$500) -> 0 | E69: =COUNTIF(리명4!$E$6:$E$500,"답") -> 0 | F69: / | G69: =SUMIF(리명4!$E$6:$E$500,"답",리명4!$I$6:$I$500) -> 0 | H69: =COUNTIF(리명4!$R$6:$R$500,"답국") -> 0 | I69: / | J69: =SUMIF(리명4!$R$6:$R$500,"답국",리명4!$I$6:$I$500) -> 0 | K69: =COUNTIF(리명4!$R$6:$R$500,"답국") -> 0 | L69: / | M69: =SUMIF(리명4!$R$6:$R$500,"답국",리명4!$I$6:$I$500) -> 0 | N69: =COUNTIF(리명4!$R$6:$R$500,"답공") -> 0 | O69: / | P69: =SUMIF(리명4!$R$6:$R$500,"답공",리명4!$I$6:$I$500) -> 0 | Q69: =COUNTIF(리명4!$R$6:$R$500,"답공") -> 0 | R69: / | S69: =SUMIF(리명4!$R$6:$R$500,"답공",리명4!$I$6:$I$500) -> 0 | T69: =B69-H69-N69 -> 0 | U69: / | V69: =D69-J69-P69 -> 0 | W69: =E69-K69-Q69 -> 0 | X69: / | Y69: =G69-M69-S69 -> 0
A70: 임야 | B70: =COUNTIF(리명4!$E$6:$E$500,"임") -> 0 | C70: / | D70: =SUMIF(리명4!$E$6:$E$500,"임",리명4!$I$6:$I$500) -> 0 | E70: =COUNTIF(리명4!$E$6:$E$500,"임") -> 0 | F70: / | G70: =SUMIF(리명4!$E$6:$E$500,"임",리명4!$I$6:$I$500) -> 0 | H70: =COUNTIF(리명4!$R$6:$R$500,"임국") -> 0 | I70: / | J70: =SUMIF(리명4!$R$6:$R$500,"임국",리명4!$I$6:$I$500) -> 0 | K70: =COUNTIF(리명4!$R$6:$R$500,"임국") -> 0 | L70: / | M70: =SUMIF(리명4!$R$6:$R$500,"임국",리명4!$I$6:$I$500) -> 0 | N70: =COUNTIF(리명4!$R$6:$R$500,"임공") -> 0 | O70: / | P70: =SUMIF(리명4!$R$6:$R$500,"임공",리명4!$I$6:$I$500) -> 0 | Q70: =COUNTIF(리명4!$R$6:$R$500,"임공") -> 0 | R70: / | S70: =SUMIF(리명4!$R$6:$R$500,"임공",리명4!$I$6:$I$500) -> 0 | T70: =B70-H70-N70 -> 0 | U70: / | V70: =D70-J70-P70 -> 0 | W70: =E70-K70-Q70 -> 0 | X70: / | Y70: =G70-M70-S70 -> 0
A71: 대지 | B71: =COUNTIF(리명4!$E$6:$E$500,"대") -> 0 | C71: / | D71: =SUMIF(리명4!$E$6:$E$500,"대",리명4!$I$6:$I$500) -> 0 | E71: =COUNTIF(리명4!$E$6:$E$500,"대") -> 0 | F71: / | G71: =SUMIF(리명4!$E$6:$E$500,"대",리명4!$I$6:$I$500) -> 0 | H71: =COUNTIF(리명4!$R$6:$R$500,"대국") -> 0 | I71: / | J71: =SUMIF(리명4!$R$6:$R$500,"대국",리명4!$I$6:$I$500) -> 0 | K71: =COUNTIF(리명4!$R$6:$R$500,"대국") -> 0 | L71: / | M71: =SUMIF(리명4!$R$6:$R$500,"대국",리명4!$I$6:$I$500) -> 0 | N71: =COUNTIF(리명4!$R$6:$R$500,"대공") -> 0 | O71: / | P71: =SUMIF(리명4!$R$6:$R$500,"대공",리명4!$I$6:$I$500) -> 0 | Q71: =COUNTIF(리명4!$R$6:$R$500,"대공") -> 0 | R71: / | S71: =SUMIF(리명4!$R$6:$R$500,"대공",리명4!$I$6:$I$500) -> 0 | T71: =B71-H71-N71 -> 0 | U71: / | V71: =D71-J71-P71 -> 0 | W71: =E71-K71-Q71 -> 0 | X71: / | Y71: =G71-M71-S71 -> 0
A72: 도로 | B72: =COUNTIF(리명4!$E$6:$E$500,"도") -> 0 | C72: / | D72: =SUMIF(리명4!$E$6:$E$500,"도",리명4!$I$6:$I$500) -> 0 | E72: =COUNTIF(리명4!$E$6:$E$500,"도") -> 0 | F72: / | G72: =SUMIF(리명4!$E$6:$E$500,"도",리명4!$I$6:$I$500) -> 0 | H72: =COUNTIF(리명4!$R$6:$R$500,"도국") -> 0 | I72: / | J72: =SUMIF(리명4!$R$6:$R$500,"도국",리명4!$I$6:$I$500) -> 0 | K72: =COUNTIF(리명4!$R$6:$R$500,"도국") -> 0 | L72: / | M72: =SUMIF(리명4!$R$6:$R$500,"도국",리명4!$I$6:$I$500) -> 0 | N72: =COUNTIF(리명4!$R$6:$R$500,"도공") -> 0 | O72: / | P72: =SUMIF(리명4!$R$6:$R$500,"도공",리명4!$I$6:$I$500) -> 0 | Q72: =COUNTIF(리명4!$R$6:$R$500,"도공") -> 0 | R72: / | S72: =SUMIF(리명4!$R$6:$R$500,"도공",리명4!$I$6:$I$500) -> 0 | T72: =B72-H72-N72 -> 0 | U72: / | V72: =D72-J72-P72 -> 0 | W72: =E72-K72-Q72 -> 0 | X72: / | Y72: =G72-M72-S72 -> 0
A73: 구거 | B73: =COUNTIF(리명4!$E$6:$E$500,"구") -> 0 | C73: / | D73: =SUMIF(리명4!$E$6:$E$500,"구",리명4!$I$6:$I$500) -> 0 | E73: =COUNTIF(리명4!$E$6:$E$500,"구") -> 0 | F73: / | G73: =SUMIF(리명4!$E$6:$E$500,"구",리명4!$I$6:$I$500) -> 0 | H73: =COUNTIF(리명4!$R$6:$R$500,"구국") -> 0 | I73: / | J73: =SUMIF(리명4!$R$6:$R$500,"구국",리명4!$I$6:$I$500) -> 0 | K73: =COUNTIF(리명4!$R$6:$R$500,"구국") -> 0 | L73: / | M73: =SUMIF(리명4!$R$6:$R$500,"구국",리명4!$I$6:$I$500) -> 0 | N73: =COUNTIF(리명4!$R$6:$R$500,"구공") -> 0 | O73: / | P73: =SUMIF(리명4!$R$6:$R$500,"구공",리명4!$I$6:$I$500) -> 0 | Q73: =COUNTIF(리명4!$R$6:$R$500,"구공") -> 0 | R73: / | S73: =SUMIF(리명4!$R$6:$R$500,"구공",리명4!$I$6:$I$500) -> 0 | T73: =B73-H73-N73 -> 0 | U73: / | V73: =D73-J73-P73 -> 0 | W73: =E73-K73-Q73 -> 0 | X73: / | Y73: =G73-M73-S73 -> 0
A74: 하천 | B74: =COUNTIF(리명4!$E$6:$E$500,"천") -> 0 | C74: / | D74: =SUMIF(리명4!$E$6:$E$500,"천",리명4!$I$6:$I$500) -> 0 | E74: =COUNTIF(리명4!$E$6:$E$500,"천") -> 0 | F74: / | G74: =SUMIF(리명4!$E$6:$E$500,"천",리명4!$I$6:$I$500) -> 0 | H74: =COUNTIF(리명4!$R$6:$R$500,"천국") -> 0 | I74: / | J74: =SUMIF(리명4!$R$6:$R$500,"천국",리명4!$I$6:$I$500) -> 0 | K74: =COUNTIF(리명4!$R$6:$R$500,"천국") -> 0 | L74: / | M74: =SUMIF(리명4!$R$6:$R$500,"천국",리명4!$I$6:$I$500) -> 0 | N74: =COUNTIF(리명4!$R$6:$R$500,"천공") -> 0 | O74: / | P74: =SUMIF(리명4!$R$6:$R$500,"천공",리명4!$I$6:$I$500) -> 0 | Q74: =COUNTIF(리명4!$R$6:$R$500,"천공") -> 0 | R74: / | S74: =SUMIF(리명4!$R$6:$R$500,"천공",리명4!$I$6:$I$500) -> 0 | T74: =B74-H74-N74 -> 0 | U74: / | V74: =D74-J74-P74 -> 0 | W74: =E74-K74-Q74 -> 0 | X74: / | Y74: =G74-M74-S74 -> 0
A75: 유지 | B75: =COUNTIF(리명4!$E$6:$E$500,"유") -> 0 | C75: / | D75: =SUMIF(리명4!$E$6:$E$500,"유",리명4!$I$6:$I$500) -> 0 | E75: =COUNTIF(리명4!$E$6:$E$500,"유") -> 0 | F75: / | G75: =SUMIF(리명4!$E$6:$E$500,"유",리명4!$I$6:$I$500) -> 0 | H75: =COUNTIF(리명4!$R$6:$R$500,"유국") -> 0 | I75: / | J75: =SUMIF(리명4!$R$6:$R$500,"유국",리명4!$I$6:$I$500) -> 0 | K75: =COUNTIF(리명4!$R$6:$R$500,"유국") -> 0 | L75: / | M75: =SUMIF(리명4!$R$6:$R$500,"유국",리명4!$I$6:$I$500) -> 0 | N75: =COUNTIF(리명4!$R$6:$R$500,"유공") -> 0 | O75: / | P75: =SUMIF(리명4!$R$6:$R$500,"유공",리명4!$I$6:$I$500) -> 0 | Q75: =COUNTIF(리명4!$R$6:$R$500,"유공") -> 0 | R75: / | S75: =SUMIF(리명4!$R$6:$R$500,"유공",리명4!$I$6:$I$500) -> 0 | T75: =B75-H75-N75 -> 0 | U75: / | V75: =D75-J75-P75 -> 0 | W75: =E75-K75-Q75 -> 0 | X75: / | Y75: =G75-M75-S75 -> 0
A76: 제방 | B76: =COUNTIF(리명4!$E$6:$E$500,"제") -> 0 | C76: / | D76: =SUMIF(리명4!$E$6:$E$500,"제",리명4!$I$6:$I$500) -> 0 | E76: =COUNTIF(리명4!$E$6:$E$500,"제") -> 0 | F76: / | G76: =SUMIF(리명4!$E$6:$E$500,"제",리명4!$I$6:$I$500) -> 0 | H76: =COUNTIF(리명4!$R$6:$R$500,"제국") -> 0 | I76: / | J76: =SUMIF(리명4!$R$6:$R$500,"제국",리명4!$I$6:$I$500) -> 0 | K76: =COUNTIF(리명4!$R$6:$R$500,"제국") -> 0 | L76: / | M76: =SUMIF(리명4!$R$6:$R$500,"제국",리명4!$I$6:$I$500) -> 0 | N76: =COUNTIF(리명4!$R$6:$R$500,"제공") -> 0 | O76: / | P76: =SUMIF(리명4!$R$6:$R$500,"제공",리명4!$I$6:$I$500) -> 0 | Q76: =COUNTIF(리명4!$R$6:$R$500,"제공") -> 0 | R76: / | S76: =SUMIF(리명4!$R$6:$R$500,"제공",리명4!$I$6:$I$500) -> 0 | T76: =B76-H76-N76 -> 0 | U76: / | V76: =D76-J76-P76 -> 0 | W76: =E76-K76-Q76 -> 0 | X76: / | Y76: =G76-M76-S76 -> 0
A77: 과수원 | B77: =COUNTIF(리명4!$E$6:$E$500,"과") -> 0 | C77: / | D77: =SUMIF(리명4!$E$6:$E$500,"과",리명4!$I$6:$I$500) -> 0 | E77: =COUNTIF(리명4!$E$6:$E$500,"과") -> 0 | F77: / | G77: =SUMIF(리명4!$E$6:$E$500,"과",리명4!$I$6:$I$500) -> 0 | H77: =COUNTIF(리명4!$R$6:$R$500,"과국") -> 0 | I77: / | J77: =SUMIF(리명4!$R$6:$R$500,"과국",리명4!$I$6:$I$500) -> 0 | K77: =COUNTIF(리명4!$R$6:$R$500,"과국") -> 0 | L77: / | M77: =SUMIF(리명4!$R$6:$R$500,"과국",리명4!$I$6:$I$500) -> 0 | N77: =COUNTIF(리명4!$R$6:$R$500,"과공") -> 0 | O77: / | P77: =SUMIF(리명4!$R$6:$R$500,"과공",리명4!$I$6:$I$500) -> 0 | Q77: =COUNTIF(리명4!$R$6:$R$500,"과공") -> 0 | R77: / | S77: =SUMIF(리명4!$R$6:$R$500,"과공",리명4!$I$6:$I$500) -> 0 | T77: =B77-H77-N77 -> 0 | U77: / | V77: =D77-J77-P77 -> 0 | W77: =E77-K77-Q77 -> 0 | X77: / | Y77: =G77-M77-S77 -> 0
A78: 공장 | B78: =COUNTIF(리명4!$E$6:$E$500,"장") -> 0 | C78: / | D78: =SUMIF(리명4!$E$6:$E$500,"장",리명4!$I$6:$I$500) -> 0 | E78: =COUNTIF(리명4!$E$6:$E$500,"장") -> 0 | F78: / | G78: =SUMIF(리명4!$E$6:$E$500,"장",리명4!$I$6:$I$500) -> 0 | H78: =COUNTIF(리명4!$R$6:$R$500,"장국") -> 0 | I78: / | J78: =SUMIF(리명4!$R$6:$R$500,"장국",리명4!$I$6:$I$500) -> 0 | K78: =COUNTIF(리명4!$R$6:$R$500,"장국") -> 0 | L78: / | M78: =SUMIF(리명4!$R$6:$R$500,"장국",리명4!$I$6:$I$500) -> 0 | N78: =COUNTIF(리명4!$R$6:$R$500,"장공") -> 0 | O78: / | P78: =SUMIF(리명4!$R$6:$R$500,"장공",리명4!$I$6:$I$500) -> 0 | Q78: =COUNTIF(리명4!$R$6:$R$500,"장공") -> 0 | R78: / | S78: =SUMIF(리명4!$R$6:$R$500,"장공",리명4!$I$6:$I$500) -> 0 | T78: =B78-H78-N78 -> 0 | U78: / | V78: =D78-J78-P78 -> 0 | W78: =E78-K78-Q78 -> 0 | X78: / | Y78: =G78-M78-S78 -> 0
A79: 목장 | B79: =COUNTIF(리명4!$E$6:$E$500,"목") -> 0 | C79: / | D79: =SUMIF(리명4!$E$6:$E$500,"목",리명4!$I$6:$I$500) -> 0 | E79: =COUNTIF(리명4!$E$6:$E$500,"목") -> 0 | F79: / | G79: =SUMIF(리명4!$E$6:$E$500,"목",리명4!$I$6:$I$500) -> 0 | H79: =COUNTIF(리명4!$R$6:$R$500,"목국") -> 0 | I79: / | J79: =SUMIF(리명4!$R$6:$R$500,"목국",리명4!$I$6:$I$500) -> 0 | K79: =COUNTIF(리명4!$R$6:$R$500,"목국") -> 0 | L79: / | M79: =SUMIF(리명4!$R$6:$R$500,"목국",리명4!$I$6:$I$500) -> 0 | N79: =COUNTIF(리명4!$R$6:$R$500,"목공") -> 0 | O79: / | P79: =SUMIF(리명4!$R$6:$R$500,"목공",리명4!$I$6:$I$500) -> 0 | Q79: =COUNTIF(리명4!$R$6:$R$500,"목공") -> 0 | R79: / | S79: =SUMIF(리명4!$R$6:$R$500,"목공",리명4!$I$6:$I$500) -> 0 | T79: =B79-H79-N79 -> 0 | U79: / | V79: =D79-J79-P79 -> 0 | W79: =E79-K79-Q79 -> 0 | X79: / | Y79: =G79-M79-S79 -> 0
A80: 학교용지 | B80: =COUNTIF(리명4!$E$6:$E$500,"학") -> 0 | C80: / | D80: =SUMIF(리명4!$E$6:$E$500,"학",리명4!$I$6:$I$500) -> 0 | E80: =COUNTIF(리명4!$E$6:$E$500,"학") -> 0 | F80: / | G80: =SUMIF(리명4!$E$6:$E$500,"학",리명4!$I$6:$I$500) -> 0 | H80: =COUNTIF(리명4!$R$6:$R$500,"학국") -> 0 | I80: / | J80: =SUMIF(리명4!$R$6:$R$500,"학국",리명4!$I$6:$I$500) -> 0 | K80: =COUNTIF(리명4!$R$6:$R$500,"학국") -> 0 | L80: / | M80: =SUMIF(리명4!$R$6:$R$500,"학국",리명4!$I$6:$I$500) -> 0 | N80: =COUNTIF(리명4!$R$6:$R$500,"학공") -> 0 | O80: / | P80: =SUMIF(리명4!$R$6:$R$500,"학공",리명4!$I$6:$I$500) -> 0 | Q80: =COUNTIF(리명4!$R$6:$R$500,"학공") -> 0 | R80: / | S80: =SUMIF(리명4!$R$6:$R$500,"학공",리명4!$I$6:$I$500) -> 0 | T80: =B80-H80-N80 -> 0 | U80: / | V80: =D80-J80-P80 -> 0 | W80: =E80-K80-Q80 -> 0 | X80: / | Y80: =G80-M80-S80 -> 0
A81: 철도 | B81: =COUNTIF(리명4!$E$6:$E$500,"철") -> 0 | C81: / | D81: =SUMIF(리명4!$E$6:$E$500,"철",리명4!$I$6:$I$500) -> 0 | E81: =COUNTIF(리명4!$E$6:$E$500,"철") -> 0 | F81: / | G81: =SUMIF(리명4!$E$6:$E$500,"철",리명4!$I$6:$I$500) -> 0 | H81: =COUNTIF(리명4!$R$6:$R$500,"철국") -> 0 | I81: / | J81: =SUMIF(리명4!$R$6:$R$500,"철국",리명4!$I$6:$I$500) -> 0 | K81: =COUNTIF(리명4!$R$6:$R$500,"철국") -> 0 | L81: / | M81: =SUMIF(리명4!$R$6:$R$500,"철국",리명4!$I$6:$I$500) -> 0 | N81: =COUNTIF(리명4!$R$6:$R$500,"철공") -> 0 | O81: / | P81: =SUMIF(리명4!$R$6:$R$500,"철공",리명4!$I$6:$I$500) -> 0 | Q81: =COUNTIF(리명4!$R$6:$R$500,"철공") -> 0 | R81: / | S81: =SUMIF(리명4!$R$6:$R$500,"철공",리명4!$I$6:$I$500) -> 0 | T81: =B81-H81-N81 -> 0 | U81: / | V81: =D81-J81-P81 -> 0 | W81: =E81-K81-Q81 -> 0 | X81: / | Y81: =G81-M81-S81 -> 0
A82: 묘지 | B82: =COUNTIF(리명4!$E$6:$E$500,"묘") -> 0 | C82: / | D82: =SUMIF(리명4!$E$6:$E$500,"묘",리명4!$I$6:$I$500) -> 0 | E82: =COUNTIF(리명4!$E$6:$E$500,"묘") -> 0 | F82: / | G82: =SUMIF(리명4!$E$6:$E$500,"묘",리명4!$I$6:$I$500) -> 0 | H82: =COUNTIF(리명4!$R$6:$R$500,"묘국") -> 0 | I82: / | J82: =SUMIF(리명4!$R$6:$R$500,"묘국",리명4!$I$6:$I$500) -> 0 | K82: =COUNTIF(리명4!$R$6:$R$500,"묘국") -> 0 | L82: / | M82: =SUMIF(리명4!$R$6:$R$500,"묘국",리명4!$I$6:$I$500) -> 0 | N82: =COUNTIF(리명4!$R$6:$R$500,"묘공") -> 0 | O82: / | P82: =SUMIF(리명4!$R$6:$R$500,"묘공",리명4!$I$6:$I$500) -> 0 | Q82: =COUNTIF(리명4!$R$6:$R$500,"묘공") -> 0 | R82: / | S82: =SUMIF(리명4!$R$6:$R$500,"묘공",리명4!$I$6:$I$500) -> 0 | T82: =B82-H82-N82 -> 0 | U82: / | V82: =D82-J82-P82 -> 0 | W82: =E82-K82-Q82 -> 0 | X82: / | Y82: =G82-M82-S82 -> 0
A83: 수도 | B83: =COUNTIF(리명4!$E$6:$E$500,"수") -> 0 | C83: / | D83: =SUMIF(리명4!$E$6:$E$500,"수",리명4!$I$6:$I$500) -> 0 | E83: =COUNTIF(리명4!$E$6:$E$500,"수") -> 0 | F83: / | G83: =SUMIF(리명4!$E$6:$E$500,"수",리명4!$I$6:$I$500) -> 0 | H83: =COUNTIF(리명4!$R$6:$R$500,"수국") -> 0 | I83: / | J83: =SUMIF(리명4!$R$6:$R$500,"수국",리명4!$I$6:$I$500) -> 0 | K83: =COUNTIF(리명4!$R$6:$R$500,"수국") -> 0 | L83: / | M83: =SUMIF(리명4!$R$6:$R$500,"수국",리명4!$I$6:$I$500) -> 0 | N83: =COUNTIF(리명4!$R$6:$R$500,"수공") -> 0 | O83: / | P83: =SUMIF(리명4!$R$6:$R$500,"수공",리명4!$I$6:$I$500) -> 0 | Q83: =COUNTIF(리명4!$R$6:$R$500,"수공") -> 0 | R83: / | S83: =SUMIF(리명4!$R$6:$R$500,"수공",리명4!$I$6:$I$500) -> 0 | T83: =B83-H83-N83 -> 0 | U83: / | V83: =D83-J83-P83 -> 0 | W83: =E83-K83-Q83 -> 0 | X83: / | Y83: =G83-M83-S83 -> 0
A84: 잡종지 | B84: =COUNTIF(리명4!$E$6:$E$500,"잡") -> 0 | C84: / | D84: =SUMIF(리명4!$E$6:$E$500,"잡",리명4!$I$6:$I$500) -> 0 | E84: =COUNTIF(리명4!$E$6:$E$500,"잡") -> 0 | F84: / | G84: =SUMIF(리명4!$E$6:$E$500,"잡",리명4!$I$6:$I$500) -> 0 | H84: =COUNTIF(리명4!$R$6:$R$500,"잡국") -> 0 | I84: / | J84: =SUMIF(리명4!$R$6:$R$500,"잡국",리명4!$I$6:$I$500) -> 0 | K84: =COUNTIF(리명4!$R$6:$R$500,"잡국") -> 0 | L84: / | M84: =SUMIF(리명4!$R$6:$R$500,"잡국",리명4!$I$6:$I$500) -> 0 | N84: =COUNTIF(리명4!$R$6:$R$500,"잡공") -> 0 | O84: / | P84: =SUMIF(리명4!$R$6:$R$500,"잡공",리명4!$I$6:$I$500) -> 0 | Q84: =COUNTIF(리명4!$R$6:$R$500,"잡공") -> 0 | R84: / | S84: =SUMIF(리명4!$R$6:$R$500,"잡공",리명4!$I$6:$I$500) -> 0 | T84: =B84-H84-N84 -> 0 | U84: / | V84: =D84-J84-P84 -> 0 | W84: =E84-K84-Q84 -> 0 | X84: / | Y84: =G84-M84-S84 -> 0
A85: 종교 | B85: =COUNTIF(리명4!$E$6:$E$500,"종") -> 0 | C85: / | D85: =SUMIF(리명4!$E$6:$E$500,"종",리명4!$I$6:$I$500) -> 0 | E85: =COUNTIF(리명4!$E$6:$E$500,"종") -> 0 | F85: / | G85: =SUMIF(리명4!$E$6:$E$500,"종",리명4!$I$6:$I$500) -> 0 | H85: =COUNTIF(리명4!$R$6:$R$500,"종국") -> 0 | I85: / | J85: =SUMIF(리명4!$R$6:$R$500,"종국",리명4!$I$6:$I$500) -> 0 | K85: =COUNTIF(리명4!$R$6:$R$500,"종국") -> 0 | L85: / | M85: =SUMIF(리명4!$R$6:$R$500,"종국",리명4!$I$6:$I$500) -> 0 | N85: =COUNTIF(리명4!$R$6:$R$500,"종공") -> 0 | O85: / | P85: =SUMIF(리명4!$R$6:$R$500,"종공",리명4!$I$6:$I$500) -> 0 | Q85: =COUNTIF(리명4!$R$6:$R$500,"종공") -> 0 | R85: / | S85: =SUMIF(리명4!$R$6:$R$500,"종공",리명4!$I$6:$I$500) -> 0 | T85: =B85-H85-N85 -> 0 | U85: / | V85: =D85-J85-P85 -> 0 | W85: =E85-K85-Q85 -> 0 | X85: / | Y85: =G85-M85-S85 -> 0
A86: 염전 | B86: =COUNTIF(리명4!$E$6:$E$500,"염") -> 0 | C86: / | D86: =SUMIF(리명4!$E$6:$E$500,"염",리명4!$I$6:$I$500) -> 0 | E86: =COUNTIF(리명4!$E$6:$E$500,"염") -> 0 | F86: / | G86: =SUMIF(리명4!$E$6:$E$500,"염",리명4!$I$6:$I$500) -> 0 | H86: =COUNTIF(리명4!$R$6:$R$500,"염국") -> 0 | I86: / | J86: =SUMIF(리명4!$R$6:$R$500,"염국",리명4!$I$6:$I$500) -> 0 | K86: =COUNTIF(리명4!$R$6:$R$500,"염국") -> 0 | L86: / | M86: =SUMIF(리명4!$R$6:$R$500,"염국",리명4!$I$6:$I$500) -> 0 | N86: =COUNTIF(리명4!$R$6:$R$500,"염공") -> 0 | O86: / | P86: =SUMIF(리명4!$R$6:$R$500,"염공",리명4!$I$6:$I$500) -> 0 | Q86: =COUNTIF(리명4!$R$6:$R$500,"염공") -> 0 | R86: / | S86: =SUMIF(리명4!$R$6:$R$500,"염공",리명4!$I$6:$I$500) -> 0 | T86: =B86-H86-N86 -> 0 | U86: / | V86: =D86-J86-P86 -> 0 | W86: =E86-K86-Q86 -> 0 | X86: / | Y86: =G86-M86-S86 -> 0
A87: 공원 | B87: =COUNTIF(리명4!$E$6:$E$500,"공") -> 0 | C87: / | D87: =SUMIF(리명4!$E$6:$E$500,"공",리명4!$I$6:$I$500) -> 0 | E87: =COUNTIF(리명4!$E$6:$E$500,"공") -> 0 | F87: / | G87: =SUMIF(리명4!$E$6:$E$500,"공",리명4!$I$6:$I$500) -> 0 | H87: =COUNTIF(리명4!$R$6:$R$500,"공국") -> 0 | I87: / | J87: =SUMIF(리명4!$R$6:$R$500,"공국",리명4!$I$6:$I$500) -> 0 | K87: =COUNTIF(리명4!$R$6:$R$500,"공국") -> 0 | L87: / | M87: =SUMIF(리명4!$R$6:$R$500,"공국",리명4!$I$6:$I$500) -> 0 | N87: =COUNTIF(리명4!$R$6:$R$500,"공공") -> 0 | O87: / | P87: =SUMIF(리명4!$R$6:$R$500,"공공",리명4!$I$6:$I$500) -> 0 | Q87: =COUNTIF(리명4!$R$6:$R$500,"공공") -> 0 | R87: / | S87: =SUMIF(리명4!$R$6:$R$500,"공공",리명4!$I$6:$I$500) -> 0 | T87: =B87-H87-N87 -> 0 | U87: / | V87: =D87-J87-P87 -> 0 | W87: =E87-K87-Q87 -> 0 | X87: / | Y87: =G87-M87-S87 -> 0
A88: 체육 | B88: =COUNTIF(리명4!$E$6:$E$500,"체") -> 0 | C88: / | D88: =SUMIF(리명4!$E$6:$E$500,"체",리명4!$I$6:$I$500) -> 0 | E88: =COUNTIF(리명4!$E$6:$E$500,"체") -> 0 | F88: / | G88: =SUMIF(리명4!$E$6:$E$500,"체",리명4!$I$6:$I$500) -> 0 | H88: =COUNTIF(리명4!$R$6:$R$500,"체국") -> 0 | I88: / | J88: =SUMIF(리명4!$R$6:$R$500,"체국",리명4!$I$6:$I$500) -> 0 | K88: =COUNTIF(리명4!$R$6:$R$500,"체국") -> 0 | L88: / | M88: =SUMIF(리명4!$R$6:$R$500,"체국",리명4!$I$6:$I$500) -> 0 | N88: =COUNTIF(리명4!$R$6:$R$500,"체공") -> 0 | O88: / | P88: =SUMIF(리명4!$R$6:$R$500,"체공",리명4!$I$6:$I$500) -> 0 | Q88: =COUNTIF(리명4!$R$6:$R$500,"체공") -> 0 | R88: / | S88: =SUMIF(리명4!$R$6:$R$500,"체공",리명4!$I$6:$I$500) -> 0 | T88: =B88-H88-N88 -> 0 | U88: / | V88: =D88-J88-P88 -> 0 | W88: =E88-K88-Q88 -> 0 | X88: / | Y88: =G88-M88-S88 -> 0
A89: 유원지 | B89: =COUNTIF(리명4!$E$6:$E$500,"원") -> 0 | C89: / | D89: =SUMIF(리명4!$E$6:$E$500,"원",리명4!$I$6:$I$500) -> 0 | E89: =COUNTIF(리명4!$E$6:$E$500,"원") -> 0 | F89: / | G89: =SUMIF(리명4!$E$6:$E$500,"원",리명4!$I$6:$I$500) -> 0 | H89: =COUNTIF(리명4!$R$6:$R$500,"원국") -> 0 | I89: / | J89: =SUMIF(리명4!$R$6:$R$500,"원국",리명4!$I$6:$I$500) -> 0 | K89: =COUNTIF(리명4!$R$6:$R$500,"원국") -> 0 | L89: / | M89: =SUMIF(리명4!$R$6:$R$500,"원국",리명4!$I$6:$I$500) -> 0 | N89: =COUNTIF(리명4!$R$6:$R$500,"원공") -> 0 | O89: / | P89: =SUMIF(리명4!$R$6:$R$500,"원공",리명4!$I$6:$I$500) -> 0 | Q89: =COUNTIF(리명4!$R$6:$R$500,"원공") -> 0 | R89: / | S89: =SUMIF(리명4!$R$6:$R$500,"원공",리명4!$I$6:$I$500) -> 0 | T89: =B89-H89-N89 -> 0 | U89: / | V89: =D89-J89-P89 -> 0 | W89: =E89-K89-Q89 -> 0 | X89: / | Y89: =G89-M89-S89 -> 0
A90: 주유소 | B90: =COUNTIF(리명4!$E$6:$E$500,"주") -> 0 | C90: / | D90: =SUMIF(리명4!$E$6:$E$500,"주",리명4!$I$6:$I$500) -> 0 | E90: =COUNTIF(리명4!$E$6:$E$500,"주") -> 0 | F90: / | G90: =SUMIF(리명4!$E$6:$E$500,"주",리명4!$I$6:$I$500) -> 0 | H90: =COUNTIF(리명4!$R$6:$R$500,"주국") -> 0 | I90: / | J90: =SUMIF(리명4!$R$6:$R$500,"주국",리명4!$I$6:$I$500) -> 0 | K90: =COUNTIF(리명4!$R$6:$R$500,"주국") -> 0 | L90: / | M90: =SUMIF(리명4!$R$6:$R$500,"주국",리명4!$I$6:$I$500) -> 0 | N90: =COUNTIF(리명4!$R$6:$R$500,"주공") -> 0 | O90: / | P90: =SUMIF(리명4!$R$6:$R$500,"주공",리명4!$I$6:$I$500) -> 0 | Q90: =COUNTIF(리명4!$R$6:$R$500,"주공") -> 0 | R90: / | S90: =SUMIF(리명4!$R$6:$R$500,"주공",리명4!$I$6:$I$500) -> 0 | T90: =B90-H90-N90 -> 0 | U90: / | V90: =D90-J90-P90 -> 0 | W90: =E90-K90-Q90 -> 0 | X90: / | Y90: =G90-M90-S90 -> 0
A91: 창 고 | B91: =COUNTIF(리명4!$E$6:$E$500,"창") -> 0 | C91: / | D91: =SUMIF(리명4!$E$6:$E$500,"창",리명4!$I$6:$I$500) -> 0 | E91: =COUNTIF(리명4!$E$6:$E$500,"창") -> 0 | F91: / | G91: =SUMIF(리명4!$E$6:$E$500,"창",리명4!$I$6:$I$500) -> 0 | H91: =COUNTIF(리명4!$R$6:$R$500,"창국") -> 0 | I91: / | J91: =SUMIF(리명4!$R$6:$R$500,"창국",리명4!$I$6:$I$500) -> 0 | K91: =COUNTIF(리명4!$R$6:$R$500,"창국") -> 0 | L91: / | M91: =SUMIF(리명4!$R$6:$R$500,"창국",리명4!$I$6:$I$500) -> 0 | N91: =COUNTIF(리명4!$R$6:$R$500,"창공") -> 0 | O91: / | P91: =SUMIF(리명4!$R$6:$R$500,"창공",리명4!$I$6:$I$500) -> 0 | Q91: =COUNTIF(리명4!$R$6:$R$500,"창공") -> 0 | R91: / | S91: =SUMIF(리명4!$R$6:$R$500,"창공",리명4!$I$6:$I$500) -> 0 | T91: =B91-H91-N91 -> 0 | U91: / | V91: =D91-J91-P91 -> 0 | W91: =E91-K91-Q91 -> 0 | X91: / | Y91: =G91-M91-S91 -> 0
A92: 미지번 | B92: =COUNTIF(리명4!$E$6:$E$500," ") -> 0 | C92: / | D92: =SUMIF(리명4!$E$6:$E$500," ",리명4!$I$6:$I$500) -> 0 | E92: =COUNTIF(리명4!$E$6:$E$500," ") -> 0 | F92: / | G92: =SUMIF(리명4!$E$6:$E$500," ",리명4!$I$6:$I$500) -> 0 | H92: =COUNTIF(리명4!$R$6:$R$500," ") -> 0 | I92: / | J92: =SUMIF(리명4!$R$6:$R$500," ",리명4!$I$6:$I$500) -> 0 | K92: =COUNTIF(리명4!$R$6:$R$500," ") -> 0 | L92: / | M92: =SUMIF(리명4!$R$6:$R$500," ",리명4!$I$6:$I$500) -> 0 | N92: =COUNTIF(리명4!$R$6:$R$500," ") -> 0 | O92: / | P92: =SUMIF(리명4!$R$6:$R$500," ",리명4!$I$6:$I$500) -> 0 | Q92: =COUNTIF(리명4!$R$6:$R$500," ") -> 0 | R92: / | S92: =SUMIF(리명4!$R$6:$R$500," ",리명4!$I$6:$I$500) -> 0 | T92: =B92-H92-N92 -> 0 | U92: / | V92: =D92-J92-P92 -> 0 | W92: =E92-K92-Q92 -> 0 | X92: / | Y92: =G92-M92-S92 -> 0

Sheet 3구간
A1: 용 지 조 서
L2: 3공구
A4: 일련 | B4: 지번 | C4: 지목 | D4: 지적면적 (m²) | E4: 편입면적(m²) | G4: 소 유 자 | I4: 관 계 인 | L4: 비고
A5: 번호 | E5: 기정 | F5: 변경 | G5: 성 명 | H5: 주 소 | I5: 성 명 | J5: 주 소 | K5: 권리관계
A6: 1 | M6: =CONCATENATE(#REF!,G6) -> #REF! | N6: =CONCATENATE(C6,G6) | O6: =IF(D6>=F6,"-","err") -> - | P6: =IF(E6=0,"1","2") -> 1 | Q6: 60300
A7: 2 | M7: =CONCATENATE(#REF!,G7) -> #REF! | N7: =CONCATENATE(C7,G7) | O7: =IF(D7>=F7,"-","err") -> - | P7: =IF(E7=0,"1","2") -> 1 | Q7: 60300 | R7: =Q7*F7*2 -> 0
A8: 3 | M8: =CONCATENATE(#REF!,G8) -> #REF! | N8: =CONCATENATE(C8,G8) | O8: =IF(D8>=F8,"-","err") -> - | P8: =IF(E8=0,"1","2") -> 1 | Q8: 28800
A9: 4 | M9: =CONCATENATE(#REF!,G9) -> #REF! | N9: =CONCATENATE(C9,G9) | O9: =IF(D9>=F9,"-","err") -> - | P9: =IF(E9=0,"1","2") -> 1 | Q9: 60300
A10: 5 | M10: =CONCATENATE(#REF!,G10) -> #REF! | N10: =CONCATENATE(C10,G10) | O10: =IF(D10>=F10,"-","err") -> - | P10: =IF(E10=0,"1","2") -> 1 | Q10: 38900
A11: 6 | M11: =CONCATENATE(#REF!,G11) -> #REF! | N11: =CONCATENATE(C11,G11) | O11: =IF(D11>=F11,"-","err") -> - | P11: =IF(E11=0,"1","2") -> 1 | Q11: 60300
A12: 7 | M12: =CONCATENATE(#REF!,G12) -> #REF! | N12: =CONCATENATE(C12,G12) | O12: =IF(D12>=F12,"-","err") -> - | P12: =IF(E12=0,"1","2") -> 1 | Q12: 60300
A13: 8 | M13: =CONCATENATE(#REF!,G13) -> #REF! | N13: =CONCATENATE(C13,G13) | O13: =IF(D13>=F13,"-","err") -> - | P13: =IF(E13=0,"1","2") -> 1 | Q13: 38900
A14: 9 | M14: =CONCATENATE(#REF!,G14) -> #REF! | N14: =CONCATENATE(C14,G14) | O14: =IF(D14>=F14,"-","err") -> - | P14: =IF(E14=0,"1","2") -> 1 | Q14: 60300
A15: 10 | M15: =CONCATENATE(#REF!,G15) -> #REF! | N15: =CONCATENATE(C15,G15) | O15: =IF(D15>=F15,"-","err") -> - | P15: =IF(E15=0,"1","2") -> 1 | Q15: 38900
A16: 11 | M16: =CONCATENATE(#REF!,G16) -> #REF! | N16: =CONCATENATE(C16,G16) | O16: =IF(D16>=F16,"-","err") -> - | P16: =IF(E16=0,"1","2") -> 1 | Q16: 38900
A17: 12 | M17: =CONCATENATE(#REF!,G17) -> #REF! | N17: =CONCATENATE(C17,G17) | O17: =IF(D17>=F17,"-","err") -> - | P17: =IF(E17=0,"1","2") -> 1 | Q17: 60800
A18: 13 | N18: =CONCATENATE(C18,G18) | O18: =IF(D18>=F18,"-","err") -> - | P18: =IF(E18=0,"1","2") -> 1 | Q18: 72200
A19: 14 | M19: =CONCATENATE(#REF!,G19) -> #REF! | N19: =CONCATENATE(C19,G19) | O19: =IF(D19>=F19,"-","err") -> - | P19: =IF(E19=0,"1","2") -> 1 | Q19: 38900
A20: 15 | M20: =CONCATENATE(#REF!,G20) -> #REF! | N20: =CONCATENATE(C20,G20) | O20: =IF(D20>=F20,"-","err") -> - | P20: =IF(E20=0,"1","2") -> 1 | Q20: 54000
A21: 16 | M21: =CONCATENATE(#REF!,G21) -> #REF! | N21: =CONCATENATE(C21,G21) | O21: =IF(D21>=F21,"-","err") -> - | P21: =IF(E21=0,"1","2") -> 1 | Q21: 14600
A22: 17 | M22: =CONCATENATE(#REF!,G22) -> #REF! | N22: =CONCATENATE(C22,G22) | O22: =IF(D22>=F22,"-","err") -> - | P22: =IF(E22=0,"1","2") -> 1 | Q22: 38900
A23: 18 | M23: =CONCATENATE(#REF!,G23) -> #REF! | N23: =CONCATENATE(C23,G23) | O23: =IF(D23>=F23,"-","err") -> - | P23: =IF(E23=0,"1","2") -> 1 | Q23: 38900
A24: 19 | M24: =CONCATENATE(#REF!,G24) -> #REF! | N24: =CONCATENATE(C24,G24) | O24: =IF(D24>=F24,"-","err") -> - | P24: =IF(E24=0,"1","2") -> 1 | Q24: 72200
A25: 20 | M25: =CONCATENATE(#REF!,G25) -> #REF! | N25: =CONCATENATE(C25,G25) | O25: =IF(D25>=F25,"-","err") -> - | P25: =IF(E25=0,"1","2") -> 1 | Q25: 38900
M26: =CONCATENATE(#REF!,G26) -> #REF! | N26: =CONCATENATE(C26,G26) | O26: =IF(D26>=F26,"-","err") -> - | P26: =IF(E26=0,"1","2") -> 1 | R26: =Q26*F26*3 -> 0
M27: =CONCATENATE(#REF!,G27) -> #REF! | N27: =CONCATENATE(C27,G27) | O27: =IF(D27>=F27,"-","err") -> - | P27: =IF(E27=0,"1","2") -> 1 | R27: =Q27*F27*3 -> 0
M28: =CONCATENATE(#REF!,G28) -> #REF! | N28: =CONCATENATE(C28,G28) | O28: =IF(D28>=F28,"-","err") -> - | P28: =IF(E28=0,"1","2") -> 1 | R28: =Q28*F28*3 -> 0
M29: =CONCATENATE(#REF!,G29) -> #REF! | N29: =CONCATENATE(C29,G29) | O29: =IF(D29>=F29,"-","err") -> - | P29: =IF(E29=0,"1","2") -> 1 | R29: =Q29*F29*3 -> 0
M30: =CONCATENATE(#REF!,G30) -> #REF! | N30: =CONCATENATE(C30,G30) | O30: =IF(D30>=F30,"-","err") -> - | R30: =Q30*F30*3 -> 0
A31: 소 계 | E31: =SUM(E6:E30) -> 0 | F31: =SUM(F6:F30) -> 0 | M31: =CONCATENATE(#REF!,G31) -> #REF! | N31: =CONCATENATE(C31,G31) | R31: =SUM(R6:R30) -> 0 | U31: =R31+#REF!+#REF! -> #REF!
A32: 26 | M32: =CONCATENATE(#REF!,G32) -> #REF! | N32: =CONCATENATE(C32,G32) | O32: =IF(D32>=F32,"-","err") -> -
A33: 27 | M33: =CONCATENATE(#REF!,G33) -> #REF! | N33: =CONCATENATE(C33,G33) | O33: =IF(D33>=F33,"-","err") -> -
A34: 28 | M34: =CONCATENATE(#REF!,G34) -> #REF! | N34: =CONCATENATE(C34,G34) | O34: =IF(D34>=F34,"-","err") -> -
A35: 29 | M35: =CONCATENATE(#REF!,G35) -> #REF! | N35: =CONCATENATE(C35,G35) | O35: =IF(D35>=F35,"-","err") -> -
A36: 30 | M36: =CONCATENATE(#REF!,G36) -> #REF! | N36: =CONCATENATE(C36,G36) | O36: =IF(D36>=F36,"-","err") -> -
A37: 31 | M37: =CONCATENATE(#REF!,G37) -> #REF! | N37: =CONCATENATE(C37,G37) | O37: =IF(D37>=F37,"-","err") -> -
A38: 32 | M38: =CONCATENATE(#REF!,G38) -> #REF! | N38: =CONCATENATE(C38,G38) | O38: =IF(D38>=F38,"-","err") -> -
A39: 33 | M39: =CONCATENATE(#REF!,G39) -> #REF! | N39: =CONCATENATE(C39,G39) | O39: =IF(D39>=F39,"-","err") -> -
M40: =CONCATENATE(#REF!,G40) -> #REF! | N40: =CONCATENATE(C40,G40) | O40: =IF(D40>=F40,"-","err") -> -
M41: =CONCATENATE(#REF!,G41) -> #REF! | N41: =CONCATENATE(C41,G41) | O41: =IF(D41>=F41,"-","err") -> -
M42: =CONCATENATE(#REF!,G42) -> #REF! | N42: =CONCATENATE(C42,G42) | O42: =IF(D42>=F42,"-","err") -> -
M43: =CONCATENATE(#REF!,G43) -> #REF! | N43: =CONCATENATE(C43,G43) | O43: =IF(D43>=F43,"-","err") -> -
M44: =CONCATENATE(#REF!,G44) -> #REF! | N44: =CONCATENATE(C44,G44) | O44: =IF(D44>=F44,"-","err") -> -
M45: =CONCATENATE(#REF!,G45) -> #REF! | N45: =CONCATENATE(C45,G45) | O45: =IF(D45>=F45,"-","err") -> -
M46: =CONCATENATE(#REF!,G46) -> #REF! | N46: =CONCATENATE(C46,G46) | O46: =IF(D46>=F46,"-","err") -> -
M47: =CONCATENATE(#REF!,G47) -> #REF! | N47: =CONCATENATE(C47,G47) | O47: =IF(D47>=F47,"-","err") -> -
M48: =CONCATENATE(#REF!,G48) -> #REF! | N48: =CONCATENATE(C48,G48) | O48: =IF(D48>=F48,"-","err") -> -
A49: 소 계 | F49: =SUM(F32:F48) -> 0 | M49: =CONCATENATE(#REF!,G49) -> #REF! | N49: =CONCATENATE(C49,G49)
M50: =CONCATENATE(#REF!,G50) -> #REF! | N50: =CONCATENATE(C50,G50) | O50: =IF(D50>=F50,"-","err") -> -
M51: =CONCATENATE(#REF!,G51) -> #REF! | N51: =CONCATENATE(C51,G51) | O51: =IF(D51>=F51,"-","err") -> -
I52: 0 | J52: 0 | K52: 0 | M52: =CONCATENATE(#REF!,G52) -> #REF! | N52: =CONCATENATE(C52,G52) | O52: =IF(D52>=F52,"-","err") -> -
I53: 0 | J53: 0 | K53: 0 | M53: =CONCATENATE(#REF!,G53) -> #REF! | N53: =CONCATENATE(C53,G53) | O53: =IF(D53>=F53,"-","err") -> -
I54: 0 | J54: 0 | K54: 0 | M54: =CONCATENATE(#REF!,G54) -> #REF! | N54: =CONCATENATE(C54,G54) | O54: =IF(D54>=F54,"-","err") -> -
I55: 0 | J55: 0 | K55: 0 | M55: =CONCATENATE(#REF!,G55) -> #REF! | N55: =CONCATENATE(C55,G55) | O55: =IF(D55>=F55,"-","err") -> -
M56: =CONCATENATE(#REF!,G56) -> #REF! | N56: =CONCATENATE(C56,G56) | O56: =IF(D56>=F56,"-","err") -> -
M57: =CONCATENATE(#REF!,G57) -> #REF! | N57: =CONCATENATE(C57,G57) | O57: =IF(D57>=F57,"-","err") -> -
M58: =CONCATENATE(#REF!,G58) -> #REF! | N58: =CONCATENATE(C58,G58) | O58: =IF(D58>=F58,"-","err") -> -
I59: 0 | J59: 0 | K59: 0 | M59: =CONCATENATE(#REF!,G59) -> #REF! | N59: =CONCATENATE(C59,G59) | O59: =IF(D59>=F59,"-","err") -> -
I60: 0 | J60: 0 | K60: 0 | M60: =CONCATENATE(#REF!,G60) -> #REF! | N60: =CONCATENATE(C60,G60) | O60: =IF(D60>=F60,"-","err") -> -
M61: =CONCATENATE(#REF!,G61) -> #REF! | N61: =CONCATENATE(C61,G61) | O61: =IF(D61>=F61,"-","err") -> -
M62: =CONCATENATE(#REF!,G62) -> #REF! | N62: =CONCATENATE(C62,G62) | O62: =IF(D62>=F62,"-","err") -> -
M63: =CONCATENATE(#REF!,G63) -> #REF! | N63: =CONCATENATE(C63,G63) | O63: =IF(D63>=F63,"-","err") -> -
M64: =CONCATENATE(#REF!,G64) -> #REF! | N64: =CONCATENATE(C64,G64) | O64: =IF(D64>=F64,"-","err") -> -
M65: =CONCATENATE(#REF!,G65) -> #REF! | N65: =CONCATENATE(C65,G65) | O65: =IF(D65>=F65,"-","err") -> -
M66: =CONCATENATE(#REF!,G66) -> #REF! | N66: =CONCATENATE(C66,G66) | O66: =IF(D66>=F66,"-","err") -> -
M67: =CONCATENATE(#REF!,G67) -> #REF! | N67: =CONCATENATE(C67,G67) | O67: =IF(D67>=F67,"-","err") -> -
M68: =CONCATENATE(#REF!,G68) -> #REF! | N68: =CONCATENATE(C68,G68) | O68: =IF(D68>=F68,"-","err") -> -
M69: =CONCATENATE(#REF!,G69) -> #REF! | N69: =CONCATENATE(C69,G69) | O69: =IF(D69>=F69,"-","err") -> -
A70: 소 계 | F70: =SUM(F50:F69) -> 0 | M70: =CONCATENATE(#REF!,G70) -> #REF! | N70: =CONCATENATE(C70,G70)
M71: =CONCATENATE(#REF!,G71) -> #REF! | N71: =CONCATENATE(C71,G71) | O71: =IF(D71>=F71,"-","err") -> -
M72: =CONCATENATE(#REF!,G72) -> #REF! | N72: =CONCATENATE(C72,G72) | O72: =IF(D72>=F72,"-","err") -> -
J73: 0 | K73: 0 | M73: =CONCATENATE(#REF!,G73) -> #REF! | N73: =CONCATENATE(C73,G73) | O73: =IF(D73>=F73,"-","err") -> -
J74: 0 | K74: 0 | M74: =CONCATENATE(#REF!,G74) -> #REF! | N74: =CONCATENATE(C74,G74) | O74: =IF(D74>=F74,"-","err") -> -
J75: 0 | K75: 0 | M75: =CONCATENATE(#REF!,G75) -> #REF! | N75: =CONCATENATE(C75,G75) | O75: =IF(D75>=F75,"-","err") -> -
J76: 0 | K76: 0 | M76: =CONCATENATE(#REF!,G76) -> #REF! | N76: =CONCATENATE(C76,G76) | O76: =IF(D76>=F76,"-","err") -> -
J77: 0 | K77: 0 | M77: =CONCATENATE(#REF!,G77) -> #REF! | N77: =CONCATENATE(C77,G77) | O77: =IF(D77>=F77,"-","err") -> -
M78: =CONCATENATE(#REF!,G78) -> #REF! | N78: =CONCATENATE(C78,G78) | O78: =IF(D78>=F78,"-","err") -> -
J79: 0 | K79: 0 | M79: =CONCATENATE(#REF!,G79) -> #REF! | N79: =CONCATENATE(C79,G79) | O79: =IF(D79>=F79,"-","err") -> -
J80: 0 | K80: 0 | M80: =CONCATENATE(#REF!,G80) -> #REF! | N80: =CONCATENATE(C80,G80) | O80: =IF(D80>=F80,"-","err") -> -
J81: 0 | K81: 0 | M81: =CONCATENATE(#REF!,G81) -> #REF! | N81: =CONCATENATE(C81,G81) | O81: =IF(D81>=F81,"-","err") -> -
M82: =CONCATENATE(#REF!,G82) -> #REF! | N82: =CONCATENATE(C82,G82) | O82: =IF(D82>=F82,"-","err") -> -
M83: =CONCATENATE(#REF!,G83) -> #REF! | N83: =CONCATENATE(C83,G83) | O83: =IF(D83>=F83,"-","err") -> -
M84: =CONCATENATE(#REF!,G84) -> #REF! | N84: =CONCATENATE(C84,G84) | O84: =IF(D84>=F84,"-","err") -> -
M85: =CONCATENATE(#REF!,G85) -> #REF! | N85: =CONCATENATE(C85,G85) | O85: =IF(D85>=F85,"-","err") -> -
M86: =CONCATENATE(#REF!,G86) -> #REF! | N86: =CONCATENATE(C86,G86) | O86: =IF(D86>=F86,"-","err") -> -
M87: =CONCATENATE(#REF!,G87) -> #REF! | N87: =CONCATENATE(C87,G87) | O87: =IF(D87>=F87,"-","err") -> -
M88: =CONCATENATE(#REF!,G88) -> #REF! | N88: =CONCATENATE(C88,G88) | O88: =IF(D88>=F88,"-","err") -> -
M89: =CONCATENATE(#REF!,G89) -> #REF! | N89: =CONCATENATE(C89,G89) | O89: =IF(D89>=F89,"-","err") -> -
M90: =CONCATENATE(#REF!,G90) -> #REF! | N90: =CONCATENATE(C90,G90) | O90: =IF(D90>=F90,"-","err") -> -
A91: 소 계 | F91: =SUM(F71:F90) -> 0 | M91: =CONCATENATE(#REF!,G91) -> #REF! | N91: =CONCATENATE(C91,G91)
M92: =CONCATENATE(#REF!,G92) -> #REF! | N92: =CONCATENATE(C92,G92) | O92: =IF(D92>=F92,"-","err") -> -
M93: =CONCATENATE(#REF!,G93) -> #REF! | N93: =CONCATENATE(C93,G93) | O93: =IF(D93>=F93,"-","err") -> -
I94: 0 | J94: 0 | K94: 0 | M94: =CONCATENATE(#REF!,G94) -> #REF! | N94: =CONCATENATE(C94,G94) | O94: =IF(D94>=F94,"-","err") -> -
I95: 0 | J95: 0 | K95: 0 | M95: =CONCATENATE(#REF!,G95) -> #REF! | N95: =CONCATENATE(C95,G95) | O95: =IF(D95>=F95,"-","err") -> -
I96: 0 | J96: 0 | K96: 0 | M96: =CONCATENATE(#REF!,G96) -> #REF! | N96: =CONCATENATE(C96,G96) | O96: =IF(D96>=F96,"-","err") -> -
I97: 0 | J97: 0 | K97: 0 | M97: =CONCATENATE(#REF!,G97) -> #REF! | N97: =CONCATENATE(C97,G97) | O97: =IF(D97>=F97,"-","err") -> -
M98: =CONCATENATE(#REF!,G98) -> #REF! | N98: =CONCATENATE(C98,G98) | O98: =IF(D98>=F98,"-","err") -> -
M99: =CONCATENATE(#REF!,G99) -> #REF! | N99: =CONCATENATE(C99,G99) | O99: =IF(D99>=F99,"-","err") -> -
M100: =CONCATENATE(#REF!,G100) -> #REF! | N100: =CONCATENATE(C100,G100) | O100: =IF(D100>=F100,"-","err") -> -
I101: 0 | J101: 0 | K101: 0 | M101: =CONCATENATE(#REF!,G101) -> #REF! | N101: =CONCATENATE(C101,G101) | O101: =IF(D101>=F101,"-","err") -> -
...

Sheet 리명3
A1: 용 지 조 서
I2: 장화리
A4: 일련 | B4: 지번 | C4: 지목 | D4: 지적면적(m²) (CAD구적면적) | E4: 편입면적(m²) | F4: 소 유 자 | H4: 관 계 인 | K4: 비고
A5: 번호 | F5: 성 명 | G5: 주 소 | H5: 성 명 | I5: 주 소 | J5: 권리관계
L6: =CONCATENATE(#REF!,F6) -> #REF! | M6: =CONCATENATE(C6,F6) | N6: =IF(D6>=E6,"-","err") -> -
I7: 0 | J7: 0 | L7: =CONCATENATE(#REF!,F7) -> #REF! | M7: =CONCATENATE(C7,F7) | N7: =IF(D7>=E7,"-","err") -> -
I8: 0 | J8: 0 | L8: =CONCATENATE(#REF!,F8) -> #REF! | M8: =CONCATENATE(C8,F8) | N8: =IF(D8>=E8,"-","err") -> -
I9: 0 | J9: 0 | L9: =CONCATENATE(#REF!,F9) -> #REF! | M9: =CONCATENATE(C9,F9) | N9: =IF(D9>=E9,"-","err") -> -
I10: 0 | J10: 0 | L10: =CONCATENATE(#REF!,F10) -> #REF! | M10: =CONCATENATE(C10,F10) | N10: =IF(D10>=E10,"-","err") -> -
I11: 0 | J11: 0 | L11: =CONCATENATE(#REF!,F11) -> #REF! | M11: =CONCATENATE(C11,F11) | N11: =IF(D11>=E11,"-","err") -> -
L12: =CONCATENATE(#REF!,F12) -> #REF! | M12: =CONCATENATE(C12,F12) | N12: =IF(D12>=E12,"-","err") -> -
I13: 0 | J13: 0 | L13: =CONCATENATE(#REF!,F13) -> #REF! | M13: =CONCATENATE(C13,F13) | N13: =IF(D13>=E13,"-","err") -> -
H14: 0 | I14: 0 | J14: 0 | L14: =CONCATENATE(#REF!,F14) -> #REF! | M14: =CONCATENATE(C14,F14) | N14: =IF(D14>=E14,"-","err") -> -
H15: 0 | I15: 0 | J15: 0 | L15: =CONCATENATE(#REF!,F15) -> #REF! | M15: =CONCATENATE(C15,F15) | N15: =IF(D15>=E15,"-","err") -> -
H16: 0 | I16: 0 | J16: 0 | L16: =CONCATENATE(#REF!,F16) -> #REF! | M16: =CONCATENATE(C16,F16) | N16: =IF(D16>=E16,"-","err") -> -
L17: =CONCATENATE(#REF!,F17) -> #REF! | M17: =CONCATENATE(C17,F17) | N17: =IF(D17>=E17,"-","err") -> -
L18: =CONCATENATE(#REF!,F18) -> #REF! | M18: =CONCATENATE(C18,F18) | N18: =IF(D18>=E18,"-","err") -> -
L19: =CONCATENATE(#REF!,F19) -> #REF! | M19: =CONCATENATE(C19,F19) | N19: =IF(D19>=E19,"-","err") -> -
L20: =CONCATENATE(#REF!,F20) -> #REF! | M20: =CONCATENATE(C20,F20) | N20: =IF(D20>=E20,"-","err") -> -
L21: =CONCATENATE(#REF!,F21) -> #REF! | M21: =CONCATENATE(C21,F21) | N21: =IF(D21>=E21,"-","err") -> -
L22: =CONCATENATE(#REF!,F22) -> #REF! | M22: =CONCATENATE(C22,F22) | N22: =IF(D22>=E22,"-","err") -> -
L23: =CONCATENATE(#REF!,F23) -> #REF! | M23: =CONCATENATE(C23,F23) | N23: =IF(D23>=E23,"-","err") -> -
L24: =CONCATENATE(#REF!,F24) -> #REF! | M24: =CONCATENATE(C24,F24) | N24: =IF(D24>=E24,"-","err") -> -
L25: =CONCATENATE(#REF!,F25) -> #REF! | M25: =CONCATENATE(C25,F25) | N25: =IF(D25>=E25,"-","err") -> -
A26: 소 계 | E26: =SUM(E6:E25) -> 0 | L26: =CONCATENATE(#REF!,F26) -> #REF! | M26: =CONCATENATE(C26,F26)
L27: =CONCATENATE(#REF!,F27) -> #REF! | M27: =CONCATENATE(C27,F27) | N27: =IF(D27>=E27,"-","err") -> -
I28: 0 | J28: 0 | L28: =CONCATENATE(#REF!,F28) -> #REF! | M28: =CONCATENATE(C28,F28) | N28: =IF(D28>=E28,"-","err") -> -
I29: 0 | J29: 0 | L29: =CONCATENATE(#REF!,F29) -> #REF! | M29: =CONCATENATE(C29,F29) | N29: =IF(D29>=E29,"-","err") -> -
I30: 0 | J30: 0 | L30: =CONCATENATE(#REF!,F30) -> #REF! | M30: =CONCATENATE(C30,F30) | N30: =IF(D30>=E30,"-","err") -> -
I31: 0 | J31: 0 | L31: =CONCATENATE(#REF!,F31) -> #REF! | M31: =CONCATENATE(C31,F31) | N31: =IF(D31>=E31,"-","err") -> -
I32: 0 | J32: 0 | L32: =CONCATENATE(#REF!,F32) -> #REF! | M32: =CONCATENATE(C32,F32) | N32: =IF(D32>=E32,"-","err") -> -
L33: =CONCATENATE(#REF!,F33) -> #REF! | M33: =CONCATENATE(C33,F33) | N33: =IF(D33>=E33,"-","err") -> -
I34: 0 | J34: 0 | L34: =CONCATENATE(#REF!,F34) -> #REF! | M34: =CONCATENATE(C34,F34) | N34: =IF(D34>=E34,"-","err") -> -
H35: 0 | I35: 0 | J35: 0 | L35: =CONCATENATE(#REF!,F35) -> #REF! | M35: =CONCATENATE(C35,F35) | N35: =IF(D35>=E35,"-","err") -> -
H36: 0 | I36: 0 | J36: 0 | L36: =CONCATENATE(#REF!,F36) -> #REF! | M36: =CONCATENATE(C36,F36) | N36: =IF(D36>=E36,"-","err") -> -
H37: 0 | I37: 0 | J37: 0 | L37: =CONCATENATE(#REF!,F37) -> #REF! | M37: =CONCATENATE(C37,F37) | N37: =IF(D37>=E37,"-","err") -> -
L38: =CONCATENATE(#REF!,F38) -> #REF! | M38: =CONCATENATE(C38,F38) | N38: =IF(D38>=E38,"-","err") -> -
L39: =CONCATENATE(#REF!,F39) -> #REF! | M39: =CONCATENATE(C39,F39) | N39: =IF(D39>=E39,"-","err") -> -
L40: =CONCATENATE(#REF!,F40) -> #REF! | M40: =CONCATENATE(C40,F40) | N40: =IF(D40>=E40,"-","err") -> -
L41: =CONCATENATE(#REF!,F41) -> #REF! | M41: =CONCATENATE(C41,F41) | N41: =IF(D41>=E41,"-","err") -> -
L42: =CONCATENATE(#REF!,F42) -> #REF! | M42: =CONCATENATE(C42,F42) | N42: =IF(D42>=E42,"-","err") -> -
L43: =CONCATENATE(#REF!,F43) -> #REF! | M43: =CONCATENATE(C43,F43) | N43: =IF(D43>=E43,"-","err") -> -
L44: =CONCATENATE(#REF!,F44) -> #REF! | M44: =CONCATENATE(C44,F44) | N44: =IF(D44>=E44,"-","err") -> -
L45: =CONCATENATE(#REF!,F45) -> #REF! | M45: =CONCATENATE(C45,F45) | N45: =IF(D45>=E45,"-","err") -> -
L46: =CONCATENATE(#REF!,F46) -> #REF! | M46: =CONCATENATE(C46,F46) | N46: =IF(D46>=E46,"-","err") -> -
A47: 소 계 | E47: =SUM(E27:E46) -> 0 | L47: =CONCATENATE(#REF!,F47) -> #REF! | M47: =CONCATENATE(C47,F47)
L48: =CONCATENATE(#REF!,F48) -> #REF! | M48: =CONCATENATE(C48,F48) | N48: =IF(D48>=E48,"-","err") -> -
I49: 0 | J49: 0 | L49: =CONCATENATE(#REF!,F49) -> #REF! | M49: =CONCATENATE(C49,F49) | N49: =IF(D49>=E49,"-","err") -> -
I50: 0 | J50: 0 | L50: =CONCATENATE(#REF!,F50) -> #REF! | M50: =CONCATENATE(C50,F50) | N50: =IF(D50>=E50,"-","err") -> -
I51: 0 | J51: 0 | L51: =CONCATENATE(#REF!,F51) -> #REF! | M51: =CONCATENATE(C51,F51) | N51: =IF(D51>=E51,"-","err") -> -
I52: 0 | J52: 0 | L52: =CONCATENATE(#REF!,F52) -> #REF! | M52: =CONCATENATE(C52,F52) | N52: =IF(D52>=E52,"-","err") -> -
I53: 0 | J53: 0 | L53: =CONCATENATE(#REF!,F53) -> #REF! | M53: =CONCATENATE(C53,F53) | N53: =IF(D53>=E53,"-","err") -> -
L54: =CONCATENATE(#REF!,F54) -> #REF! | M54: =CONCATENATE(C54,F54) | N54: =IF(D54>=E54,"-","err") -> -
I55: 0 | J55: 0 | L55: =CONCATENATE(#REF!,F55) -> #REF! | M55: =CONCATENATE(C55,F55) | N55: =IF(D55>=E55,"-","err") -> -
H56: 0 | I56: 0 | J56: 0 | L56: =CONCATENATE(#REF!,F56) -> #REF! | M56: =CONCATENATE(C56,F56) | N56: =IF(D56>=E56,"-","err") -> -
H57: 0 | I57: 0 | J57: 0 | L57: =CONCATENATE(#REF!,F57) -> #REF! | M57: =CONCATENATE(C57,F57) | N57: =IF(D57>=E57,"-","err") -> -
H58: 0 | I58: 0 | J58: 0 | L58: =CONCATENATE(#REF!,F58) -> #REF! | M58: =CONCATENATE(C58,F58) | N58: =IF(D58>=E58,"-","err") -> -
L59: =CONCATENATE(#REF!,F59) -> #REF! | M59: =CONCATENATE(C59,F59) | N59: =IF(D59>=E59,"-","err") -> -
L60: =CONCATENATE(#REF!,F60) -> #REF! | M60: =CONCATENATE(C60,F60) | N60: =IF(D60>=E60,"-","err") -> -
L61: =CONCATENATE(#REF!,F61) -> #REF! | M61: =CONCATENATE(C61,F61) | N61: =IF(D61>=E61,"-","err") -> -
L62: =CONCATENATE(#REF!,F62) -> #REF! | M62: =CONCATENATE(C62,F62) | N62: =IF(D62>=E62,"-","err") -> -
L63: =CONCATENATE(#REF!,F63) -> #REF! | M63: =CONCATENATE(C63,F63) | N63: =IF(D63>=E63,"-","err") -> -
L64: =CONCATENATE(#REF!,F64) -> #REF! | M64: =CONCATENATE(C64,F64) | N64: =IF(D64>=E64,"-","err") -> -
L65: =CONCATENATE(#REF!,F65) -> #REF! | M65: =CONCATENATE(C65,F65) | N65: =IF(D65>=E65,"-","err") -> -
L66: =CONCATENATE(#REF!,F66) -> #REF! | M66: =CONCATENATE(C66,F66) | N66: =IF(D66>=E66,"-","err") -> -
L67: =CONCATENATE(#REF!,F67) -> #REF! | M67: =CONCATENATE(C67,F67) | N67: =IF(D67>=E67,"-","err") -> -
A68: 소 계 | E68: =SUM(E48:E67) -> 0 | L68: =CONCATENATE(#REF!,F68) -> #REF! | M68: =CONCATENATE(C68,F68)
L69: =CONCATENATE(#REF!,F69) -> #REF! | M69: =CONCATENATE(C69,F69) | N69: =IF(D69>=E69,"-","err") -> -
I70: 0 | J70: 0 | L70: =CONCATENATE(#REF!,F70) -> #REF! | M70: =CONCATENATE(C70,F70) | N70: =IF(D70>=E70,"-","err") -> -
I71: 0 | J71: 0 | L71: =CONCATENATE(#REF!,F71) -> #REF! | M71: =CONCATENATE(C71,F71) | N71: =IF(D71>=E71,"-","err") -> -
I72: 0 | J72: 0 | L72: =CONCATENATE(#REF!,F72) -> #REF! | M72: =CONCATENATE(C72,F72) | N72: =IF(D72>=E72,"-","err") -> -
I73: 0 | J73: 0 | L73: =CONCATENATE(#REF!,F73) -> #REF! | M73: =CONCATENATE(C73,F73) | N73: =IF(D73>=E73,"-","err") -> -
I74: 0 | J74: 0 | L74: =CONCATENATE(#REF!,F74) -> #REF! | M74: =CONCATENATE(C74,F74) | N74: =IF(D74>=E74,"-","err") -> -
L75: =CONCATENATE(#REF!,F75) -> #REF! | M75: =CONCATENATE(C75,F75) | N75: =IF(D75>=E75,"-","err") -> -
I76: 0 | J76: 0 | L76: =CONCATENATE(#REF!,F76) -> #REF! | M76: =CONCATENATE(C76,F76) | N76: =IF(D76>=E76,"-","err") -> -
H77: 0 | I77: 0 | J77: 0 | L77: =CONCATENATE(#REF!,F77) -> #REF! | M77: =CONCATENATE(C77,F77) | N77: =IF(D77>=E77,"-","err") -> -
H78: 0 | I78: 0 | J78: 0 | L78: =CONCATENATE(#REF!,F78) -> #REF! | M78: =CONCATENATE(C78,F78) | N78: =IF(D78>=E78,"-","err") -> -
H79: 0 | I79: 0 | J79: 0 | L79: =CONCATENATE(#REF!,F79) -> #REF! | M79: =CONCATENATE(C79,F79) | N79: =IF(D79>=E79,"-","err") -> -
L80: =CONCATENATE(#REF!,F80) -> #REF! | M80: =CONCATENATE(C80,F80) | N80: =IF(D80>=E80,"-","err") -> -
L81: =CONCATENATE(#REF!,F81) -> #REF! | M81: =CONCATENATE(C81,F81) | N81: =IF(D81>=E81,"-","err") -> -
L82: =CONCATENATE(#REF!,F82) -> #REF! | M82: =CONCATENATE(C82,F82) | N82: =IF(D82>=E82,"-","err") -> -
L83: =CONCATENATE(#REF!,F83) -> #REF! | M83: =CONCATENATE(C83,F83) | N83: =IF(D83>=E83,"-","err") -> -
L84: =CONCATENATE(#REF!,F84) -> #REF! | M84: =CONCATENATE(C84,F84) | N84: =IF(D84>=E84,"-","err") -> -
L85: =CONCATENATE(#REF!,F85) -> #REF! | M85: =CONCATENATE(C85,F85) | N85: =IF(D85>=E85,"-","err") -> -
L86: =CONCATENATE(#REF!,F86) -> #REF! | M86: =CONCATENATE(C86,F86) | N86: =IF(D86>=E86,"-","err") -> -
L87: =CONCATENATE(#REF!,F87) -> #REF! | M87: =CONCATENATE(C87,F87) | N87: =IF(D87>=E87,"-","err") -> -
L88: =CONCATENATE(#REF!,F88) -> #REF! | M88: =CONCATENATE(C88,F88) | N88: =IF(D88>=E88,"-","err") -> -
A89: 소 계 | E89: =SUM(E69:E88) -> 0 | L89: =CONCATENATE(#REF!,F89) -> #REF! | M89: =CONCATENATE(C89,F89)
L90: =CONCATENATE(#REF!,F90) -> #REF! | M90: =CONCATENATE(C90,F90) | N90: =IF(D90>=E90,"-","err") -> -
I91: 0 | J91: 0 | L91: =CONCATENATE(#REF!,F91) -> #REF! | M91: =CONCATENATE(C91,F91) | N91: =IF(D91>=E91,"-","err") -> -
I92: 0 | J92: 0 | L92: =CONCATENATE(#REF!,F92) -> #REF! | M92: =CONCATENATE(C92,F92) | N92: =IF(D92>=E92,"-","err") -> -
I93: 0 | J93: 0 | L93: =CONCATENATE(#REF!,F93) -> #REF! | M93: =CONCATENATE(C93,F93) | N93: =IF(D93>=E93,"-","err") -> -
I94: 0 | J94: 0 | L94: =CONCATENATE(#REF!,F94) -> #REF! | M94: =CONCATENATE(C94,F94) | N94: =IF(D94>=E94,"-","err") -> -
I95: 0 | J95: 0 | L95: =CONCATENATE(#REF!,F95) -> #REF! | M95: =CONCATENATE(C95,F95) | N95: =IF(D95>=E95,"-","err") -> -
L96: =CONCATENATE(#REF!,F96) -> #REF! | M96: =CONCATENATE(C96,F96) | N96: =IF(D96>=E96,"-","err") -> -
I97: 0 | J97: 0 | L97: =CONCATENATE(#REF!,F97) -> #REF! | M97: =CONCATENATE(C97,F97) | N97: =IF(D97>=E97,"-","err") -> -
H98: 0 | I98: 0 | J98: 0 | L98: =CONCATENATE(#REF!,F98) -> #REF! | M98: =CONCATENATE(C98,F98) | N98: =IF(D98>=E98,"-","err") -> -
H99: 0 | I99: 0 | J99: 0 | L99: =CONCATENATE(#REF!,F99) -> #REF! | M99: =CONCATENATE(C99,F99) | N99: =IF(D99>=E99,"-","err") -> -
H100: 0 | I100: 0 | J100: 0 | L100: =CONCATENATE(#REF!,F100) -> #REF! | M100: =CONCATENATE(C100,F100) | N100: =IF(D100>=E100,"-","err") -> -
L101: =CONCATENATE(#REF!,F101) -> #REF! | M101: =CONCATENATE(C101,F101) | N101: =IF(D101>=E101,"-","err") -> -
...

Sheet 리명4
A1: 용 지 조 서
N2: 4
A4: 일련 | B4: 지 번 | D4: 지목 | F4: 지 적( ㎡ ) | H4: 편입면적(㎡) | J4: 증감 내역(㎡) | K4: 소 유 자 | M4: 관 계 인 | P4: 비고
A5: 번호 | B5: 당초 | C5: 변경 | D5: 당초 | E5: 변경 | F5: 당초 | G5: 변경 | H5: 당초 | I5: 변경 | K5: 성 명 | L5: 주 소 | M5: 성 명 | N5: 주 소 | O5: 권리관계
J6: =I6-H6 -> 0 | Q6: =CONCATENATE(D6,K6) | R6: =CONCATENATE(E6,K6) | S6: =IF(G6>=I6,"-","err") -> -
J7: =I7-H7 -> 0 | N7: 0 | O7: 0 | Q7: =CONCATENATE(D7,K7) | R7: =CONCATENATE(E7,K7) | S7: =IF(G7>=I7,"-","err") -> -
J8: =I8-H8 -> 0 | N8: 0 | O8: 0 | Q8: =CONCATENATE(D8,K8) | R8: =CONCATENATE(E8,K8) | S8: =IF(G8>=I8,"-","err") -> -
J9: =I9-H9 -> 0 | N9: 0 | O9: 0 | Q9: =CONCATENATE(D9,K9) | R9: =CONCATENATE(E9,K9) | S9: =IF(G9>=I9,"-","err") -> -
J10: =I10-H10 -> 0 | N10: 0 | O10: 0 | Q10: =CONCATENATE(D10,K10) | R10: =CONCATENATE(E10,K10) | S10: =IF(G10>=I10,"-","err") -> -
N11: 0 | O11: 0 | Q11: =CONCATENATE(D11,K11) | R11: =CONCATENATE(E11,K11) | S11: =IF(G11>=I11,"-","err") -> -
Q12: =CONCATENATE(D12,K12) | R12: =CONCATENATE(E12,K12) | S12: =IF(G12>=I12,"-","err") -> -
N13: 0 | O13: 0 | Q13: =CONCATENATE(D13,K13) | R13: =CONCATENATE(E13,K13) | S13: =IF(G13>=I13,"-","err") -> -
M14: 0 | N14: 0 | O14: 0 | Q14: =CONCATENATE(D14,K14) | R14: =CONCATENATE(E14,K14) | S14: =IF(G14>=I14,"-","err") -> -
M15: 0 | N15: 0 | O15: 0 | Q15: =CONCATENATE(D15,K15) | R15: =CONCATENATE(E15,K15) | S15: =IF(G15>=I15,"-","err") -> -
M16: 0 | N16: 0 | O16: 0 | Q16: =CONCATENATE(D16,K16) | R16: =CONCATENATE(E16,K16) | S16: =IF(G16>=I16,"-","err") -> -
Q17: =CONCATENATE(D17,K17) | R17: =CONCATENATE(E17,K17) | S17: =IF(G17>=I17,"-","err") -> -
Q18: =CONCATENATE(D18,K18) | R18: =CONCATENATE(E18,K18) | S18: =IF(G18>=I18,"-","err") -> -
Q19: =CONCATENATE(D19,K19) | R19: =CONCATENATE(E19,K19) | S19: =IF(G19>=I19,"-","err") -> -
Q20: =CONCATENATE(D20,K20) | R20: =CONCATENATE(E20,K20) | S20: =IF(G20>=I20,"-","err") -> -
Q21: =CONCATENATE(D21,K21) | R21: =CONCATENATE(E21,K21) | S21: =IF(G21>=I21,"-","err") -> -
Q22: =CONCATENATE(D22,K22) | R22: =CONCATENATE(E22,K22) | S22: =IF(G22>=I22,"-","err") -> -
Q23: =CONCATENATE(D23,K23) | R23: =CONCATENATE(E23,K23) | S23: =IF(G23>=I23,"-","err") -> -
Q24: =CONCATENATE(D24,K24) | R24: =CONCATENATE(E24,K24) | S24: =IF(G24>=I24,"-","err") -> -
Q25: =CONCATENATE(D25,K25) | R25: =CONCATENATE(E25,K25) | S25: =IF(G25>=I25,"-","err") -> -
A26: 소 계 | H26: =SUM(H6:H25) -> 0 | I26: =SUM(I6:I25) -> 0 | J26: =SUM(J6:J25) -> 0 | Q26: =CONCATENATE(D26,K26) | R26: =CONCATENATE(E26,K26)
J27: =I27-H27 -> 0 | Q27: =CONCATENATE(D27,K27) | R27: =CONCATENATE(E27,K27) | S27: =IF(G27>=I27,"-","err") -> -
J28: =I28-H28 -> 0 | N28: 0 | O28: 0 | Q28: =CONCATENATE(D28,K28) | R28: =CONCATENATE(E28,K28) | S28: =IF(G28>=I28,"-","err") -> -
J29: =I29-H29 -> 0 | N29: 0 | O29: 0 | Q29: =CONCATENATE(D29,K29) | R29: =CONCATENATE(E29,K29) | S29: =IF(G29>=I29,"-","err") -> -
J30: =I30-H30 -> 0 | N30: 0 | O30: 0 | Q30: =CONCATENATE(D30,K30) | R30: =CONCATENATE(E30,K30) | S30: =IF(G30>=I30,"-","err") -> -
J31: =I31-H31 -> 0 | N31: 0 | O31: 0 | Q31: =CONCATENATE(D31,K31) | R31: =CONCATENATE(E31,K31) | S31: =IF(G31>=I31,"-","err") -> -
N32: 0 | O32: 0 | Q32: =CONCATENATE(D32,K32) | R32: =CONCATENATE(E32,K32) | S32: =IF(G32>=I32,"-","err") -> -
Q33: =CONCATENATE(D33,K33) | R33: =CONCATENATE(E33,K33) | S33: =IF(G33>=I33,"-","err") -> -
N34: 0 | O34: 0 | Q34: =CONCATENATE(D34,K34) | R34: =CONCATENATE(E34,K34) | S34: =IF(G34>=I34,"-","err") -> -
M35: 0 | N35: 0 | O35: 0 | Q35: =CONCATENATE(D35,K35) | R35: =CONCATENATE(E35,K35) | S35: =IF(G35>=I35,"-","err") -> -
M36: 0 | N36: 0 | O36: 0 | Q36: =CONCATENATE(D36,K36) | R36: =CONCATENATE(E36,K36) | S36: =IF(G36>=I36,"-","err") -> -
M37: 0 | N37: 0 | O37: 0 | Q37: =CONCATENATE(D37,K37) | R37: =CONCATENATE(E37,K37) | S37: =IF(G37>=I37,"-","err") -> -
Q38: =CONCATENATE(D38,K38) | R38: =CONCATENATE(E38,K38) | S38: =IF(G38>=I38,"-","err") -> -
Q39: =CONCATENATE(D39,K39) | R39: =CONCATENATE(E39,K39) | S39: =IF(G39>=I39,"-","err") -> -
Q40: =CONCATENATE(D40,K40) | R40: =CONCATENATE(E40,K40) | S40: =IF(G40>=I40,"-","err") -> -
Q41: =CONCATENATE(D41,K41) | R41: =CONCATENATE(E41,K41) | S41: =IF(G41>=I41,"-","err") -> -
Q42: =CONCATENATE(D42,K42) | R42: =CONCATENATE(E42,K42) | S42: =IF(G42>=I42,"-","err") -> -
Q43: =CONCATENATE(D43,K43) | R43: =CONCATENATE(E43,K43) | S43: =IF(G43>=I43,"-","err") -> -
Q44: =CONCATENATE(D44,K44) | R44: =CONCATENATE(E44,K44) | S44: =IF(G44>=I44,"-","err") -> -
Q45: =CONCATENATE(D45,K45) | R45: =CONCATENATE(E45,K45) | S45: =IF(G45>=I45,"-","err") -> -
Q46: =CONCATENATE(D46,K46) | R46: =CONCATENATE(E46,K46) | S46: =IF(G46>=I46,"-","err") -> -
A47: 소 계 | H47: =SUM(H27:H46) -> 0 | I47: =SUM(I27:I46) -> 0 | J47: =SUM(J27:J46) -> 0 | Q47: =CONCATENATE(D47,K47) | R47: =CONCATENATE(E47,K47)
J48: =I48-H48 -> 0 | Q48: =CONCATENATE(D48,K48) | R48: =CONCATENATE(E48,K48) | S48: =IF(G48>=I48,"-","err") -> -
J49: =I49-H49 -> 0 | N49: 0 | O49: 0 | Q49: =CONCATENATE(D49,K49) | R49: =CONCATENATE(E49,K49) | S49: =IF(G49>=I49,"-","err") -> -
J50: =I50-H50 -> 0 | N50: 0 | O50: 0 | Q50: =CONCATENATE(D50,K50) | R50: =CONCATENATE(E50,K50) | S50: =IF(G50>=I50,"-","err") -> -
J51: =I51-H51 -> 0 | N51: 0 | O51: 0 | Q51: =CONCATENATE(D51,K51) | R51: =CONCATENATE(E51,K51) | S51: =IF(G51>=I51,"-","err") -> -
J52: =I52-H52 -> 0 | N52: 0 | O52: 0 | Q52: =CONCATENATE(D52,K52) | R52: =CONCATENATE(E52,K52) | S52: =IF(G52>=I52,"-","err") -> -
N53: 0 | O53: 0 | Q53: =CONCATENATE(D53,K53) | R53: =CONCATENATE(E53,K53) | S53: =IF(G53>=I53,"-","err") -> -
Q54: =CONCATENATE(D54,K54) | R54: =CONCATENATE(E54,K54) | S54: =IF(G54>=I54,"-","err") -> -
N55: 0 | O55: 0 | Q55: =CONCATENATE(D55,K55) | R55: =CONCATENATE(E55,K55) | S55: =IF(G55>=I55,"-","err") -> -
M56: 0 | N56: 0 | O56: 0 | Q56: =CONCATENATE(D56,K56) | R56: =CONCATENATE(E56,K56) | S56: =IF(G56>=I56,"-","err") -> -
M57: 0 | N57: 0 | O57: 0 | Q57: =CONCATENATE(D57,K57) | R57: =CONCATENATE(E57,K57) | S57: =IF(G57>=I57,"-","err") -> -
M58: 0 | N58: 0 | O58: 0 | Q58: =CONCATENATE(D58,K58) | R58: =CONCATENATE(E58,K58) | S58: =IF(G58>=I58,"-","err") -> -
Q59: =CONCATENATE(D59,K59) | R59: =CONCATENATE(E59,K59) | S59: =IF(G59>=I59,"-","err") -> -
Q60: =CONCATENATE(D60,K60) | R60: =CONCATENATE(E60,K60) | S60: =IF(G60>=I60,"-","err") -> -
Q61: =CONCATENATE(D61,K61) | R61: =CONCATENATE(E61,K61) | S61: =IF(G61>=I61,"-","err") -> -
Q62: =CONCATENATE(D62,K62) | R62: =CONCATENATE(E62,K62) | S62: =IF(G62>=I62,"-","err") -> -
Q63: =CONCATENATE(D63,K63) | R63: =CONCATENATE(E63,K63) | S63: =IF(G63>=I63,"-","err") -> -
Q64: =CONCATENATE(D64,K64) | R64: =CONCATENATE(E64,K64) | S64: =IF(G64>=I64,"-","err") -> -
Q65: =CONCATENATE(D65,K65) | R65: =CONCATENATE(E65,K65) | S65: =IF(G65>=I65,"-","err") -> -
Q66: =CONCATENATE(D66,K66) | R66: =CONCATENATE(E66,K66) | S66: =IF(G66>=I66,"-","err") -> -
Q67: =CONCATENATE(D67,K67) | R67: =CONCATENATE(E67,K67) | S67: =IF(G67>=I67,"-","err") -> -
A68: 소 계 | H68: =SUM(H48:H67) -> 0 | I68: =SUM(I48:I67) -> 0 | J68: =SUM(J48:J67) -> 0 | Q68: =CONCATENATE(D68,K68) | R68: =CONCATENATE(E68,K68)
J69: =I69-H69 -> 0 | Q69: =CONCATENATE(D69,K69) | R69: =CONCATENATE(E69,K69) | S69: =IF(G69>=I69,"-","err") -> -
J70: =I70-H70 -> 0 | N70: 0 | O70: 0 | Q70: =CONCATENATE(D70,K70) | R70: =CONCATENATE(E70,K70) | S70: =IF(G70>=I70,"-","err") -> -
J71: =I71-H71 -> 0 | N71: 0 | O71: 0 | Q71: =CONCATENATE(D71,K71) | R71: =CONCATENATE(E71,K71) | S71: =IF(G71>=I71,"-","err") -> -
J72: =I72-H72 -> 0 | N72: 0 | O72: 0 | Q72: =CONCATENATE(D72,K72) | R72: =CONCATENATE(E72,K72) | S72: =IF(G72>=I72,"-","err") -> -
J73: =I73-H73 -> 0 | N73: 0 | O73: 0 | Q73: =CONCATENATE(D73,K73) | R73: =CONCATENATE(E73,K73) | S73: =IF(G73>=I73,"-","err") -> -
N74: 0 | O74: 0 | Q74: =CONCATENATE(D74,K74) | R74: =CONCATENATE(E74,K74) | S74: =IF(G74>=I74,"-","err") -> -
Q75: =CONCATENATE(D75,K75) | R75: =CONCATENATE(E75,K75) | S75: =IF(G75>=I75,"-","err") -> -
N76: 0 | O76: 0 | Q76: =CONCATENATE(D76,K76) | R76: =CONCATENATE(E76,K76) | S76: =IF(G76>=I76,"-","err") -> -
M77: 0 | N77: 0 | O77: 0 | Q77: =CONCATENATE(D77,K77) | R77: =CONCATENATE(E77,K77) | S77: =IF(G77>=I77,"-","err") -> -
M78: 0 | N78: 0 | O78: 0 | Q78: =CONCATENATE(D78,K78) | R78: =CONCATENATE(E78,K78) | S78: =IF(G78>=I78,"-","err") -> -
M79: 0 | N79: 0 | O79: 0 | Q79: =CONCATENATE(D79,K79) | R79: =CONCATENATE(E79,K79) | S79: =IF(G79>=I79,"-","err") -> -
Q80: =CONCATENATE(D80,K80) | R80: =CONCATENATE(E80,K80) | S80: =IF(G80>=I80,"-","err") -> -
Q81: =CONCATENATE(D81,K81) | R81: =CONCATENATE(E81,K81) | S81: =IF(G81>=I81,"-","err") -> -
Q82: =CONCATENATE(D82,K82) | R82: =CONCATENATE(E82,K82) | S82: =IF(G82>=I82,"-","err") -> -
Q83: =CONCATENATE(D83,K83) | R83: =CONCATENATE(E83,K83) | S83: =IF(G83>=I83,"-","err") -> -
Q84: =CONCATENATE(D84,K84) | R84: =CONCATENATE(E84,K84) | S84: =IF(G84>=I84,"-","err") -> -
Q85: =CONCATENATE(D85,K85) | R85: =CONCATENATE(E85,K85) | S85: =IF(G85>=I85,"-","err") -> -
Q86: =CONCATENATE(D86,K86) | R86: =CONCATENATE(E86,K86) | S86: =IF(G86>=I86,"-","err") -> -
Q87: =CONCATENATE(D87,K87) | R87: =CONCATENATE(E87,K87) | S87: =IF(G87>=I87,"-","err") -> -
Q88: =CONCATENATE(D88,K88) | R88: =CONCATENATE(E88,K88) | S88: =IF(G88>=I88,"-","err") -> -
A89: 소 계 | H89: =SUM(H69:H88) -> 0 | I89: =SUM(I69:I88) -> 0 | J89: =SUM(J69:J88) -> 0 | Q89: =CONCATENATE(D89,K89) | R89: =CONCATENATE(E89,K89)
J90: =I90-H90 -> 0 | Q90: =CONCATENATE(D90,K90) | R90: =CONCATENATE(E90,K90) | S90: =IF(G90>=I90,"-","err") -> -
J91: =I91-H91 -> 0 | N91: 0 | O91: 0 | Q91: =CONCATENATE(D91,K91) | R91: =CONCATENATE(E91,K91) | S91: =IF(G91>=I91,"-","err") -> -
J92: =I92-H92 -> 0 | N92: 0 | O92: 0 | Q92: =CONCATENATE(D92,K92) | R92: =CONCATENATE(E92,K92) | S92: =IF(G92>=I92,"-","err") -> -
J93: =I93-H93 -> 0 | N93: 0 | O93: 0 | Q93: =CONCATENATE(D93,K93) | R93: =CONCATENATE(E93,K93) | S93: =IF(G93>=I93,"-","err") -> -
J94: =I94-H94 -> 0 | N94: 0 | O94: 0 | Q94: =CONCATENATE(D94,K94) | R94: =CONCATENATE(E94,K94) | S94: =IF(G94>=I94,"-","err") -> -
N95: 0 | O95: 0 | Q95: =CONCATENATE(D95,K95) | R95: =CONCATENATE(E95,K95) | S95: =IF(G95>=I95,"-","err") -> -
Q96: =CONCATENATE(D96,K96) | R96: =CONCATENATE(E96,K96) | S96: =IF(G96>=I96,"-","err") -> -
N97: 0 | O97: 0 | Q97: =CONCATENATE(D97,K97) | R97: =CONCATENATE(E97,K97) | S97: =IF(G97>=I97,"-","err") -> -
M98: 0 | N98: 0 | O98: 0 | Q98: =CONCATENATE(D98,K98) | R98: =CONCATENATE(E98,K98) | S98: =IF(G98>=I98,"-","err") -> -
M99: 0 | N99: 0 | O99: 0 | Q99: =CONCATENATE(D99,K99) | R99: =CONCATENATE(E99,K99) | S99: =IF(G99>=I99,"-","err") -> -
M100: 0 | N100: 0 | O100: 0 | Q100: =CONCATENATE(D100,K100) | R100: =CONCATENATE(E100,K100) | S100: =IF(G100>=I100,"-","err") -> -
Q101: =CONCATENATE(D101,K101) | R101: =CONCATENATE(E101,K101) | S101: =IF(G101>=I101,"-","err") -> -
...
