Workbook

Sheet 원가계산서
A1: 공 사 원 가 계 산 서
A2: 공 사 명 :
A3: 비 목 | D3: 금 액 | E3: 구 성 비 | H3: 비 고
B4: 재 료 비 | C4: 직 접 재 료 비 | D4: =공종별집계표!E5 -> 0
A5: 순 | C5: 간 접 재 료 비
C6: 작업설,부산물(△)
C7: [ 소 계 ] | D7: =SUM(D4:D6) -> 0
A8: 공 | B8: 노 | C8: 직 접 노 무 비 | D8: =공종별집계표!G5 -> 0
B9: 무 | C9: 간 접 노 무 비 | D9: =INT(D8*F9) -> 0 | E9: 직접노무비 * | F9: 0.08
B10: 비 | C10: [ 소 계 ] | D10: =INT((D8+D9)*1) -> 0
C11: 운 반 비 | D11: =공종별집계표!K20 -> 0
A12: 사 | B12: 경 | C12: 기 계 경 비 | D12: =공종별집계표!I5 -> 0
C13: 산 재 보 험 료 | D13: =INT(D10*F13) -> 0 | E13: 노무비 * | F13: 0.037
C14: 고 용 보 험 료 | D14: =INT(D10*F14) -> 0 | E14: 노무비 * | F14: 0.0087
C15: 퇴직 공제 부금비 | E15: 직접노무비 * | F15: 0.023 | H15: 공사금액1억원이상 건설공사
C16: 건강보험료 | E16: 직접노무비 * | F16: 0.0343 | H16: 1개월이상공사적용
C17: 노인장기요양보험료 | E17: 건강보험료 * | F17: 0.1152 | H17: 1개월이상공사적용
A18: 원 | C18: 연금보험료 | E18: 직접노무비 * | F18: 0.045 | H18: 1개월이상공사적용
C19: 공사이행보증수수료
C20: 건설하도급대금 지급보증서발급수수료 | E20: (재료비+직접노무비+산출경비) * | F20: 0.00081
C21: 건설기계대여대금 지급보증서발급수수료 | E21: (재료비+직접노무비+산출경비) * | F21: 0.0007
C22: 산업안전보건관리비 | E22: a경우:(재료비+직접노무비+도급관급/1.1) * | F22: 0.0186 | G22: +5,349,000원 | H22: 적용
E23: b경우:(재료비+직접노무비) * | F23: 0.0186 | G23: +5,349,000원*1.2 | H23: 미적용
A24: 가 | B24: 비 | C24: 기 타 경 비 | D24: =INT((D7+D10)*F24) -> 0 | E24: (재료비+노무비) * | F24: 0.056
C25: 환경보전비 | E25: (재료비+직접노무비+산출경비) * | F25: 0.005
C26: [ 소 계 ] | D26: =SUM(D11:D25)-D23 -> 0
A27: 계 | D27: =INT((D7+D10+D26)*1) -> 0
A28: 일 반 관 리 비 | D28: =INT(D27*F28) -> 0 | E28: 계 * | F28: 0.06
A29: 이 윤 | D29: =INT(((D10+D26+D28)*F29)*1) -> 0 | E29: (노무비+경비+일반관리비) * | F29: 0.15
A30: 폐기물처리비[석면] | D30: 0
A31: 폐기물처리비[100톤 미만] | D31: 0
A32: 공 급 가 액 | D32: =INT(SUM(D27:D31)) -> 0
A33: 부 가 가 치 세 | D33: =INT(SUM(+D32*F33)) -> 0 | E33: 공급가액 * | F33: 0.1
A34: 설 계 금 액 | D34: =SUM(D32:D33) -> 0
A35: 도급자관급자재비 | D35: 0
A36: 관급자관급자재비
A37: 총 공 사 비 | D37: =SUM(D34:D36) -> 0

Sheet 공종별집계표
A1: 공 종 별 집 계 표
A2: 공사명 :
A3: 품 명 | B3: 규 격 | C3: 단위 | D3: 수량 | E3: 재 료 비 | G3: 노 무 비 | I3: 경 비 | K3: 합 계 | M3: 비 고 | N3: 공종코드 | O3: 변수 | P3: 상위공종 | Q3: 공종구분 | R3: 공종레벨 | S3: 공종소계 | T3: 원가계산서 연결금액
E4: 단 가 | F4: 금 액 | G4: 단 가 | H4: 금 액 | I4: 단 가 | J4: 금 액 | K4: 단 가 | L4: 금 액
A5: 01 | E5: =F6 -> 0 | F5: =E5*D5 -> 0 | G5: =H6 -> 0 | H5: =G5*D5 -> 0 | I5: =J6 -> 0 | J5: =I5*D5 -> 0 | K5: =E5+G5+I5 -> 0 | L5: =F5+H5+J5 -> 0 | N5: 01 | R5: 1
A6: 0101 | E6: =F7+F8+F9+F10+F11+F12+F13+F14+F15+F16+F17+F18+F19 -> 0 | F6: =E6*D6 -> 0 | G6: =H7+H8+H9+H10+H11+H12+H13+H14+H15+H16+H17+H18+H19 -> 0 | H6: =G6*D6 -> 0 | I6: =J7+J8+J9+J10+J11+J12+J13+J14+J15+J16+J17+J18+J19 -> 0 | J6: =I6*D6 -> 0 | K6: =E6+G6+I6 -> 0 | L6: =F6+H6+J6 -> 0 | N6: 0101 | P6: 01 | R6: 2
E7: =공종별내역서!F25 -> 0 | F7: =E7*D7 -> 0 | G7: =공종별내역서!H25 -> 0 | H7: =G7*D7 -> 0 | I7: =공종별내역서!J25 -> 0 | J7: =I7*D7 -> 0 | K7: =E7+G7+I7 -> 0 | L7: =F7+H7+J7 -> 0 | N7: 010101 | P7: 0101 | R7: 3
F8: =E8*D8 -> 0 | H8: =G8*D8 -> 0 | J8: =I8*D8 -> 0 | K8: =E8+G8+I8 -> 0 | L8: =F8+H8+J8 -> 0 | N8: 010102 | P8: 0101 | R8: 3
F9: =E9*D9 -> 0 | H9: =G9*D9 -> 0 | J9: =I9*D9 -> 0 | K9: =E9+G9+I9 -> 0 | L9: =F9+H9+J9 -> 0 | N9: 010103 | P9: 0101 | R9: 3
F10: =E10*D10 -> 0 | H10: =G10*D10 -> 0 | J10: =I10*D10 -> 0 | K10: =E10+G10+I10 -> 0 | L10: =F10+H10+J10 -> 0 | N10: 010104 | P10: 0101 | R10: 3
F11: =E11*D11 -> 0 | H11: =G11*D11 -> 0 | J11: =I11*D11 -> 0 | K11: =E11+G11+I11 -> 0 | L11: =F11+H11+J11 -> 0 | N11: 010105 | P11: 0101 | R11: 3
F12: =E12*D12 -> 0 | H12: =G12*D12 -> 0 | J12: =I12*D12 -> 0 | K12: =E12+G12+I12 -> 0 | L12: =F12+H12+J12 -> 0 | N12: 010106 | P12: 0101 | R12: 3
F13: =E13*D13 -> 0 | H13: =G13*D13 -> 0 | J13: =I13*D13 -> 0 | K13: =E13+G13+I13 -> 0 | L13: =F13+H13+J13 -> 0 | N13: 010107 | P13: 0101 | R13: 3
F14: =E14*D14 -> 0 | H14: =G14*D14 -> 0 | J14: =I14*D14 -> 0 | K14: =E14+G14+I14 -> 0 | L14: =F14+H14+J14 -> 0 | N14: 010108 | P14: 0101 | R14: 3
F15: =E15*D15 -> 0 | H15: =G15*D15 -> 0 | J15: =I15*D15 -> 0 | K15: =E15+G15+I15 -> 0 | L15: =F15+H15+J15 -> 0 | N15: 010109 | P15: 0101 | R15: 3
F16: =E16*D16 -> 0 | H16: =G16*D16 -> 0 | J16: =I16*D16 -> 0 | K16: =E16+G16+I16 -> 0 | L16: =F16+H16+J16 -> 0 | N16: 010110 | P16: 0101 | R16: 3
F17: =E17*D17 -> 0 | H17: =G17*D17 -> 0 | J17: =I17*D17 -> 0 | K17: =E17+G17+I17 -> 0 | L17: =F17+H17+J17 -> 0 | N17: 010111 | P17: 0101 | R17: 3
F18: =E18*D18 -> 0 | H18: =G18*D18 -> 0 | J18: =I18*D18 -> 0 | K18: =E18+G18+I18 -> 0 | L18: =F18+H18+J18 -> 0 | N18: 010112 | P18: 0101 | R18: 3
F19: =E19*D19 -> 0 | H19: =G19*D19 -> 0 | J19: =I19*D19 -> 0 | K19: =E19+G19+I19 -> 0 | L19: =F19+H19+J19 -> 0 | N19: 010113 | P19: 0101 | R19: 3
F20: =E20*D20 -> 0 | H20: =G20*D20 -> 0 | J20: =I20*D20 -> 0 | K20: =E20+G20+I20 -> 0 | L20: =F20+H20+J20 -> 0 | N20: 010114 | Q20: 2 | R20: 3 | T20: =L20*1 -> 0
F21: =E21*D21 -> 0 | H21: =G21*D21 -> 0 | J21: =I21*D21 -> 0 | K21: =E21+G21+I21 -> 0 | L21: =F21+H21+J21 -> 0 | N21: 010115 | Q21: 6 | R21: 3 | T21: =L21*1 -> 0
A27: [ 합 계 ] | F27: =F5 -> 0 | H27: =H5 -> 0 | J27: =J5 -> 0 | L27: =L5 -> 0

Sheet 공종별내역서
A1: =공종별집계표!A2 -> 공사명 :
A2: 품 명 | B2: 규 격 | C2: 단위 | D2: 수량 | E2: 재 료 비 | G2: 노 무 비 | I2: 경 비 | K2: 합 계 | M2: 비 고 | N2: 품목코드 | O2: 변수 | P2: 설정 | Q2: 공종코드 | R2: 일위 | S2: 단산 | T2: 자재 | U2: 손료적용 | V2: 손료저장 | W2: 적용율 | X2: JUK1 | Y2: JUK2 | Z2: JUK3 | AA2: JUK4 | AB2: JUK5 | AC2: JUK6 | AD2: JUK7 | AE2: JUK8 | AF2: JUK9 | AG2: JUK10 | AH2: JUK11 | AI2: JUK12 | AJ2: JUK13 | AK2: JUK14 | AL2: JUK15 | AM2: JUK16 | AN2: JUK17 | AO2: JUK18 | AP2: JUK19 | AQ2: JUK20 | AR2: 자재구분 | AS2: 공종구분 | AT2: 공종레벨 | AU2: 공종+자재 | AV2: 고유번호
E3: 단 가 | F3: 금 액 | G3: 단 가 | H3: 금 액 | I3: 단 가 | J3: 금 액 | K3: 단 가 | L3: 금 액
Q4: 010101
E5: =일위대가목록!E4 -> 0 | F5: =TRUNC(E5*D5, 0) -> 0 | G5: =일위대가목록!F4 -> 0 | H5: =TRUNC(G5*D5, 0) -> 0 | I5: =일위대가목록!G4 -> 0 | J5: =TRUNC(I5*D5, 0) -> 0 | K5: =TRUNC(E5+G5+I5, 0) -> 0 | L5: =TRUNC(F5+H5+J5, 0) -> 0 | N5: 5F9E047137B8E7861965C152030A6B | Q5: 010101 | R5: T | S5: F | T5: F | AU5: 0101015F9E047137B8E7861965C152030A6B | AV5: 220
E6: =일위대가목록!E5 -> 0 | F6: =TRUNC(E6*D6, 0) -> 0 | G6: =일위대가목록!F5 -> 0 | H6: =TRUNC(G6*D6, 0) -> 0 | I6: =일위대가목록!G5 -> 0 | J6: =TRUNC(I6*D6, 0) -> 0 | K6: =TRUNC(E6+G6+I6, 0) -> 0 | L6: =TRUNC(F6+H6+J6, 0) -> 0 | N6: 5F9E0472C7326D8D19467178360E49 | Q6: 010101 | R6: T | S6: F | T6: F | AU6: 0101015F9E0472C7326D8D19467178360E49 | AV6: 194
E7: =일위대가목록!E6 -> 0 | F7: =TRUNC(E7*D7, 0) -> 0 | G7: =일위대가목록!F6 -> 0 | H7: =TRUNC(G7*D7, 0) -> 0 | I7: =일위대가목록!G6 -> 0 | J7: =TRUNC(I7*D7, 0) -> 0 | K7: =TRUNC(E7+G7+I7, 0) -> 0 | L7: =TRUNC(F7+H7+J7, 0) -> 0 | N7: 5F9E0472C7326D8D196123CB4F09C4 | Q7: 010101 | R7: T | S7: F | T7: F | AU7: 0101015F9E0472C7326D8D196123CB4F09C4 | AV7: 195
E8: =일위대가목록!E9 -> 0 | F8: =TRUNC(E8*D8, 0) -> 0 | G8: =일위대가목록!F9 -> 0 | H8: =TRUNC(G8*D8, 0) -> 0 | I8: =일위대가목록!G9 -> 0 | J8: =TRUNC(I8*D8, 0) -> 0 | K8: =TRUNC(E8+G8+I8, 0) -> 0 | L8: =TRUNC(F8+H8+J8, 0) -> 0 | N8: 5F9E0477470E6B5D193AD786110A01 | Q8: 010101 | R8: T | S8: F | T8: F | AU8: 0101015F9E0477470E6B5D193AD786110A01 | AV8: 15
E9: =일위대가목록!E10 -> 0 | F9: =TRUNC(E9*D9, 0) -> 0 | G9: =일위대가목록!F10 -> 0 | H9: =TRUNC(G9*D9, 0) -> 0 | I9: =일위대가목록!G10 -> 0 | J9: =TRUNC(I9*D9, 0) -> 0 | K9: =TRUNC(E9+G9+I9, 0) -> 0 | L9: =TRUNC(F9+H9+J9, 0) -> 0 | N9: 5F9E0477473B48A119C4D1B5DA063C | Q9: 010101 | R9: T | S9: F | T9: F | AU9: 0101015F9E0477473B48A119C4D1B5DA063C | AV9: 16
E10: =일위대가목록!E11 -> 0 | F10: =TRUNC(E10*D10, 0) -> 0 | G10: =일위대가목록!F11 -> 0 | H10: =TRUNC(G10*D10, 0) -> 0 | I10: =일위대가목록!G11 -> 0 | J10: =TRUNC(I10*D10, 0) -> 0 | K10: =TRUNC(E10+G10+I10, 0) -> 0 | L10: =TRUNC(F10+H10+J10, 0) -> 0 | N10: 5F9E0477473B489719896EB1060855 | Q10: 010101 | R10: T | S10: F | T10: F | AU10: 0101015F9E0477473B489719896EB1060855 | AV10: 17
E11: =일위대가목록!E12 -> 0 | F11: =TRUNC(E11*D11, 0) -> 0 | G11: =일위대가목록!F12 -> 0 | H11: =TRUNC(G11*D11, 0) -> 0 | I11: =일위대가목록!G12 -> 0 | J11: =TRUNC(I11*D11, 0) -> 0 | K11: =TRUNC(E11+G11+I11, 0) -> 0 | L11: =TRUNC(F11+H11+J11, 0) -> 0
E12: =일위대가목록!E13 -> 0 | F12: =TRUNC(E12*D12, 0) -> 0 | G12: =일위대가목록!F13 -> 0 | H12: =TRUNC(G12*D12, 0) -> 0 | I12: =일위대가목록!G13 -> 0 | J12: =TRUNC(I12*D12, 0) -> 0 | K12: =TRUNC(E12+G12+I12, 0) -> 0 | L12: =TRUNC(F12+H12+J12, 0) -> 0
E13: =일위대가목록!E14 -> 0 | F13: =TRUNC(E13*D13, 0) -> 0 | G13: =일위대가목록!F14 -> 0 | H13: =TRUNC(G13*D13, 0) -> 0 | I13: =일위대가목록!G14 -> 0 | J13: =TRUNC(I13*D13, 0) -> 0 | K13: =TRUNC(E13+G13+I13, 0) -> 0 | L13: =TRUNC(F13+H13+J13, 0) -> 0
A25: [ 합 계 ] | F25: =SUM(F5:F24) -> 0 | H25: =SUM(H5:H24) -> 0 | J25: =SUM(J5:J24) -> 0 | L25: =SUM(L5:L24) -> 0 | N25: TOTAL

Sheet 일위대가목록
A1: 일 위 대 가 목 록
A2: =공종별내역서!A1 -> 공사명 :
A3: 코 드 | B3: 품 명 | C3: 규 격 | D3: 단위 | E3: 재 료 비 | F3: 노 무 비 | G3: 경 비 | H3: 합 계 | I3: 번 호 | J3: 비 고 | K3: 노임계수 | L3: 할증 | M3: 품셈개요 | N3: 장비일위
A4: 5F9E047137B8E7861965C152030A6B | E4: =일위대가!F6 -> 0 | F4: =일위대가!H6 -> 0 | G4: =일위대가!J6 -> 0 | H4: =E4+F4+G4 -> 0 | I4: 호표 1
A5: 5F9E0472C7326D8D19467178360E49 | E5: =일위대가!F19 -> 0 | F5: =일위대가!H19 -> 0 | G5: =일위대가!J19 -> 0 | H5: =E5+F5+G5 -> 0 | I5: 호표 2
A6: 5F9E0472C7326D8D196123CB4F09C4 | E6: =일위대가!F28 -> 0 | F6: =일위대가!H28 -> 0 | G6: =일위대가!J28 -> 0 | H6: =E6+F6+G6 -> 0 | I6: 호표 3
A7: 5F9E0472C7326D9F1968B4067D0E2E | E7: =일위대가!F34 -> 0 | F7: =일위대가!H34 -> 0 | G7: =일위대가!J34 -> 0 | H7: =E7+F7+G7 -> 0 | I7: 호표 4
A8: 5F9E0472C7325335194A34B1DD08DA | E8: =일위대가!F40 -> 0 | F8: =일위대가!H40 -> 0 | G8: =일위대가!J40 -> 0 | H8: =E8+F8+G8 -> 0 | I8: 호표 5
A9: 5F9E0477470E6B5D193AD786110A01 | E9: =일위대가!F48 -> 0 | F9: =일위대가!H48 -> 0 | G9: =일위대가!J48 -> 0 | H9: =E9+F9+G9 -> 0 | I9: 호표 6
A10: 5F9E0477473B48A119C4D1B5DA063C | E10: =일위대가!F56 -> 0 | F10: =일위대가!H56 -> 0 | G10: =일위대가!J56 -> 0 | H10: =E10+F10+G10 -> 0 | I10: 호표 7
A11: 5F9E0477473B489719896EB1060855 | E11: =일위대가!F61 -> 0 | F11: =일위대가!H61 -> 0 | G11: =일위대가!J61 -> 0 | H11: =E11+F11+G11 -> 0 | I11: 호표 8
A12: 5F9E54F33724DD1419F2431A4109E6 | E12: =일위대가!F69 -> 0 | F12: =일위대가!H69 -> 0 | G12: =일위대가!J69 -> 0 | H12: =E12+F12+G12 -> 0 | I12: 호표 9
A13: 5F9E54F33724DD1419F2431A4109E0 | E13: =일위대가!F76 -> 0 | F13: =일위대가!H76 -> 0 | G13: =일위대가!J76 -> 0 | H13: =E13+F13+G13 -> 0 | I13: 호표 10
A14: 5F9E54F7A7D55AC61925B148A10007 | E14: =일위대가!F85 -> 0 | F14: =일위대가!H85 -> 0 | G14: =일위대가!J85 -> 0 | H14: =E14+F14+G14 -> 0 | I14: 호표 11
A15: 5F9E0472C7326D8D1946716FC90C5C | E15: =일위대가!F90 -> 0 | F15: =일위대가!H90 -> 0 | G15: =일위대가!J90 -> 0 | H15: =E15+F15+G15 -> 0 | I15: 호표 12

Sheet 일위대가
A1: =일위대가목록!A2 -> 공사명 :
A2: 품 명 | B2: 규 격 | C2: 단위 | D2: 수량 | E2: 재 료 비 | G2: 노 무 비 | I2: 경 비 | K2: 합 계 | M2: 비 고 | N2: 일위대가 | O2: 품목코드 | P2: 일위 | Q2: 단산 | R2: 자재 | S2: 손료적용 | T2: 손료저장 | U2: 적용율 | V2: JUK1 | W2: JUK2 | X2: JUK3 | Y2: JUK4 | Z2: JUK5 | AA2: JUK6 | AB2: JUK7 | AC2: JUK8 | AD2: JUK9 | AE2: JUK10 | AF2: JUK11 | AG2: JUK12 | AH2: JUK13 | AI2: JUK14 | AJ2: JUK15 | AK2: JUK16 | AL2: JUK17 | AM2: JUK18 | AN2: JUK19 | AO2: JUK20 | AP2: 할증적용 | AQ2: 할증저장 | AR2: 할증율 | AS2: HAL1 | AT2: HAL2 | AU2: HAL3 | AV2: 자재구분 | AW2: 일위대가+자재 | AX2: 장비일위 | AY2: 설정
E3: 단 가 | F3: 금 액 | G3: 단 가 | H3: 금 액 | I3: 단 가 | J3: 금 액 | K3: 단 가 | L3: 금 액
N4: 5F9E047137B8E7861965C152030A6B
O5: 58B4B461A76DB25D199424E91B0B7D82C94A7E | P5: F | Q5: F | R5: T | V5: 1 | AW5: 5F9E047137B8E7861965C152030A6B58B4B461A76DB25D199424E91B0B7D82C94A7E | AY5: -
N6: TOTAL | O6: TOTAL
N8: 5F9E0472C7326D8D19467178360E49
N9: 5F9E0472C7326D8D19467178360E49 | O9: 58B4B4624750FB211922AB24F10DF652DECC71 | P9: F | Q9: F | R9: T | AW9: 5F9E0472C7326D8D19467178360E4958B4B4624750FB211922AB24F10DF652DECC71
N10: 5F9E0472C7326D8D19467178360E49 | O10: 58B4B4624750FB211922AB24F10DF652DECC7F | P10: F | Q10: F | R10: T | AW10: 5F9E0472C7326D8D19467178360E4958B4B4624750FB211922AB24F10DF652DECC7F
N11: 5F9E0472C7326D8D19467178360E49 | O11: 58B4B4624750FB211922AB24F10DF652DEC31B | P11: F | Q11: F | R11: T | AW11: 5F9E0472C7326D8D19467178360E4958B4B4624750FB211922AB24F10DF652DEC31B
N12: 5F9E0472C7326D8D19467178360E49 | O12: 58B4B4624750FB211922AB24F10DF652DEC31C | P12: F | Q12: F | R12: T | AW12: 5F9E0472C7326D8D19467178360E4958B4B4624750FB211922AB24F10DF652DEC31C
N13: 5F9E0472C7326D8D19467178360E49 | O13: 58B4B4624750FB211922AB24F10DF652DEC31A | P13: F | Q13: F | R13: T | AW13: 5F9E0472C7326D8D19467178360E4958B4B4624750FB211922AB24F10DF652DEC31A
N14: 5F9E0472C7326D8D19467178360E49 | O14: 58B4B4624750FB211922AB24F10DF652DEC31D | P14: F | Q14: F | R14: T | AW14: 5F9E0472C7326D8D19467178360E4958B4B4624750FB211922AB24F10DF652DEC31D
N15: 5F9E0472C7326D8D19467178360E49 | O15: 58B4B4624750FB211922AB24F10DF652DEC31F | P15: F | Q15: F | R15: T | AW15: 5F9E0472C7326D8D19467178360E4958B4B4624750FB211922AB24F10DF652DEC31F
N16: 5F9E0472C7326D8D19467178360E49 | O16: 58B4B4624750FB211922AB24F10DF652DEC31E | P16: F | Q16: F | R16: T | AW16: 5F9E0472C7326D8D19467178360E4958B4B4624750FB211922AB24F10DF652DEC31E
N17: 5F9E0472C7326D8D19467178360E49 | O17: 58B4B4624750FB211922AB24D60C410A72C30C | P17: F | Q17: F | R17: T | AW17: 5F9E0472C7326D8D19467178360E4958B4B4624750FB211922AB24D60C410A72C30C
N18: 5F9E0472C7326D8D19467178360E49 | O18: 5F9E0472C7326D8D1946716FC90C5C | P18: T | Q18: F | R18: F | AW18: 5F9E0472C7326D8D19467178360E495F9E0472C7326D8D1946716FC90C5C
N19: TOTAL | O19: TOTAL
N21: 5F9E0472C7326D8D196123CB4F09C4
N22: 5F9E0472C7326D8D196123CB4F09C4 | O22: 58B4B4624750FBC119557B093E0615AB71E18A | P22: F | Q22: F | R22: T | AW22: 5F9E0472C7326D8D196123CB4F09C458B4B4624750FBC119557B093E0615AB71E18A
N23: 5F9E0472C7326D8D196123CB4F09C4 | O23: 58B4B4624750FBC119557B093E0615AB71E189 | P23: F | Q23: F | R23: T | AW23: 5F9E0472C7326D8D196123CB4F09C458B4B4624750FBC119557B093E0615AB71E189
N24: 5F9E0472C7326D8D196123CB4F09C4 | O24: 58B4B4624750FBC119557B093E0615AB71E188 | P24: F | Q24: F | R24: T | AW24: 5F9E0472C7326D8D196123CB4F09C458B4B4624750FBC119557B093E0615AB71E188
N25: 5F9E0472C7326D8D196123CB4F09C4 | O25: 58B4B4624750FBC119557B093E0615AB71E182 | P25: F | Q25: F | R25: T | AW25: 5F9E0472C7326D8D196123CB4F09C458B4B4624750FBC119557B093E0615AB71E182
N26: 5F9E0472C7326D8D196123CB4F09C4 | O26: 58B4B4624750FBC119557B093E0615AB71E18E | P26: F | Q26: F | R26: T | AW26: 5F9E0472C7326D8D196123CB4F09C458B4B4624750FBC119557B093E0615AB71E18E
N27: 5F9E0472C7326D8D196123CB4F09C4 | O27: 58B4B4624750FBC119557B093E0615AB71E180 | P27: F | Q27: F | R27: T | AW27: 5F9E0472C7326D8D196123CB4F09C458B4B4624750FBC119557B093E0615AB71E180
N28: 5F9E0472C7326D8D196123CB4F09C4 | O28: 58B4B4624750FBC119557B093E0615AB71E183 | P28: F | Q28: F | R28: T | AW28: 5F9E0472C7326D8D196123CB4F09C458B4B4624750FBC119557B093E0615AB71E183
N29: 5F9E0472C7326D8D196123CB4F09C4 | O29: 58B4B4624750FBC119557B093E0615AB71E181 | P29: F | Q29: F | R29: T | AW29: 5F9E0472C7326D8D196123CB4F09C458B4B4624750FBC119557B093E0615AB71E181
N30: 5F9E94116795CB6319E96FD9F30AB8
N31: 5F9E94116795CB6319E96FD9F30AB8 | O31: 5F42F4ED07CE0C1E19B90D4C2B08CC077CCFB0 | P31: F | Q31: F | R31: T | V31: 1 | AW31: 5F9E94116795CB6319E96FD9F30AB85F42F4ED07CE0C1E19B90D4C2B08CC077CCFB0
N32: 5F9E94116795CB6319E96FD9F30AB8 | O32: 5F42F4ED07CE0C1E19B90D4C2B08CC077CCD8A | P32: F | Q32: F | R32: T | V32: 1 | AW32: 5F9E94116795CB6319E96FD9F30AB85F42F4ED07CE0C1E19B90D4C2B08CC077CCD8A
N33: 5F9E94116795CB6319E96FD9F30AB8 | O33: 5E81E43F77A0E9E61965D9B8A10B001 | P33: F | Q33: F | R33: F | S33: 1 | T33: 2 | U33: 0.02 | AW33: 5F9E94116795CB6319E96FD9F30AB85E81E43F77A0E9E61965D9B8A10B001
N34: TOTAL | O34: TOTAL
N35: 5F9E0472C7326D9F1968B4067D0E2E | O35: 58B4B46247CBEA4A19E64D817E09776AB94AA6 | P35: F | Q35: F | R35: T | AW35: 5F9E0472C7326D9F1968B4067D0E2E58B4B46247CBEA4A19E64D817E09776AB94AA6
N36: 5F9E0472C7326D9F1968B4067D0E2E | O36: 5F42F4ED07CE0C1E19B90D4C2B08CC077CCFB5 | P36: F | Q36: F | R36: T | AW36: 5F9E0472C7326D9F1968B4067D0E2E5F42F4ED07CE0C1E19B90D4C2B08CC077CCFB5
N37: 5F9E0472C7326D9F1968B4067D0E2E | O37: 5F42F4ED07CE0C1E19B90D4C2B08CC077CCD8A | P37: F | Q37: F | R37: T | AW37: 5F9E0472C7326D9F1968B4067D0E2E5F42F4ED07CE0C1E19B90D4C2B08CC077CCD8A
N38: TOTAL | O38: TOTAL
N40: 5F9E0472C7325335194A34B1DD08DA
N41: 5F9E0472C7325335194A34B1DD08DA | O41: 58B4B4624750777D199B4C186601242B176FA9 | P41: F | Q41: F | R41: T | V41: 1 | AW41: 5F9E0472C7325335194A34B1DD08DA58B4B4624750777D199B4C186601242B176FA9
N42: 5F9E0472C7325335194A34B1DD08DA | O42: 5E81E43F77A0E9E61965D9B8A10B001 | P42: F | Q42: F | R42: F | S42: 0 | T42: 0 | U42: 0.05 | AW42: 5F9E0472C7325335194A34B1DD08DA5E81E43F77A0E9E61965D9B8A10B001
N43: 5F9E0472C7325335194A34B1DD08DA | O43: 5F9E0472C7325335194A34A7660ECA | P43: T | Q43: F | R43: F | AW43: 5F9E0472C7325335194A34B1DD08DA5F9E0472C7325335194A34A7660ECA
...

Sheet 단가대비표
A1: 단 가 대 비 표
A2: =일위대가!A1 -> 공사명 :
A3: 코 드 | B3: 품 명 | C3: 규격 | D3: 단위 | E3: 재 료 비 | P3: 노 무 비 | Q3: 경 비 | W3: 번 호 | X3: 비 고 | Y3: 품목구분 | Z3: 노임구분 | AA3: 소수점처리 | AB3: 자재구분
E4: 조달청가격 | F4: PAGE | G4: 거래가격 | H4: PAGE | I4: 유통물가 | J4: PAGE | K4: 물가자료 | L4: PAGE | M4: 조사가격 | N4: PAGE | O4: 적용단가 | Q4: 조달청가격 | R4: 거래가격 | S4: 유통물가 | T4: 물가자료 | U4: 조사가격 | V4: 적용단가
A5: 588F7423675F4DB819608145CF03445298C60A
A6: 588F7423675F4DB819608145CF0196F68F7667
A7: 588F7423675F4DB819608145CF00F013B11C9A
A8: 588F7423675F4DB819608145D90EA9EB997185
A9: 588F7423675F4DB819562B17C900B3D6BB4927
A10: 588F7423675F4DB8193B5FCDF90FABA3B1FC72
A11: 588F7423675F4DF6191DB7866601CFE51CC7AC
A12: 588F7423675F4DF6191DB786660BCD90045929
A14: 588F7423675F687B195F863D15043364EEFC84
A15: 588F7423675F687B195F909B4D04941792F4FA
A16: 588F7423675F687B195F909B4D05B746AB6CFC
A17: 588F7423675F681219CF390F080B3DEEE36E4E | Y17: C
A18: 588F7423675F07A019D55DDDF204468F187AB2
A19: 588F7423675F07B1195693CD63000CD87AE198
A20: 588F7423675F334519C46A361609B5589273F5
A21: 5899C4E14764029C19E5B88EED07927E3F22F6
A22: 5899C4E14764029C19E5B88EED07927E3F22FA
A23: 5899C4E1475B8B561971BA08130BF592B99E54
A24: 5899C4E1475B8B5619719F68040322D841C949
A25: 5899C4E147E9680D193A8AE8AC083731CEE317
A26: 5899C4E147E9680D193A8AE8AC083731CEE314
A27: 5899C4E147E9680D193A8AE8AC083731CEE20E
A28: 5899F4B527187AD219718E949007F249A52060
A29: 5899F4B5273B764F19B14E3F0709C3D373A470
... A171: 58D7A404B737BFA2194C321BE009676368FC2E
A172: 5F9E0477470E5AEE191D6CEC3207CD | Y172: C
A173: 5F9E0477470E5AEE191D6CEC320500 | Y173: C
A174: 5F9E0477470E5AEE191D6C8B8A0D61 | Y174: C
A175: 5F9E0477470E5AF8196934A61005DC
A176: 5F9E0477470E5AF8196934A6070E09
A177: 5F9E0477470E5AF81969348B550688
A178: 5F9E0477470E5AF819693495F9051E
A179: 5F9ED4AA778726CA19E6364CD507A4 | Y179: 2
A180: 5FD0C417D7968CDA19D6FE98830F18CA0ECECD
A181: 5FD0C417D7968CDA19D6FE98830F18C8414356
A182: 5F42F4ED07CE0C1E19B90D4C2B08CC077CCD8A | Y182: B
...

Sheet Sheet1
