Workbook

Sheet 251002 군구합계(전체보고용)
A1: 국가정보자원관리원 행정정보시스템 서비스 장애현황(군·구)
D2: 전체
A3: 구분 | B3: 전체 서비스 수 | C3: 장애시스템 수 | D3: 정상(복구완료)
A4: 합계 | B4: =SUM(B5:B14) -> #REF! | C4: =B4-D4 -> #REF! | D4: =SUM(D5:D14) -> #REF!
A5: 강화군 | B5: =#REF! -> #REF! | C5: =#REF! -> #REF! | D5: =#REF! -> #REF!
A6: 옹진군 | B6: =#REF! -> #REF! | C6: =#REF! -> #REF! | D6: =#REF! -> #REF!
A7: 중구 | B7: =중구!I2 -> 201 | C7: =중구!J2 -> 39 | D7: =중구!K2 -> 162
A8: 동구 | B8: =#REF! -> #REF! | C8: =#REF! -> #REF! | D8: =#REF! -> #REF!
A9: 미추홀구 | B9: =#REF! -> #REF! | C9: =#REF! -> #REF! | D9: =#REF! -> #REF!
A10: 남동구 | B10: =#REF! -> #REF! | C10: =#REF! -> #REF! | D10: =#REF! -> #REF!
A11: 연수구 | B11: =#REF! -> #REF! | C11: =#REF! -> #REF! | D11: =#REF! -> #REF!
A12: 부평구 | B12: =#REF! -> #REF! | C12: =#REF! -> #REF! | D12: =#REF! -> #REF!
A13: 계양구 | B13: =#REF! -> #REF! | C13: =#REF! -> #REF! | D13: =#REF! -> #REF!
A14: 서구 | B14: =#REF! -> #REF! | C14: =#REF! -> #REF! | D14: =#REF! -> #REF!

Sheet 251002 군구합계(대시민)
A1: 국가정보자원관리원 행정정보시스템 서비스 장애현황(군·구)
D2: 대시민
A3: 구분 | B3: 전체 서비스 수 | C3: 장애시스템 수 | D3: 정상(복구완료)
A4: 합계 | B4: =SUM(B5:B14) -> #REF! | C4: =SUM(C5:C14) -> #REF! | D4: =SUM(D5:D14) -> #REF!
A5: 강화군 | B5: =#REF! -> #REF! | C5: =#REF! -> #REF! | D5: =#REF! -> #REF!
A6: 옹진군 | B6: =#REF! -> #REF! | C6: =#REF! -> #REF! | D6: =#REF! -> #REF!
A7: 중구 | B7: =중구!I3 -> 121 | C7: =중구!J3 -> 24 | D7: =중구!K3 -> 97
A8: 동구 | B8: =#REF! -> #REF! | C8: =#REF! -> #REF! | D8: =#REF! -> #REF!
A9: 미추홀구 | B9: =#REF! -> #REF! | C9: =#REF! -> #REF! | D9: =#REF! -> #REF!
A10: 남동구 | B10: =#REF! -> #REF! | C10: =#REF! -> #REF! | D10: =#REF! -> #REF!
A11: 연수구 | B11: =#REF! -> #REF! | C11: =#REF! -> #REF! | D11: =#REF! -> #REF!
A12: 부평구 | B12: =#REF! -> #REF! | C12: =#REF! -> #REF! | D12: =#REF! -> #REF!
A13: 계양구 | B13: =#REF! -> #REF! | C13: =#REF! -> #REF! | D13: =#REF! -> #REF!
A14: 서구 | B14: =#REF! -> #REF! | C14: =#REF! -> #REF! | D14: =#REF! -> #REF!

Sheet list
A1: 국가정보자원관리원 행정정보시스템 화재 관련 서비스 장애 현황 내역(군·구)
A3: 연번 | B3: 기관명 | C3: 부서명 | D3: 서비스명 | E3: 대내외 구분 | F3: 장애 여부 | G3: 장애내용 | H3: 대체수단(대응방법)
A4: =ROW()-3 -> 1 | B4: 강화군 | C4: 민원지적과 | D4: 주민등록시스템 | E4: 대외 | F4: 장애 | G4: IC주민등록발급/재발급 보훈증수수료면제조회 모바일신분확인불가 | H4: 실물 신분증 확인/행복e음 확인
A5: =ROW()-3 -> 2 | B5: 강화군 | C5: 민원지적과 | D5: 국민신문고 | E5: 대외 | F5: 장애 | G5: 접속불가 | H5: 신규 민원은 방문, 서신, FAX 접수 처리
A6: =ROW()-3 -> 3 | B6: 강화군 | C6: 민원지적과 | D6: 부동산종합공부 | E6: 대외 | F6: 장애 | G6: 접속불가 | H6: 온라인 불가에 따른 오프라인으로대체 토지대장,대지권등록부,임야도,경계점좌표등록부수수료 무료전환
A7: =ROW()-3 -> 4 | B7: 강화군 | C7: 안전총괄과 | D7: 안전신문고 | E7: 대외 | F7: 장애 | G7: 접속불가 | H7: 수기민원접수 후 순차적 처리
A8: =ROW()-3 -> 5 | B8: 강화군 | C8: 총무과 | D8: 정보공개청구 | E8: 대외 | F8: 장애 | G8: 접속불가 | H8: 수기민원접수 후 순차적 처리
A9: =ROW()-3 -> 6 | B9: 강화군 | C9: 세무회계과 | D9: 나라장터 종합쇼핑몰 | E9: 대외 | F9: 장애 | G9: 입찰/개찰불가 기존접수된대금만지급가능 | H9: 대금만 지급/변경계약수기로진행 입찰개찰불가
A10: =ROW()-3 -> 7 | B10: 강화군 | C10: 감사법무담당관 | D10: 국가법령정보센터 | E10: 대외 | F10: 장애 | G10: 접속불가 | H10: 대체 홈페이지 https://portal.scourt.go.kr https://likms.assembly.go.kr/law | I10: 8
A11: =ROW()-3 -> 8 | B11: 옹진군 | C11: 기획감사실 | D11: 공직자윤리시스템(재산등록 의무자용) | E11: 대외 | F11: 장애 | G11: 접속불가 | H11: 등록 연장 신청서 제출 후, 추후 등록 가능
A12: =ROW()-3 -> 9 | B12: 옹진군 | C12: 기획감사실 | D12: 법제처 국가법령정보센터 | E12: 대외 | F12: 장애 | G12: 접속불가 | H12: 대한민국 법원 사법정보공개포털(https://portal.scourt.go.kr) 활용 자치법규정보시스템(www.elis.go.kr) 활용
A13: =ROW()-3 -> 10 | B13: 옹진군 | C13: 행정자치과 | D13: 정보공개시스템 | E13: 대외 | F13: 장애 | G13: 접속불가 | H13: 민원실 일괄 접수 후 행정자치과 이송하여 관련부서 배부
A14: =ROW()-3 -> 11 | B14: 옹진군 | C14: 행정자치과 | D14: 국가통계포털 | E14: 대외 | F14: 장애 | G14: 접속불가 | H14: 조회용으로 사용 중으로 정부전산망 복구시 사용가능
A15: =ROW()-3 -> 12 | B15: 옹진군 | C15: 보건행정과 | D15: 방역통합정보시스템(감염병신고 및 역학조사) | E15: 대외 | F15: 장애 | G15: 감염병 신고 및 역학조사 프로그램 불가능 | H15: 유선 또는 팩스로 신고
A16: =ROW()-3 -> 13 | B16: 옹진군 | C16: 보건행정과 | D16: 질병보건통합관리시스템 | E16: 대외 | F16: 장애 | G16: 예방접종등록 및 결핵신고 관련 입력 불가능 | H16: 결핵신고 수기작성 예방접종등록시스템(ois.kdca.go.kr)으로 접속하여 예방접종 등록 및 조회
A17: =ROW()-3 -> 14 | B17: 옹진군 | C17: 면사무소 | D17: 정보공개청구 | E17: 대외 | F17: 장애 | G17: 접속불가 | H17: 민원실 일괄 접수 후 행정자치과 이송하여 관련부서 배부
A18: =ROW()-3 -> 15 | B18: 옹진군 | C18: 면사무소 | D18: e하늘장사시스템 | E18: 대외 | F18: 장애 | G18: 접속불가 | H18: 수기발급 후 입력 예정
A19: =ROW()-3 -> 16 | B19: 옹진군 | C19: 면사무소 | D19: 수산정보 통합시스템 | E19: 대외 | F19: 장애 | G19: 접속불가 | H19: 수산직불제 신청완료 | I19: 9
A20: =ROW()-3 -> 17 | B20: 중구 | C20: 기획예산실 | D20: 규제개혁신문고 | E20: 대외 | F20: 장애 | G20: 온라인 접속 불가 | H20: 기존과 같이 온라인, 오프라인 병행 접수
A21: =ROW()-3 -> 18 | B21: 중구 | C21: 법무감사실 | D21: 청원24 | E21: 대외 | F21: 장애 | G21: 청원 접수 및 처리 불가 | H21: 청원법에 따라 서면 접수 및 처리
A22: =ROW()-3 -> 19 | B22: 중구 | C22: 홍보체육실 | D22: 공공데이터 포털 | E22: 대외 | F22: 장애 | G22: 사이트 접속 불가 | H22: 인천데이터포털( data.incheon.go.kr) 등 대체 개별포털 안내 및 공공데이터 요청 시 수기 제공
A23: =ROW()-3 -> 20 | B23: 중구 | C23: 총무과 | D23: 1365자원봉사포털 | E23: 대외 | F23: 장애 | G23: 실적 확인 및 확인서 발급 등 불가 | H23: 홈페이지 장애안내 공지
A24: =ROW()-3 -> 21 | B24: 중구 | C24: 재무과 | D24: 나라장터 | E24: 대외 | F24: 장애 | G24: 입찰, 개발 출가 신규, 변경계약 체결 불가 | H24: 개찰 불가 건은 홈페이지에 "입찰 취소 목록" 게재(용역 1건) 입찰을 제외한 수의계약의 경우에만(추정가격 5천 이하) 서면계약으로 진행, 시스템 복구 후 나라장터에서 전자계약
A25: =ROW()-3 -> 22 | B25: 중구 | C25: 재무과 | D25: 나라장터종합쇼핑몰 | E25: 대외 | F25: 장애 | G25: 입찰, 개발 출가 신규, 변경계약 체결 불가 | H25: 개찰 불가 건은 홈페이지에 "입찰 취소 목록" 게재(용역 1건) 입찰을 제외한 수의계약의 경우에만(추정가격 5천 이하) 서면계약으로 진행, 시스템 복구 후 나라장터에서 전자계약
A26: =ROW()-3 -> 23 | B26: 중구 | C26: 세무1과/세무2과 | D26: 위택스 | E26: 대외 | F26: 장애 | G26: 모바일전자정부공통기반(앱 무결성 검사) 장애로 인한 스마트위택스(어플) 사용 불가능 | H26: 위택스 홈페이지(PC) 접속
A27: =ROW()-3 -> 24 | B27: 중구 | C27: 민원지적과 | D27: 주민등록 통합행정시스템 | E27: 대외 | F27: 장애 | G27: IC 주민등록증 (재)발급, 국가보훈대상자 수수료 면제 조회, 구 주민등록표(구원장) 조회 | H27: 실물 신분증 확인, 주민등록 담당자 업무처리 지침(행정안전부) 공유
A28: =ROW()-3 -> 25 | B28: 중구 | C28: 민원지적과 | D28: 민원처리운영창구(정부24관련) | E28: 대외 | F28: 장애 | G28: 토지이용계획확인원 열람 및 발급, 요양보호사 자격증 발급 등 일부 기능 불가 | H28: 국가보훈대상자는 실물 보훈증으로 확인하여 수수료 면제, IC 주민등록증 발급 및 구원장 조회 관련 업무는 시스템 완전 복구 후 신청 가능으로 안내 IC 주민등록증 신규발급을 원하나 발급 기한이 경과되는 경우 시스템 복구 후 과태료 없이 처리
A29: =ROW()-3 -> 26 | B29: 중구 | C29: 민원지적과 | D29: 국민신문고 | E29: 대외 | F29: 장애 | G29: 홈페이지 접속불가 | H29: 신규 민원은 방문, 서신, FAX 접수 처리 기 접수된 건은 시스템 정상운영 후 처리
A30: =ROW()-3 -> 27 | B30: 중구 | C30: 민원지적과/도시행정과 | D30: PICAS(여권정보통합관리시스템) | E30: 대외 | F30: 장애 | G30: 우체국 등기 개별 자택 발송 불가 | H30: 방문 수령 안내
A31: =ROW()-3 -> 28 | B31: 중구 | C31: 민원지적과 | D31: 정보공개포털 | E31: 대외 | F31: 장애 | G31: 홈페이지 접속불가 | H31: 정보공개 신규 청구는 수기 접수처리, 접수된 청구 건은 시스템 정상운영 후 처리(단, 수기 처리 가능한 건은 신속 처리)
... A63: =ROW()-3 -> 60 | B63: 중구 | C63: 시설관리공단 | D63: (자체) 영종국민체육센터 홈페이지 / 예약시스템 | E63: 대외 | F63: 장애 | G63: 공공감면시스템 (할인자격확인용)장애로 자동적용불가 | H63: 홈페이지 팝업을 통한 담당자 연락처 공지 / 수기 처리 적용
A64: =ROW()-3 -> 61 | B64: 중구 | C64: 시설관리공단 | D64: (외부/정부) 국민신문고 | E64: 대외 | F64: 장애 | G64: 접속불가 상태 | H64: 별도 시스템 정상화 이후 정부 후속조치에 따라 진행 | I64: 45
A65: =ROW()-3 -> 62 | B65: 동구 | C65: 기획감사실 | D65: 지방보조금시스템(보탬e) | E65: 대외 | F65: 장애 | G65: 챗봇을통한업무상담서비스불가 | H65: 전화상담
A66: =ROW()-3 -> 63 | B66: 동구 | C66: 기획감사실 | D66: 보조금시스템(e나라도움) | E66: 대외 | F66: 장애 | G66: ①정부전자문서유통 시스템(온나라) 연계 수신처가 중앙부처인 문서 처리 불가 ②나라장터G2B연계기능불가 | H66: ①e나라도움 내부기안 ②대금지급은일반집행으로,신규계약등록은사후등록
A67: =ROW()-3 -> 64 | B67: 동구 | C67: 기획감사실 | D67: 지자체 합동평가시스템(VPS) | E67: 대외 | F67: 장애 | G67: 시스템 전체 접속 불가 | H67: 시스템 복구시까지 평가지표 관리카드 별도 관리
A68: =ROW()-3 -> 65 | B68: 동구 | C68: 총무과 | D68: 1365자원봉사포털 | E68: 대외 | F68: 장애 | G68: 시스템 전체 접속 불가 | H68: 수기 서비스 제공
A69: =ROW()-3 -> 66 | B69: 동구 | C69: 홍보체육과 | D69: 공공데이터포털 | E69: 대외 | F69: 장애 | G69: 접속불가 | H69: 대체사이트 이용(서울 열린데이터 광장 : data.seoul.go.kr)
A70: =ROW()-3 -> 67 | B70: 동구 | C70: 홍보체육과 | D70: 정기간행물 등록관리 시스템 | E70: 대외 | F70: 장애 | G70: 홈페이지 접속 불가 | H70: 미정(문화체육관광부 미디어정책과 대체 방안 공문 예정)
A71: =ROW()-3 -> 68 | B71: 동구 | C71: 재무과 | D71: 나라장터 | E71: 대외 | F71: 장애 | G71: 접속불가 → 일부기능 사용가능 | H71: 10.13. 정상개통 예정
A72: =ROW()-3 -> 69 | B72: 동구 | C72: 재무과 | D72: 지방재정관리시스템(이호조+) | E72: 대외 | F72: 장애 | G72: 법인카드 사용내역 조회 불안정 | H72: 수기 서비스 제공
A73: =ROW()-3 -> 70 | B73: 동구 | C73: 민원지적과 | D73: 국민신문고 | E73: 대외 | F73: 장애 | G73: 홈페이지 접속 불가 | H73: 수기 서비스 제공
A74: =ROW()-3 -> 71 | B74: 동구 | C74: 민원지적과 | D74: 정보공개시스템 | E74: 대외 | F74: 장애 | G74: 홈페이지 접속 불가 | H74: 수기 서비스 제공
A75: =ROW()-3 -> 72 | B75: 동구 | C75: 민원지적과 | D75: 행정정보공동이용시스템 | E75: 대외 | F75: 장애 | G75: 일부정보(22종) 조회 열람 불가 | H75: 중앙기관 조치 대기
A76: =ROW()-3 -> 73 | B76: 동구 | C76: 민원지적과 | D76: 가족관계등록정보시스템 | E76: 대외 | F76: 장애 | G76: 수수료면제대상자 조회 불가 | H76: 대상자별 증명서(신분증) 확인
... A93: =ROW()-3 -> 90 | B93: 동구 | C93: 보건행정과 | D93: 질병관리본부시스템 | E93: 대외 | F93: 장애 | G93: ①에이즈 신고업무 시스템 연결 불가 ②감염인진료비보고시스템연결불가 | H93: ① 에이즈 발생신고서 이메일보고 ② 감염인 진료비 입력 시스템개통시처리
A94: =ROW()-3 -> 91 | B94: 동구 | C94: 보건행정과 | D94: 방역통합정보시스템 | E94: 대외 | F94: 장애 | G94: 시스템(감염병 신고, 보고, 역학조사 등) 사용 불가 | H94: 유선 및 팩스 신고접수 및 보고 (의료기관 안내 완료) | I94: 31
A95: =ROW()-3 -> 92 | B95: 미추홀구 | C95: 기획예산실 | D95: 공공자원개방공유관리시스템 | E95: 대외 | F95: 장애 | G95: 접속불가 | H95: 정상화 이후 후속조치에 따라 진행
A96: =ROW()-3 -> 93 | B96: 미추홀구 | C96: 총무과 | D96: 정보공개시스템 | E96: 대외 | F96: 장애 | G96: 시스템 접속 장애로 청구접수 및 처리 불가 | H96: 시스템 복구 후 정상 운영 예정 - 현재, 오프라인 접수·처리 - 상세 처리 지침 총무과-28048(2025. 9. 29.)호 참고
A97: =ROW()-3 -> 94 | B97: 미추홀구 | C97: 총무과 | D97: 고향사랑 e음시스템 | E97: 대외 | F97: 장애 | G97: 주소지 검증 불가(거주지 직접 선택), 답례품 포인트 미지급 | H97: 추후 거주지 검증 후 포인트 일괄 지급
A98: =ROW()-3 -> 95 | B98: 미추홀구 | C98: 민원여권과 | D98: 국민신문고 | E98: 대외 | F98: 장애 | G98: 장애 | H98: 120콜센터 활용, 방문/팩스/우편으로 민원 접수
A99: =ROW()-3 -> 96 | B99: 미추홀구 | C99: 민원여권과 | D99: 무인민원발급기 | E99: 대외 | F99: 장애 | G99: 서류발급 가능(정부24 연계서비스 불가, 방문접수 및 무인민원발급기 가능) | H99: 지문출력 안내
A100: =ROW()-3 -> 97 | B100: 미추홀구 | C100: 민원여권과 | D100: 모바일 신분증 | E100: 대외 | F100: 장애 | G100: 신분증 확인 시스템 내에서 서비스 불가하여 신규,재발급 불가 | H100: 정상화 이후 신규 재발급 가능함으로 민원안내
A101: =ROW()-3 -> 98 | B101: 미추홀구 | C101: 세무2과 | D101: 인천e택스 | E101: 대외 | F101: 장애 | G101: 인카스 간편인증 로그인 불가 | H101: 기타 로그인(공동인증, 금융인증, 통신사인증) 가능
A102: =ROW()-3 -> 99 | B102: 미추홀구 | C102: 세무2과 | D102: 위택스 | E102: 대외 | F102: 장애 | G102: 스마트위택스 앱 접속불가 | H102: PC 접속 가능
A103: =ROW()-3 -> 100 | B103: 미추홀구 | C103: 노인장애인복지과 | D103: 장애인전용 주차구역 위반 관리시스템 | E103: 대외 | F103: 장애 | G103: 민원접수 및 과태료 부과 불가(국민신문고 작동 불가, 우편서비스 작동 불가) | H103: 전화접수, 과태료부과는 정상화 이후 진행
A104: =ROW()-3 -> 101 | B104: 미추홀구 | C104: 노인장애인복지과 | D104: e하늘장사 정보시스템 | E104: 대외 | F104: 장애 | G104: 접속불가 | H104: 화장예약서비스 접속 불가하여 현재 수기 접수 중
A105: =ROW()-3 -> 102 | B105: 미추홀구 | C105: 보건행정과 | D105: 질병보건통합관리시스템 | E105: 대외 | F105: 장애 | G105: 접속불가 | H105: 팩스 수기접수 | I105: 11
A106: =ROW()-3 -> 103 | B106: 남동구 | C106: 홍보실 | D106: 남동구 홈페이지 | E106: 대외 | F106: 장애 | G106: 국민신문고 연계 전자민원 접수 불가 | H106: 방문 또는 전화 수기 접수 안내
A107: =ROW()-3 -> 104 | B107: 남동구 | C107: 감사실 | D107: 청원24 | E107: 대외 | F107: 장애 | G107: 접속 불가 | H107: 방문 또는 전화 수기 접수 안내
A108: =ROW()-3 -> 105 | B108: 남동구 | C108: 기획예산과 | D108: 국가법령정보시스템 | E108: 대외 | F108: 장애 | G108: 접속 불가 | H108: 대체사이트 안내: portal.scourt.go.kr, likms.assembly.go.kr/law
A109: =ROW()-3 -> 106 | B109: 남동구 | C109: 일자리정책과 | D109: 공유누리 | E109: 대외 | F109: 장애 | G109: 접속 불가 | H109: 정보제공용 시스템으로 대체수단 없음
A110: =ROW()-3 -> 107 | B110: 남동구 | C110: 일자리정책과 | D110: 일모아시스템 | E110: 대외 | F110: 장애 | G110: 공공마이데이터 중 자격증 연계불가(그외 복구완료) | H110: 대한상공회의소, 산업인력공단 서류 수기 처리
A111: =ROW()-3 -> 108 | B111: 남동구 | C111: 총무과 | D111: 차세대주민전산 | E111: 대외 | F111: 장애 | G111: IC 주민등록증 (재)발급 불가 | H111: 일반 주민등록증으로 대체
A112: =ROW()-3 -> 109 | B112: 남동구 | C112: 총무과 | D112: 1365 자원봉사 포털 | E112: 대외 | F112: 장애 | G112: 신청 및 실적 확인, 확인서 발급 불가 | H112: 홈페이지 공지 및 자원봉사확인서 수기 발급
A113: =ROW()-3 -> 110 | B113: 남동구 | C113: 민원여권과 | D113: 정보공개시스템 | E113: 대외 | F113: 장애 | G113: 정보공개요청 접속 불가 | H113: 창구, 팩스, 이메일 수기 민원 접수 후 순차적 처리 (처리기한 10일)
A114: =ROW()-3 -> 111 | B114: 남동구 | C114: 민원여권과 | D114: 국민신문고 | E114: 대외 | F114: 장애 | G114: 접속 불가 | H114: 수기 민원 접수 후 순차적 처리
A115: =ROW()-3 -> 112 | B115: 남동구 | C115: 민원여권과 | D115: 정부24 | E115: 대외 | F115: 장애 | G115: 자격면허발급 관련 민원 등 일부 민원 등록 오류 | H115: 팩스 민원 접수 후 처리
A116: =ROW()-3 -> 113 | B116: 남동구 | C116: 토지정보과 | D116: 바른땅시스템 | E116: 대외 | F116: 장애 | G116: 조정금 납부, 의견 신청 및 경계 결정 통지 불가 | H116: ① 이전 자료 기반으로 민원 처리 ② 구 방문 또는 유선확인 ③ 행정업무 처리 기간은 연장 처리(상세 내용 별도 안내)
A117: =ROW()-3 -> 114 | B117: 남동구 | C117: 세무1과 세무2과 | D117: 스마트위택스(앱) | E117: 대외 | F117: 장애 | G117: 앱 구동 불가 | H117: 위택스 홈페이지 접속 안내
... A123: =ROW()-3 -> 120 | B123: 남동구 | C123: 청소행정과 | D123: 올바로시스템 | E123: 대외 | F123: 장애 | G123: 사업장폐기물 관리 간편인증 로그인 중단 | H123: 공동인증서로그인 활용
A124: =ROW()-3 -> 121 | B124: 남동구 | C124: 치매정신건강과 | D124: 차세대전자바우처 | E124: 대외 | F124: 장애 | G124: 상담비 결제 불가 | H124: 상담 후 시스템 복원 시 소급 결제 처리 | I124: 19
A125: =ROW()-3 -> 122 | B125: 연수구 | C125: 홍보소통실 | D125: 연수구누리집 | E125: 대외 | F125: 장애 | G125: 민원24, 국민신문고 등 일부 민원 서비스 (일반민원상담, 불법 주정차 신고, 구청장에게 바란다, 예산낭비신고, 공직자부조리신고, 규제개혁신문고 등) | H125: - 방문전 미추홀콜센터(032-120) 통하여 전화 후 담당부서 민원 접수
A126: =ROW()-3 -> 123 | B126: 연수구 | C126: 감염병관리과 | D126: 방역통합정보시스템 | E126: 대외 | F126: 장애 | G126: 시스템 접속 불가 | H126: - 의료기관 감염병신고 시, FAX 신고 (※ FAX 번호 : 032-749-8119)
A127: =ROW()-3 -> 124 | B127: 연수구 | C127: 감염병관리과 | D127: 질병보건통합관리시스템 | E127: 대외 | F127: 장애 | G127: 시스템 접속 불가 | H127: - 의료기관 감염병신고 시, FAX 신고 (※ FAX 번호 : 032-749-8059)
A128: =ROW()-3 -> 125 | B128: 연수구 | C128: 경제산업과 | D128: 민생회복소비쿠폰 (새올, 국민신문고) | E128: 대외 | F128: 장애 | G128: 국민신문고 접속 불가 (온라인 이의신청 및 기 접수 건 처리 불가) | H128: - 오프라인 이의신청으로 안내 (※ 주소지 관할 행정복지센터)
A129: =ROW()-3 -> 126 | B129: 연수구 | C129: 재무회계과 | D129: 나라장터 | E129: 대외 | F129: 장애 | G129: 신규 계약, 납품요구, 입찰 기능 장애 (기존 계약건에 대한 조회만 가능) | H129: - 공사·용역·물품 수의계약 및 긴급한 설계변경 건:수기계약 진행 - 입찰 공고 건의 개찰 지연:화재 때문에 투찰하지 못한 기간만큼 개찰시간 연기 - 나라장터 정상화 작업을 위한 서비스 일시 중단 안내(10.02. 22시 ~ 10.12. 23시)
A130: =ROW()-3 -> 127 | B130: 연수구 | C130: 복지정책과 노인장애인과 | D130: 사회서비스 전자바우처시스템 | E130: 대외 | F130: 장애 | G130: 시스템 접속 불가 | H130: - 바우처 선 제공 이후, 대상자 등록 및 바우처 소급결제 처리
A131: =ROW()-3 -> 128 | B131: 연수구 | C131: 노인장애인과 | D131: 응급디지털돌봄시스템 | E131: 대외 | F131: 장애 | G131: 시스템 접속 불가 | H131: - 필요시 응급요원 유선통화 진행 (장애인복지관 070-8970-7123)
A132: =ROW()-3 -> 129 | B132: 연수구 | C132: 노인장애인과 | D132: e하늘장사정보시스템 | E132: 대외 | F132: 장애 | G132: 시스템 접속 불가 | H132: - 유선 전화 신청 및 현장 수기 접수 1. 인천적십자병원장례식장: 032-822-1234 2. 더연수장례식장: 032-818-1024 3. 흥륜사 정토원: 032-834-1131
A133: =ROW()-3 -> 130 | B133: 연수구 | C133: 안전관리과 | D133: 안전디딤돌 앱 | E133: 대외 | F133: 장애 | G133: 시스템 접속 불가 | H133: - 대피소 정보 및 국민행동요령 등 민간포털 1. https://www.klid.or.kr/open/selectBoardDetail.do?PID=notice&bbsSeq=13078&part=
A134: =ROW()-3 -> 131 | B134: 연수구 | C134: 건축과, 주택과 | D134: 세움터 | E134: 대외 | F134: 장애 | G134: 민원 접수 시 법령조회 및 토지이용계획확인원 확인 장애 | H134: - 법령 보기 대체 사이트 1. https://portal.scourt.go.kr/pgp/index.on 2. https://likms.assembly.go.kr/law - 토지이용계획확인원 대체 1. https://www.eum.go.kr/web/ar/lu/luLandDet.jsp
A135: =ROW()-3 -> 132 | B135: 연수구 | C135: 스마트정보과 | D135: 새올 | E135: 대외 | F135: 장애 | G135: 모바일신분증 본인인증 불가 | H135: 방문민원접수
A136: =ROW()-3 -> 133 | B136: 연수구 | C136: 민원여권과 | D136: 무인민원발급기 | E136: 대외 | F136: 장애 | G136: 모바일신분증 장애로 본인 인증 불가 | H136: 지문을 통한 본인인증으로 가능
... A138: =ROW()-3 -> 135 | B138: 연수구 | C138: 민원여권과 | D138: 정보공개시스템 | E138: 대외 | F138: 장애 | G138: 시스템 접속 불가 | H138: - 시스템 이용불가로 수기 접수창구 운영 방문 및 우편: 인천광역시 연수구 원인재로 115 1층 민원여권과 (※ FAX 번호 : 032-749-7549)
A139: =ROW()-3 -> 136 | B139: 연수구 | C139: 민원여권과 | D139: 주민등록통합행정시스템 | E139: 대외 | F139: 장애 | G139: IC 주민등록증 (재)발급 및 모바일 주민등록증 확인 장애 | H139: - 민원 접수 관련 신분 확인 시 일반 주민등록증 사용 | I139: 16
A140: =ROW()-3 -> 137 | B140: 부평구 | C140: 감사관 | D140: 청원24 | E140: 대외 | F140: 장애 | G140: 접속불가 | H140: 별도 수기대장 또는 엑셀로 접수 후 시스템 복구 시 등록
A141: =ROW()-3 -> 138 | B141: 부평구 | C141: 기획예산과 | D141: 규제개혁신문고 | E141: 대외 | F141: 장애 | G141: 시스템 불가 | H141: 국무조정실 전화, 팩스, 우편 접수
A142: =ROW()-3 -> 139 | B142: 부평구 | C142: 기획예산과 | D142: 온라인 행정심판 포털 (행정심판 청구) | E142: 대외 | F142: 장애 | G142: 공동인증서로 로그인 필요(간편인증, 모바일 신분증, 금융인증서 불가) | H142: 우편, 방문 접수 가능
A143: =ROW()-3 -> 140 | B143: 부평구 | C143: 문화관광과 | D143: 정기간행물등록관리시스템 | E143: 대외 | F143: 장애 | G143: 접속불가 | H143: 접수된 민원은 시스템 복구 후 처리(처리기한 연장조치)
A144: =ROW()-3 -> 141 | B144: 부평구 | C144: 재무과 | D144: 나라장터 | E144: 대외 | F144: 장애 | G144: 접속가능(대금지급업무가능) | H144: DNS 설정 변경을 통해 나라장터 접속 후 대금 지급 처리(일부 복구)
A145: =ROW()-3 -> 142 | B145: 부평구 | C145: 자치행정과 | D145: 1365 자원봉사포털 | E145: 대외 | F145: 장애 | G145: 실적 확인 및 확인서 발급 등 불가 | H145: 홈페이지 장애안내 공지,자원봉사확인서 수기 발급,봉사실적 입력 소급 적용
A146: =ROW()-3 -> 143 | B146: 부평구 | C146: 하나로민원과 | D146: 국민신문고 | E146: 대외 | F146: 장애 | G146: 국민신문고 접속 불가 | H146: 서식민원으로 대체 접수 처리
A147: =ROW()-3 -> 144 | B147: 부평구 | C147: 하나로민원과 | D147: 정보공개시스템 | E147: 대외 | F147: 장애 | G147: 접속불가 | H147: 서면 접수처리
A148: =ROW()-3 -> 145 | B148: 부평구 | C148: 사회보장과 | D148: 자활정보시스템 | E148: 대외 | F148: 장애 | G148: 접속불가 | H148: 수기 처리
A149: =ROW()-3 -> 146 | B149: 부평구 | C149: 사회보장과 | D149: 사회서비스전자바우처 | E149: 대외 | F149: 장애 | G149: 접속불가 | H149: 수기 처리
A150: =ROW()-3 -> 147 | B150: 부평구 | C150: 사회보장과 | D150: 자산형성포털 | E150: 대외 | F150: 장애 | G150: 접속불가 | H150: 수기 처리
A151: =ROW()-3 -> 148 | B151: 부평구 | C151: 노인장애인과 | D151: e하늘 장사정보시스템 | E151: 대외 | F151: 장애 | G151: 접속불가 | H151: 화장예약 팩스 수기 접수
... A158: =ROW()-3 -> 155 | B158: 부평구 | C158: 치매정신 건강과 | D158: 1365자원봉사포털 (자원봉사관리) | E158: 대외 | F158: 장애 | G158: 1365자원봉사포털 사이트 접속 불가 | H158: 봉사자에게 안내, 추후 시스템 복원 후 처리가능
A159: =ROW()-3 -> 156 | B159: 부평구 | C159: 치매정신 건강과 | D159: 전자바우처시스템 (전국민마음투자 지원사업 등록) | E159: 대외 | F159: 장애 | G159: 사이트 접속불가(바우처 결제 및 잔액 확인, 비용지급 불가) | H159: 종이문서 작성 및 추후 예외 지급 청구 예정 | I159: 21
A160: =ROW()-3 -> 157 | B160: 서구 | C160: 예산법무과 | D160: 공단 온라인예약서비스 | E160: 대외 | F160: 장애 | G160: 비대면자격확인서비스: 거주지 및 할인 적용을 위한 자격 조회 불가 | H160: - 자원봉사센터 전화.방문 문의, 자원봉사 활동처로 연락
...

Sheet 중구
B1: 국가정보자원관리원 행정정보시스템 화재 관련 서비스 장애 현황 내역 (중구) | I1: 전체 | J1: 장애 | K1: 정상
A2: 연번 | B2: 부서명 | C2: 서비스명 | D2: 대내외 | E2: 장애 | F2: 장애내용 | G2: 조치계획(대체방법) | H2: 계 | I2: =COUNTA(C3:C1048576) -> 201 | J2: =COUNTIF($E:$E,"*장애*")-1 -> 39 | K2: =COUNTIF($E:$E,"*정상*") -> 162
A3: 1 | B3: 기획예산실 | C3: 차세대 지방재정관리 | D3: 대내 | E3: 정상 | F3: 해당없음 | G3: 해당없음 | H3: 대외 | I3: =COUNTIF($D:$D,"*대외*") -> 121 | J3: =COUNTIFS($D:$D,"*대외*",$E:$E,"*장애*") -> 24 | K3: =COUNTIFS($D:$D,"*대외*",$E:$E,"*정상*") -> 97
A4: 2 | B4: 기획예산실 | C4: 성과관리시스템 | D4: 대내 | E4: 정상 | F4: 해당없음 | G4: 해당없음 | H4: 대내 | I4: =COUNTIF($D:$D,"*대내*")-1 -> 80 | J4: =COUNTIFS($D:$D,"*대내*",$E:$E,"*장애*")-1 -> 15 | K4: =COUNTIFS($D:$D,"*대내*",$E:$E,"*정상*") -> 65
A5: 3 | B5: 기획예산실 | C5: 중소기업 옴부즈만 | D5: 대외 | E5: 정상 | F5: 해당없음 | G5: 해당없음
A6: 4 | B6: 시설관리공단 | C6: 지방공기업회계시스템 lobas | D6: 대외 | E6: 장애 | F6: 카드결제 관련 증빙자료 업로드 기능 불가 | G6: 별도 증빙자료 보관후 장애 해소 후 업로드 관리 예정
A7: 5 | B7: 기획예산실 | C7: 공공서비스통합관리시스템 | D7: 대외 | E7: 정상 | F7: 해당없음 | G7: 해당없음
A8: 6 | B8: 시설관리공단 | C8: 국민신문고 | D8: 대외 | E8: 장애 | F8: 접속불가 상태 | G8: 별도 시스템 정상화 이후 정부 후속조치에 따라 진행
A9: 7 | B9: 시설관리공단 | C9: 공단 홈페이지 / 예약시스템 (영종 국제 테니스장 등) | D9: 대외 | E9: 장애 | F9: 공공감면시스템 (할인자격확인용)장애로 자동적용불가 | G9: 홈페이지 팝업을 통한 담당자 연락처 공지 / 수기 처리 적용
A10: 8 | B10: 시설관리공단 | C10: 공영주차장 무인정산 시스템 | D10: 대내 | E10: 장애 | F10: 공공감면시스템 (할인자격확인용)장애로 자동적용불가 | G10: 현장 비상연락장치로 통합관제센터 수기 확인 및 할인 적용
A11: 9 | B11: 시설관리공단 | C11: 영종국민체육센터 홈페이지 / 예약시스템 | D11: 대외 | E11: 장애 | F11: 공공감면시스템 (할인자격확인용)장애로 자동적용불가 | G11: 홈페이지 팝업을 통한 담당자 연락처 공지 / 수기 처리 적용
A12: 10 | B12: 시설관리공단 | C12: 중구국민체육센터 홈페이지 / 예약시스템 | D12: 대외 | E12: 장애 | F12: 공공감면시스템 (할인자격확인용)장애로 자동적용불가 | G12: 홈페이지 팝업을 통한 담당자 연락처 공지 / 수기 처리 적용
A13: 11 | B13: 홍보체육실 | C13: 중구 홈페이지 | D13: 대외 | E13: 정상 | F13: 해당없음 | G13: 해당없음
A14: 12 | B14: 홍보체육실 | C14: 통합보안관제시시스템 | D14: 대내 | E14: 정상 | F14: 해당없음 | G14: 해당없음
A15: 13 | B15: 홍보체육실 | C15: 지킴e | D15: 대내 | E15: 정상 | F15: 해당없음 | G15: 해당없음
A16: 14 | B16: 총무과 | C16: 1365자원봉사포털 | D16: 대외 | E16: 장애 | F16: 실적 확인 및 확인서 발급 등 불가 | G16: 홈페이지 장애안내 공지
... A203: 201 | B203: 건강증진과 | C203: 행정정보공동이용 | D203: 대외 | E203: 정상 | F203: 해당없음 | G203: 해당없음
