Workbook

Sheet 251002 군구합계(전체보고용)
A1: 국가정보자원관리원 행정정보시스템 서비스 장애현황(군·구)
D2: 전체
A3: 구분 | B3: 전체 서비스 수 | C3: 장애시스템 수 | D3: 정상(복구완료)
A4: 합계 | B4: =SUM(B5:B14) -> #REF! | C4: =B4-D4 -> #REF! | D4: =SUM(D5:D14) -> #REF!
A5: 강화군 | B5: =#REF! -> #REF! | C5: =#REF! -> #REF! | D5: =#REF! -> #REF!
A6: 옹진군 | B6: =#REF! -> #REF! | C6: =#REF! -> #REF! | D6: =#REF! -> #REF!
A7: 중구 | B7: =중구!I2 -> 201 | C7: =중구!J2 -> 39 | D7: =중구!K2 -> 162
A8: 동구 | B8: =#REF! -> #REF! | C8: =#REF! -> #REF! | D8: =#REF! -> #REF!
A9: 미추홀구 | B9: =#REF! -> #REF! | C9: =#REF! -> #REF! | D9: =#REF! -> #REF!
A10: 남동구 | B10: =#REF! -> #REF! | C10: =#REF! -> #REF! | D10: =#REF! -> #REF!
A11: 연수구 | B11: =#REF! -> #REF! | C11: =#REF! -> #REF! | D11: =#REF! -> #REF!
A12: 부평구 | B12: =#REF! -> #REF! | C12: =#REF! -> #REF! | D12: =#REF! -> #REF!
A13: 계양구 | B13: =#REF! -> #REF! | C13: =#REF! -> #REF! | D13: =#REF! -> #REF!
A14: 서구 | B14: =#REF! -> #REF! | C14: =#REF! -> #REF! | D14: =#REF! -> #REF!

Sheet 251002 군구합계(대시민)
A1: 국가정보자원관리원 행정정보시스템 서비스 장애현황(군·구)
D2: 대시민
A3: 구분 | B3: 전체 서비스 수 | C3: 장애시스템 수 | D3: 정상(복구완료)
A4: 합계 | B4: =SUM(B5:B14) -> #REF! | C4: =SUM(C5:C14) -> #REF! | D4: =SUM(D5:D14) -> #REF!
A5: 강화군 | B5: =#REF! -> #REF! | C5: =#REF! -> #REF! | D5: =#REF! -> #REF!
A6: 옹진군 | B6: =#REF! -> #REF! | C6: =#REF! -> #REF! | D6: =#REF! -> #REF!
A7: 중구 | B7: =중구!I3 -> 121 | C7: =중구!J3 -> 24 | D7: =중구!K3 -> 97
A8: 동구 | B8: =#REF! -> #REF! | C8: =#REF! -> #REF! | D8: =#REF! -> #REF!
A9: 미추홀구 | B9: =#REF! -> #REF! | C9: =#REF! -> #REF! | D9: =#REF! -> #REF!
A10: 남동구 | B10: =#REF! -> #REF! | C10: =#REF! -> #REF! | D10: =#REF! -> #REF!
A11: 연수구 | B11: =#REF! -> #REF! | C11: =#REF! -> #REF! | D11: =#REF! -> #REF!
A12: 부평구 | B12: =#REF! -> #REF! | C12: =#REF! -> #REF! | D12: =#REF! -> #REF!
A13: 계양구 | B13: =#REF! -> #REF! | C13: =#REF! -> #REF! | D13: =#REF! -> #REF!
A14: 서구 | B14: =#REF! -> #REF! | C14: =#REF! -> #REF! | D14: =#REF! -> #REF!

Sheet list
A1: 국가정보자원관리원 행정정보시스템 화재 관련 서비스 장애 현황 내역(군·구)
A3: 연번 | B3: 기관명 | C3: 부서명 | D3: 서비스명 | E3: 대내외 구분 | F3: 장애 여부 | G3: 장애내용 | H3: 대체수단(대응방법)
A4: =ROW()-3 -> 1 | B4: 강화군 | C4: 민원지적과 | D4: 주민등록시스템 | E4: 대외 | F4: 장애 | G4: IC주민등록발급/재발급 보훈증수수료면제조회 모바일신분확인불가 | H4: 실물 신분증 확인/행복e음 확인
A5: =ROW()-3 -> 2 | B5: 강화군 | C5: 민원지적과 | D5: 국민신문고 | E5: 대외 | F5: 장애 | G5: 접속불가 | H5: 신규 민원은 방문, 서신, FAX 접수 처리
A6: =ROW()-3 -> 3 | B6: 강화군 | C6: 민원지적과 | D6: 부동산종합공부 | E6: 대외 | F6: 장애 | G6: 접속불가 | H6: 온라인 불가에 따른 오프라인으로대체 토지대장,대지권등록부,임야도,경계점좌표등록부수수료 무료전환
A7: =ROW()-3 -> 4 | B7: 강화군 | C7: 안전총괄과 | D7: 안전신문고 | E7: 대외 | F7: 장애 | G7: 접속불가 | H7: 수기민원접수 후 순차적 처리
A8: =ROW()-3 -> 5 | B8: 강화군 | C8: 총무과 | D8: 정보공개청구 | E8: 대외 | F8: 장애 | G8: 접속불가 | H8: 수기민원접수 후 순차적 처리
A9: =ROW()-3 -> 6 | B9: 강화군 | C9: 세무회계과 | D9: 나라장터 종합쇼핑몰 | E9: 대외 | F9: 장애 | G9: 입찰/개찰불가 기존접수된대금만지급가능 | H9: 대금만 지급/변경계약수기로진행 입찰개찰불가
A10: =ROW()-3 -> 7 | B10: 강화군 | C10: 감사법무담당관 | D10: 국가법령정보센터 | E10: 대외 | F10: 장애 | G10: 접속불가 | H10: 대체 홈페이지 https://portal.scourt.go.kr https://likms.assembly.go.kr/law | I10: 8
A11: =ROW()-3 -> 8 | B11: 옹진군 | C11: 기획감사실 | D11: 공직자윤리시스템(재산등록 의무자용) | E11: 대외 | F11: 장애 | G11: 접속불가 | H11: 등록 연장 신청서 제출 후, 추후 등록 가능
A12: =ROW()-3 -> 9 | B12: 옹진군 | C12: 기획감사실 | D12: 법제처 국가법령정보센터 | E12: 대외 | F12: 장애 | G12: 접속불가 | H12: 대한민국 법원 사법정보공개포털(https://portal.scourt.go.kr) 활용 자치법규정보시스템(www.elis.go.kr) 활용
A13: =ROW()-3 -> 10 | B13: 옹진군 | C13: 행정자치과 | D13: 정보공개시스템 | E13: 대외 | F13: 장애 | G13: 접속불가 | H13: 민원실 일괄 접수 후 행정자치과 이송하여 관련부서 배부
A14: =ROW()-3 -> 11 | B14: 옹진군 | C14: 행정자치과 | D14: 국가통계포털 | E14: 대외 | F14: 장애 | G14: 접속불가 | H14: 조회용으로 사용 중으로 정부전산망 복구시 사용가능
A15: =ROW()-3 -> 12 | B15: 옹진군 | C15: 보건행정과 | D15: 방역통합정보시스템(감염병신고 및 역학조사) | E15: 대외 | F15: 장애 | G15: 감염병 신고 및 역학조사 프로그램 불가능 | H15: 유선 또는 팩스로 신고
A16: =ROW()-3 -> 13 | B16: 옹진군 | C16: 보건행정과 | D16: 질병보건통합관리시스템 | E16: 대외 | F16: 장애 | G16: 예방접종등록 및 결핵신고 관련 입력 불가능 | H16: 결핵신고 수기작성 예방접종등록시스템(ois.kdca.go.kr)으로 접속하여 예방접종 등록 및 조회
A17: =ROW()-3 -> 14 | B17: 옹진군 | C17: 면사무소 | D17: 정보공개청구 | E17: 대외 | F17: 장애 | G17: 접속불가 | H17: 민원실 일괄 접수 후 행정자치과 이송하여 관련부서 배부
A18: =ROW()-3 -> 15 | B18: 옹진군 | C18: 면사무소 | D18: e하늘장사시스템 | E18: 대외 | F18: 장애 | G18: 접속불가 | H18: 수기발급 후 입력 예정
A19: =ROW()-3 -> 16 | B19: 옹진군 | C19: 면사무소 | D19: 수산정보 통합시스템 | E19: 대외 | F19: 장애 | G19: 접속불가 | H19: 수산직불제 신청완료 | I19: 9
A20: =ROW()-3 -> 17 | B20: 중구 | C20: 기획예산실 | D20: 규제개혁신문고 | E20: 대외 | F20: 장애 | G20: 온라인 접속 불가 | H20: 기존과 같이 온라인, 오프라인 병행 접수
A21: =ROW()-3 -> 18 | B21: 중구 | C21: 법무감사실 | D21: 청원24 | E21: 대외 | F21: 장애 | G21: 청원 접수 및 처리 불가 | H21: 청원법에 따라 서면 접수 및 처리
A22: =ROW()-3 -> 19 | B22: 중구 | C22: 홍보체육실 | D22: 공공데이터 포털 | E22: 대외 | F22: 장애 | G22: 사이트 접속 불가 | H22: 인천데이터포털( data.incheon.go.kr) 등 대체 개별포털 안내 및 공공데이터 요청 시 수기 제공
A23: =ROW()-3 -> 20 | B23: 중구 | C23: 총무과 | D23: 1365자원봉사포털 | E23: 대외 | F23: 장애 | G23: 실적 확인 및 확인서 발급 등 불가 | H23: 홈페이지 장애안내 공지
A24: =ROW()-3 -> 21 | B24: 중구 | C24: 재무과 | D24: 나라장터 | E24: 대외 | F24: 장애 | G24: 입찰, 개발 출가 신규, 변경계약 체결 불가 | H24: 개찰 불가 건은 홈페이지에 "입찰 취소 목록" 게재(용역 1건) 입찰을 제외한 수의계약의 경우에만(추정가격 5천 이하) 서면계약으로 진행, 시스템 복구 후 나라장터에서 전자계약
A25: =ROW()-3 -> 22 | B25: 중구 | C25: 재무과 | D25: 나라장터종합쇼핑몰 | E25: 대외 | F25: 장애 | G25: 입찰, 개발 출가 신규, 변경계약 체결 불가 | H25: 개찰 불가 건은 홈페이지에 "입찰 취소 목록" 게재(용역 1건) 입찰을 제외한 수의계약의 경우에만(추정가격 5천 이하) 서면계약으로 진행, 시스템 복구 후 나라장터에서 전자계약
A26: =ROW()-3 -> 23 | B26: 중구 | C26: 세무1과/세무2과 | D26: 위택스 | E26: 대외 | F26: 장애 | G26: 모바일전자정부공통기반(앱 무결성 검사) 장애로 인한 스마트위택스(어플) 사용 불가능 | H26: 위택스 홈페이지(PC) 접속
A27: =ROW()-3 -> 24 | B27: 중구 | C27: 민원지적과 | D27: 주민등록 통합행정시스템 | E27: 대외 | F27: 장애 | G27: IC 주민등록증 (재)발급, 국가보훈대상자 수수료 면제 조회, 구 주민등록표(구원장) 조회 | H27: 실물 신분증 확인, 주민등록 담당자 업무처리 지침(행정안전부) 공유
A28: =ROW()-3 -> 25 | B28: 중구 | C28: 민원지적과 | D28: 민원처리운영창구(정부24관련) | E28: 대외 | F28: 장애 | G28: 토지이용계획확인원 열람 및 발급, 요양보호사 자격증 발급 등 일부 기능 불가 | H28: 국가보훈대상자는 실물 보훈증으로 확인하여 수수료 면제, IC 주민등록증 발급 및 구원장 조회 관련 업무는 시스템 완전 복구 후 신청 가능으로 안내 IC 주민등록증 신규발급을 원하나 발급 기한이 경과되는 경우 시스템 복구 후 과태료 없이 처리
A29: =ROW()-3 -> 26 | B29: 중구 | C29: 민원지적과 | D29: 국민신문고 | E29: 대외 | F29: 장애 | G29: 홈페이지 접속불가 | H29: 신규 민원은 방문, 서신, FAX 접수 처리 기 접수된 건은 시스템 정상운영 후 처리
A30: =ROW()-3 -> 27 | B30: 중구 | C30: 민원지적과/도시행정과 | D30: PICAS(여권정보통합관리시스템) | E30: 대외 | F30: 장애 | G30: 우체국 등기 개별 자택 발송 불가 | H30: 방문 수령 안내
A31: =ROW()-3 -> 28 | B31: 중구 | C31: 민원지적과 | D31: 정보공개포털 | E31: 대외 | F31: 장애 | G31: 홈페이지 접속불가 | H31: 정보공개 신규 청구는 수기 접수처리, 접수된 청구 건은 시스템 정상운영 후 처리(단, 수기 처리 가능한 건은 신속 처리)
... A63: =ROW()-3 -> 60 | B63: 중구 | C63: 시설관리공단 | D63: (자체) 영종국민체육센터 홈페이지 / 예약시스템 | E63: 대외 | F63: 장애 | G63: 공공감면시스템 (할인자격확인용)장애로 자동적용불가 | H63: 홈페이지 팝업을 통한 담당자 연락처 공지 / 수기 처리 적용
A64: =ROW()-3 -> 61 | B64: 중구 | C64: 시설관리공단 | D64: (외부/정부) 국민신문고 | E64: 대외 | F64: 장애 | G64: 접속불가 상태 | H64: 별도 시스템 정상화 이후 정부 후속조치에 따라 진행 | I64: 45
A65: =ROW()-3 -> 62 | B65: 동구 | C65: 기획감사실 | D65: 지방보조금시스템(보탬e) | E65: 대외 | F65: 장애 | G65: 챗봇을통한업무상담서비스불가 | H65: 전화상담
A66: =ROW()-3 -> 63 | B66: 동구 | C66: 기획감사실 | D66: 보조금시스템(e나라도움) | E66: 대외 | F66: 장애 | G66: ①정부전자문서유통 시스템(온나라) 연계 수신처가 중앙부처인 문서 처리 불가 ②나라장터G2B연계기능불가 | H66: ①e나라도움 내부기안 ②대금지급은일반집행으로,신규계약등록은사후등록
A67: =ROW()-3 -> 64 | B67: 동구 | C67: 기획감사실 | D67: 지자체 합동평가시스템(VPS) | E67: 대외 | F67: 장애 | G67: 시스템 전체 접속 불가 | H67: 시스템 복구시까지 평가지표 관리카드 별도 관리
A68: =ROW()-3 -> 65 | B68: 동구 | C68: 총무과 | D68: 1365자원봉사포털 | E68: 대외 | F68: 장애 | G68: 시스템 전체 접속 불가 | H68: 수기 서비스 제공
A69: =ROW()-3 -> 66 | B69: 동구 | C69: 홍보체육과 | D69: 공공데이터포털 | E69: 대외 | F69: 장애 | G69: 접속불가 | H69: 대체사이트 이용(서울 열린데이터 광장 : data.seoul.go.kr)
A70: =ROW()-3 -> 67 | B70: 동구 | C70: 홍보체육과 | D70: 정기간행물 등록관리 시스템 | E70: 대외 | F70: 장애 | G70: 홈페이지 접속 불가 | H70: 미정(문화체육관광부 미디어정책과 대체 방안 공문 예정)
A71: =ROW()-3 -> 68 | B71: 동구 | C71: 재무과 | D71: 나라장터 | E71: 대외 | F71: 장애 | G71: 접속불가 → 일부기능 사용가능 | H71: 10.13. 정상개통 예정
A72: =ROW()-3 -> 69 | B72: 동구 | C72: 재무과 | D72: 지방재정관리시스템(이호조+) | E72: 대외 | F72: 장애 | G72: 법인카드 사용내역 조회 불안정 | H72: 수기 서비스 제공
...

Sheet 중구
B1: 국가정보자원관리원 행정정보시스템 화재 관련 서비스 장애 현황 내역 (중구) | I1: 전체 | J1: 장애 | K1: 정상
A2: 연번 | B2: 부서명 | C2: 서비스명 | D2: 대내외 | E2: 장애 | F2: 장애내용 | G2: 조치계획(대체방법) | H2: 계 | I2: =COUNTA(C3:C1048576) -> 201 | J2: =COUNTIF($E:$E,"*장애*")-1 -> 39 | K2: =COUNTIF($E:$E,"*정상*") -> 162
A3: 1 | B3: 기획예산실 | C3: 차세대 지방재정관리 | D3: 대내 | E3: 정상 | F3: 해당없음 | G3: 해당없음 | H3: 대외 | I3: =COUNTIF($D:$D,"*대외*") -> 121 | J3: =COUNTIFS($D:$D,"*대외*",$E:$E,"*장애*") -> 24 | K3: =COUNTIFS($D:$D,"*대외*",$E:$E,"*정상*") -> 97
A4: 2 | B4: 기획예산실 | C4: 성과관리시스템 | D4: 대내 | E4: 정상 | F4: 해당없음 | G4: 해당없음 | H4: 대내 | I4: =COUNTIF($D:$D,"*대내*")-1 -> 80 | J4: =COUNTIFS($D:$D,"*대내*",$E:$E,"*장애*")-1 -> 15 | K4: =COUNTIFS($D:$D,"*대내*",$E:$E,"*정상*") -> 65
A5: 3 | B5: 기획예산실 | C5: 중소기업 옴부즈만 | D5: 대외 | E5: 정상 | F5: 해당없음 | G5: 해당없음
A6: 4 | B6: 시설관리공단 | C6: 지방공기업회계시스템 lobas | D6: 대외 | E6: 장애 | F6: 카드결제 관련 증빙자료 업로드 기능 불가 | G6: 별도 증빙자료 보관후 장애 해소 후 업로드 관리 예정
A7: 5 | B7: 기획예산실 | C7: 공공서비스통합관리시스템 | D7: 대외 | E7: 정상 | F7: 해당없음 | G7: 해당없음
A8: 6 | B8: 시설관리공단 | C8: 국민신문고 | D8: 대외 | E8: 장애 | F8: 접속불가 상태 | G8: 별도 시스템 정상화 이후 정부 후속조치에 따라 진행
A9: 7 | B9: 시설관리공단 | C9: 공단 홈페이지 / 예약시스템 (영종 국제 테니스장 등) | D9: 대외 | E9: 장애 | F9: 공공감면시스템 (할인자격확인용)장애로 자동적용불가 | G9: 홈페이지 팝업을 통한 담당자 연락처 공지 / 수기 처리 적용
A10: 8 | B10: 시설관리공단 | C10: 공영주차장 무인정산 시스템 | D10: 대내 | E10: 장애 | F10: 공공감면시스템 (할인자격확인용)장애로 자동적용불가 | G10: 현장 비상연락장치로 통합관제센터 수기 확인 및 할인 적용
A11: 9 | B11: 시설관리공단 | C11: 영종국민체육센터 홈페이지 / 예약시스템 | D11: 대외 | E11: 장애 | F11: 공공감면시스템 (할인자격확인용)장애로 자동적용불가 | G11: 홈페이지 팝업을 통한 담당자 연락처 공지 / 수기 처리 적용
A12: 10 | B12: 시설관리공단 | C12: 중구국민체육센터 홈페이지 / 예약시스템 | D12: 대외 | E12: 장애 | F12: 공공감면시스템 (할인자격확인용)장애로 자동적용불가 | G12: 홈페이지 팝업을 통한 담당자 연락처 공지 / 수기 처리 적용
A13: 11 | B13: 홍보체육실 | C13: 중구 홈페이지 | D13: 대외 | E13: 정상 | F13: 해당없음 | G13: 해당없음
A14: 12 | B14: 홍보체육실 | C14: 통합보안관제시시스템 | D14: 대내 | E14: 정상 | F14: 해당없음 | G14: 해당없음
A15: 13 | B15: 홍보체육실 | C15: 지킴e | D15: 대내 | E15: 정상 | F15: 해당없음 | G15: 해당없음
A16: 14 | B16: 총무과 | C16: 1365자원봉사포털 | D16: 대외 | E16: 장애 | F16: 실적 확인 및 확인서 발급 등 불가 | G16: 홈페이지 장애안내 공지
... A203: 201 | B203: 건강증진과 | C203: 행정정보공동이용 | D203: 대외 | E203: 정상 | F203: 해당없음 | G203: 해당없음
