Workbook
Name _: #REF!
Name _: #REF!
Name _: #REF!
Name _: #REF!
Name _: #REF!
Name _: #REF!
Name _: #REF!
Name _: #REF!
Name _1.구체: #REF!
Name _1.구체: #REF!
Name _1.구체: #REF!
Name _1.구체: #REF!
Name _1.구체: #REF!
Name _1.구체: #REF!
Name _1.구체: #REF!
Name _1_3_0Crite: #REF!
Name _10_3_0Criteria: #REF!
Name _100E5_: BlankMacro1
Name _100E5_: BlankMacro1
Name _101E6_: BlankMacro1
Name _103E6_: BlankMacro1
Name _104E6_: BlankMacro1
Name _105E6_: BlankMacro1
Name _106E6_: BlankMacro1
Name _107E6_: BlankMacro1
Name _108E6_: BlankMacro1
Name _108E6_: BlankMacro1
Name _109E7_: BlankMacro1
Name _11_3_0Criteria: #REF!
Name _111E7_: BlankMacro1
Name _112E7_: BlankMacro1
Name _113E7_: BlankMacro1
Name _114E7_: BlankMacro1
Name _115E7_: BlankMacro1
Name _116E7_: BlankMacro1
Name _116E7_: BlankMacro1
Name _117E8_: BlankMacro1
Name _119E8_: BlankMacro1
Name _12_3_0Criteria: #REF!
Name _120E8_: BlankMacro1
Name _121E8_: BlankMacro1
Name _122E8_: BlankMacro1
Name _123E8_: BlankMacro1
Name _124E8_: BlankMacro1
Name _124E8_: BlankMacro1
Name _125E9_: BlankMacro1
Name _127E9_: BlankMacro1
Name _128E9_: BlankMacro1
Name _129E9_: BlankMacro1
Name _13_3_0Criteria: #REF!
Name _130E9_: BlankMacro1
Name _131E9_: BlankMacro1
Name _132E9_: BlankMacro1
Name _132E9_: BlankMacro1
Name _133EW1_: BlankMacro1
Name _135EW1_: BlankMacro1
Name _136EW1_: BlankMacro1
Name _137EW1_: BlankMacro1
Name _138EW1_: BlankMacro1
Name _139EW1_: BlankMacro1

Sheet 표지
A2: 관리번호
A9: 어장관리선 건조 설계서
A23: 2026. 10.

Sheet 표지 (2)
A6: 건 조 사 양 서
A20: 2026. 10.

Sheet 속표지
A1: 2026년 10월 일 설계 | E1: 설계자 | G1: 심사자 | I1: 담 당 | K1: 과 장
A9: 내 역 서
B14: ☞사업명 : 어장관리선 건조
B16: ☞사업개요 : 어장관리선 2.60T 급 x 1척
B19: ☞도급금액 : | C19: =E19 -> 59500000 | E19: =59500000 -> 59500000

Sheet 목차
A6: 목 차
C10: 1. 설 계 설 명 서
C12: 2. 건 조 사 양 서
C14: 3. 공 사 예 정 공 정 표
C16: 4. 동 원 인 원 계 획 표
C18: 5. 설 계 내 역 서
C20: 6. 수 량 산 출 서
C22: 7. 단 가 산 출 서
C24: 8. 어 선 총 톤 수 계 산 서
C26: 9. 설 계 도 서

Sheet 간지
A8: 1. 설 계 설 명 서
A49: 2. 건 조 사 양 서
A90: 3. 공 사 예 정 공 정 표
A131: 4. 동 원 인 원 계 획 표
A172: 5. 설 계 내 역 서
A213: 6. 수 량 산 출 서
A254: 7. 단 가 산 출 서
A295: 8. 어 선 총 톤 수 계 산 서
A336: 9. 설 계 도 면

Sheet 1.설계설명서
A1: 1. 설 계 설 명 서
A3: 공 사 명 : | B3: 마을 공동 어장관리선 건조사업
A5: 공 사 목 적 : | B5: 마을 공동 어장관리를 위한 관리선 건조
A7: 공 사 개 요 : | B7: 어장관리선 건조 : 길이(L):8.05M 너비(B):2.40M 깊이(D):0.88M
A9: 공 사 기 간 : | B9: 본 공사의 공사기간은 착공일로부터 60일간으로 한다.
A11: 설계변경조건 : | B11: 1) 설계서의 내용이 불분명하거나 누락, 오류 또는 상호 모순되는 점이 있을 경우
B13: 2) 건조 선박의 주요 촌법 또는 주기관 등 주요 장비의 변경이 있는 경우
B15: 3) 공사계약 일반조건 및 공사계약 특수조건의 내용에 의거 변경사유 발생시 변경
B17: 4) 천재지변등으로 인하여 설계 변경이 불가피한 경우
B19: 5) 발주처의 계획 변경으로 인하여 설계 변경이 불가피한 경우
B21: 6) 기타 정당한 설계변경 사유가 발생한 경우

Sheet 4.동원인원계획표
A1: 4. 동 원 인 원 계 획 표
A3: 공 사 구 분 | B3: 세부기간공정 | C3: 5 | D3: 10 | E3: 15 | F3: 20 | G3: 25 | H3: 30 | I3: 35 | J3: 40 | K3: 45 | L3: 50 | M3: 55 | N3: 60 | O3: 총공수 | P3: 비고
A4: 선 각 공 사 | B4: =설계내역서!B25 -> 보통인부 | C4: 1 | D4: 1 | E4: 1 | F4: 1 | G4: 1 | H4: 1 | O4: =SUM(C4:N4) -> 6
B5: =설계내역서!B26 -> 연마공 | F5: 1 | H5: 1 | O5: =SUM(C5:N5) -> 2
B6: =설계내역서!B27 -> 연마공 | F6: 1 | H6: 1 | O6: =SUM(C6:N6) -> 2
B7: =설계내역서!B28 -> 도장공 | F7: 1 | H7: 1 | O7: =SUM(C7:N7) -> 2
B8: =설계내역서!B29 -> 용접공 | D8: 1 | F8: 1 | O8: =SUM(C8:N8) -> 2
A11: 의 장 공 사 | B11: =설계내역서!B72 -> 형틀목공 | H11: 1 | I11: 1 | O11: =SUM(C11:N11) -> 2
B12: =설계내역서!B73 -> 보통인부 | H12: 1 | I12: 1 | O12: =SUM(C12:N12) -> 2
B13: =설계내역서!B74 -> 용접공 | K13: 1 | M13: 1 | O13: =SUM(C13:N13) -> 2
B14: =설계내역서!B75 -> 기계설비공 | K14: 1 | M14: 1 | O14: =SUM(C14:N14) -> 2
B15: =설계내역서!B76 -> 도장공 | K15: 1 | M15: 1 | O15: =SUM(C15:N15) -> 2
A17: 기 관 공 사 | B17: =설계내역서!B105 -> 기계설비공 | N17: 1 | O17: =SUM(C17:N17) -> 1
B18: =설계내역서!B106 -> 보통인부 | N18: 1 | O18: =SUM(C18:N18) -> 1
B19: =설계내역서!B107 -> 용접공 | N19: 1 | O19: =SUM(C19:N19) -> 1
B20: =설계내역서!B108 -> 연마공 | N20: 1 | O20: =SUM(C20:N20) -> 1
B21: =설계내역서!B109 -> 배관공 | N21: 1 | O21: =SUM(C21:N21) -> 1
A23: 전 기 공 사 | B23: =설계내역서!B133 -> 전기공사기사 | N23: 1 | O23: =SUM(C23:N23) -> 1
B24: =설계내역서!B134 -> 보통인부 | N24: 1 | O24: =SUM(C24:N24) -> 1

Sheet 원가계산서
A1: 제조원가 계산서(공급별)
A4: 비 목 | D4: 금 액 | E4: 구 성 비 | F4: 비 고
A6: 제 조 원 가 | B6: 재 | C6: 직접재료비 | D6: =+공종별원가계산서!H5 -> 0
B7: 료 | C7: 간접재료비
B8: 비 | C8: 소 계 | D8: =SUM(D6:D7) -> 0
B9: 노 | C9: 직접노무비 | D9: =+공종별원가계산서!H8 -> 0
B10: 무 | C10: 간접노무비 | D10: =+공종별원가계산서!H9 -> 0 | E10: =공종별원가계산서!I9 -> 직노*15%
B11: 비 | C11: 소 계 | D11: =SUM(D9:D10) -> 0
C12: =공종별원가계산서!C11 -> 전 력 비 | D12: =공종별원가계산서!H11 -> 0
C13: =공종별원가계산서!C12 -> 수 도 광 열 비 | D13: =공종별원가계산서!H12 -> 0 | F13: =공종별원가계산서!I12 -> 기타경비 포함
C14: =공종별원가계산서!C13 -> 운 반 비 | D14: =공종별원가계산서!H13 -> 0
C15: =공종별원가계산서!C14 -> 감 가 상 각 비 | D15: =공종별원가계산서!H14 -> 0
C16: =공종별원가계산서!C15 -> 수 리 수 선 비 | D16: =공종별원가계산서!H15 -> 0
C17: =공종별원가계산서!C16 -> 특 허 권 사 용 료 | D17: =공종별원가계산서!H16 -> 0
B18: 경 | C18: =공종별원가계산서!C17 -> 기 술 료 | D18: =공종별원가계산서!H17 -> 0
C19: =공종별원가계산서!C18 -> 연 구 개 발 비 | D19: =공종별원가계산서!H18 -> 0
C20: =공종별원가계산서!C19 -> 시 험 검 사 비 | D20: =공종별원가계산서!H19 -> 0
C21: =공종별원가계산서!C20 -> 지 급 임 차 료 | D21: =공종별원가계산서!H20 -> 0
C22: =공종별원가계산서!C21 -> 보 험 료 | D22: =공종별원가계산서!H21 -> 0
C23: =공종별원가계산서!C22 -> 복 리 후 생 비 | D23: =공종별원가계산서!H22 -> 0 | F23: =공종별원가계산서!I22 -> 기타경비 포함
C24: =공종별원가계산서!C23 -> 보 관 비 | D24: =공종별원가계산서!H23 -> 0 | F24: =공종별원가계산서!I23 -> 기타경비 포함
B25: 비 | C25: =공종별원가계산서!C24 -> 외 주 가 공 비 | D25: =공종별원가계산서!H24 -> 0 | F25: =공종별원가계산서!I24 -> 기타경비 포함
C26: =공종별원가계산서!C25 -> 산업안전보건관리비 | D26: =공종별원가계산서!H25 -> 0 | F26: =공종별원가계산서!I25 -> (재료비+직노)*3.11%
C27: =공종별원가계산서!C26 -> 소 모 품 비 | D27: =공종별원가계산서!H26 -> 0 | F27: =공종별원가계산서!I26 -> 기타경비 포함
C28: =공종별원가계산서!C27 -> 여비, 교통비, 통신비 | D28: =공종별원가계산서!H27 -> 0 | F28: =공종별원가계산서!I27 -> 기타경비 포함
C29: =공종별원가계산서!C28 -> 세 금 과 공 과 | D29: =공종별원가계산서!H28 -> 0 | F29: =공종별원가계산서!I28 -> 기타경비 포함
C30: =공종별원가계산서!C29 -> 폐 기 물 처 리 비 | D30: =공종별원가계산서!H29 -> 0 | F30: =공종별원가계산서!I29 -> 기타경비 포함
C31: =공종별원가계산서!C30 -> 도 서 인 쇄 비 | D31: =공종별원가계산서!H30 -> 0 | F31: =공종별원가계산서!I30 -> 기타경비 포함
C32: =공종별원가계산서!C31 -> 지 급 수 수 료 | D32: =공종별원가계산서!H31 -> 0 | F32: =공종별원가계산서!I31 -> 기타경비 포함
C33: =공종별원가계산서!C32 -> 기 타 법 정 경 비 | D33: =공종별원가계산서!H32 -> 0 | F33: =공종별원가계산서!I32 -> 기타경비 포함
C34: =공종별원가계산서!C33 -> 소 계 | D34: =공종별원가계산서!H33 -> 0
A35: 제 조 원 가 계 | D35: =공종별원가계산서!H34 -> 0
A36: =공종별원가계산서!A35 -> 기 타 경 비 | D36: =공종별원가계산서!H35 -> 0 | F36: =공종별원가계산서!I35 -> (재료비+직노+간노)*4.6%
A37: 일 반 관 리 비 (8%) | D37: =공종별원가계산서!H36 -> 0 | E37: =공종별원가계산서!I36 -> 제조원가계*8%
A38: 이 윤 (15%) | D38: =공종별원가계산서!H37 -> 0 | E38: =공종별원가계산서!I37 -> ((제조원가계+일반관)-재료비)*15%
A39: 계 | D39: =SUM(D35:D38) -> 0
A40: =공종별원가계산서!A39 -> 검 사 비 | D40: =공종별원가계산서!H39 -> 0
A43: 부 가 가 치 세 | D43: 0 | E43: 영세율
A44: 총 선 가 | D44: =공종별원가계산서!H43 -> 0 | F44: =공종별원가계산서!I43 -> 천단위절사
B91: 인도교
...

Sheet 공종별원가계산서
A1: 제조 원가 계산서 (공사별)
A3: 비 목 | C3: 구 분 | D3: ='설계명세서(집계)'!B4 -> 선각공사 | E3: ='설계명세서(집계)'!B5 -> 의장공사 | F3: ='설계명세서(집계)'!B6 -> 기관공사 | G3: ='설계명세서(집계)'!B7 -> 전기공사 | H3: 계 | I3: 비 고
A5: 제 조 원 가 | B5: 재 | C5: 직접재료비 | H5: =SUM(D5:G5) -> 0
B6: 료 | C6: 간접재료비
B7: 비 | C7: 소 계 | D7: =D5 -> 0 | E7: =E5 -> 0 | F7: =F5 -> 0 | G7: =G5 -> 0 | H7: =SUM(D7:G7) -> 0
B8: 노 | C8: 직접노무비 | H8: =SUM(D8:G8) -> 0
B9: 무 | C9: 간접노무비 | H9: =SUM(D9:G9) -> 0 | I9: 직노*15%
B10: 비 | C10: 소 계 | D10: =SUM(D8:D9) -> 0 | E10: =SUM(E8:E9) -> 0 | F10: =SUM(F8:F9) -> 0 | G10: =SUM(G8:G9) -> 0 | H10: =SUM(D10:G10) -> 0
C11: 전 력 비 | H11: 0
C12: 수 도 광 열 비 | H12: 0 | I12: 기타경비 포함
C13: 운 반 비 | H13: 0
C14: 감 가 상 각 비 | H14: 0
C15: 수 리 수 선 비 | H15: 0
C16: 특 허 권 사 용 료 | H16: 0
B17: 경 | C17: 기 술 료 | H17: 0
C18: 연 구 개 발 비 | H18: 0
C19: 시 험 검 사 비 | H19: 0
C20: 지 급 임 차 료 | H20: 0
C21: 보 험 료 | H21: 0
C22: 복 리 후 생 비 | H22: 0 | I22: 기타경비 포함
C23: 보 관 비 | H23: 0 | I23: 기타경비 포함
C24: 외 주 가 공 비 | H24: 0 | I24: 기타경비 포함
B25: 비 | C25: 산업안전보건관리비 | D25: =(D5+D8)*3.11% -> 0 | E25: =(E5+E8)*3.11% -> 0 | F25: =(F5+F8)*3.11% -> 0 | G25: =(G5+G8)*3.11% -> 0 | H25: =SUM(D25:G25) -> 0 | I25: (재료비+직노)*3.11%
C26: 소 모 품 비 | H26: 0 | I26: 기타경비 포함
C27: 여비, 교통비, 통신비 | H27: 0 | I27: 기타경비 포함
C28: 세 금 과 공 과 | H28: 0 | I28: 기타경비 포함
C29: 폐 기 물 처 리 비 | H29: 0 | I29: 기타경비 포함
C30: 도 서 인 쇄 비 | H30: 0 | I30: 기타경비 포함
C31: 지 급 수 수 료 | H31: 0 | I31: 기타경비 포함
C32: 기 타 법 정 경 비 | H32: 0 | I32: 기타경비 포함
C33: 소 계 | H33: =SUM(H11:H32) -> 0
A34: 제 조 원 가 계 | H34: =+H33+H10+H7 -> 0
A35: 기 타 경 비 | H35: =(H7+H10)*4.6% -> 0 | I35: (재료비+직노+간노)*4.6%
A36: 일반 관리비 (8%) | H36: =INT(+H34*8%) -> 0 | I36: 제조원가계*8%
A37: 이 윤 (15%) | H37: =INT(((H34+H36)-H7)*15%) -> 0 | I37: ((제조원가계+일반관)-재료비)*15%
A38: 계 | H38: =+H37+H36+H34+H35 -> 0 | I38: (제조원가계+일반관+이윤)
A39: 검 사 비
A42: 부 가 가 치 세 | H42: 0 | I42: 영세율
A43: 총 선 가 | H43: =ROUNDDOWN(H42+H39+H38+H40+H41,-3) -> 0 | I43: 천단위절사
B92: 인도교
...

Sheet 설계명세서(집계)
A1: 설 계 명 세 서 (집 계)
A2: 공 종 | B2: 품 명 | C2: 규 격 | D2: 수 량 | E2: 단 위 | F2: 총 액 | H2: 재 료 비 | J2: 노 무 비 | L2: 경 비 | N2: 비 고
F3: 단 가 | G3: 금 액 | H3: 단 가 | I3: 금 액 | J3: 단 가 | K3: 금 액 | L3: 단 가 | M3: 금 액
A4: 1 | B4: 선각공사 | D4: 1 | E4: 식 | F4: =H4+J4+L4 -> 0 | G4: =I4+K4+M4 -> 0 | H4: =설계내역서!G47 -> 0 | I4: =D4*H4 -> 0 | J4: =설계내역서!I47 -> 0 | K4: =D4*J4 -> 0 | L4: 0 | M4: =D4*L4 -> 0
A5: 2 | B5: 의장공사 | D5: 1 | E5: 식 | F5: =H5+J5+L5 -> 0 | G5: =I5+K5+M5 -> 0 | H5: =설계내역서!G94 -> 0 | I5: =D5*H5 -> 0 | J5: =설계내역서!I94 -> 0 | K5: =D5*J5 -> 0 | L5: 0 | M5: =D5*L5 -> 0
A6: 3 | B6: 기관공사 | D6: 1 | E6: 식 | F6: =H6+J6+L6 -> 0 | G6: =I6+K6+M6 -> 0 | H6: =설계내역서!G117 -> 0 | I6: =D6*H6 -> 0 | J6: =설계내역서!I117 -> 0 | K6: =D6*J6 -> 0 | L6: 0 | M6: =D6*L6 -> 0
A7: 4 | B7: 전기공사 | D7: 1 | E7: 식 | F7: =H7+J7+L7 -> 0 | G7: =I7+K7+M7 -> 0 | H7: =설계내역서!G138 -> 0 | I7: =D7*H7 -> 0 | J7: =설계내역서!I138 -> 0 | K7: =D7*J7 -> 0 | L7: 0 | M7: =D7*L7 -> 0
B17: 총 계 | G17: =SUM(G4:G16) -> 0 | I17: =SUM(I4:I16) -> 0 | K17: =SUM(K4:K16) -> 0

Sheet 설계내역서
A1: 순위 | B1: 품 명 | C1: 규 격 및 재 질 | D1: 단위 | E1: 수량 | F1: 재 료 비 | H1: 노 무 비 | J1: 경 비 | L1: 합 계 | N1: 비고
F2: 단 가 | G2: 금 액 | H2: 단 가 | I2: 금 액 | J2: 단 가 | K2: 금 액 | L2: 단 가 | M2: 금 액
A3: 1 | B3: 선각공사
A4: 1) | B4: 재료비
B5: ='6.수량산출서'!A5 -> FIBER GLASS | C5: ='6.수량산출서'!B5 -> MAT 450 G/M | D5: ='6.수량산출서'!C5 -> kg | E5: ='6.수량산출서'!E5 -> 214 | G5: =E5*F5 -> 0 | I5: =E5*H5 -> 0 | K5: =E5*J5 -> 0 | M5: =G5+I5+K5 -> 0
B6: ='6.수량산출서'!A7 -> FIBER GLASS | C6: ='6.수량산출서'!B7 -> ROVING 570 G/M | D6: ='6.수량산출서'!C7 -> kg | E6: ='6.수량산출서'!E7 -> 147 | G6: =E6*F6 -> 0 | I6: =E6*H6 -> 0 | K6: =E6*J6 -> 0 | M6: =G6+I6+K6 -> 0
B7: ='6.수량산출서'!A9 -> POLYESTER RESIN | C7: ='6.수량산출서'!B9 -> 조 선 용 | D7: ='6.수량산출서'!C9 -> kg | E7: ='6.수량산출서'!E9 -> 362 | G7: =E7*F7 -> 0 | I7: =E7*H7 -> 0 | K7: =E7*J7 -> 0 | M7: =G7+I7+K7 -> 0
B8: ='6.수량산출서'!A11 -> GEL-COAT | D8: ='6.수량산출서'!C11 -> kg | E8: ='6.수량산출서'!E11 -> 25.16 | G8: =E8*F8 -> 0 | I8: =E8*H8 -> 0 | K8: =E8*J8 -> 0 | M8: =G8+I8+K8 -> 0
B9: ='6.수량산출서'!A13 -> POLY URETHAN FOAM | C9: ='6.수량산출서'!B13 -> 비중 0.035 | D9: ='6.수량산출서'!C13 -> ㎥ | E9: ='6.수량산출서'!E13 -> 1 | G9: =E9*F9 -> 0 | I9: =E9*H9 -> 0 | K9: =E9*J9 -> 0 | M9: =G9+I9+K9 -> 0
B10: ='6.수량산출서'!A14 -> WAX | D10: ='6.수량산출서'!C14 -> 18L | E10: ='6.수량산출서'!E14 -> 1.91475 | G10: =E10*F10 -> 0 | I10: =E10*H10 -> 0 | K10: =E10*J10 -> 0 | M10: =G10+I10+K10 -> 0
B11: ='6.수량산출서'!A15 -> 수지경화제 | D11: ='6.수량산출서'!C15 -> kg | E11: ='6.수량산출서'!E15 -> 13.7862 | G11: =E11*F11 -> 0 | I11: =E11*H11 -> 0 | K11: =E11*J11 -> 0 | M11: =G11+I11+K11 -> 0
B12: ='6.수량산출서'!A16 -> ACETON | D12: ='6.수량산출서'!C16 -> 20L | E12: ='6.수량산출서'!E16 -> 10.125892 | G12: =E12*F12 -> 0 | I12: =E12*H12 -> 0 | K12: =E12*J12 -> 0 | M12: =G12+I12+K12 -> 0
B13: ='6.수량산출서'!A17 -> PUTTY | D13: ='6.수량산출서'!C17 -> 8kg | E13: ='6.수량산출서'!E17 -> 1.0893375 | G13: =E13*F13 -> 0 | I13: =E13*H13 -> 0 | K13: =E13*J13 -> 0 | M13: =G13+I13+K13 -> 0
B14: ='6.수량산출서'!A18 -> 연마지 | C14: ='6.수량산출서'!B18 -> 각 종 | D14: ='6.수량산출서'!C18 -> 매 | E14: ='6.수량산출서'!E18 -> 33 | G14: =E14*F14 -> 0 | I14: =E14*H14 -> 0 | K14: =E14*J14 -> 0 | M14: =G14+I14+K14 -> 0
B15: ='6.수량산출서'!A19 -> 쎈딩디스크 | C15: ='6.수량산출서'!B19 -> 100A | D15: ='6.수량산출서'!C19 -> 개 | E15: ='6.수량산출서'!E19 -> 18 | G15: =E15*F15 -> 0 | I15: =E15*H15 -> 0 | K15: =E15*J15 -> 0 | M15: =G15+I15+K15 -> 0
B16: ='6.수량산출서'!A20 -> ROLLER BRUSH | C16: ='6.수량산출서'!B20 -> 각 종 | D16: ='6.수량산출서'!C20 -> 개 | E16: ='6.수량산출서'!E20 -> 18 | G16: =E16*F16 -> 0 | I16: =E16*H16 -> 0 | K16: =E16*J16 -> 0 | M16: =G16+I16+K16 -> 0
B17: ='6.수량산출서'!A21 -> SCREW NAIL | C17: ='6.수량산출서'!B21 -> 100개 1갑 | D17: ='6.수량산출서'!C21 -> 갑 | E17: ='6.수량산출서'!E21 -> 1 | G17: =E17*F17 -> 0 | I17: =E17*H17 -> 0 | K17: =E17*J17 -> 0 | M17: =G17+I17+K17 -> 0
B18: ='6.수량산출서'!A22 -> P.V.A PIPE | D18: ='6.수량산출서'!C22 -> 본 | E18: ='6.수량산출서'!E22 -> 2 | G18: =E18*F18 -> 0 | I18: =E18*H18 -> 0 | K18: =E18*J18 -> 0 | M18: =G18+I18+K18 -> 0
B19: ='6.수량산출서'!A23 -> BOLT & NUT, WASHER | C19: ='6.수량산출서'!B23 -> 각 종 | D19: ='6.수량산출서'!C23 -> kg | E19: ='6.수량산출서'!E23 -> 2 | G19: =E19*F19 -> 0 | I19: =E19*H19 -> 0 | K19: =E19*J19 -> 0 | M19: =G19+I19+K19 -> 0
B20: ='6.수량산출서'!A24 -> 못 | C20: ='6.수량산출서'!B24 -> 각 종 | D20: ='6.수량산출서'!C24 -> 23kg | E20: ='6.수량산출서'!E24 -> 2 | G20: =E20*F20 -> 0 | I20: =E20*H20 -> 0 | K20: =E20*J20 -> 0 | M20: =G20+I20+K20 -> 0
B21: ='6.수량산출서'!A25 -> 용접봉 | C21: ='6.수량산출서'!B25 -> 각 종 | D21: ='6.수량산출서'!C25 -> kg | E21: ='6.수량산출서'!E25 -> 3 | G21: =E21*F21 -> 0 | I21: =E21*H21 -> 0 | K21: =E21*J21 -> 0 | M21: =G21+I21+K21 -> 0
B22: ='6.수량산출서'!A26 -> THINNER | D22: ='6.수량산출서'!C26 -> 18ℓ | E22: ='6.수량산출서'!E26 -> 2.4 | G22: =E22*F22 -> 0 | I22: =E22*H22 -> 0 | K22: =E22*J22 -> 0 | M22: =G22+I22+K22 -> 0
A24: 2) | B24: 노무비
B25: ='6.수량산출서'!A28 -> 보통인부 | D25: ='6.수량산출서'!C28 -> 공 | E25: ='6.수량산출서'!E28 -> 6 | G25: =E25*F25 -> 0 | I25: =E25*H25 -> 0 | K25: =E25*J25 -> 0 | M25: =G25+I25+K25 -> 0
B26: ='6.수량산출서'!A29 -> 연마공 | C26: ='6.수량산출서'!B29 -> 빠다도포원, 컴파운드공 | D26: ='6.수량산출서'!C29 -> 공 | E26: ='6.수량산출서'!E29 -> 2 | G26: =E26*F26 -> 0 | I26: =E26*H26 -> 0 | K26: =E26*J26 -> 0 | M26: =G26+I26+K26 -> 0
B27: ='6.수량산출서'!A30 -> 연마공 | C27: ='6.수량산출서'!B30 -> 그라인더공 | D27: ='6.수량산출서'!C30 -> 공 | E27: ='6.수량산출서'!E30 -> 2 | G27: =E27*F27 -> 0 | I27: =E27*H27 -> 0 | K27: =E27*J27 -> 0 | M27: =G27+I27+K27 -> 0
B28: ='6.수량산출서'!A31 -> 도장공 | D28: ='6.수량산출서'!C31 -> 공 | E28: ='6.수량산출서'!E31 -> 2 | G28: =E28*F28 -> 0 | I28: =E28*H28 -> 0 | K28: =E28*J28 -> 0 | M28: =G28+I28+K28 -> 0
B29: ='6.수량산출서'!A32 -> 용접공 | D29: ='6.수량산출서'!C32 -> 공 | E29: ='6.수량산출서'!E32 -> 2 | G29: =E29*F29 -> 0 | I29: =E29*H29 -> 0 | K29: =E29*J29 -> 0 | M29: =G29+I29+K29 -> 0
A47: 3) | B47: 합 계 | G47: =SUM(G5:G46) -> 0 | I47: =SUM(I5:I46) -> 0 | K47: =SUM(K5:K46) -> 0 | M47: =SUM(M5:M46) -> 0
A48: 3 | B48: 의장공사
A49: 1) | B49: 재료비
B50: ='6.수량산출서'!A55 -> BITT | C50: ='6.수량산출서'!B55 -> 120A STS PIPE | D50: ='6.수량산출서'!C55 -> EA | E50: ='6.수량산출서'!E55 -> 3 | G50: =E50*F50 -> 0 | I50: =E50*H50 -> 0 | K50: =E50*J50 -> 0 | M50: =G50+I50+K50 -> 0
B51: ='6.수량산출서'!A56 -> OPEN CHOCK | C51: ='6.수량산출서'!B56 -> STS | D51: ='6.수량산출서'!C56 -> EA | E51: ='6.수량산출서'!E56 -> 1 | G51: =E51*F51 -> 0 | I51: =E51*H51 -> 0 | K51: =E51*J51 -> 0 | M51: =G51+I51+K51 -> 0
B52: ='6.수량산출서'!A57 -> 난간대 | D52: ='6.수량산출서'!C57 -> 식 | E52: ='6.수량산출서'!E57 -> 1 | G52: =E52*F52 -> 0 | I52: =E52*H52 -> 0 | K52: =E52*J52 -> 0 | M52: =G52+I52+K52 -> 0
B54: ='6.수량산출서'!A59 -> 출입문 | C54: ='6.수량산출서'!B59 -> 1200 X 1400,샷시, (미닫이식) | D54: ='6.수량산출서'!C59 -> 개 | E54: ='6.수량산출서'!E59 -> 2 | G54: =E54*F54 -> 0 | I54: =E54*H54 -> 0 | K54: =E54*J54 -> 0 | M54: =G54+I54+K54 -> 0
B55: ='6.수량산출서'!A60 -> 해치 | C55: ='6.수량산출서'!B60 -> F.R.P(풍우밀) 약 650 X 750 | D55: ='6.수량산출서'!C60 -> 개 | E55: ='6.수량산출서'!E60 -> 2 | G55: =E55*F55 -> 0 | I55: =E55*H55 -> 0 | K55: =E55*J55 -> 0 | M55: =G55+I55+K55 -> 0
B56: ='6.수량산출서'!A61 -> 해치 | C56: ='6.수량산출서'!B61 -> F.R.P(풍우밀) 약 550 X 550 | D56: ='6.수량산출서'!C61 -> 개 | E56: ='6.수량산출서'!E61 -> 2 | G56: =E56*F56 -> 0 | I56: =E56*H56 -> 0 | K56: =E56*J56 -> 0 | M56: =G56+I56+K56 -> 0
B57: ='6.수량산출서'!A62 -> 해치 | C57: ='6.수량산출서'!B62 -> F.R.P(풍우밀) 약 380 X 680 | D57: ='6.수량산출서'!C62 -> 개 | E57: ='6.수량산출서'!E62 -> 1 | G57: =E57*F57 -> 0 | I57: =E57*H57 -> 0 | K57: =E57*J57 -> 0 | M57: =G57+I57+K57 -> 0
B58: ='6.수량산출서'!A63 -> 각창(AL함금제) | C58: ='6.수량산출서'!B63 -> 약 500 X 710(고정식), 강화유리 | D58: ='6.수량산출서'!C63 -> 개 | E58: ='6.수량산출서'!E63 -> 2 | G58: =E58*F58 -> 0 | I58: =E58*H58 -> 0 | K58: =E58*J58 -> 0 | M58: =G58+I58+K58 -> 0
B59: ='6.수량산출서'!A64 -> 선회창 | C59: ='6.수량산출서'!B64 -> 회전창 | D59: ='6.수량산출서'!C64 -> 개 | E59: ='6.수량산출서'!E64 -> 1 | G59: =E59*F59 -> 0 | I59: =E59*H59 -> 0 | K59: =E59*J59 -> 0 | M59: =G59+I59+K59 -> 0
...

Sheet 6.수량산출서
A1: 6. 수 량 산 출 서
A3: 공종 및 공종별 | B3: 규격 및 재질 | C3: 단위 | D3: 산출내용 | E3: 계 | F3: 비고
A4: 1. 선각공사
A5: FIBER GLASS | B5: MAT 450 G/M | C5: kg | D5: 22(BOX KELL)+18(BOTTOM)+12(SIDE SHELL)+60(DECK)+15(BULWARK) | E5: =22+18+12+60+15+32+12+3+40 -> 214
D6: +32(BULKHEAD)+12(HOUSE)+3(탱크)+40(각종보강)
A7: FIBER GLASS | B7: ROVING 570 G/M | C7: kg | D7: 25(BOX KELL)+16(BOTTOM)+10(SIDE SHELL)+39(DECK)+10(BULWARK) | E7: =25+16+10+39+10+17+17+3+10 -> 147
D8: +17(BULKHEAD)+17(HOUSE)+3(탱크)+10(각종보강)
A9: POLYESTER RESIN | B9: 조 선 용 | C9: kg | D9: 40(BOX KELL)+35(BOTTOM)+27(SIDE SHELL)+85(DECK)+30(BULWARK) | E9: =40+35+27+85+30+55+42+8+40 -> 362
D10: +55(BULKHEAD)+42(HOUSE)+8(탱크)+40(각종보강)
A11: GEL-COAT | C11: kg | D11: 0.55(BOX KELL)+1.25(BOTTOM)+0.93(SIDE SHELL)+5.47(DECK)+0.98(BULWARK) | E11: =0.55+1.25+0.93+5.47+0.98+2.71+2.7+0.57+10 -> 25.16
D12: +2.71(BULKHEAD)+2.70(HOUSE)+0.57(탱크)+10(각종보강) | G12: `
A13: POLY URETHAN FOAM | B13: 비중 0.035 | C13: ㎥ | D13: 0.09(FL)+0.10(B/L)+0.02(FR)+0.12(D/G)+0.07(D/B)+0.06(H/G) | E13: 1
A14: WAX | C14: 18L | D14: ((10.35*2.45*2)+(10.35*0.88*2))*0.5/18 (0.5/L) | E14: =((10.35*2.45*2)+(10.35*0.88*2))*0.5/18 -> 1.91475
A15: 수지경화제 | C15: kg | D15: ((10.35*2.45*2)+(10.35*0.88*2))*0.2 (0.2kg/1㎡) | E15: =((10.35*2.45*2)+(10.35*0.88*2))*0.2 -> 13.7862
A16: ACETON | C16: 20L | D16: ((10.35*2.45*2)+(12.28*0.88*2))*0.14 (0.14kg/1㎡) | E16: =((10.35*2.45*2)+(12.28*0.88*2))*0.14 -> 10.125892
A17: PUTTY | C17: 8kg | D17: ((10.35*2.45)+(10.35*0.88*2))*0.2/8 (0.2/kg) | E17: =((10.35*2.45)+(10.35*0.88*2))*0.2/8 -> 1.0893375
A18: 연마지 | B18: 각 종 | C18: 매 | D18: 10(BOTTOM)+10(SIDE)+5(KEEL PLATE)+5(DECK)+3(HOUSE) | E18: =10+10+5+5+3 -> 33
A19: 쎈딩디스크 | B19: 100A | C19: 개 | D19: 6(BOTTOM)+6(SIDE)+2(KEEL PLATE)+2(DECK)+2(HOUSE) | E19: =6+6+2+2+2 -> 18
A20: ROLLER BRUSH | B20: 각 종 | C20: 개 | D20: 6(BOTTOM)+6(SIDE)+2(KEEL PLATE)+2(DECK)+2(HOUSE) | E20: =6+6+2+2+2 -> 18
A21: SCREW NAIL | B21: 100개 1갑 | C21: 갑 | E21: 1
A22: P.V.A PIPE | C22: 본 | E22: 2
A23: BOLT & NUT, WASHER | B23: 각 종 | C23: kg | E23: 2
A24: 못 | B24: 각 종 | C24: 23kg | E24: 2
A25: 용접봉 | B25: 각 종 | C25: kg | E25: 3
A26: THINNER | C26: 18ℓ | D26: 0.4(BOTTOM)+0.4(SIDE)+0.8(KEEL PLATE)+0.4(DECK)+0.4(HOUSE) | E26: =0.4+0.4+0.8+0.4+0.4 -> 2.4
A28: 보통인부 | C28: 공 | E28: 6
A29: 연마공 | B29: 빠다도포원, 컴파운드공 | C29: 공 | D29: 선체 및 하우스 부분 : 2일*1인 (수동연마) | E29: 2
A30: 연마공 | B30: 그라인더공 | C30: 공 | D30: 선체 및 하우스 부분 : 2일*1인 (연삭기 및 연마기 조작) | E30: 2
A31: 도장공 | C31: 공 | D31: 선체 및 하우스 부분 : 2일*1인 | E31: 2
A32: 용접공 | C32: 공 | D32: 선체 및 하우스 부분 : 2일*1인 | E32: 2
A54: 2. 의장공사
A55: BITT | B55: 120A STS PIPE | C55: EA | D55: 선수1, 선미2 | E55: 3
A56: OPEN CHOCK | B56: STS | C56: EA | D56: 선수1 | E56: 1
A57: 난간대 | C57: 식 | E57: 1
A59: 출입문 | B59: 1200 X 1400,샷시, (미닫이식) | C59: 개 | D59: 조타실 우현, 후면 | E59: 2
A60: 해치 | B60: F.R.P(풍우밀) 약 650 X 750 | C60: 개 | D60: FISH HOLD(P/S) | E60: 2
A61: 해치 | B61: F.R.P(풍우밀) 약 550 X 550 | C61: 개 | D61: AFT STORE (P/S) | E61: 2
A62: 해치 | B62: F.R.P(풍우밀) 약 380 X 680 | C62: 개 | D62: AFT STORE (C) | E62: 1
A63: 각창(AL함금제) | B63: 약 500 X 710(고정식), 강화유리 | C63: 개 | D63: 조타실 전면 | E63: 2
A64: 선회창 | B64: 회전창 | C64: 개 | E64: 1
...
